{"text_format":"1","workbook":"xlsx","n_sheets":3,"sheets":["Fonct_Empl","Param","Impression"],"not_rendered":{"charts":0,"images":0,"macros":1,"external_links":0,"defined_names":5,"comments":0,"pivot_tables":0},"unopened":[],"bounds":{"document_bytes":16777216,"sheet_cells":100000,"rows_first":2000,"rows_last":500,"rows_between":2000,"halvings":0,"cell_chars":16384,"cell_head_chars":4096},"cells_cut":0,"cells_raw":0,"read":"whole","date_system":"1900"}

{"sheet":"Fonct_Empl","index":0,"n_rows":5000,"n_cols":10,"rows_kept":5000,"cut":false,"hidden":false,"merged":[]}
["Ministère:"]
["Administration:",null,null,null,null,null,null,null,null,"MontantTotal:"]
["Année budgétaire:",2019,null,null,null,null,null,null,null,{"$f":"ROUND(SUMIF(Total,\">0\"),2)","v":0}]
["Article budgétaire:",null,null,"Statut:","Fonctionnaires"]
[]
["Matricule","Nom","Prénom","Carrière","Catégorie","Tâche","Nbr mois","1ère mise","Total","Remarque"]
[null,null,null,null,null,null,null,null,{"$f":"IF(E7<>\"\",ROUND((VLOOKUP(E7,Param!$A$7:$E$13,4,0)*Fonct_Empl!F7*((Fonct_Empl!G7/12)))+(VLOOKUP(E7,Param!$A$7:$E$13,5,0)*Fonct_Empl!H7),2),\"\")","v":""}]
[null,null,null,null,null,null,null,null,{"$f":"IF(E8<>\"\",ROUND((VLOOKUP(E8,Param!$A$7:$E$13,4,0)*Fonct_Empl!F8*((Fonct_Empl!G8/12)))+(VLOOKUP(E8,Param!$A$7:$E$13,5,0)*Fonct_Empl!H8),2),\"\")","v":""}]
[null,null,null,null,null,null,null,null,{"$f":"IF(E9<>\"\",ROUND((VLOOKUP(E9,Param!$A$7:$E$13,4,0)*Fonct_Empl!F9*((Fonct_Empl!G9/12)))+(VLOOKUP(E9,Param!$A$7:$E$13,5,0)*Fonct_Empl!H9),2),\"\")","v":""}]
[null,null,null,null,null,null,null,null,{"$f":"IF(E10<>\"\",ROUND((VLOOKUP(E10,Param!$A$7:$E$13,4,0)*Fonct_Empl!F10*((Fonct_Empl!G10/12)))+(VLOOKUP(E10,Param!$A$7:$E$13,5,0)*Fonct_Empl!H10),2),\"\")","v":""}]
[null,null,null,null,null,null,null,null,{"$f":"IF(E11<>\"\",ROUND((VLOOKUP(E11,Param!$A$7:$E$13,4,0)*Fonct_Empl!F11*((Fonct_Empl!G11/12)))+(VLOOKUP(E11,Param!$A$7:$E$13,5,0)*Fonct_Empl!H11),2),\"\")","v":""}]
[null,null,null,null,null,null,null,null,{"$f":"IF(E12<>\"\",ROUND((VLOOKUP(E12,Param!$A$7:$E$13,4,0)*Fonct_Empl!F12*((Fonct_Empl!G12/12)))+(VLOOKUP(E12,Param!$A$7:$E$13,5,0)*Fonct_Empl!H12),2),\"\")","v":""}]
[null,null,null,null,null,null,null,null,{"$f":"IF(E13<>\"\",ROUND((VLOOKUP(E13,Param!$A$7:$E$13,4,0)*Fonct_Empl!F13*((Fonct_Empl!G13/12)))+(VLOOKUP(E13,Param!$A$7:$E$13,5,0)*Fonct_Empl!H13),2),\"\")","v":""}]
[null,null,null,null,null,null,null,null,{"$f":"IF(E14<>\"\",ROUND((VLOOKUP(E14,Param!$A$7:$E$13,4,0)*Fonct_Empl!F14*((Fonct_Empl!G14/12)))+(VLOOKUP(E14,Param!$A$7:$E$13,5,0)*Fonct_Empl!H14),2),\"\")","v":""}]
[null,null,null,null,null,null,null,null,{"$f":"IF(E15<>\"\",ROUND((VLOOKUP(E15,Param!$A$7:$E$13,4,0)*Fonct_Empl!F15*((Fonct_Empl!G15/12)))+(VLOOKUP(E15,Param!$A$7:$E$13,5,0)*Fonct_Empl!H15),2),\"\")","v":""}]
[null,null,null,null,null,null,null,null,{"$f":"IF(E16<>\"\",ROUND((VLOOKUP(E16,Param!$A$7:$E$13,4,0)*Fonct_Empl!F16*((Fonct_Empl!G16/12)))+(VLOOKUP(E16,Param!$A$7:$E$13,5,0)*Fonct_Empl!H16),2),\"\")","v":""}]
[null,null,null,null,null,null,null,null,{"$f":"IF(E17<>\"\",ROUND((VLOOKUP(E17,Param!$A$7:$E$13,4,0)*Fonct_Empl!F17*((Fonct_Empl!G17/12)))+(VLOOKUP(E17,Param!$A$7:$E$13,5,0)*Fonct_Empl!H17),2),\"\")","v":""}]
[null,null,null,null,null,null,null,null,{"$f":"IF(E18<>\"\",ROUND((VLOOKUP(E18,Param!$A$7:$E$13,4,0)*Fonct_Empl!F18*((Fonct_Empl!G18/12)))+(VLOOKUP(E18,Param!$A$7:$E$13,5,0)*Fonct_Empl!H18),2),\"\")","v":""}]
[null,null,null,null,null,null,null,null,{"$f":"IF(E19<>\"\",ROUND((VLOOKUP(E19,Param!$A$7:$E$13,4,0)*Fonct_Empl!F19*((Fonct_Empl!G19/12)))+(VLOOKUP(E19,Param!$A$7:$E$13,5,0)*Fonct_Empl!H19),2),\"\")","v":""}]
[null,null,null,null,null,null,null,null,{"$f":"IF(E20<>\"\",ROUND((VLOOKUP(E20,Param!$A$7:$E$13,4,0)*Fonct_Empl!F20*((Fonct_Empl!G20/12)))+(VLOOKUP(E20,Param!$A$7:$E$13,5,0)*Fonct_Empl!H20),2),\"\")","v":""}]
[null,null,null,null,null,null,null,null,{"$f":"IF(E21<>\"\",ROUND((VLOOKUP(E21,Param!$A$7:$E$13,4,0)*Fonct_Empl!F21*((Fonct_Empl!G21/12)))+(VLOOKUP(E21,Param!$A$7:$E$13,5,0)*Fonct_Empl!H21),2),\"\")","v":""}]
[null,null,null,null,null,null,null,null,{"$f":"IF(E22<>\"\",ROUND((VLOOKUP(E22,Param!$A$7:$E$13,4,0)*Fonct_Empl!F22*((Fonct_Empl!G22/12)))+(VLOOKUP(E22,Param!$A$7:$E$13,5,0)*Fonct_Empl!H22),2),\"\")","v":""}]
[null,null,null,null,null,null,null,null,{"$f":"IF(E23<>\"\",ROUND((VLOOKUP(E23,Param!$A$7:$E$13,4,0)*Fonct_Empl!F23*((Fonct_Empl!G23/12)))+(VLOOKUP(E23,Param!$A$7:$E$13,5,0)*Fonct_Empl!H23),2),\"\")","v":""}]
[null,null,null,null,null,null,null,null,{"$f":"IF(E24<>\"\",ROUND((VLOOKUP(E24,Param!$A$7:$E$13,4,0)*Fonct_Empl!F24*((Fonct_Empl!G24/12)))+(VLOOKUP(E24,Param!$A$7:$E$13,5,0)*Fonct_Empl!H24),2),\"\")","v":""}]
[null,null,null,null,null,null,null,null,{"$f":"IF(E25<>\"\",ROUND((VLOOKUP(E25,Param!$A$7:$E$13,4,0)*Fonct_Empl!F25*((Fonct_Empl!G25/12)))+(VLOOKUP(E25,Param!$A$7:$E$13,5,0)*Fonct_Empl!H25),2),\"\")","v":""}]
[null,null,null,null,null,null,null,null,{"$f":"IF(E26<>\"\",ROUND((VLOOKUP(E26,Param!$A$7:$E$13,4,0)*Fonct_Empl!F26*((Fonct_Empl!G26/12)))+(VLOOKUP(E26,Param!$A$7:$E$13,5,0)*Fonct_Empl!H26),2),\"\")","v":""}]
[null,null,null,null,null,null,null,null,{"$f":"IF(E27<>\"\",ROUND((VLOOKUP(E27,Param!$A$7:$E$13,4,0)*Fonct_Empl!F27*((Fonct_Empl!G27/12)))+(VLOOKUP(E27,Param!$A$7:$E$13,5,0)*Fonct_Empl!H27),2),\"\")","v":""}]
[null,null,null,null,null,null,null,null,{"$f":"IF(E28<>\"\",ROUND((VLOOKUP(E28,Param!$A$7:$E$13,4,0)*Fonct_Empl!F28*((Fonct_Empl!G28/12)))+(VLOOKUP(E28,Param!$A$7:$E$13,5,0)*Fonct_Empl!H28),2),\"\")","v":""}]
[null,null,null,null,null,null,null,null,{"$f":"IF(E29<>\"\",ROUND((VLOOKUP(E29,Param!$A$7:$E$13,4,0)*Fonct_Empl!F29*((Fonct_Empl!G29/12)))+(VLOOKUP(E29,Param!$A$7:$E$13,5,0)*Fonct_Empl!H29),2),\"\")","v":""}]
[null,null,null,null,null,null,null,null,{"$f":"IF(E30<>\"\",ROUND((VLOOKUP(E30,Param!$A$7:$E$13,4,0)*Fonct_Empl!F30*((Fonct_Empl!G30/12)))+(VLOOKUP(E30,Param!$A$7:$E$13,5,0)*Fonct_Empl!H30),2),\"\")","v":""}]
[null,null,null,null,null,null,null,null,{"$f":"IF(E31<>\"\",ROUND((VLOOKUP(E31,Param!$A$7:$E$13,4,0)*Fonct_Empl!F31*((Fonct_Empl!G31/12)))+(VLOOKUP(E31,Param!$A$7:$E$13,5,0)*Fonct_Empl!H31),2),\"\")","v":""}]
[null,null,null,null,null,null,null,null,{"$f":"IF(E32<>\"\",ROUND((VLOOKUP(E32,Param!$A$7:$E$13,4,0)*Fonct_Empl!F32*((Fonct_Empl!G32/12)))+(VLOOKUP(E32,Param!$A$7:$E$13,5,0)*Fonct_Empl!H32),2),\"\")","v":""}]
[null,null,null,null,null,null,null,null,{"$f":"IF(E33<>\"\",ROUND((VLOOKUP(E33,Param!$A$7:$E$13,4,0)*Fonct_Empl!F33*((Fonct_Empl!G33/12)))+(VLOOKUP(E33,Param!$A$7:$E$13,5,0)*Fonct_Empl!H33),2),\"\")","v":""}]
[null,null,null,null,null,null,null,null,{"$f":"IF(E34<>\"\",ROUND((VLOOKUP(E34,Param!$A$7:$E$13,4,0)*Fonct_Empl!F34*((Fonct_Empl!G34/12)))+(VLOOKUP(E34,Param!$A$7:$E$13,5,0)*Fonct_Empl!H34),2),\"\")","v":""}]
[null,null,null,null,null,null,null,null,{"$f":"IF(E35<>\"\",ROUND((VLOOKUP(E35,Param!$A$7:$E$13,4,0)*Fonct_Empl!F35*((Fonct_Empl!G35/12)))+(VLOOKUP(E35,Param!$A$7:$E$13,5,0)*Fonct_Empl!H35),2),\"\")","v":""}]
[null,null,null,null,null,null,null,null,{"$f":"IF(E36<>\"\",ROUND((VLOOKUP(E36,Param!$A$7:$E$13,4,0)*Fonct_Empl!F36*((Fonct_Empl!G36/12)))+(VLOOKUP(E36,Param!$A$7:$E$13,5,0)*Fonct_Empl!H36),2),\"\")","v":""}]
[null,null,null,null,null,null,null,null,{"$f":"IF(E37<>\"\",ROUND((VLOOKUP(E37,Param!$A$7:$E$13,4,0)*Fonct_Empl!F37*((Fonct_Empl!G37/12)))+(VLOOKUP(E37,Param!$A$7:$E$13,5,0)*Fonct_Empl!H37),2),\"\")","v":""}]
[null,null,null,null,null,null,null,null,{"$f":"IF(E38<>\"\",ROUND((VLOOKUP(E38,Param!$A$7:$E$13,4,0)*Fonct_Empl!F38*((Fonct_Empl!G38/12)))+(VLOOKUP(E38,Param!$A$7:$E$13,5,0)*Fonct_Empl!H38),2),\"\")","v":""}]
[null,null,null,null,null,null,null,null,{"$f":"IF(E39<>\"\",ROUND((VLOOKUP(E39,Param!$A$7:$E$13,4,0)*Fonct_Empl!F39*((Fonct_Empl!G39/12)))+(VLOOKUP(E39,Param!$A$7:$E$13,5,0)*Fonct_Empl!H39),2),\"\")","v":""}]
[null,null,null,null,null,null,null,null,{"$f":"IF(E40<>\"\",ROUND((VLOOKUP(E40,Param!$A$7:$E$13,4,0)*Fonct_Empl!F40*((Fonct_Empl!G40/12)))+(VLOOKUP(E40,Param!$A$7:$E$13,5,0)*Fonct_Empl!H40),2),\"\")","v":""}]
[null,null,null,null,null,null,null,null,{"$f":"IF(E41<>\"\",ROUND((VLOOKUP(E41,Param!$A$7:$E$13,4,0)*Fonct_Empl!F41*((Fonct_Empl!G41/12)))+(VLOOKUP(E41,Param!$A$7:$E$13,5,0)*Fonct_Empl!H41),2),\"\")","v":""}]
[null,null,null,null,null,null,null,null,{"$f":"IF(E42<>\"\",ROUND((VLOOKUP(E42,Param!$A$7:$E$13,4,0)*Fonct_Empl!F42*((Fonct_Empl!G42/12)))+(VLOOKUP(E42,Param!$A$7:$E$13,5,0)*Fonct_Empl!H42),2),\"\")","v":""}]
[null,null,null,null,null,null,null,null,{"$f":"IF(E43<>\"\",ROUND((VLOOKUP(E43,Param!$A$7:$E$13,4,0)*Fonct_Empl!F43*((Fonct_Empl!G43/12)))+(VLOOKUP(E43,Param!$A$7:$E$13,5,0)*Fonct_Empl!H43),2),\"\")","v":""}]
[null,null,null,null,null,null,null,null,{"$f":"IF(E44<>\"\",ROUND((VLOOKUP(E44,Param!$A$7:$E$13,4,0)*Fonct_Empl!F44*((Fonct_Empl!G44/12)))+(VLOOKUP(E44,Param!$A$7:$E$13,5,0)*Fonct_Empl!H44),2),\"\")","v":""}]
[null,null,null,null,null,null,null,null,{"$f":"IF(E45<>\"\",ROUND((VLOOKUP(E45,Param!$A$7:$E$13,4,0)*Fonct_Empl!F45*((Fonct_Empl!G45/12)))+(VLOOKUP(E45,Param!$A$7:$E$13,5,0)*Fonct_Empl!H45),2),\"\")","v":""}]
[null,null,null,null,null,null,null,null,{"$f":"IF(E46<>\"\",ROUND((VLOOKUP(E46,Param!$A$7:$E$13,4,0)*Fonct_Empl!F46*((Fonct_Empl!G46/12)))+(VLOOKUP(E46,Param!$A$7:$E$13,5,0)*Fonct_Empl!H46),2),\"\")","v":""}]
[null,null,null,null,null,null,null,null,{"$f":"IF(E47<>\"\",ROUND((VLOOKUP(E47,Param!$A$7:$E$13,4,0)*Fonct_Empl!F47*((Fonct_Empl!G47/12)))+(VLOOKUP(E47,Param!$A$7:$E$13,5,0)*Fonct_Empl!H47),2),\"\")","v":""}]
[null,null,null,null,null,null,null,null,{"$f":"IF(E48<>\"\",ROUND((VLOOKUP(E48,Param!$A$7:$E$13,4,0)*Fonct_Empl!F48*((Fonct_Empl!G48/12)))+(VLOOKUP(E48,Param!$A$7:$E$13,5,0)*Fonct_Empl!H48),2),\"\")","v":""}]
[null,null,null,null,null,null,null,null,{"$f":"IF(E49<>\"\",ROUND((VLOOKUP(E49,Param!$A$7:$E$13,4,0)*Fonct_Empl!F49*((Fonct_Empl!G49/12)))+(VLOOKUP(E49,Param!$A$7:$E$13,5,0)*Fonct_Empl!H49),2),\"\")","v":""}]
[null,null,null,null,null,null,null,null,{"$f":"IF(E50<>\"\",ROUND((VLOOKUP(E50,Param!$A$7:$E$13,4,0)*Fonct_Empl!F50*((Fonct_Empl!G50/12)))+(VLOOKUP(E50,Param!$A$7:$E$13,5,0)*Fonct_Empl!H50),2),\"\")","v":""}]
[null,null,null,null,null,null,null,null,{"$f":"IF(E51<>\"\",ROUND((VLOOKUP(E51,Param!$A$7:$E$13,4,0)*Fonct_Empl!F51*((Fonct_Empl!G51/12)))+(VLOOKUP(E51,Param!$A$7:$E$13,5,0)*Fonct_Empl!H51),2),\"\")","v":""}]
[null,null,null,null,null,null,null,null,{"$f":"IF(E52<>\"\",ROUND((VLOOKUP(E52,Param!$A$7:$E$13,4,0)*Fonct_Empl!F52*((Fonct_Empl!G52/12)))+(VLOOKUP(E52,Param!$A$7:$E$13,5,0)*Fonct_Empl!H52),2),\"\")","v":""}]
[null,null,null,null,null,null,null,null,{"$f":"IF(E53<>\"\",ROUND((VLOOKUP(E53,Param!$A$7:$E$13,4,0)*Fonct_Empl!F53*((Fonct_Empl!G53/12)))+(VLOOKUP(E53,Param!$A$7:$E$13,5,0)*Fonct_Empl!H53),2),\"\")","v":""}]
[null,null,null,null,null,null,null,null,{"$f":"IF(E54<>\"\",ROUND((VLOOKUP(E54,Param!$A$7:$E$13,4,0)*Fonct_Empl!F54*((Fonct_Empl!G54/12)))+(VLOOKUP(E54,Param!$A$7:$E$13,5,0)*Fonct_Empl!H54),2),\"\")","v":""}]
[null,null,null,null,null,null,null,null,{"$f":"IF(E55<>\"\",ROUND((VLOOKUP(E55,Param!$A$7:$E$13,4,0)*Fonct_Empl!F55*((Fonct_Empl!G55/12)))+(VLOOKUP(E55,Param!$A$7:$E$13,5,0)*Fonct_Empl!H55),2),\"\")","v":""}]
[null,null,null,null,null,null,null,null,{"$f":"IF(E56<>\"\",ROUND((VLOOKUP(E56,Param!$A$7:$E$13,4,0)*Fonct_Empl!F56*((Fonct_Empl!G56/12)))+(VLOOKUP(E56,Param!$A$7:$E$13,5,0)*Fonct_Empl!H56),2),\"\")","v":""}]
[null,null,null,null,null,null,null,null,{"$f":"IF(E57<>\"\",ROUND((VLOOKUP(E57,Param!$A$7:$E$13,4,0)*Fonct_Empl!F57*((Fonct_Empl!G57/12)))+(VLOOKUP(E57,Param!$A$7:$E$13,5,0)*Fonct_Empl!H57),2),\"\")","v":""}]
[null,null,null,null,null,null,null,null,{"$f":"IF(E58<>\"\",ROUND((VLOOKUP(E58,Param!$A$7:$E$13,4,0)*Fonct_Empl!F58*((Fonct_Empl!G58/12)))+(VLOOKUP(E58,Param!$A$7:$E$13,5,0)*Fonct_Empl!H58),2),\"\")","v":""}]
[null,null,null,null,null,null,null,null,{"$f":"IF(E59<>\"\",ROUND((VLOOKUP(E59,Param!$A$7:$E$13,4,0)*Fonct_Empl!F59*((Fonct_Empl!G59/12)))+(VLOOKUP(E59,Param!$A$7:$E$13,5,0)*Fonct_Empl!H59),2),\"\")","v":""}]
[null,null,null,null,null,null,null,null,{"$f":"IF(E60<>\"\",ROUND((VLOOKUP(E60,Param!$A$7:$E$13,4,0)*Fonct_Empl!F60*((Fonct_Empl!G60/12)))+(VLOOKUP(E60,Param!$A$7:$E$13,5,0)*Fonct_Empl!H60),2),\"\")","v":""}]
[null,null,null,null,null,null,null,null,{"$f":"IF(E61<>\"\",ROUND((VLOOKUP(E61,Param!$A$7:$E$13,4,0)*Fonct_Empl!F61*((Fonct_Empl!G61/12)))+(VLOOKUP(E61,Param!$A$7:$E$13,5,0)*Fonct_Empl!H61),2),\"\")","v":""}]
[null,null,null,null,null,null,null,null,{"$f":"IF(E62<>\"\",ROUND((VLOOKUP(E62,Param!$A$7:$E$13,4,0)*Fonct_Empl!F62*((Fonct_Empl!G62/12)))+(VLOOKUP(E62,Param!$A$7:$E$13,5,0)*Fonct_Empl!H62),2),\"\")","v":""}]
[null,null,null,null,null,null,null,null,{"$f":"IF(E63<>\"\",ROUND((VLOOKUP(E63,Param!$A$7:$E$13,4,0)*Fonct_Empl!F63*((Fonct_Empl!G63/12)))+(VLOOKUP(E63,Param!$A$7:$E$13,5,0)*Fonct_Empl!H63),2),\"\")","v":""}]
[null,null,null,null,null,null,null,null,{"$f":"IF(E64<>\"\",ROUND((VLOOKUP(E64,Param!$A$7:$E$13,4,0)*Fonct_Empl!F64*((Fonct_Empl!G64/12)))+(VLOOKUP(E64,Param!$A$7:$E$13,5,0)*Fonct_Empl!H64),2),\"\")","v":""}]
[null,null,null,null,null,null,null,null,{"$f":"IF(E65<>\"\",ROUND((VLOOKUP(E65,Param!$A$7:$E$13,4,0)*Fonct_Empl!F65*((Fonct_Empl!G65/12)))+(VLOOKUP(E65,Param!$A$7:$E$13,5,0)*Fonct_Empl!H65),2),\"\")","v":""}]
[null,null,null,null,null,null,null,null,{"$f":"IF(E66<>\"\",ROUND((VLOOKUP(E66,Param!$A$7:$E$13,4,0)*Fonct_Empl!F66*((Fonct_Empl!G66/12)))+(VLOOKUP(E66,Param!$A$7:$E$13,5,0)*Fonct_Empl!H66),2),\"\")","v":""}]
[null,null,null,null,null,null,null,null,{"$f":"IF(E67<>\"\",ROUND((VLOOKUP(E67,Param!$A$7:$E$13,4,0)*Fonct_Empl!F67*((Fonct_Empl!G67/12)))+(VLOOKUP(E67,Param!$A$7:$E$13,5,0)*Fonct_Empl!H67),2),\"\")","v":""}]
[null,null,null,null,null,null,null,null,{"$f":"IF(E68<>\"\",ROUND((VLOOKUP(E68,Param!$A$7:$E$13,4,0)*Fonct_Empl!F68*((Fonct_Empl!G68/12)))+(VLOOKUP(E68,Param!$A$7:$E$13,5,0)*Fonct_Empl!H68),2),\"\")","v":""}]
[null,null,null,null,null,null,null,null,{"$f":"IF(E69<>\"\",ROUND((VLOOKUP(E69,Param!$A$7:$E$13,4,0)*Fonct_Empl!F69*((Fonct_Empl!G69/12)))+(VLOOKUP(E69,Param!$A$7:$E$13,5,0)*Fonct_Empl!H69),2),\"\")","v":""}]
[null,null,null,null,null,null,null,null,{"$f":"IF(E70<>\"\",ROUND((VLOOKUP(E70,Param!$A$7:$E$13,4,0)*Fonct_Empl!F70*((Fonct_Empl!G70/12)))+(VLOOKUP(E70,Param!$A$7:$E$13,5,0)*Fonct_Empl!H70),2),\"\")","v":""}]
[null,null,null,null,null,null,null,null,{"$f":"IF(E71<>\"\",ROUND((VLOOKUP(E71,Param!$A$7:$E$13,4,0)*Fonct_Empl!F71*((Fonct_Empl!G71/12)))+(VLOOKUP(E71,Param!$A$7:$E$13,5,0)*Fonct_Empl!H71),2),\"\")","v":""}]
[null,null,null,null,null,null,null,null,{"$f":"IF(E72<>\"\",ROUND((VLOOKUP(E72,Param!$A$7:$E$13,4,0)*Fonct_Empl!F72*((Fonct_Empl!G72/12)))+(VLOOKUP(E72,Param!$A$7:$E$13,5,0)*Fonct_Empl!H72),2),\"\")","v":""}]
[null,null,null,null,null,null,null,null,{"$f":"IF(E73<>\"\",ROUND((VLOOKUP(E73,Param!$A$7:$E$13,4,0)*Fonct_Empl!F73*((Fonct_Empl!G73/12)))+(VLOOKUP(E73,Param!$A$7:$E$13,5,0)*Fonct_Empl!H73),2),\"\")","v":""}]
[null,null,null,null,null,null,null,null,{"$f":"IF(E74<>\"\",ROUND((VLOOKUP(E74,Param!$A$7:$E$13,4,0)*Fonct_Empl!F74*((Fonct_Empl!G74/12)))+(VLOOKUP(E74,Param!$A$7:$E$13,5,0)*Fonct_Empl!H74),2),\"\")","v":""}]
[null,null,null,null,null,null,null,null,{"$f":"IF(E75<>\"\",ROUND((VLOOKUP(E75,Param!$A$7:$E$13,4,0)*Fonct_Empl!F75*((Fonct_Empl!G75/12)))+(VLOOKUP(E75,Param!$A$7:$E$13,5,0)*Fonct_Empl!H75),2),\"\")","v":""}]
[null,null,null,null,null,null,null,null,{"$f":"IF(E76<>\"\",ROUND((VLOOKUP(E76,Param!$A$7:$E$13,4,0)*Fonct_Empl!F76*((Fonct_Empl!G76/12)))+(VLOOKUP(E76,Param!$A$7:$E$13,5,0)*Fonct_Empl!H76),2),\"\")","v":""}]
[null,null,null,null,null,null,null,null,{"$f":"IF(E77<>\"\",ROUND((VLOOKUP(E77,Param!$A$7:$E$13,4,0)*Fonct_Empl!F77*((Fonct_Empl!G77/12)))+(VLOOKUP(E77,Param!$A$7:$E$13,5,0)*Fonct_Empl!H77),2),\"\")","v":""}]
[null,null,null,null,null,null,null,null,{"$f":"IF(E78<>\"\",ROUND((VLOOKUP(E78,Param!$A$7:$E$13,4,0)*Fonct_Empl!F78*((Fonct_Empl!G78/12)))+(VLOOKUP(E78,Param!$A$7:$E$13,5,0)*Fonct_Empl!H78),2),\"\")","v":""}]
[null,null,null,null,null,null,null,null,{"$f":"IF(E79<>\"\",ROUND((VLOOKUP(E79,Param!$A$7:$E$13,4,0)*Fonct_Empl!F79*((Fonct_Empl!G79/12)))+(VLOOKUP(E79,Param!$A$7:$E$13,5,0)*Fonct_Empl!H79),2),\"\")","v":""}]
[null,null,null,null,null,null,null,null,{"$f":"IF(E80<>\"\",ROUND((VLOOKUP(E80,Param!$A$7:$E$13,4,0)*Fonct_Empl!F80*((Fonct_Empl!G80/12)))+(VLOOKUP(E80,Param!$A$7:$E$13,5,0)*Fonct_Empl!H80),2),\"\")","v":""}]
[null,null,null,null,null,null,null,null,{"$f":"IF(E81<>\"\",ROUND((VLOOKUP(E81,Param!$A$7:$E$13,4,0)*Fonct_Empl!F81*((Fonct_Empl!G81/12)))+(VLOOKUP(E81,Param!$A$7:$E$13,5,0)*Fonct_Empl!H81),2),\"\")","v":""}]
[null,null,null,null,null,null,null,null,{"$f":"IF(E82<>\"\",ROUND((VLOOKUP(E82,Param!$A$7:$E$13,4,0)*Fonct_Empl!F82*((Fonct_Empl!G82/12)))+(VLOOKUP(E82,Param!$A$7:$E$13,5,0)*Fonct_Empl!H82),2),\"\")","v":""}]
[null,null,null,null,null,null,null,null,{"$f":"IF(E83<>\"\",ROUND((VLOOKUP(E83,Param!$A$7:$E$13,4,0)*Fonct_Empl!F83*((Fonct_Empl!G83/12)))+(VLOOKUP(E83,Param!$A$7:$E$13,5,0)*Fonct_Empl!H83),2),\"\")","v":""}]
[null,null,null,null,null,null,null,null,{"$f":"IF(E84<>\"\",ROUND((VLOOKUP(E84,Param!$A$7:$E$13,4,0)*Fonct_Empl!F84*((Fonct_Empl!G84/12)))+(VLOOKUP(E84,Param!$A$7:$E$13,5,0)*Fonct_Empl!H84),2),\"\")","v":""}]
[null,null,null,null,null,null,null,null,{"$f":"IF(E85<>\"\",ROUND((VLOOKUP(E85,Param!$A$7:$E$13,4,0)*Fonct_Empl!F85*((Fonct_Empl!G85/12)))+(VLOOKUP(E85,Param!$A$7:$E$13,5,0)*Fonct_Empl!H85),2),\"\")","v":""}]
[null,null,null,null,null,null,null,null,{"$f":"IF(E86<>\"\",ROUND((VLOOKUP(E86,Param!$A$7:$E$13,4,0)*Fonct_Empl!F86*((Fonct_Empl!G86/12)))+(VLOOKUP(E86,Param!$A$7:$E$13,5,0)*Fonct_Empl!H86),2),\"\")","v":""}]
[null,null,null,null,null,null,null,null,{"$f":"IF(E87<>\"\",ROUND((VLOOKUP(E87,Param!$A$7:$E$13,4,0)*Fonct_Empl!F87*((Fonct_Empl!G87/12)))+(VLOOKUP(E87,Param!$A$7:$E$13,5,0)*Fonct_Empl!H87),2),\"\")","v":""}]
[null,null,null,null,null,null,null,null,{"$f":"IF(E88<>\"\",ROUND((VLOOKUP(E88,Param!$A$7:$E$13,4,0)*Fonct_Empl!F88*((Fonct_Empl!G88/12)))+(VLOOKUP(E88,Param!$A$7:$E$13,5,0)*Fonct_Empl!H88),2),\"\")","v":""}]
[null,null,null,null,null,null,null,null,{"$f":"IF(E89<>\"\",ROUND((VLOOKUP(E89,Param!$A$7:$E$13,4,0)*Fonct_Empl!F89*((Fonct_Empl!G89/12)))+(VLOOKUP(E89,Param!$A$7:$E$13,5,0)*Fonct_Empl!H89),2),\"\")","v":""}]
[null,null,null,null,null,null,null,null,{"$f":"IF(E90<>\"\",ROUND((VLOOKUP(E90,Param!$A$7:$E$13,4,0)*Fonct_Empl!F90*((Fonct_Empl!G90/12)))+(VLOOKUP(E90,Param!$A$7:$E$13,5,0)*Fonct_Empl!H90),2),\"\")","v":""}]
[null,null,null,null,null,null,null,null,{"$f":"IF(E91<>\"\",ROUND((VLOOKUP(E91,Param!$A$7:$E$13,4,0)*Fonct_Empl!F91*((Fonct_Empl!G91/12)))+(VLOOKUP(E91,Param!$A$7:$E$13,5,0)*Fonct_Empl!H91),2),\"\")","v":""}]
[null,null,null,null,null,null,null,null,{"$f":"IF(E92<>\"\",ROUND((VLOOKUP(E92,Param!$A$7:$E$13,4,0)*Fonct_Empl!F92*((Fonct_Empl!G92/12)))+(VLOOKUP(E92,Param!$A$7:$E$13,5,0)*Fonct_Empl!H92),2),\"\")","v":""}]
[null,null,null,null,null,null,null,null,{"$f":"IF(E93<>\"\",ROUND((VLOOKUP(E93,Param!$A$7:$E$13,4,0)*Fonct_Empl!F93*((Fonct_Empl!G93/12)))+(VLOOKUP(E93,Param!$A$7:$E$13,5,0)*Fonct_Empl!H93),2),\"\")","v":""}]
[null,null,null,null,null,null,null,null,{"$f":"IF(E94<>\"\",ROUND((VLOOKUP(E94,Param!$A$7:$E$13,4,0)*Fonct_Empl!F94*((Fonct_Empl!G94/12)))+(VLOOKUP(E94,Param!$A$7:$E$13,5,0)*Fonct_Empl!H94),2),\"\")","v":""}]
[null,null,null,null,null,null,null,null,{"$f":"IF(E95<>\"\",ROUND((VLOOKUP(E95,Param!$A$7:$E$13,4,0)*Fonct_Empl!F95*((Fonct_Empl!G95/12)))+(VLOOKUP(E95,Param!$A$7:$E$13,5,0)*Fonct_Empl!H95),2),\"\")","v":""}]
[null,null,null,null,null,null,null,null,{"$f":"IF(E96<>\"\",ROUND((VLOOKUP(E96,Param!$A$7:$E$13,4,0)*Fonct_Empl!F96*((Fonct_Empl!G96/12)))+(VLOOKUP(E96,Param!$A$7:$E$13,5,0)*Fonct_Empl!H96),2),\"\")","v":""}]
[null,null,null,null,null,null,null,null,{"$f":"IF(E97<>\"\",ROUND((VLOOKUP(E97,Param!$A$7:$E$13,4,0)*Fonct_Empl!F97*((Fonct_Empl!G97/12)))+(VLOOKUP(E97,Param!$A$7:$E$13,5,0)*Fonct_Empl!H97),2),\"\")","v":""}]
[null,null,null,null,null,null,null,null,{"$f":"IF(E98<>\"\",ROUND((VLOOKUP(E98,Param!$A$7:$E$13,4,0)*Fonct_Empl!F98*((Fonct_Empl!G98/12)))+(VLOOKUP(E98,Param!$A$7:$E$13,5,0)*Fonct_Empl!H98),2),\"\")","v":""}]
[null,null,null,null,null,null,null,null,{"$f":"IF(E99<>\"\",ROUND((VLOOKUP(E99,Param!$A$7:$E$13,4,0)*Fonct_Empl!F99*((Fonct_Empl!G99/12)))+(VLOOKUP(E99,Param!$A$7:$E$13,5,0)*Fonct_Empl!H99),2),\"\")","v":""}]
[null,null,null,null,null,null,null,null,{"$f":"IF(E100<>\"\",ROUND((VLOOKUP(E100,Param!$A$7:$E$13,4,0)*Fonct_Empl!F100*((Fonct_Empl!G100/12)))+(VLOOKUP(E100,Param!$A$7:$E$13,5,0)*Fonct_Empl!H100),2),\"\")","v":""}]
[null,null,null,null,null,null,null,null,{"$f":"IF(E101<>\"\",ROUND((VLOOKUP(E101,Param!$A$7:$E$13,4,0)*Fonct_Empl!F101*((Fonct_Empl!G101/12)))+(VLOOKUP(E101,Param!$A$7:$E$13,5,0)*Fonct_Empl!H101),2),\"\")","v":""}]
[null,null,null,null,null,null,null,null,{"$f":"IF(E102<>\"\",ROUND((VLOOKUP(E102,Param!$A$7:$E$13,4,0)*Fonct_Empl!F102*((Fonct_Empl!G102/12)))+(VLOOKUP(E102,Param!$A$7:$E$13,5,0)*Fonct_Empl!H102),2),\"\")","v":""}]
[null,null,null,null,null,null,null,null,{"$f":"IF(E103<>\"\",ROUND((VLOOKUP(E103,Param!$A$7:$E$13,4,0)*Fonct_Empl!F103*((Fonct_Empl!G103/12)))+(VLOOKUP(E103,Param!$A$7:$E$13,5,0)*Fonct_Empl!H103),2),\"\")","v":""}]
[null,null,null,null,null,null,null,null,{"$f":"IF(E104<>\"\",ROUND((VLOOKUP(E104,Param!$A$7:$E$13,4,0)*Fonct_Empl!F104*((Fonct_Empl!G104/12)))+(VLOOKUP(E104,Param!$A$7:$E$13,5,0)*Fonct_Empl!H104),2),\"\")","v":""}]
[null,null,null,null,null,null,null,null,{"$f":"IF(E105<>\"\",ROUND((VLOOKUP(E105,Param!$A$7:$E$13,4,0)*Fonct_Empl!F105*((Fonct_Empl!G105/12)))+(VLOOKUP(E105,Param!$A$7:$E$13,5,0)*Fonct_Empl!H105),2),\"\")","v":""}]
[null,null,null,null,null,null,null,null,{"$f":"IF(E106<>\"\",ROUND((VLOOKUP(E106,Param!$A$7:$E$13,4,0)*Fonct_Empl!F106*((Fonct_Empl!G106/12)))+(VLOOKUP(E106,Param!$A$7:$E$13,5,0)*Fonct_Empl!H106),2),\"\")","v":""}]
[null,null,null,null,null,null,null,null,{"$f":"IF(E107<>\"\",ROUND((VLOOKUP(E107,Param!$A$7:$E$13,4,0)*Fonct_Empl!F107*((Fonct_Empl!G107/12)))+(VLOOKUP(E107,Param!$A$7:$E$13,5,0)*Fonct_Empl!H107),2),\"\")","v":""}]
[null,null,null,null,null,null,null,null,{"$f":"IF(E108<>\"\",ROUND((VLOOKUP(E108,Param!$A$7:$E$13,4,0)*Fonct_Empl!F108*((Fonct_Empl!G108/12)))+(VLOOKUP(E108,Param!$A$7:$E$13,5,0)*Fonct_Empl!H108),2),\"\")","v":""}]
[null,null,null,null,null,null,null,null,{"$f":"IF(E109<>\"\",ROUND((VLOOKUP(E109,Param!$A$7:$E$13,4,0)*Fonct_Empl!F109*((Fonct_Empl!G109/12)))+(VLOOKUP(E109,Param!$A$7:$E$13,5,0)*Fonct_Empl!H109),2),\"\")","v":""}]
[null,null,null,null,null,null,null,null,{"$f":"IF(E110<>\"\",ROUND((VLOOKUP(E110,Param!$A$7:$E$13,4,0)*Fonct_Empl!F110*((Fonct_Empl!G110/12)))+(VLOOKUP(E110,Param!$A$7:$E$13,5,0)*Fonct_Empl!H110),2),\"\")","v":""}]
[null,null,null,null,null,null,null,null,{"$f":"IF(E111<>\"\",ROUND((VLOOKUP(E111,Param!$A$7:$E$13,4,0)*Fonct_Empl!F111*((Fonct_Empl!G111/12)))+(VLOOKUP(E111,Param!$A$7:$E$13,5,0)*Fonct_Empl!H111),2),\"\")","v":""}]
[null,null,null,null,null,null,null,null,{"$f":"IF(E112<>\"\",ROUND((VLOOKUP(E112,Param!$A$7:$E$13,4,0)*Fonct_Empl!F112*((Fonct_Empl!G112/12)))+(VLOOKUP(E112,Param!$A$7:$E$13,5,0)*Fonct_Empl!H112),2),\"\")","v":""}]
[null,null,null,null,null,null,null,null,{"$f":"IF(E113<>\"\",ROUND((VLOOKUP(E113,Param!$A$7:$E$13,4,0)*Fonct_Empl!F113*((Fonct_Empl!G113/12)))+(VLOOKUP(E113,Param!$A$7:$E$13,5,0)*Fonct_Empl!H113),2),\"\")","v":""}]
[null,null,null,null,null,null,null,null,{"$f":"IF(E114<>\"\",ROUND((VLOOKUP(E114,Param!$A$7:$E$13,4,0)*Fonct_Empl!F114*((Fonct_Empl!G114/12)))+(VLOOKUP(E114,Param!$A$7:$E$13,5,0)*Fonct_Empl!H114),2),\"\")","v":""}]
[null,null,null,null,null,null,null,null,{"$f":"IF(E115<>\"\",ROUND((VLOOKUP(E115,Param!$A$7:$E$13,4,0)*Fonct_Empl!F115*((Fonct_Empl!G115/12)))+(VLOOKUP(E115,Param!$A$7:$E$13,5,0)*Fonct_Empl!H115),2),\"\")","v":""}]
[null,null,null,null,null,null,null,null,{"$f":"IF(E116<>\"\",ROUND((VLOOKUP(E116,Param!$A$7:$E$13,4,0)*Fonct_Empl!F116*((Fonct_Empl!G116/12)))+(VLOOKUP(E116,Param!$A$7:$E$13,5,0)*Fonct_Empl!H116),2),\"\")","v":""}]
[null,null,null,null,null,null,null,null,{"$f":"IF(E117<>\"\",ROUND((VLOOKUP(E117,Param!$A$7:$E$13,4,0)*Fonct_Empl!F117*((Fonct_Empl!G117/12)))+(VLOOKUP(E117,Param!$A$7:$E$13,5,0)*Fonct_Empl!H117),2),\"\")","v":""}]
[null,null,null,null,null,null,null,null,{"$f":"IF(E118<>\"\",ROUND((VLOOKUP(E118,Param!$A$7:$E$13,4,0)*Fonct_Empl!F118*((Fonct_Empl!G118/12)))+(VLOOKUP(E118,Param!$A$7:$E$13,5,0)*Fonct_Empl!H118),2),\"\")","v":""}]
[null,null,null,null,null,null,null,null,{"$f":"IF(E119<>\"\",ROUND((VLOOKUP(E119,Param!$A$7:$E$13,4,0)*Fonct_Empl!F119*((Fonct_Empl!G119/12)))+(VLOOKUP(E119,Param!$A$7:$E$13,5,0)*Fonct_Empl!H119),2),\"\")","v":""}]
[null,null,null,null,null,null,null,null,{"$f":"IF(E120<>\"\",ROUND((VLOOKUP(E120,Param!$A$7:$E$13,4,0)*Fonct_Empl!F120*((Fonct_Empl!G120/12)))+(VLOOKUP(E120,Param!$A$7:$E$13,5,0)*Fonct_Empl!H120),2),\"\")","v":""}]
[null,null,null,null,null,null,null,null,{"$f":"IF(E121<>\"\",ROUND((VLOOKUP(E121,Param!$A$7:$E$13,4,0)*Fonct_Empl!F121*((Fonct_Empl!G121/12)))+(VLOOKUP(E121,Param!$A$7:$E$13,5,0)*Fonct_Empl!H121),2),\"\")","v":""}]
[null,null,null,null,null,null,null,null,{"$f":"IF(E122<>\"\",ROUND((VLOOKUP(E122,Param!$A$7:$E$13,4,0)*Fonct_Empl!F122*((Fonct_Empl!G122/12)))+(VLOOKUP(E122,Param!$A$7:$E$13,5,0)*Fonct_Empl!H122),2),\"\")","v":""}]
[null,null,null,null,null,null,null,null,{"$f":"IF(E123<>\"\",ROUND((VLOOKUP(E123,Param!$A$7:$E$13,4,0)*Fonct_Empl!F123*((Fonct_Empl!G123/12)))+(VLOOKUP(E123,Param!$A$7:$E$13,5,0)*Fonct_Empl!H123),2),\"\")","v":""}]
[null,null,null,null,null,null,null,null,{"$f":"IF(E124<>\"\",ROUND((VLOOKUP(E124,Param!$A$7:$E$13,4,0)*Fonct_Empl!F124*((Fonct_Empl!G124/12)))+(VLOOKUP(E124,Param!$A$7:$E$13,5,0)*Fonct_Empl!H124),2),\"\")","v":""}]
[null,null,null,null,null,null,null,null,{"$f":"IF(E125<>\"\",ROUND((VLOOKUP(E125,Param!$A$7:$E$13,4,0)*Fonct_Empl!F125*((Fonct_Empl!G125/12)))+(VLOOKUP(E125,Param!$A$7:$E$13,5,0)*Fonct_Empl!H125),2),\"\")","v":""}]
[null,null,null,null,null,null,null,null,{"$f":"IF(E126<>\"\",ROUND((VLOOKUP(E126,Param!$A$7:$E$13,4,0)*Fonct_Empl!F126*((Fonct_Empl!G126/12)))+(VLOOKUP(E126,Param!$A$7:$E$13,5,0)*Fonct_Empl!H126),2),\"\")","v":""}]
[null,null,null,null,null,null,null,null,{"$f":"IF(E127<>\"\",ROUND((VLOOKUP(E127,Param!$A$7:$E$13,4,0)*Fonct_Empl!F127*((Fonct_Empl!G127/12)))+(VLOOKUP(E127,Param!$A$7:$E$13,5,0)*Fonct_Empl!H127),2),\"\")","v":""}]
[null,null,null,null,null,null,null,null,{"$f":"IF(E128<>\"\",ROUND((VLOOKUP(E128,Param!$A$7:$E$13,4,0)*Fonct_Empl!F128*((Fonct_Empl!G128/12)))+(VLOOKUP(E128,Param!$A$7:$E$13,5,0)*Fonct_Empl!H128),2),\"\")","v":""}]
[null,null,null,null,null,null,null,null,{"$f":"IF(E129<>\"\",ROUND((VLOOKUP(E129,Param!$A$7:$E$13,4,0)*Fonct_Empl!F129*((Fonct_Empl!G129/12)))+(VLOOKUP(E129,Param!$A$7:$E$13,5,0)*Fonct_Empl!H129),2),\"\")","v":""}]
[null,null,null,null,null,null,null,null,{"$f":"IF(E130<>\"\",ROUND((VLOOKUP(E130,Param!$A$7:$E$13,4,0)*Fonct_Empl!F130*((Fonct_Empl!G130/12)))+(VLOOKUP(E130,Param!$A$7:$E$13,5,0)*Fonct_Empl!H130),2),\"\")","v":""}]
[null,null,null,null,null,null,null,null,{"$f":"IF(E131<>\"\",ROUND((VLOOKUP(E131,Param!$A$7:$E$13,4,0)*Fonct_Empl!F131*((Fonct_Empl!G131/12)))+(VLOOKUP(E131,Param!$A$7:$E$13,5,0)*Fonct_Empl!H131),2),\"\")","v":""}]
[null,null,null,null,null,null,null,null,{"$f":"IF(E132<>\"\",ROUND((VLOOKUP(E132,Param!$A$7:$E$13,4,0)*Fonct_Empl!F132*((Fonct_Empl!G132/12)))+(VLOOKUP(E132,Param!$A$7:$E$13,5,0)*Fonct_Empl!H132),2),\"\")","v":""}]
[null,null,null,null,null,null,null,null,{"$f":"IF(E133<>\"\",ROUND((VLOOKUP(E133,Param!$A$7:$E$13,4,0)*Fonct_Empl!F133*((Fonct_Empl!G133/12)))+(VLOOKUP(E133,Param!$A$7:$E$13,5,0)*Fonct_Empl!H133),2),\"\")","v":""}]
[null,null,null,null,null,null,null,null,{"$f":"IF(E134<>\"\",ROUND((VLOOKUP(E134,Param!$A$7:$E$13,4,0)*Fonct_Empl!F134*((Fonct_Empl!G134/12)))+(VLOOKUP(E134,Param!$A$7:$E$13,5,0)*Fonct_Empl!H134),2),\"\")","v":""}]
[null,null,null,null,null,null,null,null,{"$f":"IF(E135<>\"\",ROUND((VLOOKUP(E135,Param!$A$7:$E$13,4,0)*Fonct_Empl!F135*((Fonct_Empl!G135/12)))+(VLOOKUP(E135,Param!$A$7:$E$13,5,0)*Fonct_Empl!H135),2),\"\")","v":""}]
[null,null,null,null,null,null,null,null,{"$f":"IF(E136<>\"\",ROUND((VLOOKUP(E136,Param!$A$7:$E$13,4,0)*Fonct_Empl!F136*((Fonct_Empl!G136/12)))+(VLOOKUP(E136,Param!$A$7:$E$13,5,0)*Fonct_Empl!H136),2),\"\")","v":""}]
[null,null,null,null,null,null,null,null,{"$f":"IF(E137<>\"\",ROUND((VLOOKUP(E137,Param!$A$7:$E$13,4,0)*Fonct_Empl!F137*((Fonct_Empl!G137/12)))+(VLOOKUP(E137,Param!$A$7:$E$13,5,0)*Fonct_Empl!H137),2),\"\")","v":""}]
[null,null,null,null,null,null,null,null,{"$f":"IF(E138<>\"\",ROUND((VLOOKUP(E138,Param!$A$7:$E$13,4,0)*Fonct_Empl!F138*((Fonct_Empl!G138/12)))+(VLOOKUP(E138,Param!$A$7:$E$13,5,0)*Fonct_Empl!H138),2),\"\")","v":""}]
[null,null,null,null,null,null,null,null,{"$f":"IF(E139<>\"\",ROUND((VLOOKUP(E139,Param!$A$7:$E$13,4,0)*Fonct_Empl!F139*((Fonct_Empl!G139/12)))+(VLOOKUP(E139,Param!$A$7:$E$13,5,0)*Fonct_Empl!H139),2),\"\")","v":""}]
[null,null,null,null,null,null,null,null,{"$f":"IF(E140<>\"\",ROUND((VLOOKUP(E140,Param!$A$7:$E$13,4,0)*Fonct_Empl!F140*((Fonct_Empl!G140/12)))+(VLOOKUP(E140,Param!$A$7:$E$13,5,0)*Fonct_Empl!H140),2),\"\")","v":""}]
[null,null,null,null,null,null,null,null,{"$f":"IF(E141<>\"\",ROUND((VLOOKUP(E141,Param!$A$7:$E$13,4,0)*Fonct_Empl!F141*((Fonct_Empl!G141/12)))+(VLOOKUP(E141,Param!$A$7:$E$13,5,0)*Fonct_Empl!H141),2),\"\")","v":""}]
[null,null,null,null,null,null,null,null,{"$f":"IF(E142<>\"\",ROUND((VLOOKUP(E142,Param!$A$7:$E$13,4,0)*Fonct_Empl!F142*((Fonct_Empl!G142/12)))+(VLOOKUP(E142,Param!$A$7:$E$13,5,0)*Fonct_Empl!H142),2),\"\")","v":""}]
[null,null,null,null,null,null,null,null,{"$f":"IF(E143<>\"\",ROUND((VLOOKUP(E143,Param!$A$7:$E$13,4,0)*Fonct_Empl!F143*((Fonct_Empl!G143/12)))+(VLOOKUP(E143,Param!$A$7:$E$13,5,0)*Fonct_Empl!H143),2),\"\")","v":""}]
[null,null,null,null,null,null,null,null,{"$f":"IF(E144<>\"\",ROUND((VLOOKUP(E144,Param!$A$7:$E$13,4,0)*Fonct_Empl!F144*((Fonct_Empl!G144/12)))+(VLOOKUP(E144,Param!$A$7:$E$13,5,0)*Fonct_Empl!H144),2),\"\")","v":""}]
[null,null,null,null,null,null,null,null,{"$f":"IF(E145<>\"\",ROUND((VLOOKUP(E145,Param!$A$7:$E$13,4,0)*Fonct_Empl!F145*((Fonct_Empl!G145/12)))+(VLOOKUP(E145,Param!$A$7:$E$13,5,0)*Fonct_Empl!H145),2),\"\")","v":""}]
[null,null,null,null,null,null,null,null,{"$f":"IF(E146<>\"\",ROUND((VLOOKUP(E146,Param!$A$7:$E$13,4,0)*Fonct_Empl!F146*((Fonct_Empl!G146/12)))+(VLOOKUP(E146,Param!$A$7:$E$13,5,0)*Fonct_Empl!H146),2),\"\")","v":""}]
[null,null,null,null,null,null,null,null,{"$f":"IF(E147<>\"\",ROUND((VLOOKUP(E147,Param!$A$7:$E$13,4,0)*Fonct_Empl!F147*((Fonct_Empl!G147/12)))+(VLOOKUP(E147,Param!$A$7:$E$13,5,0)*Fonct_Empl!H147),2),\"\")","v":""}]
[null,null,null,null,null,null,null,null,{"$f":"IF(E148<>\"\",ROUND((VLOOKUP(E148,Param!$A$7:$E$13,4,0)*Fonct_Empl!F148*((Fonct_Empl!G148/12)))+(VLOOKUP(E148,Param!$A$7:$E$13,5,0)*Fonct_Empl!H148),2),\"\")","v":""}]
[null,null,null,null,null,null,null,null,{"$f":"IF(E149<>\"\",ROUND((VLOOKUP(E149,Param!$A$7:$E$13,4,0)*Fonct_Empl!F149*((Fonct_Empl!G149/12)))+(VLOOKUP(E149,Param!$A$7:$E$13,5,0)*Fonct_Empl!H149),2),\"\")","v":""}]
[null,null,null,null,null,null,null,null,{"$f":"IF(E150<>\"\",ROUND((VLOOKUP(E150,Param!$A$7:$E$13,4,0)*Fonct_Empl!F150*((Fonct_Empl!G150/12)))+(VLOOKUP(E150,Param!$A$7:$E$13,5,0)*Fonct_Empl!H150),2),\"\")","v":""}]
[null,null,null,null,null,null,null,null,{"$f":"IF(E151<>\"\",ROUND((VLOOKUP(E151,Param!$A$7:$E$13,4,0)*Fonct_Empl!F151*((Fonct_Empl!G151/12)))+(VLOOKUP(E151,Param!$A$7:$E$13,5,0)*Fonct_Empl!H151),2),\"\")","v":""}]
[null,null,null,null,null,null,null,null,{"$f":"IF(E152<>\"\",ROUND((VLOOKUP(E152,Param!$A$7:$E$13,4,0)*Fonct_Empl!F152*((Fonct_Empl!G152/12)))+(VLOOKUP(E152,Param!$A$7:$E$13,5,0)*Fonct_Empl!H152),2),\"\")","v":""}]
[null,null,null,null,null,null,null,null,{"$f":"IF(E153<>\"\",ROUND((VLOOKUP(E153,Param!$A$7:$E$13,4,0)*Fonct_Empl!F153*((Fonct_Empl!G153/12)))+(VLOOKUP(E153,Param!$A$7:$E$13,5,0)*Fonct_Empl!H153),2),\"\")","v":""}]
[null,null,null,null,null,null,null,null,{"$f":"IF(E154<>\"\",ROUND((VLOOKUP(E154,Param!$A$7:$E$13,4,0)*Fonct_Empl!F154*((Fonct_Empl!G154/12)))+(VLOOKUP(E154,Param!$A$7:$E$13,5,0)*Fonct_Empl!H154),2),\"\")","v":""}]
[null,null,null,null,null,null,null,null,{"$f":"IF(E155<>\"\",ROUND((VLOOKUP(E155,Param!$A$7:$E$13,4,0)*Fonct_Empl!F155*((Fonct_Empl!G155/12)))+(VLOOKUP(E155,Param!$A$7:$E$13,5,0)*Fonct_Empl!H155),2),\"\")","v":""}]
[null,null,null,null,null,null,null,null,{"$f":"IF(E156<>\"\",ROUND((VLOOKUP(E156,Param!$A$7:$E$13,4,0)*Fonct_Empl!F156*((Fonct_Empl!G156/12)))+(VLOOKUP(E156,Param!$A$7:$E$13,5,0)*Fonct_Empl!H156),2),\"\")","v":""}]
[null,null,null,null,null,null,null,null,{"$f":"IF(E157<>\"\",ROUND((VLOOKUP(E157,Param!$A$7:$E$13,4,0)*Fonct_Empl!F157*((Fonct_Empl!G157/12)))+(VLOOKUP(E157,Param!$A$7:$E$13,5,0)*Fonct_Empl!H157),2),\"\")","v":""}]
[null,null,null,null,null,null,null,null,{"$f":"IF(E158<>\"\",ROUND((VLOOKUP(E158,Param!$A$7:$E$13,4,0)*Fonct_Empl!F158*((Fonct_Empl!G158/12)))+(VLOOKUP(E158,Param!$A$7:$E$13,5,0)*Fonct_Empl!H158),2),\"\")","v":""}]
[null,null,null,null,null,null,null,null,{"$f":"IF(E159<>\"\",ROUND((VLOOKUP(E159,Param!$A$7:$E$13,4,0)*Fonct_Empl!F159*((Fonct_Empl!G159/12)))+(VLOOKUP(E159,Param!$A$7:$E$13,5,0)*Fonct_Empl!H159),2),\"\")","v":""}]
[null,null,null,null,null,null,null,null,{"$f":"IF(E160<>\"\",ROUND((VLOOKUP(E160,Param!$A$7:$E$13,4,0)*Fonct_Empl!F160*((Fonct_Empl!G160/12)))+(VLOOKUP(E160,Param!$A$7:$E$13,5,0)*Fonct_Empl!H160),2),\"\")","v":""}]
[null,null,null,null,null,null,null,null,{"$f":"IF(E161<>\"\",ROUND((VLOOKUP(E161,Param!$A$7:$E$13,4,0)*Fonct_Empl!F161*((Fonct_Empl!G161/12)))+(VLOOKUP(E161,Param!$A$7:$E$13,5,0)*Fonct_Empl!H161),2),\"\")","v":""}]
[null,null,null,null,null,null,null,null,{"$f":"IF(E162<>\"\",ROUND((VLOOKUP(E162,Param!$A$7:$E$13,4,0)*Fonct_Empl!F162*((Fonct_Empl!G162/12)))+(VLOOKUP(E162,Param!$A$7:$E$13,5,0)*Fonct_Empl!H162),2),\"\")","v":""}]
[null,null,null,null,null,null,null,null,{"$f":"IF(E163<>\"\",ROUND((VLOOKUP(E163,Param!$A$7:$E$13,4,0)*Fonct_Empl!F163*((Fonct_Empl!G163/12)))+(VLOOKUP(E163,Param!$A$7:$E$13,5,0)*Fonct_Empl!H163),2),\"\")","v":""}]
[null,null,null,null,null,null,null,null,{"$f":"IF(E164<>\"\",ROUND((VLOOKUP(E164,Param!$A$7:$E$13,4,0)*Fonct_Empl!F164*((Fonct_Empl!G164/12)))+(VLOOKUP(E164,Param!$A$7:$E$13,5,0)*Fonct_Empl!H164),2),\"\")","v":""}]
[null,null,null,null,null,null,null,null,{"$f":"IF(E165<>\"\",ROUND((VLOOKUP(E165,Param!$A$7:$E$13,4,0)*Fonct_Empl!F165*((Fonct_Empl!G165/12)))+(VLOOKUP(E165,Param!$A$7:$E$13,5,0)*Fonct_Empl!H165),2),\"\")","v":""}]
[null,null,null,null,null,null,null,null,{"$f":"IF(E166<>\"\",ROUND((VLOOKUP(E166,Param!$A$7:$E$13,4,0)*Fonct_Empl!F166*((Fonct_Empl!G166/12)))+(VLOOKUP(E166,Param!$A$7:$E$13,5,0)*Fonct_Empl!H166),2),\"\")","v":""}]
[null,null,null,null,null,null,null,null,{"$f":"IF(E167<>\"\",ROUND((VLOOKUP(E167,Param!$A$7:$E$13,4,0)*Fonct_Empl!F167*((Fonct_Empl!G167/12)))+(VLOOKUP(E167,Param!$A$7:$E$13,5,0)*Fonct_Empl!H167),2),\"\")","v":""}]
[null,null,null,null,null,null,null,null,{"$f":"IF(E168<>\"\",ROUND((VLOOKUP(E168,Param!$A$7:$E$13,4,0)*Fonct_Empl!F168*((Fonct_Empl!G168/12)))+(VLOOKUP(E168,Param!$A$7:$E$13,5,0)*Fonct_Empl!H168),2),\"\")","v":""}]
[null,null,null,null,null,null,null,null,{"$f":"IF(E169<>\"\",ROUND((VLOOKUP(E169,Param!$A$7:$E$13,4,0)*Fonct_Empl!F169*((Fonct_Empl!G169/12)))+(VLOOKUP(E169,Param!$A$7:$E$13,5,0)*Fonct_Empl!H169),2),\"\")","v":""}]
[null,null,null,null,null,null,null,null,{"$f":"IF(E170<>\"\",ROUND((VLOOKUP(E170,Param!$A$7:$E$13,4,0)*Fonct_Empl!F170*((Fonct_Empl!G170/12)))+(VLOOKUP(E170,Param!$A$7:$E$13,5,0)*Fonct_Empl!H170),2),\"\")","v":""}]
[null,null,null,null,null,null,null,null,{"$f":"IF(E171<>\"\",ROUND((VLOOKUP(E171,Param!$A$7:$E$13,4,0)*Fonct_Empl!F171*((Fonct_Empl!G171/12)))+(VLOOKUP(E171,Param!$A$7:$E$13,5,0)*Fonct_Empl!H171),2),\"\")","v":""}]
[null,null,null,null,null,null,null,null,{"$f":"IF(E172<>\"\",ROUND((VLOOKUP(E172,Param!$A$7:$E$13,4,0)*Fonct_Empl!F172*((Fonct_Empl!G172/12)))+(VLOOKUP(E172,Param!$A$7:$E$13,5,0)*Fonct_Empl!H172),2),\"\")","v":""}]
[null,null,null,null,null,null,null,null,{"$f":"IF(E173<>\"\",ROUND((VLOOKUP(E173,Param!$A$7:$E$13,4,0)*Fonct_Empl!F173*((Fonct_Empl!G173/12)))+(VLOOKUP(E173,Param!$A$7:$E$13,5,0)*Fonct_Empl!H173),2),\"\")","v":""}]
[null,null,null,null,null,null,null,null,{"$f":"IF(E174<>\"\",ROUND((VLOOKUP(E174,Param!$A$7:$E$13,4,0)*Fonct_Empl!F174*((Fonct_Empl!G174/12)))+(VLOOKUP(E174,Param!$A$7:$E$13,5,0)*Fonct_Empl!H174),2),\"\")","v":""}]
[null,null,null,null,null,null,null,null,{"$f":"IF(E175<>\"\",ROUND((VLOOKUP(E175,Param!$A$7:$E$13,4,0)*Fonct_Empl!F175*((Fonct_Empl!G175/12)))+(VLOOKUP(E175,Param!$A$7:$E$13,5,0)*Fonct_Empl!H175),2),\"\")","v":""}]
[null,null,null,null,null,null,null,null,{"$f":"IF(E176<>\"\",ROUND((VLOOKUP(E176,Param!$A$7:$E$13,4,0)*Fonct_Empl!F176*((Fonct_Empl!G176/12)))+(VLOOKUP(E176,Param!$A$7:$E$13,5,0)*Fonct_Empl!H176),2),\"\")","v":""}]
[null,null,null,null,null,null,null,null,{"$f":"IF(E177<>\"\",ROUND((VLOOKUP(E177,Param!$A$7:$E$13,4,0)*Fonct_Empl!F177*((Fonct_Empl!G177/12)))+(VLOOKUP(E177,Param!$A$7:$E$13,5,0)*Fonct_Empl!H177),2),\"\")","v":""}]
[null,null,null,null,null,null,null,null,{"$f":"IF(E178<>\"\",ROUND((VLOOKUP(E178,Param!$A$7:$E$13,4,0)*Fonct_Empl!F178*((Fonct_Empl!G178/12)))+(VLOOKUP(E178,Param!$A$7:$E$13,5,0)*Fonct_Empl!H178),2),\"\")","v":""}]
[null,null,null,null,null,null,null,null,{"$f":"IF(E179<>\"\",ROUND((VLOOKUP(E179,Param!$A$7:$E$13,4,0)*Fonct_Empl!F179*((Fonct_Empl!G179/12)))+(VLOOKUP(E179,Param!$A$7:$E$13,5,0)*Fonct_Empl!H179),2),\"\")","v":""}]
[null,null,null,null,null,null,null,null,{"$f":"IF(E180<>\"\",ROUND((VLOOKUP(E180,Param!$A$7:$E$13,4,0)*Fonct_Empl!F180*((Fonct_Empl!G180/12)))+(VLOOKUP(E180,Param!$A$7:$E$13,5,0)*Fonct_Empl!H180),2),\"\")","v":""}]
[null,null,null,null,null,null,null,null,{"$f":"IF(E181<>\"\",ROUND((VLOOKUP(E181,Param!$A$7:$E$13,4,0)*Fonct_Empl!F181*((Fonct_Empl!G181/12)))+(VLOOKUP(E181,Param!$A$7:$E$13,5,0)*Fonct_Empl!H181),2),\"\")","v":""}]
[null,null,null,null,null,null,null,null,{"$f":"IF(E182<>\"\",ROUND((VLOOKUP(E182,Param!$A$7:$E$13,4,0)*Fonct_Empl!F182*((Fonct_Empl!G182/12)))+(VLOOKUP(E182,Param!$A$7:$E$13,5,0)*Fonct_Empl!H182),2),\"\")","v":""}]
[null,null,null,null,null,null,null,null,{"$f":"IF(E183<>\"\",ROUND((VLOOKUP(E183,Param!$A$7:$E$13,4,0)*Fonct_Empl!F183*((Fonct_Empl!G183/12)))+(VLOOKUP(E183,Param!$A$7:$E$13,5,0)*Fonct_Empl!H183),2),\"\")","v":""}]
[null,null,null,null,null,null,null,null,{"$f":"IF(E184<>\"\",ROUND((VLOOKUP(E184,Param!$A$7:$E$13,4,0)*Fonct_Empl!F184*((Fonct_Empl!G184/12)))+(VLOOKUP(E184,Param!$A$7:$E$13,5,0)*Fonct_Empl!H184),2),\"\")","v":""}]
[null,null,null,null,null,null,null,null,{"$f":"IF(E185<>\"\",ROUND((VLOOKUP(E185,Param!$A$7:$E$13,4,0)*Fonct_Empl!F185*((Fonct_Empl!G185/12)))+(VLOOKUP(E185,Param!$A$7:$E$13,5,0)*Fonct_Empl!H185),2),\"\")","v":""}]
[null,null,null,null,null,null,null,null,{"$f":"IF(E186<>\"\",ROUND((VLOOKUP(E186,Param!$A$7:$E$13,4,0)*Fonct_Empl!F186*((Fonct_Empl!G186/12)))+(VLOOKUP(E186,Param!$A$7:$E$13,5,0)*Fonct_Empl!H186),2),\"\")","v":""}]
[null,null,null,null,null,null,null,null,{"$f":"IF(E187<>\"\",ROUND((VLOOKUP(E187,Param!$A$7:$E$13,4,0)*Fonct_Empl!F187*((Fonct_Empl!G187/12)))+(VLOOKUP(E187,Param!$A$7:$E$13,5,0)*Fonct_Empl!H187),2),\"\")","v":""}]
[null,null,null,null,null,null,null,null,{"$f":"IF(E188<>\"\",ROUND((VLOOKUP(E188,Param!$A$7:$E$13,4,0)*Fonct_Empl!F188*((Fonct_Empl!G188/12)))+(VLOOKUP(E188,Param!$A$7:$E$13,5,0)*Fonct_Empl!H188),2),\"\")","v":""}]
[null,null,null,null,null,null,null,null,{"$f":"IF(E189<>\"\",ROUND((VLOOKUP(E189,Param!$A$7:$E$13,4,0)*Fonct_Empl!F189*((Fonct_Empl!G189/12)))+(VLOOKUP(E189,Param!$A$7:$E$13,5,0)*Fonct_Empl!H189),2),\"\")","v":""}]
[null,null,null,null,null,null,null,null,{"$f":"IF(E190<>\"\",ROUND((VLOOKUP(E190,Param!$A$7:$E$13,4,0)*Fonct_Empl!F190*((Fonct_Empl!G190/12)))+(VLOOKUP(E190,Param!$A$7:$E$13,5,0)*Fonct_Empl!H190),2),\"\")","v":""}]
[null,null,null,null,null,null,null,null,{"$f":"IF(E191<>\"\",ROUND((VLOOKUP(E191,Param!$A$7:$E$13,4,0)*Fonct_Empl!F191*((Fonct_Empl!G191/12)))+(VLOOKUP(E191,Param!$A$7:$E$13,5,0)*Fonct_Empl!H191),2),\"\")","v":""}]
[null,null,null,null,null,null,null,null,{"$f":"IF(E192<>\"\",ROUND((VLOOKUP(E192,Param!$A$7:$E$13,4,0)*Fonct_Empl!F192*((Fonct_Empl!G192/12)))+(VLOOKUP(E192,Param!$A$7:$E$13,5,0)*Fonct_Empl!H192),2),\"\")","v":""}]
[null,null,null,null,null,null,null,null,{"$f":"IF(E193<>\"\",ROUND((VLOOKUP(E193,Param!$A$7:$E$13,4,0)*Fonct_Empl!F193*((Fonct_Empl!G193/12)))+(VLOOKUP(E193,Param!$A$7:$E$13,5,0)*Fonct_Empl!H193),2),\"\")","v":""}]
[null,null,null,null,null,null,null,null,{"$f":"IF(E194<>\"\",ROUND((VLOOKUP(E194,Param!$A$7:$E$13,4,0)*Fonct_Empl!F194*((Fonct_Empl!G194/12)))+(VLOOKUP(E194,Param!$A$7:$E$13,5,0)*Fonct_Empl!H194),2),\"\")","v":""}]
[null,null,null,null,null,null,null,null,{"$f":"IF(E195<>\"\",ROUND((VLOOKUP(E195,Param!$A$7:$E$13,4,0)*Fonct_Empl!F195*((Fonct_Empl!G195/12)))+(VLOOKUP(E195,Param!$A$7:$E$13,5,0)*Fonct_Empl!H195),2),\"\")","v":""}]
[null,null,null,null,null,null,null,null,{"$f":"IF(E196<>\"\",ROUND((VLOOKUP(E196,Param!$A$7:$E$13,4,0)*Fonct_Empl!F196*((Fonct_Empl!G196/12)))+(VLOOKUP(E196,Param!$A$7:$E$13,5,0)*Fonct_Empl!H196),2),\"\")","v":""}]
[null,null,null,null,null,null,null,null,{"$f":"IF(E197<>\"\",ROUND((VLOOKUP(E197,Param!$A$7:$E$13,4,0)*Fonct_Empl!F197*((Fonct_Empl!G197/12)))+(VLOOKUP(E197,Param!$A$7:$E$13,5,0)*Fonct_Empl!H197),2),\"\")","v":""}]
[null,null,null,null,null,null,null,null,{"$f":"IF(E198<>\"\",ROUND((VLOOKUP(E198,Param!$A$7:$E$13,4,0)*Fonct_Empl!F198*((Fonct_Empl!G198/12)))+(VLOOKUP(E198,Param!$A$7:$E$13,5,0)*Fonct_Empl!H198),2),\"\")","v":""}]
[null,null,null,null,null,null,null,null,{"$f":"IF(E199<>\"\",ROUND((VLOOKUP(E199,Param!$A$7:$E$13,4,0)*Fonct_Empl!F199*((Fonct_Empl!G199/12)))+(VLOOKUP(E199,Param!$A$7:$E$13,5,0)*Fonct_Empl!H199),2),\"\")","v":""}]
[null,null,null,null,null,null,null,null,{"$f":"IF(E200<>\"\",ROUND((VLOOKUP(E200,Param!$A$7:$E$13,4,0)*Fonct_Empl!F200*((Fonct_Empl!G200/12)))+(VLOOKUP(E200,Param!$A$7:$E$13,5,0)*Fonct_Empl!H200),2),\"\")","v":""}]
[null,null,null,null,null,null,null,null,{"$f":"IF(E201<>\"\",ROUND((VLOOKUP(E201,Param!$A$7:$E$13,4,0)*Fonct_Empl!F201*((Fonct_Empl!G201/12)))+(VLOOKUP(E201,Param!$A$7:$E$13,5,0)*Fonct_Empl!H201),2),\"\")","v":""}]
[null,null,null,null,null,null,null,null,{"$f":"IF(E202<>\"\",ROUND((VLOOKUP(E202,Param!$A$7:$E$13,4,0)*Fonct_Empl!F202*((Fonct_Empl!G202/12)))+(VLOOKUP(E202,Param!$A$7:$E$13,5,0)*Fonct_Empl!H202),2),\"\")","v":""}]
[null,null,null,null,null,null,null,null,{"$f":"IF(E203<>\"\",ROUND((VLOOKUP(E203,Param!$A$7:$E$13,4,0)*Fonct_Empl!F203*((Fonct_Empl!G203/12)))+(VLOOKUP(E203,Param!$A$7:$E$13,5,0)*Fonct_Empl!H203),2),\"\")","v":""}]
[null,null,null,null,null,null,null,null,{"$f":"IF(E204<>\"\",ROUND((VLOOKUP(E204,Param!$A$7:$E$13,4,0)*Fonct_Empl!F204*((Fonct_Empl!G204/12)))+(VLOOKUP(E204,Param!$A$7:$E$13,5,0)*Fonct_Empl!H204),2),\"\")","v":""}]
[null,null,null,null,null,null,null,null,{"$f":"IF(E205<>\"\",ROUND((VLOOKUP(E205,Param!$A$7:$E$13,4,0)*Fonct_Empl!F205*((Fonct_Empl!G205/12)))+(VLOOKUP(E205,Param!$A$7:$E$13,5,0)*Fonct_Empl!H205),2),\"\")","v":""}]
[null,null,null,null,null,null,null,null,{"$f":"IF(E206<>\"\",ROUND((VLOOKUP(E206,Param!$A$7:$E$13,4,0)*Fonct_Empl!F206*((Fonct_Empl!G206/12)))+(VLOOKUP(E206,Param!$A$7:$E$13,5,0)*Fonct_Empl!H206),2),\"\")","v":""}]
[null,null,null,null,null,null,null,null,{"$f":"IF(E207<>\"\",ROUND((VLOOKUP(E207,Param!$A$7:$E$13,4,0)*Fonct_Empl!F207*((Fonct_Empl!G207/12)))+(VLOOKUP(E207,Param!$A$7:$E$13,5,0)*Fonct_Empl!H207),2),\"\")","v":""}]
[null,null,null,null,null,null,null,null,{"$f":"IF(E208<>\"\",ROUND((VLOOKUP(E208,Param!$A$7:$E$13,4,0)*Fonct_Empl!F208*((Fonct_Empl!G208/12)))+(VLOOKUP(E208,Param!$A$7:$E$13,5,0)*Fonct_Empl!H208),2),\"\")","v":""}]
[null,null,null,null,null,null,null,null,{"$f":"IF(E209<>\"\",ROUND((VLOOKUP(E209,Param!$A$7:$E$13,4,0)*Fonct_Empl!F209*((Fonct_Empl!G209/12)))+(VLOOKUP(E209,Param!$A$7:$E$13,5,0)*Fonct_Empl!H209),2),\"\")","v":""}]
[null,null,null,null,null,null,null,null,{"$f":"IF(E210<>\"\",ROUND((VLOOKUP(E210,Param!$A$7:$E$13,4,0)*Fonct_Empl!F210*((Fonct_Empl!G210/12)))+(VLOOKUP(E210,Param!$A$7:$E$13,5,0)*Fonct_Empl!H210),2),\"\")","v":""}]
[null,null,null,null,null,null,null,null,{"$f":"IF(E211<>\"\",ROUND((VLOOKUP(E211,Param!$A$7:$E$13,4,0)*Fonct_Empl!F211*((Fonct_Empl!G211/12)))+(VLOOKUP(E211,Param!$A$7:$E$13,5,0)*Fonct_Empl!H211),2),\"\")","v":""}]
[null,null,null,null,null,null,null,null,{"$f":"IF(E212<>\"\",ROUND((VLOOKUP(E212,Param!$A$7:$E$13,4,0)*Fonct_Empl!F212*((Fonct_Empl!G212/12)))+(VLOOKUP(E212,Param!$A$7:$E$13,5,0)*Fonct_Empl!H212),2),\"\")","v":""}]
[null,null,null,null,null,null,null,null,{"$f":"IF(E213<>\"\",ROUND((VLOOKUP(E213,Param!$A$7:$E$13,4,0)*Fonct_Empl!F213*((Fonct_Empl!G213/12)))+(VLOOKUP(E213,Param!$A$7:$E$13,5,0)*Fonct_Empl!H213),2),\"\")","v":""}]
[null,null,null,null,null,null,null,null,{"$f":"IF(E214<>\"\",ROUND((VLOOKUP(E214,Param!$A$7:$E$13,4,0)*Fonct_Empl!F214*((Fonct_Empl!G214/12)))+(VLOOKUP(E214,Param!$A$7:$E$13,5,0)*Fonct_Empl!H214),2),\"\")","v":""}]
[null,null,null,null,null,null,null,null,{"$f":"IF(E215<>\"\",ROUND((VLOOKUP(E215,Param!$A$7:$E$13,4,0)*Fonct_Empl!F215*((Fonct_Empl!G215/12)))+(VLOOKUP(E215,Param!$A$7:$E$13,5,0)*Fonct_Empl!H215),2),\"\")","v":""}]
[null,null,null,null,null,null,null,null,{"$f":"IF(E216<>\"\",ROUND((VLOOKUP(E216,Param!$A$7:$E$13,4,0)*Fonct_Empl!F216*((Fonct_Empl!G216/12)))+(VLOOKUP(E216,Param!$A$7:$E$13,5,0)*Fonct_Empl!H216),2),\"\")","v":""}]
[null,null,null,null,null,null,null,null,{"$f":"IF(E217<>\"\",ROUND((VLOOKUP(E217,Param!$A$7:$E$13,4,0)*Fonct_Empl!F217*((Fonct_Empl!G217/12)))+(VLOOKUP(E217,Param!$A$7:$E$13,5,0)*Fonct_Empl!H217),2),\"\")","v":""}]
[null,null,null,null,null,null,null,null,{"$f":"IF(E218<>\"\",ROUND((VLOOKUP(E218,Param!$A$7:$E$13,4,0)*Fonct_Empl!F218*((Fonct_Empl!G218/12)))+(VLOOKUP(E218,Param!$A$7:$E$13,5,0)*Fonct_Empl!H218),2),\"\")","v":""}]
[null,null,null,null,null,null,null,null,{"$f":"IF(E219<>\"\",ROUND((VLOOKUP(E219,Param!$A$7:$E$13,4,0)*Fonct_Empl!F219*((Fonct_Empl!G219/12)))+(VLOOKUP(E219,Param!$A$7:$E$13,5,0)*Fonct_Empl!H219),2),\"\")","v":""}]
[null,null,null,null,null,null,null,null,{"$f":"IF(E220<>\"\",ROUND((VLOOKUP(E220,Param!$A$7:$E$13,4,0)*Fonct_Empl!F220*((Fonct_Empl!G220/12)))+(VLOOKUP(E220,Param!$A$7:$E$13,5,0)*Fonct_Empl!H220),2),\"\")","v":""}]
[null,null,null,null,null,null,null,null,{"$f":"IF(E221<>\"\",ROUND((VLOOKUP(E221,Param!$A$7:$E$13,4,0)*Fonct_Empl!F221*((Fonct_Empl!G221/12)))+(VLOOKUP(E221,Param!$A$7:$E$13,5,0)*Fonct_Empl!H221),2),\"\")","v":""}]
[null,null,null,null,null,null,null,null,{"$f":"IF(E222<>\"\",ROUND((VLOOKUP(E222,Param!$A$7:$E$13,4,0)*Fonct_Empl!F222*((Fonct_Empl!G222/12)))+(VLOOKUP(E222,Param!$A$7:$E$13,5,0)*Fonct_Empl!H222),2),\"\")","v":""}]
[null,null,null,null,null,null,null,null,{"$f":"IF(E223<>\"\",ROUND((VLOOKUP(E223,Param!$A$7:$E$13,4,0)*Fonct_Empl!F223*((Fonct_Empl!G223/12)))+(VLOOKUP(E223,Param!$A$7:$E$13,5,0)*Fonct_Empl!H223),2),\"\")","v":""}]
[null,null,null,null,null,null,null,null,{"$f":"IF(E224<>\"\",ROUND((VLOOKUP(E224,Param!$A$7:$E$13,4,0)*Fonct_Empl!F224*((Fonct_Empl!G224/12)))+(VLOOKUP(E224,Param!$A$7:$E$13,5,0)*Fonct_Empl!H224),2),\"\")","v":""}]
[null,null,null,null,null,null,null,null,{"$f":"IF(E225<>\"\",ROUND((VLOOKUP(E225,Param!$A$7:$E$13,4,0)*Fonct_Empl!F225*((Fonct_Empl!G225/12)))+(VLOOKUP(E225,Param!$A$7:$E$13,5,0)*Fonct_Empl!H225),2),\"\")","v":""}]
[null,null,null,null,null,null,null,null,{"$f":"IF(E226<>\"\",ROUND((VLOOKUP(E226,Param!$A$7:$E$13,4,0)*Fonct_Empl!F226*((Fonct_Empl!G226/12)))+(VLOOKUP(E226,Param!$A$7:$E$13,5,0)*Fonct_Empl!H226),2),\"\")","v":""}]
[null,null,null,null,null,null,null,null,{"$f":"IF(E227<>\"\",ROUND((VLOOKUP(E227,Param!$A$7:$E$13,4,0)*Fonct_Empl!F227*((Fonct_Empl!G227/12)))+(VLOOKUP(E227,Param!$A$7:$E$13,5,0)*Fonct_Empl!H227),2),\"\")","v":""}]
[null,null,null,null,null,null,null,null,{"$f":"IF(E228<>\"\",ROUND((VLOOKUP(E228,Param!$A$7:$E$13,4,0)*Fonct_Empl!F228*((Fonct_Empl!G228/12)))+(VLOOKUP(E228,Param!$A$7:$E$13,5,0)*Fonct_Empl!H228),2),\"\")","v":""}]
[null,null,null,null,null,null,null,null,{"$f":"IF(E229<>\"\",ROUND((VLOOKUP(E229,Param!$A$7:$E$13,4,0)*Fonct_Empl!F229*((Fonct_Empl!G229/12)))+(VLOOKUP(E229,Param!$A$7:$E$13,5,0)*Fonct_Empl!H229),2),\"\")","v":""}]
[null,null,null,null,null,null,null,null,{"$f":"IF(E230<>\"\",ROUND((VLOOKUP(E230,Param!$A$7:$E$13,4,0)*Fonct_Empl!F230*((Fonct_Empl!G230/12)))+(VLOOKUP(E230,Param!$A$7:$E$13,5,0)*Fonct_Empl!H230),2),\"\")","v":""}]
[null,null,null,null,null,null,null,null,{"$f":"IF(E231<>\"\",ROUND((VLOOKUP(E231,Param!$A$7:$E$13,4,0)*Fonct_Empl!F231*((Fonct_Empl!G231/12)))+(VLOOKUP(E231,Param!$A$7:$E$13,5,0)*Fonct_Empl!H231),2),\"\")","v":""}]
[null,null,null,null,null,null,null,null,{"$f":"IF(E232<>\"\",ROUND((VLOOKUP(E232,Param!$A$7:$E$13,4,0)*Fonct_Empl!F232*((Fonct_Empl!G232/12)))+(VLOOKUP(E232,Param!$A$7:$E$13,5,0)*Fonct_Empl!H232),2),\"\")","v":""}]
[null,null,null,null,null,null,null,null,{"$f":"IF(E233<>\"\",ROUND((VLOOKUP(E233,Param!$A$7:$E$13,4,0)*Fonct_Empl!F233*((Fonct_Empl!G233/12)))+(VLOOKUP(E233,Param!$A$7:$E$13,5,0)*Fonct_Empl!H233),2),\"\")","v":""}]
[null,null,null,null,null,null,null,null,{"$f":"IF(E234<>\"\",ROUND((VLOOKUP(E234,Param!$A$7:$E$13,4,0)*Fonct_Empl!F234*((Fonct_Empl!G234/12)))+(VLOOKUP(E234,Param!$A$7:$E$13,5,0)*Fonct_Empl!H234),2),\"\")","v":""}]
[null,null,null,null,null,null,null,null,{"$f":"IF(E235<>\"\",ROUND((VLOOKUP(E235,Param!$A$7:$E$13,4,0)*Fonct_Empl!F235*((Fonct_Empl!G235/12)))+(VLOOKUP(E235,Param!$A$7:$E$13,5,0)*Fonct_Empl!H235),2),\"\")","v":""}]
[null,null,null,null,null,null,null,null,{"$f":"IF(E236<>\"\",ROUND((VLOOKUP(E236,Param!$A$7:$E$13,4,0)*Fonct_Empl!F236*((Fonct_Empl!G236/12)))+(VLOOKUP(E236,Param!$A$7:$E$13,5,0)*Fonct_Empl!H236),2),\"\")","v":""}]
[null,null,null,null,null,null,null,null,{"$f":"IF(E237<>\"\",ROUND((VLOOKUP(E237,Param!$A$7:$E$13,4,0)*Fonct_Empl!F237*((Fonct_Empl!G237/12)))+(VLOOKUP(E237,Param!$A$7:$E$13,5,0)*Fonct_Empl!H237),2),\"\")","v":""}]
[null,null,null,null,null,null,null,null,{"$f":"IF(E238<>\"\",ROUND((VLOOKUP(E238,Param!$A$7:$E$13,4,0)*Fonct_Empl!F238*((Fonct_Empl!G238/12)))+(VLOOKUP(E238,Param!$A$7:$E$13,5,0)*Fonct_Empl!H238),2),\"\")","v":""}]
[null,null,null,null,null,null,null,null,{"$f":"IF(E239<>\"\",ROUND((VLOOKUP(E239,Param!$A$7:$E$13,4,0)*Fonct_Empl!F239*((Fonct_Empl!G239/12)))+(VLOOKUP(E239,Param!$A$7:$E$13,5,0)*Fonct_Empl!H239),2),\"\")","v":""}]
[null,null,null,null,null,null,null,null,{"$f":"IF(E240<>\"\",ROUND((VLOOKUP(E240,Param!$A$7:$E$13,4,0)*Fonct_Empl!F240*((Fonct_Empl!G240/12)))+(VLOOKUP(E240,Param!$A$7:$E$13,5,0)*Fonct_Empl!H240),2),\"\")","v":""}]
[null,null,null,null,null,null,null,null,{"$f":"IF(E241<>\"\",ROUND((VLOOKUP(E241,Param!$A$7:$E$13,4,0)*Fonct_Empl!F241*((Fonct_Empl!G241/12)))+(VLOOKUP(E241,Param!$A$7:$E$13,5,0)*Fonct_Empl!H241),2),\"\")","v":""}]
[null,null,null,null,null,null,null,null,{"$f":"IF(E242<>\"\",ROUND((VLOOKUP(E242,Param!$A$7:$E$13,4,0)*Fonct_Empl!F242*((Fonct_Empl!G242/12)))+(VLOOKUP(E242,Param!$A$7:$E$13,5,0)*Fonct_Empl!H242),2),\"\")","v":""}]
[null,null,null,null,null,null,null,null,{"$f":"IF(E243<>\"\",ROUND((VLOOKUP(E243,Param!$A$7:$E$13,4,0)*Fonct_Empl!F243*((Fonct_Empl!G243/12)))+(VLOOKUP(E243,Param!$A$7:$E$13,5,0)*Fonct_Empl!H243),2),\"\")","v":""}]
[null,null,null,null,null,null,null,null,{"$f":"IF(E244<>\"\",ROUND((VLOOKUP(E244,Param!$A$7:$E$13,4,0)*Fonct_Empl!F244*((Fonct_Empl!G244/12)))+(VLOOKUP(E244,Param!$A$7:$E$13,5,0)*Fonct_Empl!H244),2),\"\")","v":""}]
[null,null,null,null,null,null,null,null,{"$f":"IF(E245<>\"\",ROUND((VLOOKUP(E245,Param!$A$7:$E$13,4,0)*Fonct_Empl!F245*((Fonct_Empl!G245/12)))+(VLOOKUP(E245,Param!$A$7:$E$13,5,0)*Fonct_Empl!H245),2),\"\")","v":""}]
[null,null,null,null,null,null,null,null,{"$f":"IF(E246<>\"\",ROUND((VLOOKUP(E246,Param!$A$7:$E$13,4,0)*Fonct_Empl!F246*((Fonct_Empl!G246/12)))+(VLOOKUP(E246,Param!$A$7:$E$13,5,0)*Fonct_Empl!H246),2),\"\")","v":""}]
[null,null,null,null,null,null,null,null,{"$f":"IF(E247<>\"\",ROUND((VLOOKUP(E247,Param!$A$7:$E$13,4,0)*Fonct_Empl!F247*((Fonct_Empl!G247/12)))+(VLOOKUP(E247,Param!$A$7:$E$13,5,0)*Fonct_Empl!H247),2),\"\")","v":""}]
[null,null,null,null,null,null,null,null,{"$f":"IF(E248<>\"\",ROUND((VLOOKUP(E248,Param!$A$7:$E$13,4,0)*Fonct_Empl!F248*((Fonct_Empl!G248/12)))+(VLOOKUP(E248,Param!$A$7:$E$13,5,0)*Fonct_Empl!H248),2),\"\")","v":""}]
[null,null,null,null,null,null,null,null,{"$f":"IF(E249<>\"\",ROUND((VLOOKUP(E249,Param!$A$7:$E$13,4,0)*Fonct_Empl!F249*((Fonct_Empl!G249/12)))+(VLOOKUP(E249,Param!$A$7:$E$13,5,0)*Fonct_Empl!H249),2),\"\")","v":""}]
[null,null,null,null,null,null,null,null,{"$f":"IF(E250<>\"\",ROUND((VLOOKUP(E250,Param!$A$7:$E$13,4,0)*Fonct_Empl!F250*((Fonct_Empl!G250/12)))+(VLOOKUP(E250,Param!$A$7:$E$13,5,0)*Fonct_Empl!H250),2),\"\")","v":""}]
[null,null,null,null,null,null,null,null,{"$f":"IF(E251<>\"\",ROUND((VLOOKUP(E251,Param!$A$7:$E$13,4,0)*Fonct_Empl!F251*((Fonct_Empl!G251/12)))+(VLOOKUP(E251,Param!$A$7:$E$13,5,0)*Fonct_Empl!H251),2),\"\")","v":""}]
[null,null,null,null,null,null,null,null,{"$f":"IF(E252<>\"\",ROUND((VLOOKUP(E252,Param!$A$7:$E$13,4,0)*Fonct_Empl!F252*((Fonct_Empl!G252/12)))+(VLOOKUP(E252,Param!$A$7:$E$13,5,0)*Fonct_Empl!H252),2),\"\")","v":""}]
[null,null,null,null,null,null,null,null,{"$f":"IF(E253<>\"\",ROUND((VLOOKUP(E253,Param!$A$7:$E$13,4,0)*Fonct_Empl!F253*((Fonct_Empl!G253/12)))+(VLOOKUP(E253,Param!$A$7:$E$13,5,0)*Fonct_Empl!H253),2),\"\")","v":""}]
[null,null,null,null,null,null,null,null,{"$f":"IF(E254<>\"\",ROUND((VLOOKUP(E254,Param!$A$7:$E$13,4,0)*Fonct_Empl!F254*((Fonct_Empl!G254/12)))+(VLOOKUP(E254,Param!$A$7:$E$13,5,0)*Fonct_Empl!H254),2),\"\")","v":""}]
[null,null,null,null,null,null,null,null,{"$f":"IF(E255<>\"\",ROUND((VLOOKUP(E255,Param!$A$7:$E$13,4,0)*Fonct_Empl!F255*((Fonct_Empl!G255/12)))+(VLOOKUP(E255,Param!$A$7:$E$13,5,0)*Fonct_Empl!H255),2),\"\")","v":""}]
[null,null,null,null,null,null,null,null,{"$f":"IF(E256<>\"\",ROUND((VLOOKUP(E256,Param!$A$7:$E$13,4,0)*Fonct_Empl!F256*((Fonct_Empl!G256/12)))+(VLOOKUP(E256,Param!$A$7:$E$13,5,0)*Fonct_Empl!H256),2),\"\")","v":""}]
[null,null,null,null,null,null,null,null,{"$f":"IF(E257<>\"\",ROUND((VLOOKUP(E257,Param!$A$7:$E$13,4,0)*Fonct_Empl!F257*((Fonct_Empl!G257/12)))+(VLOOKUP(E257,Param!$A$7:$E$13,5,0)*Fonct_Empl!H257),2),\"\")","v":""}]
[null,null,null,null,null,null,null,null,{"$f":"IF(E258<>\"\",ROUND((VLOOKUP(E258,Param!$A$7:$E$13,4,0)*Fonct_Empl!F258*((Fonct_Empl!G258/12)))+(VLOOKUP(E258,Param!$A$7:$E$13,5,0)*Fonct_Empl!H258),2),\"\")","v":""}]
[null,null,null,null,null,null,null,null,{"$f":"IF(E259<>\"\",ROUND((VLOOKUP(E259,Param!$A$7:$E$13,4,0)*Fonct_Empl!F259*((Fonct_Empl!G259/12)))+(VLOOKUP(E259,Param!$A$7:$E$13,5,0)*Fonct_Empl!H259),2),\"\")","v":""}]
[null,null,null,null,null,null,null,null,{"$f":"IF(E260<>\"\",ROUND((VLOOKUP(E260,Param!$A$7:$E$13,4,0)*Fonct_Empl!F260*((Fonct_Empl!G260/12)))+(VLOOKUP(E260,Param!$A$7:$E$13,5,0)*Fonct_Empl!H260),2),\"\")","v":""}]
[null,null,null,null,null,null,null,null,{"$f":"IF(E261<>\"\",ROUND((VLOOKUP(E261,Param!$A$7:$E$13,4,0)*Fonct_Empl!F261*((Fonct_Empl!G261/12)))+(VLOOKUP(E261,Param!$A$7:$E$13,5,0)*Fonct_Empl!H261),2),\"\")","v":""}]
[null,null,null,null,null,null,null,null,{"$f":"IF(E262<>\"\",ROUND((VLOOKUP(E262,Param!$A$7:$E$13,4,0)*Fonct_Empl!F262*((Fonct_Empl!G262/12)))+(VLOOKUP(E262,Param!$A$7:$E$13,5,0)*Fonct_Empl!H262),2),\"\")","v":""}]
[null,null,null,null,null,null,null,null,{"$f":"IF(E263<>\"\",ROUND((VLOOKUP(E263,Param!$A$7:$E$13,4,0)*Fonct_Empl!F263*((Fonct_Empl!G263/12)))+(VLOOKUP(E263,Param!$A$7:$E$13,5,0)*Fonct_Empl!H263),2),\"\")","v":""}]
[null,null,null,null,null,null,null,null,{"$f":"IF(E264<>\"\",ROUND((VLOOKUP(E264,Param!$A$7:$E$13,4,0)*Fonct_Empl!F264*((Fonct_Empl!G264/12)))+(VLOOKUP(E264,Param!$A$7:$E$13,5,0)*Fonct_Empl!H264),2),\"\")","v":""}]
[null,null,null,null,null,null,null,null,{"$f":"IF(E265<>\"\",ROUND((VLOOKUP(E265,Param!$A$7:$E$13,4,0)*Fonct_Empl!F265*((Fonct_Empl!G265/12)))+(VLOOKUP(E265,Param!$A$7:$E$13,5,0)*Fonct_Empl!H265),2),\"\")","v":""}]
[null,null,null,null,null,null,null,null,{"$f":"IF(E266<>\"\",ROUND((VLOOKUP(E266,Param!$A$7:$E$13,4,0)*Fonct_Empl!F266*((Fonct_Empl!G266/12)))+(VLOOKUP(E266,Param!$A$7:$E$13,5,0)*Fonct_Empl!H266),2),\"\")","v":""}]
[null,null,null,null,null,null,null,null,{"$f":"IF(E267<>\"\",ROUND((VLOOKUP(E267,Param!$A$7:$E$13,4,0)*Fonct_Empl!F267*((Fonct_Empl!G267/12)))+(VLOOKUP(E267,Param!$A$7:$E$13,5,0)*Fonct_Empl!H267),2),\"\")","v":""}]
[null,null,null,null,null,null,null,null,{"$f":"IF(E268<>\"\",ROUND((VLOOKUP(E268,Param!$A$7:$E$13,4,0)*Fonct_Empl!F268*((Fonct_Empl!G268/12)))+(VLOOKUP(E268,Param!$A$7:$E$13,5,0)*Fonct_Empl!H268),2),\"\")","v":""}]
[null,null,null,null,null,null,null,null,{"$f":"IF(E269<>\"\",ROUND((VLOOKUP(E269,Param!$A$7:$E$13,4,0)*Fonct_Empl!F269*((Fonct_Empl!G269/12)))+(VLOOKUP(E269,Param!$A$7:$E$13,5,0)*Fonct_Empl!H269),2),\"\")","v":""}]
[null,null,null,null,null,null,null,null,{"$f":"IF(E270<>\"\",ROUND((VLOOKUP(E270,Param!$A$7:$E$13,4,0)*Fonct_Empl!F270*((Fonct_Empl!G270/12)))+(VLOOKUP(E270,Param!$A$7:$E$13,5,0)*Fonct_Empl!H270),2),\"\")","v":""}]
[null,null,null,null,null,null,null,null,{"$f":"IF(E271<>\"\",ROUND((VLOOKUP(E271,Param!$A$7:$E$13,4,0)*Fonct_Empl!F271*((Fonct_Empl!G271/12)))+(VLOOKUP(E271,Param!$A$7:$E$13,5,0)*Fonct_Empl!H271),2),\"\")","v":""}]
[null,null,null,null,null,null,null,null,{"$f":"IF(E272<>\"\",ROUND((VLOOKUP(E272,Param!$A$7:$E$13,4,0)*Fonct_Empl!F272*((Fonct_Empl!G272/12)))+(VLOOKUP(E272,Param!$A$7:$E$13,5,0)*Fonct_Empl!H272),2),\"\")","v":""}]
[null,null,null,null,null,null,null,null,{"$f":"IF(E273<>\"\",ROUND((VLOOKUP(E273,Param!$A$7:$E$13,4,0)*Fonct_Empl!F273*((Fonct_Empl!G273/12)))+(VLOOKUP(E273,Param!$A$7:$E$13,5,0)*Fonct_Empl!H273),2),\"\")","v":""}]
[null,null,null,null,null,null,null,null,{"$f":"IF(E274<>\"\",ROUND((VLOOKUP(E274,Param!$A$7:$E$13,4,0)*Fonct_Empl!F274*((Fonct_Empl!G274/12)))+(VLOOKUP(E274,Param!$A$7:$E$13,5,0)*Fonct_Empl!H274),2),\"\")","v":""}]
[null,null,null,null,null,null,null,null,{"$f":"IF(E275<>\"\",ROUND((VLOOKUP(E275,Param!$A$7:$E$13,4,0)*Fonct_Empl!F275*((Fonct_Empl!G275/12)))+(VLOOKUP(E275,Param!$A$7:$E$13,5,0)*Fonct_Empl!H275),2),\"\")","v":""}]
[null,null,null,null,null,null,null,null,{"$f":"IF(E276<>\"\",ROUND((VLOOKUP(E276,Param!$A$7:$E$13,4,0)*Fonct_Empl!F276*((Fonct_Empl!G276/12)))+(VLOOKUP(E276,Param!$A$7:$E$13,5,0)*Fonct_Empl!H276),2),\"\")","v":""}]
[null,null,null,null,null,null,null,null,{"$f":"IF(E277<>\"\",ROUND((VLOOKUP(E277,Param!$A$7:$E$13,4,0)*Fonct_Empl!F277*((Fonct_Empl!G277/12)))+(VLOOKUP(E277,Param!$A$7:$E$13,5,0)*Fonct_Empl!H277),2),\"\")","v":""}]
[null,null,null,null,null,null,null,null,{"$f":"IF(E278<>\"\",ROUND((VLOOKUP(E278,Param!$A$7:$E$13,4,0)*Fonct_Empl!F278*((Fonct_Empl!G278/12)))+(VLOOKUP(E278,Param!$A$7:$E$13,5,0)*Fonct_Empl!H278),2),\"\")","v":""}]
[null,null,null,null,null,null,null,null,{"$f":"IF(E279<>\"\",ROUND((VLOOKUP(E279,Param!$A$7:$E$13,4,0)*Fonct_Empl!F279*((Fonct_Empl!G279/12)))+(VLOOKUP(E279,Param!$A$7:$E$13,5,0)*Fonct_Empl!H279),2),\"\")","v":""}]
[null,null,null,null,null,null,null,null,{"$f":"IF(E280<>\"\",ROUND((VLOOKUP(E280,Param!$A$7:$E$13,4,0)*Fonct_Empl!F280*((Fonct_Empl!G280/12)))+(VLOOKUP(E280,Param!$A$7:$E$13,5,0)*Fonct_Empl!H280),2),\"\")","v":""}]
[null,null,null,null,null,null,null,null,{"$f":"IF(E281<>\"\",ROUND((VLOOKUP(E281,Param!$A$7:$E$13,4,0)*Fonct_Empl!F281*((Fonct_Empl!G281/12)))+(VLOOKUP(E281,Param!$A$7:$E$13,5,0)*Fonct_Empl!H281),2),\"\")","v":""}]
[null,null,null,null,null,null,null,null,{"$f":"IF(E282<>\"\",ROUND((VLOOKUP(E282,Param!$A$7:$E$13,4,0)*Fonct_Empl!F282*((Fonct_Empl!G282/12)))+(VLOOKUP(E282,Param!$A$7:$E$13,5,0)*Fonct_Empl!H282),2),\"\")","v":""}]
[null,null,null,null,null,null,null,null,{"$f":"IF(E283<>\"\",ROUND((VLOOKUP(E283,Param!$A$7:$E$13,4,0)*Fonct_Empl!F283*((Fonct_Empl!G283/12)))+(VLOOKUP(E283,Param!$A$7:$E$13,5,0)*Fonct_Empl!H283),2),\"\")","v":""}]
[null,null,null,null,null,null,null,null,{"$f":"IF(E284<>\"\",ROUND((VLOOKUP(E284,Param!$A$7:$E$13,4,0)*Fonct_Empl!F284*((Fonct_Empl!G284/12)))+(VLOOKUP(E284,Param!$A$7:$E$13,5,0)*Fonct_Empl!H284),2),\"\")","v":""}]
[null,null,null,null,null,null,null,null,{"$f":"IF(E285<>\"\",ROUND((VLOOKUP(E285,Param!$A$7:$E$13,4,0)*Fonct_Empl!F285*((Fonct_Empl!G285/12)))+(VLOOKUP(E285,Param!$A$7:$E$13,5,0)*Fonct_Empl!H285),2),\"\")","v":""}]
[null,null,null,null,null,null,null,null,{"$f":"IF(E286<>\"\",ROUND((VLOOKUP(E286,Param!$A$7:$E$13,4,0)*Fonct_Empl!F286*((Fonct_Empl!G286/12)))+(VLOOKUP(E286,Param!$A$7:$E$13,5,0)*Fonct_Empl!H286),2),\"\")","v":""}]
[null,null,null,null,null,null,null,null,{"$f":"IF(E287<>\"\",ROUND((VLOOKUP(E287,Param!$A$7:$E$13,4,0)*Fonct_Empl!F287*((Fonct_Empl!G287/12)))+(VLOOKUP(E287,Param!$A$7:$E$13,5,0)*Fonct_Empl!H287),2),\"\")","v":""}]
[null,null,null,null,null,null,null,null,{"$f":"IF(E288<>\"\",ROUND((VLOOKUP(E288,Param!$A$7:$E$13,4,0)*Fonct_Empl!F288*((Fonct_Empl!G288/12)))+(VLOOKUP(E288,Param!$A$7:$E$13,5,0)*Fonct_Empl!H288),2),\"\")","v":""}]
[null,null,null,null,null,null,null,null,{"$f":"IF(E289<>\"\",ROUND((VLOOKUP(E289,Param!$A$7:$E$13,4,0)*Fonct_Empl!F289*((Fonct_Empl!G289/12)))+(VLOOKUP(E289,Param!$A$7:$E$13,5,0)*Fonct_Empl!H289),2),\"\")","v":""}]
[null,null,null,null,null,null,null,null,{"$f":"IF(E290<>\"\",ROUND((VLOOKUP(E290,Param!$A$7:$E$13,4,0)*Fonct_Empl!F290*((Fonct_Empl!G290/12)))+(VLOOKUP(E290,Param!$A$7:$E$13,5,0)*Fonct_Empl!H290),2),\"\")","v":""}]
[null,null,null,null,null,null,null,null,{"$f":"IF(E291<>\"\",ROUND((VLOOKUP(E291,Param!$A$7:$E$13,4,0)*Fonct_Empl!F291*((Fonct_Empl!G291/12)))+(VLOOKUP(E291,Param!$A$7:$E$13,5,0)*Fonct_Empl!H291),2),\"\")","v":""}]
[null,null,null,null,null,null,null,null,{"$f":"IF(E292<>\"\",ROUND((VLOOKUP(E292,Param!$A$7:$E$13,4,0)*Fonct_Empl!F292*((Fonct_Empl!G292/12)))+(VLOOKUP(E292,Param!$A$7:$E$13,5,0)*Fonct_Empl!H292),2),\"\")","v":""}]
[null,null,null,null,null,null,null,null,{"$f":"IF(E293<>\"\",ROUND((VLOOKUP(E293,Param!$A$7:$E$13,4,0)*Fonct_Empl!F293*((Fonct_Empl!G293/12)))+(VLOOKUP(E293,Param!$A$7:$E$13,5,0)*Fonct_Empl!H293),2),\"\")","v":""}]
[null,null,null,null,null,null,null,null,{"$f":"IF(E294<>\"\",ROUND((VLOOKUP(E294,Param!$A$7:$E$13,4,0)*Fonct_Empl!F294*((Fonct_Empl!G294/12)))+(VLOOKUP(E294,Param!$A$7:$E$13,5,0)*Fonct_Empl!H294),2),\"\")","v":""}]
[null,null,null,null,null,null,null,null,{"$f":"IF(E295<>\"\",ROUND((VLOOKUP(E295,Param!$A$7:$E$13,4,0)*Fonct_Empl!F295*((Fonct_Empl!G295/12)))+(VLOOKUP(E295,Param!$A$7:$E$13,5,0)*Fonct_Empl!H295),2),\"\")","v":""}]
[null,null,null,null,null,null,null,null,{"$f":"IF(E296<>\"\",ROUND((VLOOKUP(E296,Param!$A$7:$E$13,4,0)*Fonct_Empl!F296*((Fonct_Empl!G296/12)))+(VLOOKUP(E296,Param!$A$7:$E$13,5,0)*Fonct_Empl!H296),2),\"\")","v":""}]
[null,null,null,null,null,null,null,null,{"$f":"IF(E297<>\"\",ROUND((VLOOKUP(E297,Param!$A$7:$E$13,4,0)*Fonct_Empl!F297*((Fonct_Empl!G297/12)))+(VLOOKUP(E297,Param!$A$7:$E$13,5,0)*Fonct_Empl!H297),2),\"\")","v":""}]
[null,null,null,null,null,null,null,null,{"$f":"IF(E298<>\"\",ROUND((VLOOKUP(E298,Param!$A$7:$E$13,4,0)*Fonct_Empl!F298*((Fonct_Empl!G298/12)))+(VLOOKUP(E298,Param!$A$7:$E$13,5,0)*Fonct_Empl!H298),2),\"\")","v":""}]
[null,null,null,null,null,null,null,null,{"$f":"IF(E299<>\"\",ROUND((VLOOKUP(E299,Param!$A$7:$E$13,4,0)*Fonct_Empl!F299*((Fonct_Empl!G299/12)))+(VLOOKUP(E299,Param!$A$7:$E$13,5,0)*Fonct_Empl!H299),2),\"\")","v":""}]
[null,null,null,null,null,null,null,null,{"$f":"IF(E300<>\"\",ROUND((VLOOKUP(E300,Param!$A$7:$E$13,4,0)*Fonct_Empl!F300*((Fonct_Empl!G300/12)))+(VLOOKUP(E300,Param!$A$7:$E$13,5,0)*Fonct_Empl!H300),2),\"\")","v":""}]
[null,null,null,null,null,null,null,null,{"$f":"IF(E301<>\"\",ROUND((VLOOKUP(E301,Param!$A$7:$E$13,4,0)*Fonct_Empl!F301*((Fonct_Empl!G301/12)))+(VLOOKUP(E301,Param!$A$7:$E$13,5,0)*Fonct_Empl!H301),2),\"\")","v":""}]
[null,null,null,null,null,null,null,null,{"$f":"IF(E302<>\"\",ROUND((VLOOKUP(E302,Param!$A$7:$E$13,4,0)*Fonct_Empl!F302*((Fonct_Empl!G302/12)))+(VLOOKUP(E302,Param!$A$7:$E$13,5,0)*Fonct_Empl!H302),2),\"\")","v":""}]
[null,null,null,null,null,null,null,null,{"$f":"IF(E303<>\"\",ROUND((VLOOKUP(E303,Param!$A$7:$E$13,4,0)*Fonct_Empl!F303*((Fonct_Empl!G303/12)))+(VLOOKUP(E303,Param!$A$7:$E$13,5,0)*Fonct_Empl!H303),2),\"\")","v":""}]
[null,null,null,null,null,null,null,null,{"$f":"IF(E304<>\"\",ROUND((VLOOKUP(E304,Param!$A$7:$E$13,4,0)*Fonct_Empl!F304*((Fonct_Empl!G304/12)))+(VLOOKUP(E304,Param!$A$7:$E$13,5,0)*Fonct_Empl!H304),2),\"\")","v":""}]
[null,null,null,null,null,null,null,null,{"$f":"IF(E305<>\"\",ROUND((VLOOKUP(E305,Param!$A$7:$E$13,4,0)*Fonct_Empl!F305*((Fonct_Empl!G305/12)))+(VLOOKUP(E305,Param!$A$7:$E$13,5,0)*Fonct_Empl!H305),2),\"\")","v":""}]
[null,null,null,null,null,null,null,null,{"$f":"IF(E306<>\"\",ROUND((VLOOKUP(E306,Param!$A$7:$E$13,4,0)*Fonct_Empl!F306*((Fonct_Empl!G306/12)))+(VLOOKUP(E306,Param!$A$7:$E$13,5,0)*Fonct_Empl!H306),2),\"\")","v":""}]
[null,null,null,null,null,null,null,null,{"$f":"IF(E307<>\"\",ROUND((VLOOKUP(E307,Param!$A$7:$E$13,4,0)*Fonct_Empl!F307*((Fonct_Empl!G307/12)))+(VLOOKUP(E307,Param!$A$7:$E$13,5,0)*Fonct_Empl!H307),2),\"\")","v":""}]
[null,null,null,null,null,null,null,null,{"$f":"IF(E308<>\"\",ROUND((VLOOKUP(E308,Param!$A$7:$E$13,4,0)*Fonct_Empl!F308*((Fonct_Empl!G308/12)))+(VLOOKUP(E308,Param!$A$7:$E$13,5,0)*Fonct_Empl!H308),2),\"\")","v":""}]
[null,null,null,null,null,null,null,null,{"$f":"IF(E309<>\"\",ROUND((VLOOKUP(E309,Param!$A$7:$E$13,4,0)*Fonct_Empl!F309*((Fonct_Empl!G309/12)))+(VLOOKUP(E309,Param!$A$7:$E$13,5,0)*Fonct_Empl!H309),2),\"\")","v":""}]
[null,null,null,null,null,null,null,null,{"$f":"IF(E310<>\"\",ROUND((VLOOKUP(E310,Param!$A$7:$E$13,4,0)*Fonct_Empl!F310*((Fonct_Empl!G310/12)))+(VLOOKUP(E310,Param!$A$7:$E$13,5,0)*Fonct_Empl!H310),2),\"\")","v":""}]
[null,null,null,null,null,null,null,null,{"$f":"IF(E311<>\"\",ROUND((VLOOKUP(E311,Param!$A$7:$E$13,4,0)*Fonct_Empl!F311*((Fonct_Empl!G311/12)))+(VLOOKUP(E311,Param!$A$7:$E$13,5,0)*Fonct_Empl!H311),2),\"\")","v":""}]
[null,null,null,null,null,null,null,null,{"$f":"IF(E312<>\"\",ROUND((VLOOKUP(E312,Param!$A$7:$E$13,4,0)*Fonct_Empl!F312*((Fonct_Empl!G312/12)))+(VLOOKUP(E312,Param!$A$7:$E$13,5,0)*Fonct_Empl!H312),2),\"\")","v":""}]
[null,null,null,null,null,null,null,null,{"$f":"IF(E313<>\"\",ROUND((VLOOKUP(E313,Param!$A$7:$E$13,4,0)*Fonct_Empl!F313*((Fonct_Empl!G313/12)))+(VLOOKUP(E313,Param!$A$7:$E$13,5,0)*Fonct_Empl!H313),2),\"\")","v":""}]
[null,null,null,null,null,null,null,null,{"$f":"IF(E314<>\"\",ROUND((VLOOKUP(E314,Param!$A$7:$E$13,4,0)*Fonct_Empl!F314*((Fonct_Empl!G314/12)))+(VLOOKUP(E314,Param!$A$7:$E$13,5,0)*Fonct_Empl!H314),2),\"\")","v":""}]
[null,null,null,null,null,null,null,null,{"$f":"IF(E315<>\"\",ROUND((VLOOKUP(E315,Param!$A$7:$E$13,4,0)*Fonct_Empl!F315*((Fonct_Empl!G315/12)))+(VLOOKUP(E315,Param!$A$7:$E$13,5,0)*Fonct_Empl!H315),2),\"\")","v":""}]
[null,null,null,null,null,null,null,null,{"$f":"IF(E316<>\"\",ROUND((VLOOKUP(E316,Param!$A$7:$E$13,4,0)*Fonct_Empl!F316*((Fonct_Empl!G316/12)))+(VLOOKUP(E316,Param!$A$7:$E$13,5,0)*Fonct_Empl!H316),2),\"\")","v":""}]
[null,null,null,null,null,null,null,null,{"$f":"IF(E317<>\"\",ROUND((VLOOKUP(E317,Param!$A$7:$E$13,4,0)*Fonct_Empl!F317*((Fonct_Empl!G317/12)))+(VLOOKUP(E317,Param!$A$7:$E$13,5,0)*Fonct_Empl!H317),2),\"\")","v":""}]
[null,null,null,null,null,null,null,null,{"$f":"IF(E318<>\"\",ROUND((VLOOKUP(E318,Param!$A$7:$E$13,4,0)*Fonct_Empl!F318*((Fonct_Empl!G318/12)))+(VLOOKUP(E318,Param!$A$7:$E$13,5,0)*Fonct_Empl!H318),2),\"\")","v":""}]
[null,null,null,null,null,null,null,null,{"$f":"IF(E319<>\"\",ROUND((VLOOKUP(E319,Param!$A$7:$E$13,4,0)*Fonct_Empl!F319*((Fonct_Empl!G319/12)))+(VLOOKUP(E319,Param!$A$7:$E$13,5,0)*Fonct_Empl!H319),2),\"\")","v":""}]
[null,null,null,null,null,null,null,null,{"$f":"IF(E320<>\"\",ROUND((VLOOKUP(E320,Param!$A$7:$E$13,4,0)*Fonct_Empl!F320*((Fonct_Empl!G320/12)))+(VLOOKUP(E320,Param!$A$7:$E$13,5,0)*Fonct_Empl!H320),2),\"\")","v":""}]
[null,null,null,null,null,null,null,null,{"$f":"IF(E321<>\"\",ROUND((VLOOKUP(E321,Param!$A$7:$E$13,4,0)*Fonct_Empl!F321*((Fonct_Empl!G321/12)))+(VLOOKUP(E321,Param!$A$7:$E$13,5,0)*Fonct_Empl!H321),2),\"\")","v":""}]
[null,null,null,null,null,null,null,null,{"$f":"IF(E322<>\"\",ROUND((VLOOKUP(E322,Param!$A$7:$E$13,4,0)*Fonct_Empl!F322*((Fonct_Empl!G322/12)))+(VLOOKUP(E322,Param!$A$7:$E$13,5,0)*Fonct_Empl!H322),2),\"\")","v":""}]
[null,null,null,null,null,null,null,null,{"$f":"IF(E323<>\"\",ROUND((VLOOKUP(E323,Param!$A$7:$E$13,4,0)*Fonct_Empl!F323*((Fonct_Empl!G323/12)))+(VLOOKUP(E323,Param!$A$7:$E$13,5,0)*Fonct_Empl!H323),2),\"\")","v":""}]
[null,null,null,null,null,null,null,null,{"$f":"IF(E324<>\"\",ROUND((VLOOKUP(E324,Param!$A$7:$E$13,4,0)*Fonct_Empl!F324*((Fonct_Empl!G324/12)))+(VLOOKUP(E324,Param!$A$7:$E$13,5,0)*Fonct_Empl!H324),2),\"\")","v":""}]
[null,null,null,null,null,null,null,null,{"$f":"IF(E325<>\"\",ROUND((VLOOKUP(E325,Param!$A$7:$E$13,4,0)*Fonct_Empl!F325*((Fonct_Empl!G325/12)))+(VLOOKUP(E325,Param!$A$7:$E$13,5,0)*Fonct_Empl!H325),2),\"\")","v":""}]
[null,null,null,null,null,null,null,null,{"$f":"IF(E326<>\"\",ROUND((VLOOKUP(E326,Param!$A$7:$E$13,4,0)*Fonct_Empl!F326*((Fonct_Empl!G326/12)))+(VLOOKUP(E326,Param!$A$7:$E$13,5,0)*Fonct_Empl!H326),2),\"\")","v":""}]
[null,null,null,null,null,null,null,null,{"$f":"IF(E327<>\"\",ROUND((VLOOKUP(E327,Param!$A$7:$E$13,4,0)*Fonct_Empl!F327*((Fonct_Empl!G327/12)))+(VLOOKUP(E327,Param!$A$7:$E$13,5,0)*Fonct_Empl!H327),2),\"\")","v":""}]
[null,null,null,null,null,null,null,null,{"$f":"IF(E328<>\"\",ROUND((VLOOKUP(E328,Param!$A$7:$E$13,4,0)*Fonct_Empl!F328*((Fonct_Empl!G328/12)))+(VLOOKUP(E328,Param!$A$7:$E$13,5,0)*Fonct_Empl!H328),2),\"\")","v":""}]
[null,null,null,null,null,null,null,null,{"$f":"IF(E329<>\"\",ROUND((VLOOKUP(E329,Param!$A$7:$E$13,4,0)*Fonct_Empl!F329*((Fonct_Empl!G329/12)))+(VLOOKUP(E329,Param!$A$7:$E$13,5,0)*Fonct_Empl!H329),2),\"\")","v":""}]
[null,null,null,null,null,null,null,null,{"$f":"IF(E330<>\"\",ROUND((VLOOKUP(E330,Param!$A$7:$E$13,4,0)*Fonct_Empl!F330*((Fonct_Empl!G330/12)))+(VLOOKUP(E330,Param!$A$7:$E$13,5,0)*Fonct_Empl!H330),2),\"\")","v":""}]
[null,null,null,null,null,null,null,null,{"$f":"IF(E331<>\"\",ROUND((VLOOKUP(E331,Param!$A$7:$E$13,4,0)*Fonct_Empl!F331*((Fonct_Empl!G331/12)))+(VLOOKUP(E331,Param!$A$7:$E$13,5,0)*Fonct_Empl!H331),2),\"\")","v":""}]
[null,null,null,null,null,null,null,null,{"$f":"IF(E332<>\"\",ROUND((VLOOKUP(E332,Param!$A$7:$E$13,4,0)*Fonct_Empl!F332*((Fonct_Empl!G332/12)))+(VLOOKUP(E332,Param!$A$7:$E$13,5,0)*Fonct_Empl!H332),2),\"\")","v":""}]
[null,null,null,null,null,null,null,null,{"$f":"IF(E333<>\"\",ROUND((VLOOKUP(E333,Param!$A$7:$E$13,4,0)*Fonct_Empl!F333*((Fonct_Empl!G333/12)))+(VLOOKUP(E333,Param!$A$7:$E$13,5,0)*Fonct_Empl!H333),2),\"\")","v":""}]
[null,null,null,null,null,null,null,null,{"$f":"IF(E334<>\"\",ROUND((VLOOKUP(E334,Param!$A$7:$E$13,4,0)*Fonct_Empl!F334*((Fonct_Empl!G334/12)))+(VLOOKUP(E334,Param!$A$7:$E$13,5,0)*Fonct_Empl!H334),2),\"\")","v":""}]
[null,null,null,null,null,null,null,null,{"$f":"IF(E335<>\"\",ROUND((VLOOKUP(E335,Param!$A$7:$E$13,4,0)*Fonct_Empl!F335*((Fonct_Empl!G335/12)))+(VLOOKUP(E335,Param!$A$7:$E$13,5,0)*Fonct_Empl!H335),2),\"\")","v":""}]
[null,null,null,null,null,null,null,null,{"$f":"IF(E336<>\"\",ROUND((VLOOKUP(E336,Param!$A$7:$E$13,4,0)*Fonct_Empl!F336*((Fonct_Empl!G336/12)))+(VLOOKUP(E336,Param!$A$7:$E$13,5,0)*Fonct_Empl!H336),2),\"\")","v":""}]
[null,null,null,null,null,null,null,null,{"$f":"IF(E337<>\"\",ROUND((VLOOKUP(E337,Param!$A$7:$E$13,4,0)*Fonct_Empl!F337*((Fonct_Empl!G337/12)))+(VLOOKUP(E337,Param!$A$7:$E$13,5,0)*Fonct_Empl!H337),2),\"\")","v":""}]
[null,null,null,null,null,null,null,null,{"$f":"IF(E338<>\"\",ROUND((VLOOKUP(E338,Param!$A$7:$E$13,4,0)*Fonct_Empl!F338*((Fonct_Empl!G338/12)))+(VLOOKUP(E338,Param!$A$7:$E$13,5,0)*Fonct_Empl!H338),2),\"\")","v":""}]
[null,null,null,null,null,null,null,null,{"$f":"IF(E339<>\"\",ROUND((VLOOKUP(E339,Param!$A$7:$E$13,4,0)*Fonct_Empl!F339*((Fonct_Empl!G339/12)))+(VLOOKUP(E339,Param!$A$7:$E$13,5,0)*Fonct_Empl!H339),2),\"\")","v":""}]
[null,null,null,null,null,null,null,null,{"$f":"IF(E340<>\"\",ROUND((VLOOKUP(E340,Param!$A$7:$E$13,4,0)*Fonct_Empl!F340*((Fonct_Empl!G340/12)))+(VLOOKUP(E340,Param!$A$7:$E$13,5,0)*Fonct_Empl!H340),2),\"\")","v":""}]
[null,null,null,null,null,null,null,null,{"$f":"IF(E341<>\"\",ROUND((VLOOKUP(E341,Param!$A$7:$E$13,4,0)*Fonct_Empl!F341*((Fonct_Empl!G341/12)))+(VLOOKUP(E341,Param!$A$7:$E$13,5,0)*Fonct_Empl!H341),2),\"\")","v":""}]
[null,null,null,null,null,null,null,null,{"$f":"IF(E342<>\"\",ROUND((VLOOKUP(E342,Param!$A$7:$E$13,4,0)*Fonct_Empl!F342*((Fonct_Empl!G342/12)))+(VLOOKUP(E342,Param!$A$7:$E$13,5,0)*Fonct_Empl!H342),2),\"\")","v":""}]
[null,null,null,null,null,null,null,null,{"$f":"IF(E343<>\"\",ROUND((VLOOKUP(E343,Param!$A$7:$E$13,4,0)*Fonct_Empl!F343*((Fonct_Empl!G343/12)))+(VLOOKUP(E343,Param!$A$7:$E$13,5,0)*Fonct_Empl!H343),2),\"\")","v":""}]
[null,null,null,null,null,null,null,null,{"$f":"IF(E344<>\"\",ROUND((VLOOKUP(E344,Param!$A$7:$E$13,4,0)*Fonct_Empl!F344*((Fonct_Empl!G344/12)))+(VLOOKUP(E344,Param!$A$7:$E$13,5,0)*Fonct_Empl!H344),2),\"\")","v":""}]
[null,null,null,null,null,null,null,null,{"$f":"IF(E345<>\"\",ROUND((VLOOKUP(E345,Param!$A$7:$E$13,4,0)*Fonct_Empl!F345*((Fonct_Empl!G345/12)))+(VLOOKUP(E345,Param!$A$7:$E$13,5,0)*Fonct_Empl!H345),2),\"\")","v":""}]
[null,null,null,null,null,null,null,null,{"$f":"IF(E346<>\"\",ROUND((VLOOKUP(E346,Param!$A$7:$E$13,4,0)*Fonct_Empl!F346*((Fonct_Empl!G346/12)))+(VLOOKUP(E346,Param!$A$7:$E$13,5,0)*Fonct_Empl!H346),2),\"\")","v":""}]
[null,null,null,null,null,null,null,null,{"$f":"IF(E347<>\"\",ROUND((VLOOKUP(E347,Param!$A$7:$E$13,4,0)*Fonct_Empl!F347*((Fonct_Empl!G347/12)))+(VLOOKUP(E347,Param!$A$7:$E$13,5,0)*Fonct_Empl!H347),2),\"\")","v":""}]
[null,null,null,null,null,null,null,null,{"$f":"IF(E348<>\"\",ROUND((VLOOKUP(E348,Param!$A$7:$E$13,4,0)*Fonct_Empl!F348*((Fonct_Empl!G348/12)))+(VLOOKUP(E348,Param!$A$7:$E$13,5,0)*Fonct_Empl!H348),2),\"\")","v":""}]
[null,null,null,null,null,null,null,null,{"$f":"IF(E349<>\"\",ROUND((VLOOKUP(E349,Param!$A$7:$E$13,4,0)*Fonct_Empl!F349*((Fonct_Empl!G349/12)))+(VLOOKUP(E349,Param!$A$7:$E$13,5,0)*Fonct_Empl!H349),2),\"\")","v":""}]
[null,null,null,null,null,null,null,null,{"$f":"IF(E350<>\"\",ROUND((VLOOKUP(E350,Param!$A$7:$E$13,4,0)*Fonct_Empl!F350*((Fonct_Empl!G350/12)))+(VLOOKUP(E350,Param!$A$7:$E$13,5,0)*Fonct_Empl!H350),2),\"\")","v":""}]
[null,null,null,null,null,null,null,null,{"$f":"IF(E351<>\"\",ROUND((VLOOKUP(E351,Param!$A$7:$E$13,4,0)*Fonct_Empl!F351*((Fonct_Empl!G351/12)))+(VLOOKUP(E351,Param!$A$7:$E$13,5,0)*Fonct_Empl!H351),2),\"\")","v":""}]
[null,null,null,null,null,null,null,null,{"$f":"IF(E352<>\"\",ROUND((VLOOKUP(E352,Param!$A$7:$E$13,4,0)*Fonct_Empl!F352*((Fonct_Empl!G352/12)))+(VLOOKUP(E352,Param!$A$7:$E$13,5,0)*Fonct_Empl!H352),2),\"\")","v":""}]
[null,null,null,null,null,null,null,null,{"$f":"IF(E353<>\"\",ROUND((VLOOKUP(E353,Param!$A$7:$E$13,4,0)*Fonct_Empl!F353*((Fonct_Empl!G353/12)))+(VLOOKUP(E353,Param!$A$7:$E$13,5,0)*Fonct_Empl!H353),2),\"\")","v":""}]
[null,null,null,null,null,null,null,null,{"$f":"IF(E354<>\"\",ROUND((VLOOKUP(E354,Param!$A$7:$E$13,4,0)*Fonct_Empl!F354*((Fonct_Empl!G354/12)))+(VLOOKUP(E354,Param!$A$7:$E$13,5,0)*Fonct_Empl!H354),2),\"\")","v":""}]
[null,null,null,null,null,null,null,null,{"$f":"IF(E355<>\"\",ROUND((VLOOKUP(E355,Param!$A$7:$E$13,4,0)*Fonct_Empl!F355*((Fonct_Empl!G355/12)))+(VLOOKUP(E355,Param!$A$7:$E$13,5,0)*Fonct_Empl!H355),2),\"\")","v":""}]
[null,null,null,null,null,null,null,null,{"$f":"IF(E356<>\"\",ROUND((VLOOKUP(E356,Param!$A$7:$E$13,4,0)*Fonct_Empl!F356*((Fonct_Empl!G356/12)))+(VLOOKUP(E356,Param!$A$7:$E$13,5,0)*Fonct_Empl!H356),2),\"\")","v":""}]
[null,null,null,null,null,null,null,null,{"$f":"IF(E357<>\"\",ROUND((VLOOKUP(E357,Param!$A$7:$E$13,4,0)*Fonct_Empl!F357*((Fonct_Empl!G357/12)))+(VLOOKUP(E357,Param!$A$7:$E$13,5,0)*Fonct_Empl!H357),2),\"\")","v":""}]
[null,null,null,null,null,null,null,null,{"$f":"IF(E358<>\"\",ROUND((VLOOKUP(E358,Param!$A$7:$E$13,4,0)*Fonct_Empl!F358*((Fonct_Empl!G358/12)))+(VLOOKUP(E358,Param!$A$7:$E$13,5,0)*Fonct_Empl!H358),2),\"\")","v":""}]
[null,null,null,null,null,null,null,null,{"$f":"IF(E359<>\"\",ROUND((VLOOKUP(E359,Param!$A$7:$E$13,4,0)*Fonct_Empl!F359*((Fonct_Empl!G359/12)))+(VLOOKUP(E359,Param!$A$7:$E$13,5,0)*Fonct_Empl!H359),2),\"\")","v":""}]
[null,null,null,null,null,null,null,null,{"$f":"IF(E360<>\"\",ROUND((VLOOKUP(E360,Param!$A$7:$E$13,4,0)*Fonct_Empl!F360*((Fonct_Empl!G360/12)))+(VLOOKUP(E360,Param!$A$7:$E$13,5,0)*Fonct_Empl!H360),2),\"\")","v":""}]
[null,null,null,null,null,null,null,null,{"$f":"IF(E361<>\"\",ROUND((VLOOKUP(E361,Param!$A$7:$E$13,4,0)*Fonct_Empl!F361*((Fonct_Empl!G361/12)))+(VLOOKUP(E361,Param!$A$7:$E$13,5,0)*Fonct_Empl!H361),2),\"\")","v":""}]
[null,null,null,null,null,null,null,null,{"$f":"IF(E362<>\"\",ROUND((VLOOKUP(E362,Param!$A$7:$E$13,4,0)*Fonct_Empl!F362*((Fonct_Empl!G362/12)))+(VLOOKUP(E362,Param!$A$7:$E$13,5,0)*Fonct_Empl!H362),2),\"\")","v":""}]
[null,null,null,null,null,null,null,null,{"$f":"IF(E363<>\"\",ROUND((VLOOKUP(E363,Param!$A$7:$E$13,4,0)*Fonct_Empl!F363*((Fonct_Empl!G363/12)))+(VLOOKUP(E363,Param!$A$7:$E$13,5,0)*Fonct_Empl!H363),2),\"\")","v":""}]
[null,null,null,null,null,null,null,null,{"$f":"IF(E364<>\"\",ROUND((VLOOKUP(E364,Param!$A$7:$E$13,4,0)*Fonct_Empl!F364*((Fonct_Empl!G364/12)))+(VLOOKUP(E364,Param!$A$7:$E$13,5,0)*Fonct_Empl!H364),2),\"\")","v":""}]
[null,null,null,null,null,null,null,null,{"$f":"IF(E365<>\"\",ROUND((VLOOKUP(E365,Param!$A$7:$E$13,4,0)*Fonct_Empl!F365*((Fonct_Empl!G365/12)))+(VLOOKUP(E365,Param!$A$7:$E$13,5,0)*Fonct_Empl!H365),2),\"\")","v":""}]
[null,null,null,null,null,null,null,null,{"$f":"IF(E366<>\"\",ROUND((VLOOKUP(E366,Param!$A$7:$E$13,4,0)*Fonct_Empl!F366*((Fonct_Empl!G366/12)))+(VLOOKUP(E366,Param!$A$7:$E$13,5,0)*Fonct_Empl!H366),2),\"\")","v":""}]
[null,null,null,null,null,null,null,null,{"$f":"IF(E367<>\"\",ROUND((VLOOKUP(E367,Param!$A$7:$E$13,4,0)*Fonct_Empl!F367*((Fonct_Empl!G367/12)))+(VLOOKUP(E367,Param!$A$7:$E$13,5,0)*Fonct_Empl!H367),2),\"\")","v":""}]
[null,null,null,null,null,null,null,null,{"$f":"IF(E368<>\"\",ROUND((VLOOKUP(E368,Param!$A$7:$E$13,4,0)*Fonct_Empl!F368*((Fonct_Empl!G368/12)))+(VLOOKUP(E368,Param!$A$7:$E$13,5,0)*Fonct_Empl!H368),2),\"\")","v":""}]
[null,null,null,null,null,null,null,null,{"$f":"IF(E369<>\"\",ROUND((VLOOKUP(E369,Param!$A$7:$E$13,4,0)*Fonct_Empl!F369*((Fonct_Empl!G369/12)))+(VLOOKUP(E369,Param!$A$7:$E$13,5,0)*Fonct_Empl!H369),2),\"\")","v":""}]
[null,null,null,null,null,null,null,null,{"$f":"IF(E370<>\"\",ROUND((VLOOKUP(E370,Param!$A$7:$E$13,4,0)*Fonct_Empl!F370*((Fonct_Empl!G370/12)))+(VLOOKUP(E370,Param!$A$7:$E$13,5,0)*Fonct_Empl!H370),2),\"\")","v":""}]
[null,null,null,null,null,null,null,null,{"$f":"IF(E371<>\"\",ROUND((VLOOKUP(E371,Param!$A$7:$E$13,4,0)*Fonct_Empl!F371*((Fonct_Empl!G371/12)))+(VLOOKUP(E371,Param!$A$7:$E$13,5,0)*Fonct_Empl!H371),2),\"\")","v":""}]
[null,null,null,null,null,null,null,null,{"$f":"IF(E372<>\"\",ROUND((VLOOKUP(E372,Param!$A$7:$E$13,4,0)*Fonct_Empl!F372*((Fonct_Empl!G372/12)))+(VLOOKUP(E372,Param!$A$7:$E$13,5,0)*Fonct_Empl!H372),2),\"\")","v":""}]
[null,null,null,null,null,null,null,null,{"$f":"IF(E373<>\"\",ROUND((VLOOKUP(E373,Param!$A$7:$E$13,4,0)*Fonct_Empl!F373*((Fonct_Empl!G373/12)))+(VLOOKUP(E373,Param!$A$7:$E$13,5,0)*Fonct_Empl!H373),2),\"\")","v":""}]
[null,null,null,null,null,null,null,null,{"$f":"IF(E374<>\"\",ROUND((VLOOKUP(E374,Param!$A$7:$E$13,4,0)*Fonct_Empl!F374*((Fonct_Empl!G374/12)))+(VLOOKUP(E374,Param!$A$7:$E$13,5,0)*Fonct_Empl!H374),2),\"\")","v":""}]
[null,null,null,null,null,null,null,null,{"$f":"IF(E375<>\"\",ROUND((VLOOKUP(E375,Param!$A$7:$E$13,4,0)*Fonct_Empl!F375*((Fonct_Empl!G375/12)))+(VLOOKUP(E375,Param!$A$7:$E$13,5,0)*Fonct_Empl!H375),2),\"\")","v":""}]
[null,null,null,null,null,null,null,null,{"$f":"IF(E376<>\"\",ROUND((VLOOKUP(E376,Param!$A$7:$E$13,4,0)*Fonct_Empl!F376*((Fonct_Empl!G376/12)))+(VLOOKUP(E376,Param!$A$7:$E$13,5,0)*Fonct_Empl!H376),2),\"\")","v":""}]
[null,null,null,null,null,null,null,null,{"$f":"IF(E377<>\"\",ROUND((VLOOKUP(E377,Param!$A$7:$E$13,4,0)*Fonct_Empl!F377*((Fonct_Empl!G377/12)))+(VLOOKUP(E377,Param!$A$7:$E$13,5,0)*Fonct_Empl!H377),2),\"\")","v":""}]
[null,null,null,null,null,null,null,null,{"$f":"IF(E378<>\"\",ROUND((VLOOKUP(E378,Param!$A$7:$E$13,4,0)*Fonct_Empl!F378*((Fonct_Empl!G378/12)))+(VLOOKUP(E378,Param!$A$7:$E$13,5,0)*Fonct_Empl!H378),2),\"\")","v":""}]
[null,null,null,null,null,null,null,null,{"$f":"IF(E379<>\"\",ROUND((VLOOKUP(E379,Param!$A$7:$E$13,4,0)*Fonct_Empl!F379*((Fonct_Empl!G379/12)))+(VLOOKUP(E379,Param!$A$7:$E$13,5,0)*Fonct_Empl!H379),2),\"\")","v":""}]
[null,null,null,null,null,null,null,null,{"$f":"IF(E380<>\"\",ROUND((VLOOKUP(E380,Param!$A$7:$E$13,4,0)*Fonct_Empl!F380*((Fonct_Empl!G380/12)))+(VLOOKUP(E380,Param!$A$7:$E$13,5,0)*Fonct_Empl!H380),2),\"\")","v":""}]
[null,null,null,null,null,null,null,null,{"$f":"IF(E381<>\"\",ROUND((VLOOKUP(E381,Param!$A$7:$E$13,4,0)*Fonct_Empl!F381*((Fonct_Empl!G381/12)))+(VLOOKUP(E381,Param!$A$7:$E$13,5,0)*Fonct_Empl!H381),2),\"\")","v":""}]
[null,null,null,null,null,null,null,null,{"$f":"IF(E382<>\"\",ROUND((VLOOKUP(E382,Param!$A$7:$E$13,4,0)*Fonct_Empl!F382*((Fonct_Empl!G382/12)))+(VLOOKUP(E382,Param!$A$7:$E$13,5,0)*Fonct_Empl!H382),2),\"\")","v":""}]
[null,null,null,null,null,null,null,null,{"$f":"IF(E383<>\"\",ROUND((VLOOKUP(E383,Param!$A$7:$E$13,4,0)*Fonct_Empl!F383*((Fonct_Empl!G383/12)))+(VLOOKUP(E383,Param!$A$7:$E$13,5,0)*Fonct_Empl!H383),2),\"\")","v":""}]
[null,null,null,null,null,null,null,null,{"$f":"IF(E384<>\"\",ROUND((VLOOKUP(E384,Param!$A$7:$E$13,4,0)*Fonct_Empl!F384*((Fonct_Empl!G384/12)))+(VLOOKUP(E384,Param!$A$7:$E$13,5,0)*Fonct_Empl!H384),2),\"\")","v":""}]
[null,null,null,null,null,null,null,null,{"$f":"IF(E385<>\"\",ROUND((VLOOKUP(E385,Param!$A$7:$E$13,4,0)*Fonct_Empl!F385*((Fonct_Empl!G385/12)))+(VLOOKUP(E385,Param!$A$7:$E$13,5,0)*Fonct_Empl!H385),2),\"\")","v":""}]
[null,null,null,null,null,null,null,null,{"$f":"IF(E386<>\"\",ROUND((VLOOKUP(E386,Param!$A$7:$E$13,4,0)*Fonct_Empl!F386*((Fonct_Empl!G386/12)))+(VLOOKUP(E386,Param!$A$7:$E$13,5,0)*Fonct_Empl!H386),2),\"\")","v":""}]
[null,null,null,null,null,null,null,null,{"$f":"IF(E387<>\"\",ROUND((VLOOKUP(E387,Param!$A$7:$E$13,4,0)*Fonct_Empl!F387*((Fonct_Empl!G387/12)))+(VLOOKUP(E387,Param!$A$7:$E$13,5,0)*Fonct_Empl!H387),2),\"\")","v":""}]
[null,null,null,null,null,null,null,null,{"$f":"IF(E388<>\"\",ROUND((VLOOKUP(E388,Param!$A$7:$E$13,4,0)*Fonct_Empl!F388*((Fonct_Empl!G388/12)))+(VLOOKUP(E388,Param!$A$7:$E$13,5,0)*Fonct_Empl!H388),2),\"\")","v":""}]
[null,null,null,null,null,null,null,null,{"$f":"IF(E389<>\"\",ROUND((VLOOKUP(E389,Param!$A$7:$E$13,4,0)*Fonct_Empl!F389*((Fonct_Empl!G389/12)))+(VLOOKUP(E389,Param!$A$7:$E$13,5,0)*Fonct_Empl!H389),2),\"\")","v":""}]
[null,null,null,null,null,null,null,null,{"$f":"IF(E390<>\"\",ROUND((VLOOKUP(E390,Param!$A$7:$E$13,4,0)*Fonct_Empl!F390*((Fonct_Empl!G390/12)))+(VLOOKUP(E390,Param!$A$7:$E$13,5,0)*Fonct_Empl!H390),2),\"\")","v":""}]
[null,null,null,null,null,null,null,null,{"$f":"IF(E391<>\"\",ROUND((VLOOKUP(E391,Param!$A$7:$E$13,4,0)*Fonct_Empl!F391*((Fonct_Empl!G391/12)))+(VLOOKUP(E391,Param!$A$7:$E$13,5,0)*Fonct_Empl!H391),2),\"\")","v":""}]
[null,null,null,null,null,null,null,null,{"$f":"IF(E392<>\"\",ROUND((VLOOKUP(E392,Param!$A$7:$E$13,4,0)*Fonct_Empl!F392*((Fonct_Empl!G392/12)))+(VLOOKUP(E392,Param!$A$7:$E$13,5,0)*Fonct_Empl!H392),2),\"\")","v":""}]
[null,null,null,null,null,null,null,null,{"$f":"IF(E393<>\"\",ROUND((VLOOKUP(E393,Param!$A$7:$E$13,4,0)*Fonct_Empl!F393*((Fonct_Empl!G393/12)))+(VLOOKUP(E393,Param!$A$7:$E$13,5,0)*Fonct_Empl!H393),2),\"\")","v":""}]
[null,null,null,null,null,null,null,null,{"$f":"IF(E394<>\"\",ROUND((VLOOKUP(E394,Param!$A$7:$E$13,4,0)*Fonct_Empl!F394*((Fonct_Empl!G394/12)))+(VLOOKUP(E394,Param!$A$7:$E$13,5,0)*Fonct_Empl!H394),2),\"\")","v":""}]
[null,null,null,null,null,null,null,null,{"$f":"IF(E395<>\"\",ROUND((VLOOKUP(E395,Param!$A$7:$E$13,4,0)*Fonct_Empl!F395*((Fonct_Empl!G395/12)))+(VLOOKUP(E395,Param!$A$7:$E$13,5,0)*Fonct_Empl!H395),2),\"\")","v":""}]
[null,null,null,null,null,null,null,null,{"$f":"IF(E396<>\"\",ROUND((VLOOKUP(E396,Param!$A$7:$E$13,4,0)*Fonct_Empl!F396*((Fonct_Empl!G396/12)))+(VLOOKUP(E396,Param!$A$7:$E$13,5,0)*Fonct_Empl!H396),2),\"\")","v":""}]
[null,null,null,null,null,null,null,null,{"$f":"IF(E397<>\"\",ROUND((VLOOKUP(E397,Param!$A$7:$E$13,4,0)*Fonct_Empl!F397*((Fonct_Empl!G397/12)))+(VLOOKUP(E397,Param!$A$7:$E$13,5,0)*Fonct_Empl!H397),2),\"\")","v":""}]
[null,null,null,null,null,null,null,null,{"$f":"IF(E398<>\"\",ROUND((VLOOKUP(E398,Param!$A$7:$E$13,4,0)*Fonct_Empl!F398*((Fonct_Empl!G398/12)))+(VLOOKUP(E398,Param!$A$7:$E$13,5,0)*Fonct_Empl!H398),2),\"\")","v":""}]
[null,null,null,null,null,null,null,null,{"$f":"IF(E399<>\"\",ROUND((VLOOKUP(E399,Param!$A$7:$E$13,4,0)*Fonct_Empl!F399*((Fonct_Empl!G399/12)))+(VLOOKUP(E399,Param!$A$7:$E$13,5,0)*Fonct_Empl!H399),2),\"\")","v":""}]
[null,null,null,null,null,null,null,null,{"$f":"IF(E400<>\"\",ROUND((VLOOKUP(E400,Param!$A$7:$E$13,4,0)*Fonct_Empl!F400*((Fonct_Empl!G400/12)))+(VLOOKUP(E400,Param!$A$7:$E$13,5,0)*Fonct_Empl!H400),2),\"\")","v":""}]
[null,null,null,null,null,null,null,null,{"$f":"IF(E401<>\"\",ROUND((VLOOKUP(E401,Param!$A$7:$E$13,4,0)*Fonct_Empl!F401*((Fonct_Empl!G401/12)))+(VLOOKUP(E401,Param!$A$7:$E$13,5,0)*Fonct_Empl!H401),2),\"\")","v":""}]
[null,null,null,null,null,null,null,null,{"$f":"IF(E402<>\"\",ROUND((VLOOKUP(E402,Param!$A$7:$E$13,4,0)*Fonct_Empl!F402*((Fonct_Empl!G402/12)))+(VLOOKUP(E402,Param!$A$7:$E$13,5,0)*Fonct_Empl!H402),2),\"\")","v":""}]
[null,null,null,null,null,null,null,null,{"$f":"IF(E403<>\"\",ROUND((VLOOKUP(E403,Param!$A$7:$E$13,4,0)*Fonct_Empl!F403*((Fonct_Empl!G403/12)))+(VLOOKUP(E403,Param!$A$7:$E$13,5,0)*Fonct_Empl!H403),2),\"\")","v":""}]
[null,null,null,null,null,null,null,null,{"$f":"IF(E404<>\"\",ROUND((VLOOKUP(E404,Param!$A$7:$E$13,4,0)*Fonct_Empl!F404*((Fonct_Empl!G404/12)))+(VLOOKUP(E404,Param!$A$7:$E$13,5,0)*Fonct_Empl!H404),2),\"\")","v":""}]
[null,null,null,null,null,null,null,null,{"$f":"IF(E405<>\"\",ROUND((VLOOKUP(E405,Param!$A$7:$E$13,4,0)*Fonct_Empl!F405*((Fonct_Empl!G405/12)))+(VLOOKUP(E405,Param!$A$7:$E$13,5,0)*Fonct_Empl!H405),2),\"\")","v":""}]
[null,null,null,null,null,null,null,null,{"$f":"IF(E406<>\"\",ROUND((VLOOKUP(E406,Param!$A$7:$E$13,4,0)*Fonct_Empl!F406*((Fonct_Empl!G406/12)))+(VLOOKUP(E406,Param!$A$7:$E$13,5,0)*Fonct_Empl!H406),2),\"\")","v":""}]
[null,null,null,null,null,null,null,null,{"$f":"IF(E407<>\"\",ROUND((VLOOKUP(E407,Param!$A$7:$E$13,4,0)*Fonct_Empl!F407*((Fonct_Empl!G407/12)))+(VLOOKUP(E407,Param!$A$7:$E$13,5,0)*Fonct_Empl!H407),2),\"\")","v":""}]
[null,null,null,null,null,null,null,null,{"$f":"IF(E408<>\"\",ROUND((VLOOKUP(E408,Param!$A$7:$E$13,4,0)*Fonct_Empl!F408*((Fonct_Empl!G408/12)))+(VLOOKUP(E408,Param!$A$7:$E$13,5,0)*Fonct_Empl!H408),2),\"\")","v":""}]
[null,null,null,null,null,null,null,null,{"$f":"IF(E409<>\"\",ROUND((VLOOKUP(E409,Param!$A$7:$E$13,4,0)*Fonct_Empl!F409*((Fonct_Empl!G409/12)))+(VLOOKUP(E409,Param!$A$7:$E$13,5,0)*Fonct_Empl!H409),2),\"\")","v":""}]
[null,null,null,null,null,null,null,null,{"$f":"IF(E410<>\"\",ROUND((VLOOKUP(E410,Param!$A$7:$E$13,4,0)*Fonct_Empl!F410*((Fonct_Empl!G410/12)))+(VLOOKUP(E410,Param!$A$7:$E$13,5,0)*Fonct_Empl!H410),2),\"\")","v":""}]
[null,null,null,null,null,null,null,null,{"$f":"IF(E411<>\"\",ROUND((VLOOKUP(E411,Param!$A$7:$E$13,4,0)*Fonct_Empl!F411*((Fonct_Empl!G411/12)))+(VLOOKUP(E411,Param!$A$7:$E$13,5,0)*Fonct_Empl!H411),2),\"\")","v":""}]
[null,null,null,null,null,null,null,null,{"$f":"IF(E412<>\"\",ROUND((VLOOKUP(E412,Param!$A$7:$E$13,4,0)*Fonct_Empl!F412*((Fonct_Empl!G412/12)))+(VLOOKUP(E412,Param!$A$7:$E$13,5,0)*Fonct_Empl!H412),2),\"\")","v":""}]
[null,null,null,null,null,null,null,null,{"$f":"IF(E413<>\"\",ROUND((VLOOKUP(E413,Param!$A$7:$E$13,4,0)*Fonct_Empl!F413*((Fonct_Empl!G413/12)))+(VLOOKUP(E413,Param!$A$7:$E$13,5,0)*Fonct_Empl!H413),2),\"\")","v":""}]
[null,null,null,null,null,null,null,null,{"$f":"IF(E414<>\"\",ROUND((VLOOKUP(E414,Param!$A$7:$E$13,4,0)*Fonct_Empl!F414*((Fonct_Empl!G414/12)))+(VLOOKUP(E414,Param!$A$7:$E$13,5,0)*Fonct_Empl!H414),2),\"\")","v":""}]
[null,null,null,null,null,null,null,null,{"$f":"IF(E415<>\"\",ROUND((VLOOKUP(E415,Param!$A$7:$E$13,4,0)*Fonct_Empl!F415*((Fonct_Empl!G415/12)))+(VLOOKUP(E415,Param!$A$7:$E$13,5,0)*Fonct_Empl!H415),2),\"\")","v":""}]
[null,null,null,null,null,null,null,null,{"$f":"IF(E416<>\"\",ROUND((VLOOKUP(E416,Param!$A$7:$E$13,4,0)*Fonct_Empl!F416*((Fonct_Empl!G416/12)))+(VLOOKUP(E416,Param!$A$7:$E$13,5,0)*Fonct_Empl!H416),2),\"\")","v":""}]
[null,null,null,null,null,null,null,null,{"$f":"IF(E417<>\"\",ROUND((VLOOKUP(E417,Param!$A$7:$E$13,4,0)*Fonct_Empl!F417*((Fonct_Empl!G417/12)))+(VLOOKUP(E417,Param!$A$7:$E$13,5,0)*Fonct_Empl!H417),2),\"\")","v":""}]
[null,null,null,null,null,null,null,null,{"$f":"IF(E418<>\"\",ROUND((VLOOKUP(E418,Param!$A$7:$E$13,4,0)*Fonct_Empl!F418*((Fonct_Empl!G418/12)))+(VLOOKUP(E418,Param!$A$7:$E$13,5,0)*Fonct_Empl!H418),2),\"\")","v":""}]
[null,null,null,null,null,null,null,null,{"$f":"IF(E419<>\"\",ROUND((VLOOKUP(E419,Param!$A$7:$E$13,4,0)*Fonct_Empl!F419*((Fonct_Empl!G419/12)))+(VLOOKUP(E419,Param!$A$7:$E$13,5,0)*Fonct_Empl!H419),2),\"\")","v":""}]
[null,null,null,null,null,null,null,null,{"$f":"IF(E420<>\"\",ROUND((VLOOKUP(E420,Param!$A$7:$E$13,4,0)*Fonct_Empl!F420*((Fonct_Empl!G420/12)))+(VLOOKUP(E420,Param!$A$7:$E$13,5,0)*Fonct_Empl!H420),2),\"\")","v":""}]
[null,null,null,null,null,null,null,null,{"$f":"IF(E421<>\"\",ROUND((VLOOKUP(E421,Param!$A$7:$E$13,4,0)*Fonct_Empl!F421*((Fonct_Empl!G421/12)))+(VLOOKUP(E421,Param!$A$7:$E$13,5,0)*Fonct_Empl!H421),2),\"\")","v":""}]
[null,null,null,null,null,null,null,null,{"$f":"IF(E422<>\"\",ROUND((VLOOKUP(E422,Param!$A$7:$E$13,4,0)*Fonct_Empl!F422*((Fonct_Empl!G422/12)))+(VLOOKUP(E422,Param!$A$7:$E$13,5,0)*Fonct_Empl!H422),2),\"\")","v":""}]
[null,null,null,null,null,null,null,null,{"$f":"IF(E423<>\"\",ROUND((VLOOKUP(E423,Param!$A$7:$E$13,4,0)*Fonct_Empl!F423*((Fonct_Empl!G423/12)))+(VLOOKUP(E423,Param!$A$7:$E$13,5,0)*Fonct_Empl!H423),2),\"\")","v":""}]
[null,null,null,null,null,null,null,null,{"$f":"IF(E424<>\"\",ROUND((VLOOKUP(E424,Param!$A$7:$E$13,4,0)*Fonct_Empl!F424*((Fonct_Empl!G424/12)))+(VLOOKUP(E424,Param!$A$7:$E$13,5,0)*Fonct_Empl!H424),2),\"\")","v":""}]
[null,null,null,null,null,null,null,null,{"$f":"IF(E425<>\"\",ROUND((VLOOKUP(E425,Param!$A$7:$E$13,4,0)*Fonct_Empl!F425*((Fonct_Empl!G425/12)))+(VLOOKUP(E425,Param!$A$7:$E$13,5,0)*Fonct_Empl!H425),2),\"\")","v":""}]
[null,null,null,null,null,null,null,null,{"$f":"IF(E426<>\"\",ROUND((VLOOKUP(E426,Param!$A$7:$E$13,4,0)*Fonct_Empl!F426*((Fonct_Empl!G426/12)))+(VLOOKUP(E426,Param!$A$7:$E$13,5,0)*Fonct_Empl!H426),2),\"\")","v":""}]
[null,null,null,null,null,null,null,null,{"$f":"IF(E427<>\"\",ROUND((VLOOKUP(E427,Param!$A$7:$E$13,4,0)*Fonct_Empl!F427*((Fonct_Empl!G427/12)))+(VLOOKUP(E427,Param!$A$7:$E$13,5,0)*Fonct_Empl!H427),2),\"\")","v":""}]
[null,null,null,null,null,null,null,null,{"$f":"IF(E428<>\"\",ROUND((VLOOKUP(E428,Param!$A$7:$E$13,4,0)*Fonct_Empl!F428*((Fonct_Empl!G428/12)))+(VLOOKUP(E428,Param!$A$7:$E$13,5,0)*Fonct_Empl!H428),2),\"\")","v":""}]
[null,null,null,null,null,null,null,null,{"$f":"IF(E429<>\"\",ROUND((VLOOKUP(E429,Param!$A$7:$E$13,4,0)*Fonct_Empl!F429*((Fonct_Empl!G429/12)))+(VLOOKUP(E429,Param!$A$7:$E$13,5,0)*Fonct_Empl!H429),2),\"\")","v":""}]
[null,null,null,null,null,null,null,null,{"$f":"IF(E430<>\"\",ROUND((VLOOKUP(E430,Param!$A$7:$E$13,4,0)*Fonct_Empl!F430*((Fonct_Empl!G430/12)))+(VLOOKUP(E430,Param!$A$7:$E$13,5,0)*Fonct_Empl!H430),2),\"\")","v":""}]
[null,null,null,null,null,null,null,null,{"$f":"IF(E431<>\"\",ROUND((VLOOKUP(E431,Param!$A$7:$E$13,4,0)*Fonct_Empl!F431*((Fonct_Empl!G431/12)))+(VLOOKUP(E431,Param!$A$7:$E$13,5,0)*Fonct_Empl!H431),2),\"\")","v":""}]
[null,null,null,null,null,null,null,null,{"$f":"IF(E432<>\"\",ROUND((VLOOKUP(E432,Param!$A$7:$E$13,4,0)*Fonct_Empl!F432*((Fonct_Empl!G432/12)))+(VLOOKUP(E432,Param!$A$7:$E$13,5,0)*Fonct_Empl!H432),2),\"\")","v":""}]
[null,null,null,null,null,null,null,null,{"$f":"IF(E433<>\"\",ROUND((VLOOKUP(E433,Param!$A$7:$E$13,4,0)*Fonct_Empl!F433*((Fonct_Empl!G433/12)))+(VLOOKUP(E433,Param!$A$7:$E$13,5,0)*Fonct_Empl!H433),2),\"\")","v":""}]
[null,null,null,null,null,null,null,null,{"$f":"IF(E434<>\"\",ROUND((VLOOKUP(E434,Param!$A$7:$E$13,4,0)*Fonct_Empl!F434*((Fonct_Empl!G434/12)))+(VLOOKUP(E434,Param!$A$7:$E$13,5,0)*Fonct_Empl!H434),2),\"\")","v":""}]
[null,null,null,null,null,null,null,null,{"$f":"IF(E435<>\"\",ROUND((VLOOKUP(E435,Param!$A$7:$E$13,4,0)*Fonct_Empl!F435*((Fonct_Empl!G435/12)))+(VLOOKUP(E435,Param!$A$7:$E$13,5,0)*Fonct_Empl!H435),2),\"\")","v":""}]
[null,null,null,null,null,null,null,null,{"$f":"IF(E436<>\"\",ROUND((VLOOKUP(E436,Param!$A$7:$E$13,4,0)*Fonct_Empl!F436*((Fonct_Empl!G436/12)))+(VLOOKUP(E436,Param!$A$7:$E$13,5,0)*Fonct_Empl!H436),2),\"\")","v":""}]
[null,null,null,null,null,null,null,null,{"$f":"IF(E437<>\"\",ROUND((VLOOKUP(E437,Param!$A$7:$E$13,4,0)*Fonct_Empl!F437*((Fonct_Empl!G437/12)))+(VLOOKUP(E437,Param!$A$7:$E$13,5,0)*Fonct_Empl!H437),2),\"\")","v":""}]
[null,null,null,null,null,null,null,null,{"$f":"IF(E438<>\"\",ROUND((VLOOKUP(E438,Param!$A$7:$E$13,4,0)*Fonct_Empl!F438*((Fonct_Empl!G438/12)))+(VLOOKUP(E438,Param!$A$7:$E$13,5,0)*Fonct_Empl!H438),2),\"\")","v":""}]
[null,null,null,null,null,null,null,null,{"$f":"IF(E439<>\"\",ROUND((VLOOKUP(E439,Param!$A$7:$E$13,4,0)*Fonct_Empl!F439*((Fonct_Empl!G439/12)))+(VLOOKUP(E439,Param!$A$7:$E$13,5,0)*Fonct_Empl!H439),2),\"\")","v":""}]
[null,null,null,null,null,null,null,null,{"$f":"IF(E440<>\"\",ROUND((VLOOKUP(E440,Param!$A$7:$E$13,4,0)*Fonct_Empl!F440*((Fonct_Empl!G440/12)))+(VLOOKUP(E440,Param!$A$7:$E$13,5,0)*Fonct_Empl!H440),2),\"\")","v":""}]
[null,null,null,null,null,null,null,null,{"$f":"IF(E441<>\"\",ROUND((VLOOKUP(E441,Param!$A$7:$E$13,4,0)*Fonct_Empl!F441*((Fonct_Empl!G441/12)))+(VLOOKUP(E441,Param!$A$7:$E$13,5,0)*Fonct_Empl!H441),2),\"\")","v":""}]
[null,null,null,null,null,null,null,null,{"$f":"IF(E442<>\"\",ROUND((VLOOKUP(E442,Param!$A$7:$E$13,4,0)*Fonct_Empl!F442*((Fonct_Empl!G442/12)))+(VLOOKUP(E442,Param!$A$7:$E$13,5,0)*Fonct_Empl!H442),2),\"\")","v":""}]
[null,null,null,null,null,null,null,null,{"$f":"IF(E443<>\"\",ROUND((VLOOKUP(E443,Param!$A$7:$E$13,4,0)*Fonct_Empl!F443*((Fonct_Empl!G443/12)))+(VLOOKUP(E443,Param!$A$7:$E$13,5,0)*Fonct_Empl!H443),2),\"\")","v":""}]
[null,null,null,null,null,null,null,null,{"$f":"IF(E444<>\"\",ROUND((VLOOKUP(E444,Param!$A$7:$E$13,4,0)*Fonct_Empl!F444*((Fonct_Empl!G444/12)))+(VLOOKUP(E444,Param!$A$7:$E$13,5,0)*Fonct_Empl!H444),2),\"\")","v":""}]
[null,null,null,null,null,null,null,null,{"$f":"IF(E445<>\"\",ROUND((VLOOKUP(E445,Param!$A$7:$E$13,4,0)*Fonct_Empl!F445*((Fonct_Empl!G445/12)))+(VLOOKUP(E445,Param!$A$7:$E$13,5,0)*Fonct_Empl!H445),2),\"\")","v":""}]
[null,null,null,null,null,null,null,null,{"$f":"IF(E446<>\"\",ROUND((VLOOKUP(E446,Param!$A$7:$E$13,4,0)*Fonct_Empl!F446*((Fonct_Empl!G446/12)))+(VLOOKUP(E446,Param!$A$7:$E$13,5,0)*Fonct_Empl!H446),2),\"\")","v":""}]
[null,null,null,null,null,null,null,null,{"$f":"IF(E447<>\"\",ROUND((VLOOKUP(E447,Param!$A$7:$E$13,4,0)*Fonct_Empl!F447*((Fonct_Empl!G447/12)))+(VLOOKUP(E447,Param!$A$7:$E$13,5,0)*Fonct_Empl!H447),2),\"\")","v":""}]
[null,null,null,null,null,null,null,null,{"$f":"IF(E448<>\"\",ROUND((VLOOKUP(E448,Param!$A$7:$E$13,4,0)*Fonct_Empl!F448*((Fonct_Empl!G448/12)))+(VLOOKUP(E448,Param!$A$7:$E$13,5,0)*Fonct_Empl!H448),2),\"\")","v":""}]
[null,null,null,null,null,null,null,null,{"$f":"IF(E449<>\"\",ROUND((VLOOKUP(E449,Param!$A$7:$E$13,4,0)*Fonct_Empl!F449*((Fonct_Empl!G449/12)))+(VLOOKUP(E449,Param!$A$7:$E$13,5,0)*Fonct_Empl!H449),2),\"\")","v":""}]
[null,null,null,null,null,null,null,null,{"$f":"IF(E450<>\"\",ROUND((VLOOKUP(E450,Param!$A$7:$E$13,4,0)*Fonct_Empl!F450*((Fonct_Empl!G450/12)))+(VLOOKUP(E450,Param!$A$7:$E$13,5,0)*Fonct_Empl!H450),2),\"\")","v":""}]
[null,null,null,null,null,null,null,null,{"$f":"IF(E451<>\"\",ROUND((VLOOKUP(E451,Param!$A$7:$E$13,4,0)*Fonct_Empl!F451*((Fonct_Empl!G451/12)))+(VLOOKUP(E451,Param!$A$7:$E$13,5,0)*Fonct_Empl!H451),2),\"\")","v":""}]
[null,null,null,null,null,null,null,null,{"$f":"IF(E452<>\"\",ROUND((VLOOKUP(E452,Param!$A$7:$E$13,4,0)*Fonct_Empl!F452*((Fonct_Empl!G452/12)))+(VLOOKUP(E452,Param!$A$7:$E$13,5,0)*Fonct_Empl!H452),2),\"\")","v":""}]
[null,null,null,null,null,null,null,null,{"$f":"IF(E453<>\"\",ROUND((VLOOKUP(E453,Param!$A$7:$E$13,4,0)*Fonct_Empl!F453*((Fonct_Empl!G453/12)))+(VLOOKUP(E453,Param!$A$7:$E$13,5,0)*Fonct_Empl!H453),2),\"\")","v":""}]
[null,null,null,null,null,null,null,null,{"$f":"IF(E454<>\"\",ROUND((VLOOKUP(E454,Param!$A$7:$E$13,4,0)*Fonct_Empl!F454*((Fonct_Empl!G454/12)))+(VLOOKUP(E454,Param!$A$7:$E$13,5,0)*Fonct_Empl!H454),2),\"\")","v":""}]
[null,null,null,null,null,null,null,null,{"$f":"IF(E455<>\"\",ROUND((VLOOKUP(E455,Param!$A$7:$E$13,4,0)*Fonct_Empl!F455*((Fonct_Empl!G455/12)))+(VLOOKUP(E455,Param!$A$7:$E$13,5,0)*Fonct_Empl!H455),2),\"\")","v":""}]
[null,null,null,null,null,null,null,null,{"$f":"IF(E456<>\"\",ROUND((VLOOKUP(E456,Param!$A$7:$E$13,4,0)*Fonct_Empl!F456*((Fonct_Empl!G456/12)))+(VLOOKUP(E456,Param!$A$7:$E$13,5,0)*Fonct_Empl!H456),2),\"\")","v":""}]
[null,null,null,null,null,null,null,null,{"$f":"IF(E457<>\"\",ROUND((VLOOKUP(E457,Param!$A$7:$E$13,4,0)*Fonct_Empl!F457*((Fonct_Empl!G457/12)))+(VLOOKUP(E457,Param!$A$7:$E$13,5,0)*Fonct_Empl!H457),2),\"\")","v":""}]
[null,null,null,null,null,null,null,null,{"$f":"IF(E458<>\"\",ROUND((VLOOKUP(E458,Param!$A$7:$E$13,4,0)*Fonct_Empl!F458*((Fonct_Empl!G458/12)))+(VLOOKUP(E458,Param!$A$7:$E$13,5,0)*Fonct_Empl!H458),2),\"\")","v":""}]
[null,null,null,null,null,null,null,null,{"$f":"IF(E459<>\"\",ROUND((VLOOKUP(E459,Param!$A$7:$E$13,4,0)*Fonct_Empl!F459*((Fonct_Empl!G459/12)))+(VLOOKUP(E459,Param!$A$7:$E$13,5,0)*Fonct_Empl!H459),2),\"\")","v":""}]
[null,null,null,null,null,null,null,null,{"$f":"IF(E460<>\"\",ROUND((VLOOKUP(E460,Param!$A$7:$E$13,4,0)*Fonct_Empl!F460*((Fonct_Empl!G460/12)))+(VLOOKUP(E460,Param!$A$7:$E$13,5,0)*Fonct_Empl!H460),2),\"\")","v":""}]
[null,null,null,null,null,null,null,null,{"$f":"IF(E461<>\"\",ROUND((VLOOKUP(E461,Param!$A$7:$E$13,4,0)*Fonct_Empl!F461*((Fonct_Empl!G461/12)))+(VLOOKUP(E461,Param!$A$7:$E$13,5,0)*Fonct_Empl!H461),2),\"\")","v":""}]
[null,null,null,null,null,null,null,null,{"$f":"IF(E462<>\"\",ROUND((VLOOKUP(E462,Param!$A$7:$E$13,4,0)*Fonct_Empl!F462*((Fonct_Empl!G462/12)))+(VLOOKUP(E462,Param!$A$7:$E$13,5,0)*Fonct_Empl!H462),2),\"\")","v":""}]
[null,null,null,null,null,null,null,null,{"$f":"IF(E463<>\"\",ROUND((VLOOKUP(E463,Param!$A$7:$E$13,4,0)*Fonct_Empl!F463*((Fonct_Empl!G463/12)))+(VLOOKUP(E463,Param!$A$7:$E$13,5,0)*Fonct_Empl!H463),2),\"\")","v":""}]
[null,null,null,null,null,null,null,null,{"$f":"IF(E464<>\"\",ROUND((VLOOKUP(E464,Param!$A$7:$E$13,4,0)*Fonct_Empl!F464*((Fonct_Empl!G464/12)))+(VLOOKUP(E464,Param!$A$7:$E$13,5,0)*Fonct_Empl!H464),2),\"\")","v":""}]
[null,null,null,null,null,null,null,null,{"$f":"IF(E465<>\"\",ROUND((VLOOKUP(E465,Param!$A$7:$E$13,4,0)*Fonct_Empl!F465*((Fonct_Empl!G465/12)))+(VLOOKUP(E465,Param!$A$7:$E$13,5,0)*Fonct_Empl!H465),2),\"\")","v":""}]
[null,null,null,null,null,null,null,null,{"$f":"IF(E466<>\"\",ROUND((VLOOKUP(E466,Param!$A$7:$E$13,4,0)*Fonct_Empl!F466*((Fonct_Empl!G466/12)))+(VLOOKUP(E466,Param!$A$7:$E$13,5,0)*Fonct_Empl!H466),2),\"\")","v":""}]
[null,null,null,null,null,null,null,null,{"$f":"IF(E467<>\"\",ROUND((VLOOKUP(E467,Param!$A$7:$E$13,4,0)*Fonct_Empl!F467*((Fonct_Empl!G467/12)))+(VLOOKUP(E467,Param!$A$7:$E$13,5,0)*Fonct_Empl!H467),2),\"\")","v":""}]
[null,null,null,null,null,null,null,null,{"$f":"IF(E468<>\"\",ROUND((VLOOKUP(E468,Param!$A$7:$E$13,4,0)*Fonct_Empl!F468*((Fonct_Empl!G468/12)))+(VLOOKUP(E468,Param!$A$7:$E$13,5,0)*Fonct_Empl!H468),2),\"\")","v":""}]
[null,null,null,null,null,null,null,null,{"$f":"IF(E469<>\"\",ROUND((VLOOKUP(E469,Param!$A$7:$E$13,4,0)*Fonct_Empl!F469*((Fonct_Empl!G469/12)))+(VLOOKUP(E469,Param!$A$7:$E$13,5,0)*Fonct_Empl!H469),2),\"\")","v":""}]
[null,null,null,null,null,null,null,null,{"$f":"IF(E470<>\"\",ROUND((VLOOKUP(E470,Param!$A$7:$E$13,4,0)*Fonct_Empl!F470*((Fonct_Empl!G470/12)))+(VLOOKUP(E470,Param!$A$7:$E$13,5,0)*Fonct_Empl!H470),2),\"\")","v":""}]
[null,null,null,null,null,null,null,null,{"$f":"IF(E471<>\"\",ROUND((VLOOKUP(E471,Param!$A$7:$E$13,4,0)*Fonct_Empl!F471*((Fonct_Empl!G471/12)))+(VLOOKUP(E471,Param!$A$7:$E$13,5,0)*Fonct_Empl!H471),2),\"\")","v":""}]
[null,null,null,null,null,null,null,null,{"$f":"IF(E472<>\"\",ROUND((VLOOKUP(E472,Param!$A$7:$E$13,4,0)*Fonct_Empl!F472*((Fonct_Empl!G472/12)))+(VLOOKUP(E472,Param!$A$7:$E$13,5,0)*Fonct_Empl!H472),2),\"\")","v":""}]
[null,null,null,null,null,null,null,null,{"$f":"IF(E473<>\"\",ROUND((VLOOKUP(E473,Param!$A$7:$E$13,4,0)*Fonct_Empl!F473*((Fonct_Empl!G473/12)))+(VLOOKUP(E473,Param!$A$7:$E$13,5,0)*Fonct_Empl!H473),2),\"\")","v":""}]
[null,null,null,null,null,null,null,null,{"$f":"IF(E474<>\"\",ROUND((VLOOKUP(E474,Param!$A$7:$E$13,4,0)*Fonct_Empl!F474*((Fonct_Empl!G474/12)))+(VLOOKUP(E474,Param!$A$7:$E$13,5,0)*Fonct_Empl!H474),2),\"\")","v":""}]
[null,null,null,null,null,null,null,null,{"$f":"IF(E475<>\"\",ROUND((VLOOKUP(E475,Param!$A$7:$E$13,4,0)*Fonct_Empl!F475*((Fonct_Empl!G475/12)))+(VLOOKUP(E475,Param!$A$7:$E$13,5,0)*Fonct_Empl!H475),2),\"\")","v":""}]
[null,null,null,null,null,null,null,null,{"$f":"IF(E476<>\"\",ROUND((VLOOKUP(E476,Param!$A$7:$E$13,4,0)*Fonct_Empl!F476*((Fonct_Empl!G476/12)))+(VLOOKUP(E476,Param!$A$7:$E$13,5,0)*Fonct_Empl!H476),2),\"\")","v":""}]
[null,null,null,null,null,null,null,null,{"$f":"IF(E477<>\"\",ROUND((VLOOKUP(E477,Param!$A$7:$E$13,4,0)*Fonct_Empl!F477*((Fonct_Empl!G477/12)))+(VLOOKUP(E477,Param!$A$7:$E$13,5,0)*Fonct_Empl!H477),2),\"\")","v":""}]
[null,null,null,null,null,null,null,null,{"$f":"IF(E478<>\"\",ROUND((VLOOKUP(E478,Param!$A$7:$E$13,4,0)*Fonct_Empl!F478*((Fonct_Empl!G478/12)))+(VLOOKUP(E478,Param!$A$7:$E$13,5,0)*Fonct_Empl!H478),2),\"\")","v":""}]
[null,null,null,null,null,null,null,null,{"$f":"IF(E479<>\"\",ROUND((VLOOKUP(E479,Param!$A$7:$E$13,4,0)*Fonct_Empl!F479*((Fonct_Empl!G479/12)))+(VLOOKUP(E479,Param!$A$7:$E$13,5,0)*Fonct_Empl!H479),2),\"\")","v":""}]
[null,null,null,null,null,null,null,null,{"$f":"IF(E480<>\"\",ROUND((VLOOKUP(E480,Param!$A$7:$E$13,4,0)*Fonct_Empl!F480*((Fonct_Empl!G480/12)))+(VLOOKUP(E480,Param!$A$7:$E$13,5,0)*Fonct_Empl!H480),2),\"\")","v":""}]
[null,null,null,null,null,null,null,null,{"$f":"IF(E481<>\"\",ROUND((VLOOKUP(E481,Param!$A$7:$E$13,4,0)*Fonct_Empl!F481*((Fonct_Empl!G481/12)))+(VLOOKUP(E481,Param!$A$7:$E$13,5,0)*Fonct_Empl!H481),2),\"\")","v":""}]
[null,null,null,null,null,null,null,null,{"$f":"IF(E482<>\"\",ROUND((VLOOKUP(E482,Param!$A$7:$E$13,4,0)*Fonct_Empl!F482*((Fonct_Empl!G482/12)))+(VLOOKUP(E482,Param!$A$7:$E$13,5,0)*Fonct_Empl!H482),2),\"\")","v":""}]
[null,null,null,null,null,null,null,null,{"$f":"IF(E483<>\"\",ROUND((VLOOKUP(E483,Param!$A$7:$E$13,4,0)*Fonct_Empl!F483*((Fonct_Empl!G483/12)))+(VLOOKUP(E483,Param!$A$7:$E$13,5,0)*Fonct_Empl!H483),2),\"\")","v":""}]
[null,null,null,null,null,null,null,null,{"$f":"IF(E484<>\"\",ROUND((VLOOKUP(E484,Param!$A$7:$E$13,4,0)*Fonct_Empl!F484*((Fonct_Empl!G484/12)))+(VLOOKUP(E484,Param!$A$7:$E$13,5,0)*Fonct_Empl!H484),2),\"\")","v":""}]
[null,null,null,null,null,null,null,null,{"$f":"IF(E485<>\"\",ROUND((VLOOKUP(E485,Param!$A$7:$E$13,4,0)*Fonct_Empl!F485*((Fonct_Empl!G485/12)))+(VLOOKUP(E485,Param!$A$7:$E$13,5,0)*Fonct_Empl!H485),2),\"\")","v":""}]
[null,null,null,null,null,null,null,null,{"$f":"IF(E486<>\"\",ROUND((VLOOKUP(E486,Param!$A$7:$E$13,4,0)*Fonct_Empl!F486*((Fonct_Empl!G486/12)))+(VLOOKUP(E486,Param!$A$7:$E$13,5,0)*Fonct_Empl!H486),2),\"\")","v":""}]
[null,null,null,null,null,null,null,null,{"$f":"IF(E487<>\"\",ROUND((VLOOKUP(E487,Param!$A$7:$E$13,4,0)*Fonct_Empl!F487*((Fonct_Empl!G487/12)))+(VLOOKUP(E487,Param!$A$7:$E$13,5,0)*Fonct_Empl!H487),2),\"\")","v":""}]
[null,null,null,null,null,null,null,null,{"$f":"IF(E488<>\"\",ROUND((VLOOKUP(E488,Param!$A$7:$E$13,4,0)*Fonct_Empl!F488*((Fonct_Empl!G488/12)))+(VLOOKUP(E488,Param!$A$7:$E$13,5,0)*Fonct_Empl!H488),2),\"\")","v":""}]
[null,null,null,null,null,null,null,null,{"$f":"IF(E489<>\"\",ROUND((VLOOKUP(E489,Param!$A$7:$E$13,4,0)*Fonct_Empl!F489*((Fonct_Empl!G489/12)))+(VLOOKUP(E489,Param!$A$7:$E$13,5,0)*Fonct_Empl!H489),2),\"\")","v":""}]
[null,null,null,null,null,null,null,null,{"$f":"IF(E490<>\"\",ROUND((VLOOKUP(E490,Param!$A$7:$E$13,4,0)*Fonct_Empl!F490*((Fonct_Empl!G490/12)))+(VLOOKUP(E490,Param!$A$7:$E$13,5,0)*Fonct_Empl!H490),2),\"\")","v":""}]
[null,null,null,null,null,null,null,null,{"$f":"IF(E491<>\"\",ROUND((VLOOKUP(E491,Param!$A$7:$E$13,4,0)*Fonct_Empl!F491*((Fonct_Empl!G491/12)))+(VLOOKUP(E491,Param!$A$7:$E$13,5,0)*Fonct_Empl!H491),2),\"\")","v":""}]
[null,null,null,null,null,null,null,null,{"$f":"IF(E492<>\"\",ROUND((VLOOKUP(E492,Param!$A$7:$E$13,4,0)*Fonct_Empl!F492*((Fonct_Empl!G492/12)))+(VLOOKUP(E492,Param!$A$7:$E$13,5,0)*Fonct_Empl!H492),2),\"\")","v":""}]
[null,null,null,null,null,null,null,null,{"$f":"IF(E493<>\"\",ROUND((VLOOKUP(E493,Param!$A$7:$E$13,4,0)*Fonct_Empl!F493*((Fonct_Empl!G493/12)))+(VLOOKUP(E493,Param!$A$7:$E$13,5,0)*Fonct_Empl!H493),2),\"\")","v":""}]
[null,null,null,null,null,null,null,null,{"$f":"IF(E494<>\"\",ROUND((VLOOKUP(E494,Param!$A$7:$E$13,4,0)*Fonct_Empl!F494*((Fonct_Empl!G494/12)))+(VLOOKUP(E494,Param!$A$7:$E$13,5,0)*Fonct_Empl!H494),2),\"\")","v":""}]
[null,null,null,null,null,null,null,null,{"$f":"IF(E495<>\"\",ROUND((VLOOKUP(E495,Param!$A$7:$E$13,4,0)*Fonct_Empl!F495*((Fonct_Empl!G495/12)))+(VLOOKUP(E495,Param!$A$7:$E$13,5,0)*Fonct_Empl!H495),2),\"\")","v":""}]
[null,null,null,null,null,null,null,null,{"$f":"IF(E496<>\"\",ROUND((VLOOKUP(E496,Param!$A$7:$E$13,4,0)*Fonct_Empl!F496*((Fonct_Empl!G496/12)))+(VLOOKUP(E496,Param!$A$7:$E$13,5,0)*Fonct_Empl!H496),2),\"\")","v":""}]
[null,null,null,null,null,null,null,null,{"$f":"IF(E497<>\"\",ROUND((VLOOKUP(E497,Param!$A$7:$E$13,4,0)*Fonct_Empl!F497*((Fonct_Empl!G497/12)))+(VLOOKUP(E497,Param!$A$7:$E$13,5,0)*Fonct_Empl!H497),2),\"\")","v":""}]
[null,null,null,null,null,null,null,null,{"$f":"IF(E498<>\"\",ROUND((VLOOKUP(E498,Param!$A$7:$E$13,4,0)*Fonct_Empl!F498*((Fonct_Empl!G498/12)))+(VLOOKUP(E498,Param!$A$7:$E$13,5,0)*Fonct_Empl!H498),2),\"\")","v":""}]
[null,null,null,null,null,null,null,null,{"$f":"IF(E499<>\"\",ROUND((VLOOKUP(E499,Param!$A$7:$E$13,4,0)*Fonct_Empl!F499*((Fonct_Empl!G499/12)))+(VLOOKUP(E499,Param!$A$7:$E$13,5,0)*Fonct_Empl!H499),2),\"\")","v":""}]
[null,null,null,null,null,null,null,null,{"$f":"IF(E500<>\"\",ROUND((VLOOKUP(E500,Param!$A$7:$E$13,4,0)*Fonct_Empl!F500*((Fonct_Empl!G500/12)))+(VLOOKUP(E500,Param!$A$7:$E$13,5,0)*Fonct_Empl!H500),2),\"\")","v":""}]
[null,null,null,null,null,null,null,null,{"$f":"IF(E501<>\"\",ROUND((VLOOKUP(E501,Param!$A$7:$E$13,4,0)*Fonct_Empl!F501*((Fonct_Empl!G501/12)))+(VLOOKUP(E501,Param!$A$7:$E$13,5,0)*Fonct_Empl!H501),2),\"\")","v":""}]
[null,null,null,null,null,null,null,null,{"$f":"IF(E502<>\"\",ROUND((VLOOKUP(E502,Param!$A$7:$E$13,4,0)*Fonct_Empl!F502*((Fonct_Empl!G502/12)))+(VLOOKUP(E502,Param!$A$7:$E$13,5,0)*Fonct_Empl!H502),2),\"\")","v":""}]
[null,null,null,null,null,null,null,null,{"$f":"IF(E503<>\"\",ROUND((VLOOKUP(E503,Param!$A$7:$E$13,4,0)*Fonct_Empl!F503*((Fonct_Empl!G503/12)))+(VLOOKUP(E503,Param!$A$7:$E$13,5,0)*Fonct_Empl!H503),2),\"\")","v":""}]
[null,null,null,null,null,null,null,null,{"$f":"IF(E504<>\"\",ROUND((VLOOKUP(E504,Param!$A$7:$E$13,4,0)*Fonct_Empl!F504*((Fonct_Empl!G504/12)))+(VLOOKUP(E504,Param!$A$7:$E$13,5,0)*Fonct_Empl!H504),2),\"\")","v":""}]
[null,null,null,null,null,null,null,null,{"$f":"IF(E505<>\"\",ROUND((VLOOKUP(E505,Param!$A$7:$E$13,4,0)*Fonct_Empl!F505*((Fonct_Empl!G505/12)))+(VLOOKUP(E505,Param!$A$7:$E$13,5,0)*Fonct_Empl!H505),2),\"\")","v":""}]
[null,null,null,null,null,null,null,null,{"$f":"IF(E506<>\"\",ROUND((VLOOKUP(E506,Param!$A$7:$E$13,4,0)*Fonct_Empl!F506*((Fonct_Empl!G506/12)))+(VLOOKUP(E506,Param!$A$7:$E$13,5,0)*Fonct_Empl!H506),2),\"\")","v":""}]
[null,null,null,null,null,null,null,null,{"$f":"IF(E507<>\"\",ROUND((VLOOKUP(E507,Param!$A$7:$E$13,4,0)*Fonct_Empl!F507*((Fonct_Empl!G507/12)))+(VLOOKUP(E507,Param!$A$7:$E$13,5,0)*Fonct_Empl!H507),2),\"\")","v":""}]
[null,null,null,null,null,null,null,null,{"$f":"IF(E508<>\"\",ROUND((VLOOKUP(E508,Param!$A$7:$E$13,4,0)*Fonct_Empl!F508*((Fonct_Empl!G508/12)))+(VLOOKUP(E508,Param!$A$7:$E$13,5,0)*Fonct_Empl!H508),2),\"\")","v":""}]
[null,null,null,null,null,null,null,null,{"$f":"IF(E509<>\"\",ROUND((VLOOKUP(E509,Param!$A$7:$E$13,4,0)*Fonct_Empl!F509*((Fonct_Empl!G509/12)))+(VLOOKUP(E509,Param!$A$7:$E$13,5,0)*Fonct_Empl!H509),2),\"\")","v":""}]
[null,null,null,null,null,null,null,null,{"$f":"IF(E510<>\"\",ROUND((VLOOKUP(E510,Param!$A$7:$E$13,4,0)*Fonct_Empl!F510*((Fonct_Empl!G510/12)))+(VLOOKUP(E510,Param!$A$7:$E$13,5,0)*Fonct_Empl!H510),2),\"\")","v":""}]
[null,null,null,null,null,null,null,null,{"$f":"IF(E511<>\"\",ROUND((VLOOKUP(E511,Param!$A$7:$E$13,4,0)*Fonct_Empl!F511*((Fonct_Empl!G511/12)))+(VLOOKUP(E511,Param!$A$7:$E$13,5,0)*Fonct_Empl!H511),2),\"\")","v":""}]
[null,null,null,null,null,null,null,null,{"$f":"IF(E512<>\"\",ROUND((VLOOKUP(E512,Param!$A$7:$E$13,4,0)*Fonct_Empl!F512*((Fonct_Empl!G512/12)))+(VLOOKUP(E512,Param!$A$7:$E$13,5,0)*Fonct_Empl!H512),2),\"\")","v":""}]
[null,null,null,null,null,null,null,null,{"$f":"IF(E513<>\"\",ROUND((VLOOKUP(E513,Param!$A$7:$E$13,4,0)*Fonct_Empl!F513*((Fonct_Empl!G513/12)))+(VLOOKUP(E513,Param!$A$7:$E$13,5,0)*Fonct_Empl!H513),2),\"\")","v":""}]
[null,null,null,null,null,null,null,null,{"$f":"IF(E514<>\"\",ROUND((VLOOKUP(E514,Param!$A$7:$E$13,4,0)*Fonct_Empl!F514*((Fonct_Empl!G514/12)))+(VLOOKUP(E514,Param!$A$7:$E$13,5,0)*Fonct_Empl!H514),2),\"\")","v":""}]
[null,null,null,null,null,null,null,null,{"$f":"IF(E515<>\"\",ROUND((VLOOKUP(E515,Param!$A$7:$E$13,4,0)*Fonct_Empl!F515*((Fonct_Empl!G515/12)))+(VLOOKUP(E515,Param!$A$7:$E$13,5,0)*Fonct_Empl!H515),2),\"\")","v":""}]
[null,null,null,null,null,null,null,null,{"$f":"IF(E516<>\"\",ROUND((VLOOKUP(E516,Param!$A$7:$E$13,4,0)*Fonct_Empl!F516*((Fonct_Empl!G516/12)))+(VLOOKUP(E516,Param!$A$7:$E$13,5,0)*Fonct_Empl!H516),2),\"\")","v":""}]
[null,null,null,null,null,null,null,null,{"$f":"IF(E517<>\"\",ROUND((VLOOKUP(E517,Param!$A$7:$E$13,4,0)*Fonct_Empl!F517*((Fonct_Empl!G517/12)))+(VLOOKUP(E517,Param!$A$7:$E$13,5,0)*Fonct_Empl!H517),2),\"\")","v":""}]
[null,null,null,null,null,null,null,null,{"$f":"IF(E518<>\"\",ROUND((VLOOKUP(E518,Param!$A$7:$E$13,4,0)*Fonct_Empl!F518*((Fonct_Empl!G518/12)))+(VLOOKUP(E518,Param!$A$7:$E$13,5,0)*Fonct_Empl!H518),2),\"\")","v":""}]
[null,null,null,null,null,null,null,null,{"$f":"IF(E519<>\"\",ROUND((VLOOKUP(E519,Param!$A$7:$E$13,4,0)*Fonct_Empl!F519*((Fonct_Empl!G519/12)))+(VLOOKUP(E519,Param!$A$7:$E$13,5,0)*Fonct_Empl!H519),2),\"\")","v":""}]
[null,null,null,null,null,null,null,null,{"$f":"IF(E520<>\"\",ROUND((VLOOKUP(E520,Param!$A$7:$E$13,4,0)*Fonct_Empl!F520*((Fonct_Empl!G520/12)))+(VLOOKUP(E520,Param!$A$7:$E$13,5,0)*Fonct_Empl!H520),2),\"\")","v":""}]
[null,null,null,null,null,null,null,null,{"$f":"IF(E521<>\"\",ROUND((VLOOKUP(E521,Param!$A$7:$E$13,4,0)*Fonct_Empl!F521*((Fonct_Empl!G521/12)))+(VLOOKUP(E521,Param!$A$7:$E$13,5,0)*Fonct_Empl!H521),2),\"\")","v":""}]
[null,null,null,null,null,null,null,null,{"$f":"IF(E522<>\"\",ROUND((VLOOKUP(E522,Param!$A$7:$E$13,4,0)*Fonct_Empl!F522*((Fonct_Empl!G522/12)))+(VLOOKUP(E522,Param!$A$7:$E$13,5,0)*Fonct_Empl!H522),2),\"\")","v":""}]
[null,null,null,null,null,null,null,null,{"$f":"IF(E523<>\"\",ROUND((VLOOKUP(E523,Param!$A$7:$E$13,4,0)*Fonct_Empl!F523*((Fonct_Empl!G523/12)))+(VLOOKUP(E523,Param!$A$7:$E$13,5,0)*Fonct_Empl!H523),2),\"\")","v":""}]
[null,null,null,null,null,null,null,null,{"$f":"IF(E524<>\"\",ROUND((VLOOKUP(E524,Param!$A$7:$E$13,4,0)*Fonct_Empl!F524*((Fonct_Empl!G524/12)))+(VLOOKUP(E524,Param!$A$7:$E$13,5,0)*Fonct_Empl!H524),2),\"\")","v":""}]
[null,null,null,null,null,null,null,null,{"$f":"IF(E525<>\"\",ROUND((VLOOKUP(E525,Param!$A$7:$E$13,4,0)*Fonct_Empl!F525*((Fonct_Empl!G525/12)))+(VLOOKUP(E525,Param!$A$7:$E$13,5,0)*Fonct_Empl!H525),2),\"\")","v":""}]
[null,null,null,null,null,null,null,null,{"$f":"IF(E526<>\"\",ROUND((VLOOKUP(E526,Param!$A$7:$E$13,4,0)*Fonct_Empl!F526*((Fonct_Empl!G526/12)))+(VLOOKUP(E526,Param!$A$7:$E$13,5,0)*Fonct_Empl!H526),2),\"\")","v":""}]
[null,null,null,null,null,null,null,null,{"$f":"IF(E527<>\"\",ROUND((VLOOKUP(E527,Param!$A$7:$E$13,4,0)*Fonct_Empl!F527*((Fonct_Empl!G527/12)))+(VLOOKUP(E527,Param!$A$7:$E$13,5,0)*Fonct_Empl!H527),2),\"\")","v":""}]
[null,null,null,null,null,null,null,null,{"$f":"IF(E528<>\"\",ROUND((VLOOKUP(E528,Param!$A$7:$E$13,4,0)*Fonct_Empl!F528*((Fonct_Empl!G528/12)))+(VLOOKUP(E528,Param!$A$7:$E$13,5,0)*Fonct_Empl!H528),2),\"\")","v":""}]
[null,null,null,null,null,null,null,null,{"$f":"IF(E529<>\"\",ROUND((VLOOKUP(E529,Param!$A$7:$E$13,4,0)*Fonct_Empl!F529*((Fonct_Empl!G529/12)))+(VLOOKUP(E529,Param!$A$7:$E$13,5,0)*Fonct_Empl!H529),2),\"\")","v":""}]
[null,null,null,null,null,null,null,null,{"$f":"IF(E530<>\"\",ROUND((VLOOKUP(E530,Param!$A$7:$E$13,4,0)*Fonct_Empl!F530*((Fonct_Empl!G530/12)))+(VLOOKUP(E530,Param!$A$7:$E$13,5,0)*Fonct_Empl!H530),2),\"\")","v":""}]
[null,null,null,null,null,null,null,null,{"$f":"IF(E531<>\"\",ROUND((VLOOKUP(E531,Param!$A$7:$E$13,4,0)*Fonct_Empl!F531*((Fonct_Empl!G531/12)))+(VLOOKUP(E531,Param!$A$7:$E$13,5,0)*Fonct_Empl!H531),2),\"\")","v":""}]
[null,null,null,null,null,null,null,null,{"$f":"IF(E532<>\"\",ROUND((VLOOKUP(E532,Param!$A$7:$E$13,4,0)*Fonct_Empl!F532*((Fonct_Empl!G532/12)))+(VLOOKUP(E532,Param!$A$7:$E$13,5,0)*Fonct_Empl!H532),2),\"\")","v":""}]
[null,null,null,null,null,null,null,null,{"$f":"IF(E533<>\"\",ROUND((VLOOKUP(E533,Param!$A$7:$E$13,4,0)*Fonct_Empl!F533*((Fonct_Empl!G533/12)))+(VLOOKUP(E533,Param!$A$7:$E$13,5,0)*Fonct_Empl!H533),2),\"\")","v":""}]
[null,null,null,null,null,null,null,null,{"$f":"IF(E534<>\"\",ROUND((VLOOKUP(E534,Param!$A$7:$E$13,4,0)*Fonct_Empl!F534*((Fonct_Empl!G534/12)))+(VLOOKUP(E534,Param!$A$7:$E$13,5,0)*Fonct_Empl!H534),2),\"\")","v":""}]
[null,null,null,null,null,null,null,null,{"$f":"IF(E535<>\"\",ROUND((VLOOKUP(E535,Param!$A$7:$E$13,4,0)*Fonct_Empl!F535*((Fonct_Empl!G535/12)))+(VLOOKUP(E535,Param!$A$7:$E$13,5,0)*Fonct_Empl!H535),2),\"\")","v":""}]
[null,null,null,null,null,null,null,null,{"$f":"IF(E536<>\"\",ROUND((VLOOKUP(E536,Param!$A$7:$E$13,4,0)*Fonct_Empl!F536*((Fonct_Empl!G536/12)))+(VLOOKUP(E536,Param!$A$7:$E$13,5,0)*Fonct_Empl!H536),2),\"\")","v":""}]
[null,null,null,null,null,null,null,null,{"$f":"IF(E537<>\"\",ROUND((VLOOKUP(E537,Param!$A$7:$E$13,4,0)*Fonct_Empl!F537*((Fonct_Empl!G537/12)))+(VLOOKUP(E537,Param!$A$7:$E$13,5,0)*Fonct_Empl!H537),2),\"\")","v":""}]
[null,null,null,null,null,null,null,null,{"$f":"IF(E538<>\"\",ROUND((VLOOKUP(E538,Param!$A$7:$E$13,4,0)*Fonct_Empl!F538*((Fonct_Empl!G538/12)))+(VLOOKUP(E538,Param!$A$7:$E$13,5,0)*Fonct_Empl!H538),2),\"\")","v":""}]
[null,null,null,null,null,null,null,null,{"$f":"IF(E539<>\"\",ROUND((VLOOKUP(E539,Param!$A$7:$E$13,4,0)*Fonct_Empl!F539*((Fonct_Empl!G539/12)))+(VLOOKUP(E539,Param!$A$7:$E$13,5,0)*Fonct_Empl!H539),2),\"\")","v":""}]
[null,null,null,null,null,null,null,null,{"$f":"IF(E540<>\"\",ROUND((VLOOKUP(E540,Param!$A$7:$E$13,4,0)*Fonct_Empl!F540*((Fonct_Empl!G540/12)))+(VLOOKUP(E540,Param!$A$7:$E$13,5,0)*Fonct_Empl!H540),2),\"\")","v":""}]
[null,null,null,null,null,null,null,null,{"$f":"IF(E541<>\"\",ROUND((VLOOKUP(E541,Param!$A$7:$E$13,4,0)*Fonct_Empl!F541*((Fonct_Empl!G541/12)))+(VLOOKUP(E541,Param!$A$7:$E$13,5,0)*Fonct_Empl!H541),2),\"\")","v":""}]
[null,null,null,null,null,null,null,null,{"$f":"IF(E542<>\"\",ROUND((VLOOKUP(E542,Param!$A$7:$E$13,4,0)*Fonct_Empl!F542*((Fonct_Empl!G542/12)))+(VLOOKUP(E542,Param!$A$7:$E$13,5,0)*Fonct_Empl!H542),2),\"\")","v":""}]
[null,null,null,null,null,null,null,null,{"$f":"IF(E543<>\"\",ROUND((VLOOKUP(E543,Param!$A$7:$E$13,4,0)*Fonct_Empl!F543*((Fonct_Empl!G543/12)))+(VLOOKUP(E543,Param!$A$7:$E$13,5,0)*Fonct_Empl!H543),2),\"\")","v":""}]
[null,null,null,null,null,null,null,null,{"$f":"IF(E544<>\"\",ROUND((VLOOKUP(E544,Param!$A$7:$E$13,4,0)*Fonct_Empl!F544*((Fonct_Empl!G544/12)))+(VLOOKUP(E544,Param!$A$7:$E$13,5,0)*Fonct_Empl!H544),2),\"\")","v":""}]
[null,null,null,null,null,null,null,null,{"$f":"IF(E545<>\"\",ROUND((VLOOKUP(E545,Param!$A$7:$E$13,4,0)*Fonct_Empl!F545*((Fonct_Empl!G545/12)))+(VLOOKUP(E545,Param!$A$7:$E$13,5,0)*Fonct_Empl!H545),2),\"\")","v":""}]
[null,null,null,null,null,null,null,null,{"$f":"IF(E546<>\"\",ROUND((VLOOKUP(E546,Param!$A$7:$E$13,4,0)*Fonct_Empl!F546*((Fonct_Empl!G546/12)))+(VLOOKUP(E546,Param!$A$7:$E$13,5,0)*Fonct_Empl!H546),2),\"\")","v":""}]
[null,null,null,null,null,null,null,null,{"$f":"IF(E547<>\"\",ROUND((VLOOKUP(E547,Param!$A$7:$E$13,4,0)*Fonct_Empl!F547*((Fonct_Empl!G547/12)))+(VLOOKUP(E547,Param!$A$7:$E$13,5,0)*Fonct_Empl!H547),2),\"\")","v":""}]
[null,null,null,null,null,null,null,null,{"$f":"IF(E548<>\"\",ROUND((VLOOKUP(E548,Param!$A$7:$E$13,4,0)*Fonct_Empl!F548*((Fonct_Empl!G548/12)))+(VLOOKUP(E548,Param!$A$7:$E$13,5,0)*Fonct_Empl!H548),2),\"\")","v":""}]
[null,null,null,null,null,null,null,null,{"$f":"IF(E549<>\"\",ROUND((VLOOKUP(E549,Param!$A$7:$E$13,4,0)*Fonct_Empl!F549*((Fonct_Empl!G549/12)))+(VLOOKUP(E549,Param!$A$7:$E$13,5,0)*Fonct_Empl!H549),2),\"\")","v":""}]
[null,null,null,null,null,null,null,null,{"$f":"IF(E550<>\"\",ROUND((VLOOKUP(E550,Param!$A$7:$E$13,4,0)*Fonct_Empl!F550*((Fonct_Empl!G550/12)))+(VLOOKUP(E550,Param!$A$7:$E$13,5,0)*Fonct_Empl!H550),2),\"\")","v":""}]
[null,null,null,null,null,null,null,null,{"$f":"IF(E551<>\"\",ROUND((VLOOKUP(E551,Param!$A$7:$E$13,4,0)*Fonct_Empl!F551*((Fonct_Empl!G551/12)))+(VLOOKUP(E551,Param!$A$7:$E$13,5,0)*Fonct_Empl!H551),2),\"\")","v":""}]
[null,null,null,null,null,null,null,null,{"$f":"IF(E552<>\"\",ROUND((VLOOKUP(E552,Param!$A$7:$E$13,4,0)*Fonct_Empl!F552*((Fonct_Empl!G552/12)))+(VLOOKUP(E552,Param!$A$7:$E$13,5,0)*Fonct_Empl!H552),2),\"\")","v":""}]
[null,null,null,null,null,null,null,null,{"$f":"IF(E553<>\"\",ROUND((VLOOKUP(E553,Param!$A$7:$E$13,4,0)*Fonct_Empl!F553*((Fonct_Empl!G553/12)))+(VLOOKUP(E553,Param!$A$7:$E$13,5,0)*Fonct_Empl!H553),2),\"\")","v":""}]
[null,null,null,null,null,null,null,null,{"$f":"IF(E554<>\"\",ROUND((VLOOKUP(E554,Param!$A$7:$E$13,4,0)*Fonct_Empl!F554*((Fonct_Empl!G554/12)))+(VLOOKUP(E554,Param!$A$7:$E$13,5,0)*Fonct_Empl!H554),2),\"\")","v":""}]
[null,null,null,null,null,null,null,null,{"$f":"IF(E555<>\"\",ROUND((VLOOKUP(E555,Param!$A$7:$E$13,4,0)*Fonct_Empl!F555*((Fonct_Empl!G555/12)))+(VLOOKUP(E555,Param!$A$7:$E$13,5,0)*Fonct_Empl!H555),2),\"\")","v":""}]
[null,null,null,null,null,null,null,null,{"$f":"IF(E556<>\"\",ROUND((VLOOKUP(E556,Param!$A$7:$E$13,4,0)*Fonct_Empl!F556*((Fonct_Empl!G556/12)))+(VLOOKUP(E556,Param!$A$7:$E$13,5,0)*Fonct_Empl!H556),2),\"\")","v":""}]
[null,null,null,null,null,null,null,null,{"$f":"IF(E557<>\"\",ROUND((VLOOKUP(E557,Param!$A$7:$E$13,4,0)*Fonct_Empl!F557*((Fonct_Empl!G557/12)))+(VLOOKUP(E557,Param!$A$7:$E$13,5,0)*Fonct_Empl!H557),2),\"\")","v":""}]
[null,null,null,null,null,null,null,null,{"$f":"IF(E558<>\"\",ROUND((VLOOKUP(E558,Param!$A$7:$E$13,4,0)*Fonct_Empl!F558*((Fonct_Empl!G558/12)))+(VLOOKUP(E558,Param!$A$7:$E$13,5,0)*Fonct_Empl!H558),2),\"\")","v":""}]
[null,null,null,null,null,null,null,null,{"$f":"IF(E559<>\"\",ROUND((VLOOKUP(E559,Param!$A$7:$E$13,4,0)*Fonct_Empl!F559*((Fonct_Empl!G559/12)))+(VLOOKUP(E559,Param!$A$7:$E$13,5,0)*Fonct_Empl!H559),2),\"\")","v":""}]
[null,null,null,null,null,null,null,null,{"$f":"IF(E560<>\"\",ROUND((VLOOKUP(E560,Param!$A$7:$E$13,4,0)*Fonct_Empl!F560*((Fonct_Empl!G560/12)))+(VLOOKUP(E560,Param!$A$7:$E$13,5,0)*Fonct_Empl!H560),2),\"\")","v":""}]
[null,null,null,null,null,null,null,null,{"$f":"IF(E561<>\"\",ROUND((VLOOKUP(E561,Param!$A$7:$E$13,4,0)*Fonct_Empl!F561*((Fonct_Empl!G561/12)))+(VLOOKUP(E561,Param!$A$7:$E$13,5,0)*Fonct_Empl!H561),2),\"\")","v":""}]
[null,null,null,null,null,null,null,null,{"$f":"IF(E562<>\"\",ROUND((VLOOKUP(E562,Param!$A$7:$E$13,4,0)*Fonct_Empl!F562*((Fonct_Empl!G562/12)))+(VLOOKUP(E562,Param!$A$7:$E$13,5,0)*Fonct_Empl!H562),2),\"\")","v":""}]
[null,null,null,null,null,null,null,null,{"$f":"IF(E563<>\"\",ROUND((VLOOKUP(E563,Param!$A$7:$E$13,4,0)*Fonct_Empl!F563*((Fonct_Empl!G563/12)))+(VLOOKUP(E563,Param!$A$7:$E$13,5,0)*Fonct_Empl!H563),2),\"\")","v":""}]
[null,null,null,null,null,null,null,null,{"$f":"IF(E564<>\"\",ROUND((VLOOKUP(E564,Param!$A$7:$E$13,4,0)*Fonct_Empl!F564*((Fonct_Empl!G564/12)))+(VLOOKUP(E564,Param!$A$7:$E$13,5,0)*Fonct_Empl!H564),2),\"\")","v":""}]
[null,null,null,null,null,null,null,null,{"$f":"IF(E565<>\"\",ROUND((VLOOKUP(E565,Param!$A$7:$E$13,4,0)*Fonct_Empl!F565*((Fonct_Empl!G565/12)))+(VLOOKUP(E565,Param!$A$7:$E$13,5,0)*Fonct_Empl!H565),2),\"\")","v":""}]
[null,null,null,null,null,null,null,null,{"$f":"IF(E566<>\"\",ROUND((VLOOKUP(E566,Param!$A$7:$E$13,4,0)*Fonct_Empl!F566*((Fonct_Empl!G566/12)))+(VLOOKUP(E566,Param!$A$7:$E$13,5,0)*Fonct_Empl!H566),2),\"\")","v":""}]
[null,null,null,null,null,null,null,null,{"$f":"IF(E567<>\"\",ROUND((VLOOKUP(E567,Param!$A$7:$E$13,4,0)*Fonct_Empl!F567*((Fonct_Empl!G567/12)))+(VLOOKUP(E567,Param!$A$7:$E$13,5,0)*Fonct_Empl!H567),2),\"\")","v":""}]
[null,null,null,null,null,null,null,null,{"$f":"IF(E568<>\"\",ROUND((VLOOKUP(E568,Param!$A$7:$E$13,4,0)*Fonct_Empl!F568*((Fonct_Empl!G568/12)))+(VLOOKUP(E568,Param!$A$7:$E$13,5,0)*Fonct_Empl!H568),2),\"\")","v":""}]
[null,null,null,null,null,null,null,null,{"$f":"IF(E569<>\"\",ROUND((VLOOKUP(E569,Param!$A$7:$E$13,4,0)*Fonct_Empl!F569*((Fonct_Empl!G569/12)))+(VLOOKUP(E569,Param!$A$7:$E$13,5,0)*Fonct_Empl!H569),2),\"\")","v":""}]
[null,null,null,null,null,null,null,null,{"$f":"IF(E570<>\"\",ROUND((VLOOKUP(E570,Param!$A$7:$E$13,4,0)*Fonct_Empl!F570*((Fonct_Empl!G570/12)))+(VLOOKUP(E570,Param!$A$7:$E$13,5,0)*Fonct_Empl!H570),2),\"\")","v":""}]
[null,null,null,null,null,null,null,null,{"$f":"IF(E571<>\"\",ROUND((VLOOKUP(E571,Param!$A$7:$E$13,4,0)*Fonct_Empl!F571*((Fonct_Empl!G571/12)))+(VLOOKUP(E571,Param!$A$7:$E$13,5,0)*Fonct_Empl!H571),2),\"\")","v":""}]
[null,null,null,null,null,null,null,null,{"$f":"IF(E572<>\"\",ROUND((VLOOKUP(E572,Param!$A$7:$E$13,4,0)*Fonct_Empl!F572*((Fonct_Empl!G572/12)))+(VLOOKUP(E572,Param!$A$7:$E$13,5,0)*Fonct_Empl!H572),2),\"\")","v":""}]
[null,null,null,null,null,null,null,null,{"$f":"IF(E573<>\"\",ROUND((VLOOKUP(E573,Param!$A$7:$E$13,4,0)*Fonct_Empl!F573*((Fonct_Empl!G573/12)))+(VLOOKUP(E573,Param!$A$7:$E$13,5,0)*Fonct_Empl!H573),2),\"\")","v":""}]
[null,null,null,null,null,null,null,null,{"$f":"IF(E574<>\"\",ROUND((VLOOKUP(E574,Param!$A$7:$E$13,4,0)*Fonct_Empl!F574*((Fonct_Empl!G574/12)))+(VLOOKUP(E574,Param!$A$7:$E$13,5,0)*Fonct_Empl!H574),2),\"\")","v":""}]
[null,null,null,null,null,null,null,null,{"$f":"IF(E575<>\"\",ROUND((VLOOKUP(E575,Param!$A$7:$E$13,4,0)*Fonct_Empl!F575*((Fonct_Empl!G575/12)))+(VLOOKUP(E575,Param!$A$7:$E$13,5,0)*Fonct_Empl!H575),2),\"\")","v":""}]
[null,null,null,null,null,null,null,null,{"$f":"IF(E576<>\"\",ROUND((VLOOKUP(E576,Param!$A$7:$E$13,4,0)*Fonct_Empl!F576*((Fonct_Empl!G576/12)))+(VLOOKUP(E576,Param!$A$7:$E$13,5,0)*Fonct_Empl!H576),2),\"\")","v":""}]
[null,null,null,null,null,null,null,null,{"$f":"IF(E577<>\"\",ROUND((VLOOKUP(E577,Param!$A$7:$E$13,4,0)*Fonct_Empl!F577*((Fonct_Empl!G577/12)))+(VLOOKUP(E577,Param!$A$7:$E$13,5,0)*Fonct_Empl!H577),2),\"\")","v":""}]
[null,null,null,null,null,null,null,null,{"$f":"IF(E578<>\"\",ROUND((VLOOKUP(E578,Param!$A$7:$E$13,4,0)*Fonct_Empl!F578*((Fonct_Empl!G578/12)))+(VLOOKUP(E578,Param!$A$7:$E$13,5,0)*Fonct_Empl!H578),2),\"\")","v":""}]
[null,null,null,null,null,null,null,null,{"$f":"IF(E579<>\"\",ROUND((VLOOKUP(E579,Param!$A$7:$E$13,4,0)*Fonct_Empl!F579*((Fonct_Empl!G579/12)))+(VLOOKUP(E579,Param!$A$7:$E$13,5,0)*Fonct_Empl!H579),2),\"\")","v":""}]
[null,null,null,null,null,null,null,null,{"$f":"IF(E580<>\"\",ROUND((VLOOKUP(E580,Param!$A$7:$E$13,4,0)*Fonct_Empl!F580*((Fonct_Empl!G580/12)))+(VLOOKUP(E580,Param!$A$7:$E$13,5,0)*Fonct_Empl!H580),2),\"\")","v":""}]
[null,null,null,null,null,null,null,null,{"$f":"IF(E581<>\"\",ROUND((VLOOKUP(E581,Param!$A$7:$E$13,4,0)*Fonct_Empl!F581*((Fonct_Empl!G581/12)))+(VLOOKUP(E581,Param!$A$7:$E$13,5,0)*Fonct_Empl!H581),2),\"\")","v":""}]
[null,null,null,null,null,null,null,null,{"$f":"IF(E582<>\"\",ROUND((VLOOKUP(E582,Param!$A$7:$E$13,4,0)*Fonct_Empl!F582*((Fonct_Empl!G582/12)))+(VLOOKUP(E582,Param!$A$7:$E$13,5,0)*Fonct_Empl!H582),2),\"\")","v":""}]
[null,null,null,null,null,null,null,null,{"$f":"IF(E583<>\"\",ROUND((VLOOKUP(E583,Param!$A$7:$E$13,4,0)*Fonct_Empl!F583*((Fonct_Empl!G583/12)))+(VLOOKUP(E583,Param!$A$7:$E$13,5,0)*Fonct_Empl!H583),2),\"\")","v":""}]
[null,null,null,null,null,null,null,null,{"$f":"IF(E584<>\"\",ROUND((VLOOKUP(E584,Param!$A$7:$E$13,4,0)*Fonct_Empl!F584*((Fonct_Empl!G584/12)))+(VLOOKUP(E584,Param!$A$7:$E$13,5,0)*Fonct_Empl!H584),2),\"\")","v":""}]
[null,null,null,null,null,null,null,null,{"$f":"IF(E585<>\"\",ROUND((VLOOKUP(E585,Param!$A$7:$E$13,4,0)*Fonct_Empl!F585*((Fonct_Empl!G585/12)))+(VLOOKUP(E585,Param!$A$7:$E$13,5,0)*Fonct_Empl!H585),2),\"\")","v":""}]
[null,null,null,null,null,null,null,null,{"$f":"IF(E586<>\"\",ROUND((VLOOKUP(E586,Param!$A$7:$E$13,4,0)*Fonct_Empl!F586*((Fonct_Empl!G586/12)))+(VLOOKUP(E586,Param!$A$7:$E$13,5,0)*Fonct_Empl!H586),2),\"\")","v":""}]
[null,null,null,null,null,null,null,null,{"$f":"IF(E587<>\"\",ROUND((VLOOKUP(E587,Param!$A$7:$E$13,4,0)*Fonct_Empl!F587*((Fonct_Empl!G587/12)))+(VLOOKUP(E587,Param!$A$7:$E$13,5,0)*Fonct_Empl!H587),2),\"\")","v":""}]
[null,null,null,null,null,null,null,null,{"$f":"IF(E588<>\"\",ROUND((VLOOKUP(E588,Param!$A$7:$E$13,4,0)*Fonct_Empl!F588*((Fonct_Empl!G588/12)))+(VLOOKUP(E588,Param!$A$7:$E$13,5,0)*Fonct_Empl!H588),2),\"\")","v":""}]
[null,null,null,null,null,null,null,null,{"$f":"IF(E589<>\"\",ROUND((VLOOKUP(E589,Param!$A$7:$E$13,4,0)*Fonct_Empl!F589*((Fonct_Empl!G589/12)))+(VLOOKUP(E589,Param!$A$7:$E$13,5,0)*Fonct_Empl!H589),2),\"\")","v":""}]
[null,null,null,null,null,null,null,null,{"$f":"IF(E590<>\"\",ROUND((VLOOKUP(E590,Param!$A$7:$E$13,4,0)*Fonct_Empl!F590*((Fonct_Empl!G590/12)))+(VLOOKUP(E590,Param!$A$7:$E$13,5,0)*Fonct_Empl!H590),2),\"\")","v":""}]
[null,null,null,null,null,null,null,null,{"$f":"IF(E591<>\"\",ROUND((VLOOKUP(E591,Param!$A$7:$E$13,4,0)*Fonct_Empl!F591*((Fonct_Empl!G591/12)))+(VLOOKUP(E591,Param!$A$7:$E$13,5,0)*Fonct_Empl!H591),2),\"\")","v":""}]
[null,null,null,null,null,null,null,null,{"$f":"IF(E592<>\"\",ROUND((VLOOKUP(E592,Param!$A$7:$E$13,4,0)*Fonct_Empl!F592*((Fonct_Empl!G592/12)))+(VLOOKUP(E592,Param!$A$7:$E$13,5,0)*Fonct_Empl!H592),2),\"\")","v":""}]
[null,null,null,null,null,null,null,null,{"$f":"IF(E593<>\"\",ROUND((VLOOKUP(E593,Param!$A$7:$E$13,4,0)*Fonct_Empl!F593*((Fonct_Empl!G593/12)))+(VLOOKUP(E593,Param!$A$7:$E$13,5,0)*Fonct_Empl!H593),2),\"\")","v":""}]
[null,null,null,null,null,null,null,null,{"$f":"IF(E594<>\"\",ROUND((VLOOKUP(E594,Param!$A$7:$E$13,4,0)*Fonct_Empl!F594*((Fonct_Empl!G594/12)))+(VLOOKUP(E594,Param!$A$7:$E$13,5,0)*Fonct_Empl!H594),2),\"\")","v":""}]
[null,null,null,null,null,null,null,null,{"$f":"IF(E595<>\"\",ROUND((VLOOKUP(E595,Param!$A$7:$E$13,4,0)*Fonct_Empl!F595*((Fonct_Empl!G595/12)))+(VLOOKUP(E595,Param!$A$7:$E$13,5,0)*Fonct_Empl!H595),2),\"\")","v":""}]
[null,null,null,null,null,null,null,null,{"$f":"IF(E596<>\"\",ROUND((VLOOKUP(E596,Param!$A$7:$E$13,4,0)*Fonct_Empl!F596*((Fonct_Empl!G596/12)))+(VLOOKUP(E596,Param!$A$7:$E$13,5,0)*Fonct_Empl!H596),2),\"\")","v":""}]
[null,null,null,null,null,null,null,null,{"$f":"IF(E597<>\"\",ROUND((VLOOKUP(E597,Param!$A$7:$E$13,4,0)*Fonct_Empl!F597*((Fonct_Empl!G597/12)))+(VLOOKUP(E597,Param!$A$7:$E$13,5,0)*Fonct_Empl!H597),2),\"\")","v":""}]
[null,null,null,null,null,null,null,null,{"$f":"IF(E598<>\"\",ROUND((VLOOKUP(E598,Param!$A$7:$E$13,4,0)*Fonct_Empl!F598*((Fonct_Empl!G598/12)))+(VLOOKUP(E598,Param!$A$7:$E$13,5,0)*Fonct_Empl!H598),2),\"\")","v":""}]
[null,null,null,null,null,null,null,null,{"$f":"IF(E599<>\"\",ROUND((VLOOKUP(E599,Param!$A$7:$E$13,4,0)*Fonct_Empl!F599*((Fonct_Empl!G599/12)))+(VLOOKUP(E599,Param!$A$7:$E$13,5,0)*Fonct_Empl!H599),2),\"\")","v":""}]
[null,null,null,null,null,null,null,null,{"$f":"IF(E600<>\"\",ROUND((VLOOKUP(E600,Param!$A$7:$E$13,4,0)*Fonct_Empl!F600*((Fonct_Empl!G600/12)))+(VLOOKUP(E600,Param!$A$7:$E$13,5,0)*Fonct_Empl!H600),2),\"\")","v":""}]
[null,null,null,null,null,null,null,null,{"$f":"IF(E601<>\"\",ROUND((VLOOKUP(E601,Param!$A$7:$E$13,4,0)*Fonct_Empl!F601*((Fonct_Empl!G601/12)))+(VLOOKUP(E601,Param!$A$7:$E$13,5,0)*Fonct_Empl!H601),2),\"\")","v":""}]
[null,null,null,null,null,null,null,null,{"$f":"IF(E602<>\"\",ROUND((VLOOKUP(E602,Param!$A$7:$E$13,4,0)*Fonct_Empl!F602*((Fonct_Empl!G602/12)))+(VLOOKUP(E602,Param!$A$7:$E$13,5,0)*Fonct_Empl!H602),2),\"\")","v":""}]
[null,null,null,null,null,null,null,null,{"$f":"IF(E603<>\"\",ROUND((VLOOKUP(E603,Param!$A$7:$E$13,4,0)*Fonct_Empl!F603*((Fonct_Empl!G603/12)))+(VLOOKUP(E603,Param!$A$7:$E$13,5,0)*Fonct_Empl!H603),2),\"\")","v":""}]
[null,null,null,null,null,null,null,null,{"$f":"IF(E604<>\"\",ROUND((VLOOKUP(E604,Param!$A$7:$E$13,4,0)*Fonct_Empl!F604*((Fonct_Empl!G604/12)))+(VLOOKUP(E604,Param!$A$7:$E$13,5,0)*Fonct_Empl!H604),2),\"\")","v":""}]
[null,null,null,null,null,null,null,null,{"$f":"IF(E605<>\"\",ROUND((VLOOKUP(E605,Param!$A$7:$E$13,4,0)*Fonct_Empl!F605*((Fonct_Empl!G605/12)))+(VLOOKUP(E605,Param!$A$7:$E$13,5,0)*Fonct_Empl!H605),2),\"\")","v":""}]
[null,null,null,null,null,null,null,null,{"$f":"IF(E606<>\"\",ROUND((VLOOKUP(E606,Param!$A$7:$E$13,4,0)*Fonct_Empl!F606*((Fonct_Empl!G606/12)))+(VLOOKUP(E606,Param!$A$7:$E$13,5,0)*Fonct_Empl!H606),2),\"\")","v":""}]
[null,null,null,null,null,null,null,null,{"$f":"IF(E607<>\"\",ROUND((VLOOKUP(E607,Param!$A$7:$E$13,4,0)*Fonct_Empl!F607*((Fonct_Empl!G607/12)))+(VLOOKUP(E607,Param!$A$7:$E$13,5,0)*Fonct_Empl!H607),2),\"\")","v":""}]
[null,null,null,null,null,null,null,null,{"$f":"IF(E608<>\"\",ROUND((VLOOKUP(E608,Param!$A$7:$E$13,4,0)*Fonct_Empl!F608*((Fonct_Empl!G608/12)))+(VLOOKUP(E608,Param!$A$7:$E$13,5,0)*Fonct_Empl!H608),2),\"\")","v":""}]
[null,null,null,null,null,null,null,null,{"$f":"IF(E609<>\"\",ROUND((VLOOKUP(E609,Param!$A$7:$E$13,4,0)*Fonct_Empl!F609*((Fonct_Empl!G609/12)))+(VLOOKUP(E609,Param!$A$7:$E$13,5,0)*Fonct_Empl!H609),2),\"\")","v":""}]
[null,null,null,null,null,null,null,null,{"$f":"IF(E610<>\"\",ROUND((VLOOKUP(E610,Param!$A$7:$E$13,4,0)*Fonct_Empl!F610*((Fonct_Empl!G610/12)))+(VLOOKUP(E610,Param!$A$7:$E$13,5,0)*Fonct_Empl!H610),2),\"\")","v":""}]
[null,null,null,null,null,null,null,null,{"$f":"IF(E611<>\"\",ROUND((VLOOKUP(E611,Param!$A$7:$E$13,4,0)*Fonct_Empl!F611*((Fonct_Empl!G611/12)))+(VLOOKUP(E611,Param!$A$7:$E$13,5,0)*Fonct_Empl!H611),2),\"\")","v":""}]
[null,null,null,null,null,null,null,null,{"$f":"IF(E612<>\"\",ROUND((VLOOKUP(E612,Param!$A$7:$E$13,4,0)*Fonct_Empl!F612*((Fonct_Empl!G612/12)))+(VLOOKUP(E612,Param!$A$7:$E$13,5,0)*Fonct_Empl!H612),2),\"\")","v":""}]
[null,null,null,null,null,null,null,null,{"$f":"IF(E613<>\"\",ROUND((VLOOKUP(E613,Param!$A$7:$E$13,4,0)*Fonct_Empl!F613*((Fonct_Empl!G613/12)))+(VLOOKUP(E613,Param!$A$7:$E$13,5,0)*Fonct_Empl!H613),2),\"\")","v":""}]
[null,null,null,null,null,null,null,null,{"$f":"IF(E614<>\"\",ROUND((VLOOKUP(E614,Param!$A$7:$E$13,4,0)*Fonct_Empl!F614*((Fonct_Empl!G614/12)))+(VLOOKUP(E614,Param!$A$7:$E$13,5,0)*Fonct_Empl!H614),2),\"\")","v":""}]
[null,null,null,null,null,null,null,null,{"$f":"IF(E615<>\"\",ROUND((VLOOKUP(E615,Param!$A$7:$E$13,4,0)*Fonct_Empl!F615*((Fonct_Empl!G615/12)))+(VLOOKUP(E615,Param!$A$7:$E$13,5,0)*Fonct_Empl!H615),2),\"\")","v":""}]
[null,null,null,null,null,null,null,null,{"$f":"IF(E616<>\"\",ROUND((VLOOKUP(E616,Param!$A$7:$E$13,4,0)*Fonct_Empl!F616*((Fonct_Empl!G616/12)))+(VLOOKUP(E616,Param!$A$7:$E$13,5,0)*Fonct_Empl!H616),2),\"\")","v":""}]
[null,null,null,null,null,null,null,null,{"$f":"IF(E617<>\"\",ROUND((VLOOKUP(E617,Param!$A$7:$E$13,4,0)*Fonct_Empl!F617*((Fonct_Empl!G617/12)))+(VLOOKUP(E617,Param!$A$7:$E$13,5,0)*Fonct_Empl!H617),2),\"\")","v":""}]
[null,null,null,null,null,null,null,null,{"$f":"IF(E618<>\"\",ROUND((VLOOKUP(E618,Param!$A$7:$E$13,4,0)*Fonct_Empl!F618*((Fonct_Empl!G618/12)))+(VLOOKUP(E618,Param!$A$7:$E$13,5,0)*Fonct_Empl!H618),2),\"\")","v":""}]
[null,null,null,null,null,null,null,null,{"$f":"IF(E619<>\"\",ROUND((VLOOKUP(E619,Param!$A$7:$E$13,4,0)*Fonct_Empl!F619*((Fonct_Empl!G619/12)))+(VLOOKUP(E619,Param!$A$7:$E$13,5,0)*Fonct_Empl!H619),2),\"\")","v":""}]
[null,null,null,null,null,null,null,null,{"$f":"IF(E620<>\"\",ROUND((VLOOKUP(E620,Param!$A$7:$E$13,4,0)*Fonct_Empl!F620*((Fonct_Empl!G620/12)))+(VLOOKUP(E620,Param!$A$7:$E$13,5,0)*Fonct_Empl!H620),2),\"\")","v":""}]
[null,null,null,null,null,null,null,null,{"$f":"IF(E621<>\"\",ROUND((VLOOKUP(E621,Param!$A$7:$E$13,4,0)*Fonct_Empl!F621*((Fonct_Empl!G621/12)))+(VLOOKUP(E621,Param!$A$7:$E$13,5,0)*Fonct_Empl!H621),2),\"\")","v":""}]
[null,null,null,null,null,null,null,null,{"$f":"IF(E622<>\"\",ROUND((VLOOKUP(E622,Param!$A$7:$E$13,4,0)*Fonct_Empl!F622*((Fonct_Empl!G622/12)))+(VLOOKUP(E622,Param!$A$7:$E$13,5,0)*Fonct_Empl!H622),2),\"\")","v":""}]
[null,null,null,null,null,null,null,null,{"$f":"IF(E623<>\"\",ROUND((VLOOKUP(E623,Param!$A$7:$E$13,4,0)*Fonct_Empl!F623*((Fonct_Empl!G623/12)))+(VLOOKUP(E623,Param!$A$7:$E$13,5,0)*Fonct_Empl!H623),2),\"\")","v":""}]
[null,null,null,null,null,null,null,null,{"$f":"IF(E624<>\"\",ROUND((VLOOKUP(E624,Param!$A$7:$E$13,4,0)*Fonct_Empl!F624*((Fonct_Empl!G624/12)))+(VLOOKUP(E624,Param!$A$7:$E$13,5,0)*Fonct_Empl!H624),2),\"\")","v":""}]
[null,null,null,null,null,null,null,null,{"$f":"IF(E625<>\"\",ROUND((VLOOKUP(E625,Param!$A$7:$E$13,4,0)*Fonct_Empl!F625*((Fonct_Empl!G625/12)))+(VLOOKUP(E625,Param!$A$7:$E$13,5,0)*Fonct_Empl!H625),2),\"\")","v":""}]
[null,null,null,null,null,null,null,null,{"$f":"IF(E626<>\"\",ROUND((VLOOKUP(E626,Param!$A$7:$E$13,4,0)*Fonct_Empl!F626*((Fonct_Empl!G626/12)))+(VLOOKUP(E626,Param!$A$7:$E$13,5,0)*Fonct_Empl!H626),2),\"\")","v":""}]
[null,null,null,null,null,null,null,null,{"$f":"IF(E627<>\"\",ROUND((VLOOKUP(E627,Param!$A$7:$E$13,4,0)*Fonct_Empl!F627*((Fonct_Empl!G627/12)))+(VLOOKUP(E627,Param!$A$7:$E$13,5,0)*Fonct_Empl!H627),2),\"\")","v":""}]
[null,null,null,null,null,null,null,null,{"$f":"IF(E628<>\"\",ROUND((VLOOKUP(E628,Param!$A$7:$E$13,4,0)*Fonct_Empl!F628*((Fonct_Empl!G628/12)))+(VLOOKUP(E628,Param!$A$7:$E$13,5,0)*Fonct_Empl!H628),2),\"\")","v":""}]
[null,null,null,null,null,null,null,null,{"$f":"IF(E629<>\"\",ROUND((VLOOKUP(E629,Param!$A$7:$E$13,4,0)*Fonct_Empl!F629*((Fonct_Empl!G629/12)))+(VLOOKUP(E629,Param!$A$7:$E$13,5,0)*Fonct_Empl!H629),2),\"\")","v":""}]
[null,null,null,null,null,null,null,null,{"$f":"IF(E630<>\"\",ROUND((VLOOKUP(E630,Param!$A$7:$E$13,4,0)*Fonct_Empl!F630*((Fonct_Empl!G630/12)))+(VLOOKUP(E630,Param!$A$7:$E$13,5,0)*Fonct_Empl!H630),2),\"\")","v":""}]
[null,null,null,null,null,null,null,null,{"$f":"IF(E631<>\"\",ROUND((VLOOKUP(E631,Param!$A$7:$E$13,4,0)*Fonct_Empl!F631*((Fonct_Empl!G631/12)))+(VLOOKUP(E631,Param!$A$7:$E$13,5,0)*Fonct_Empl!H631),2),\"\")","v":""}]
[null,null,null,null,null,null,null,null,{"$f":"IF(E632<>\"\",ROUND((VLOOKUP(E632,Param!$A$7:$E$13,4,0)*Fonct_Empl!F632*((Fonct_Empl!G632/12)))+(VLOOKUP(E632,Param!$A$7:$E$13,5,0)*Fonct_Empl!H632),2),\"\")","v":""}]
[null,null,null,null,null,null,null,null,{"$f":"IF(E633<>\"\",ROUND((VLOOKUP(E633,Param!$A$7:$E$13,4,0)*Fonct_Empl!F633*((Fonct_Empl!G633/12)))+(VLOOKUP(E633,Param!$A$7:$E$13,5,0)*Fonct_Empl!H633),2),\"\")","v":""}]
[null,null,null,null,null,null,null,null,{"$f":"IF(E634<>\"\",ROUND((VLOOKUP(E634,Param!$A$7:$E$13,4,0)*Fonct_Empl!F634*((Fonct_Empl!G634/12)))+(VLOOKUP(E634,Param!$A$7:$E$13,5,0)*Fonct_Empl!H634),2),\"\")","v":""}]
[null,null,null,null,null,null,null,null,{"$f":"IF(E635<>\"\",ROUND((VLOOKUP(E635,Param!$A$7:$E$13,4,0)*Fonct_Empl!F635*((Fonct_Empl!G635/12)))+(VLOOKUP(E635,Param!$A$7:$E$13,5,0)*Fonct_Empl!H635),2),\"\")","v":""}]
[null,null,null,null,null,null,null,null,{"$f":"IF(E636<>\"\",ROUND((VLOOKUP(E636,Param!$A$7:$E$13,4,0)*Fonct_Empl!F636*((Fonct_Empl!G636/12)))+(VLOOKUP(E636,Param!$A$7:$E$13,5,0)*Fonct_Empl!H636),2),\"\")","v":""}]
[null,null,null,null,null,null,null,null,{"$f":"IF(E637<>\"\",ROUND((VLOOKUP(E637,Param!$A$7:$E$13,4,0)*Fonct_Empl!F637*((Fonct_Empl!G637/12)))+(VLOOKUP(E637,Param!$A$7:$E$13,5,0)*Fonct_Empl!H637),2),\"\")","v":""}]
[null,null,null,null,null,null,null,null,{"$f":"IF(E638<>\"\",ROUND((VLOOKUP(E638,Param!$A$7:$E$13,4,0)*Fonct_Empl!F638*((Fonct_Empl!G638/12)))+(VLOOKUP(E638,Param!$A$7:$E$13,5,0)*Fonct_Empl!H638),2),\"\")","v":""}]
[null,null,null,null,null,null,null,null,{"$f":"IF(E639<>\"\",ROUND((VLOOKUP(E639,Param!$A$7:$E$13,4,0)*Fonct_Empl!F639*((Fonct_Empl!G639/12)))+(VLOOKUP(E639,Param!$A$7:$E$13,5,0)*Fonct_Empl!H639),2),\"\")","v":""}]
[null,null,null,null,null,null,null,null,{"$f":"IF(E640<>\"\",ROUND((VLOOKUP(E640,Param!$A$7:$E$13,4,0)*Fonct_Empl!F640*((Fonct_Empl!G640/12)))+(VLOOKUP(E640,Param!$A$7:$E$13,5,0)*Fonct_Empl!H640),2),\"\")","v":""}]
[null,null,null,null,null,null,null,null,{"$f":"IF(E641<>\"\",ROUND((VLOOKUP(E641,Param!$A$7:$E$13,4,0)*Fonct_Empl!F641*((Fonct_Empl!G641/12)))+(VLOOKUP(E641,Param!$A$7:$E$13,5,0)*Fonct_Empl!H641),2),\"\")","v":""}]
[null,null,null,null,null,null,null,null,{"$f":"IF(E642<>\"\",ROUND((VLOOKUP(E642,Param!$A$7:$E$13,4,0)*Fonct_Empl!F642*((Fonct_Empl!G642/12)))+(VLOOKUP(E642,Param!$A$7:$E$13,5,0)*Fonct_Empl!H642),2),\"\")","v":""}]
[null,null,null,null,null,null,null,null,{"$f":"IF(E643<>\"\",ROUND((VLOOKUP(E643,Param!$A$7:$E$13,4,0)*Fonct_Empl!F643*((Fonct_Empl!G643/12)))+(VLOOKUP(E643,Param!$A$7:$E$13,5,0)*Fonct_Empl!H643),2),\"\")","v":""}]
[null,null,null,null,null,null,null,null,{"$f":"IF(E644<>\"\",ROUND((VLOOKUP(E644,Param!$A$7:$E$13,4,0)*Fonct_Empl!F644*((Fonct_Empl!G644/12)))+(VLOOKUP(E644,Param!$A$7:$E$13,5,0)*Fonct_Empl!H644),2),\"\")","v":""}]
[null,null,null,null,null,null,null,null,{"$f":"IF(E645<>\"\",ROUND((VLOOKUP(E645,Param!$A$7:$E$13,4,0)*Fonct_Empl!F645*((Fonct_Empl!G645/12)))+(VLOOKUP(E645,Param!$A$7:$E$13,5,0)*Fonct_Empl!H645),2),\"\")","v":""}]
[null,null,null,null,null,null,null,null,{"$f":"IF(E646<>\"\",ROUND((VLOOKUP(E646,Param!$A$7:$E$13,4,0)*Fonct_Empl!F646*((Fonct_Empl!G646/12)))+(VLOOKUP(E646,Param!$A$7:$E$13,5,0)*Fonct_Empl!H646),2),\"\")","v":""}]
[null,null,null,null,null,null,null,null,{"$f":"IF(E647<>\"\",ROUND((VLOOKUP(E647,Param!$A$7:$E$13,4,0)*Fonct_Empl!F647*((Fonct_Empl!G647/12)))+(VLOOKUP(E647,Param!$A$7:$E$13,5,0)*Fonct_Empl!H647),2),\"\")","v":""}]
[null,null,null,null,null,null,null,null,{"$f":"IF(E648<>\"\",ROUND((VLOOKUP(E648,Param!$A$7:$E$13,4,0)*Fonct_Empl!F648*((Fonct_Empl!G648/12)))+(VLOOKUP(E648,Param!$A$7:$E$13,5,0)*Fonct_Empl!H648),2),\"\")","v":""}]
[null,null,null,null,null,null,null,null,{"$f":"IF(E649<>\"\",ROUND((VLOOKUP(E649,Param!$A$7:$E$13,4,0)*Fonct_Empl!F649*((Fonct_Empl!G649/12)))+(VLOOKUP(E649,Param!$A$7:$E$13,5,0)*Fonct_Empl!H649),2),\"\")","v":""}]
[null,null,null,null,null,null,null,null,{"$f":"IF(E650<>\"\",ROUND((VLOOKUP(E650,Param!$A$7:$E$13,4,0)*Fonct_Empl!F650*((Fonct_Empl!G650/12)))+(VLOOKUP(E650,Param!$A$7:$E$13,5,0)*Fonct_Empl!H650),2),\"\")","v":""}]
[null,null,null,null,null,null,null,null,{"$f":"IF(E651<>\"\",ROUND((VLOOKUP(E651,Param!$A$7:$E$13,4,0)*Fonct_Empl!F651*((Fonct_Empl!G651/12)))+(VLOOKUP(E651,Param!$A$7:$E$13,5,0)*Fonct_Empl!H651),2),\"\")","v":""}]
[null,null,null,null,null,null,null,null,{"$f":"IF(E652<>\"\",ROUND((VLOOKUP(E652,Param!$A$7:$E$13,4,0)*Fonct_Empl!F652*((Fonct_Empl!G652/12)))+(VLOOKUP(E652,Param!$A$7:$E$13,5,0)*Fonct_Empl!H652),2),\"\")","v":""}]
[null,null,null,null,null,null,null,null,{"$f":"IF(E653<>\"\",ROUND((VLOOKUP(E653,Param!$A$7:$E$13,4,0)*Fonct_Empl!F653*((Fonct_Empl!G653/12)))+(VLOOKUP(E653,Param!$A$7:$E$13,5,0)*Fonct_Empl!H653),2),\"\")","v":""}]
[null,null,null,null,null,null,null,null,{"$f":"IF(E654<>\"\",ROUND((VLOOKUP(E654,Param!$A$7:$E$13,4,0)*Fonct_Empl!F654*((Fonct_Empl!G654/12)))+(VLOOKUP(E654,Param!$A$7:$E$13,5,0)*Fonct_Empl!H654),2),\"\")","v":""}]
[null,null,null,null,null,null,null,null,{"$f":"IF(E655<>\"\",ROUND((VLOOKUP(E655,Param!$A$7:$E$13,4,0)*Fonct_Empl!F655*((Fonct_Empl!G655/12)))+(VLOOKUP(E655,Param!$A$7:$E$13,5,0)*Fonct_Empl!H655),2),\"\")","v":""}]
[null,null,null,null,null,null,null,null,{"$f":"IF(E656<>\"\",ROUND((VLOOKUP(E656,Param!$A$7:$E$13,4,0)*Fonct_Empl!F656*((Fonct_Empl!G656/12)))+(VLOOKUP(E656,Param!$A$7:$E$13,5,0)*Fonct_Empl!H656),2),\"\")","v":""}]
[null,null,null,null,null,null,null,null,{"$f":"IF(E657<>\"\",ROUND((VLOOKUP(E657,Param!$A$7:$E$13,4,0)*Fonct_Empl!F657*((Fonct_Empl!G657/12)))+(VLOOKUP(E657,Param!$A$7:$E$13,5,0)*Fonct_Empl!H657),2),\"\")","v":""}]
[null,null,null,null,null,null,null,null,{"$f":"IF(E658<>\"\",ROUND((VLOOKUP(E658,Param!$A$7:$E$13,4,0)*Fonct_Empl!F658*((Fonct_Empl!G658/12)))+(VLOOKUP(E658,Param!$A$7:$E$13,5,0)*Fonct_Empl!H658),2),\"\")","v":""}]
[null,null,null,null,null,null,null,null,{"$f":"IF(E659<>\"\",ROUND((VLOOKUP(E659,Param!$A$7:$E$13,4,0)*Fonct_Empl!F659*((Fonct_Empl!G659/12)))+(VLOOKUP(E659,Param!$A$7:$E$13,5,0)*Fonct_Empl!H659),2),\"\")","v":""}]
[null,null,null,null,null,null,null,null,{"$f":"IF(E660<>\"\",ROUND((VLOOKUP(E660,Param!$A$7:$E$13,4,0)*Fonct_Empl!F660*((Fonct_Empl!G660/12)))+(VLOOKUP(E660,Param!$A$7:$E$13,5,0)*Fonct_Empl!H660),2),\"\")","v":""}]
[null,null,null,null,null,null,null,null,{"$f":"IF(E661<>\"\",ROUND((VLOOKUP(E661,Param!$A$7:$E$13,4,0)*Fonct_Empl!F661*((Fonct_Empl!G661/12)))+(VLOOKUP(E661,Param!$A$7:$E$13,5,0)*Fonct_Empl!H661),2),\"\")","v":""}]
[null,null,null,null,null,null,null,null,{"$f":"IF(E662<>\"\",ROUND((VLOOKUP(E662,Param!$A$7:$E$13,4,0)*Fonct_Empl!F662*((Fonct_Empl!G662/12)))+(VLOOKUP(E662,Param!$A$7:$E$13,5,0)*Fonct_Empl!H662),2),\"\")","v":""}]
[null,null,null,null,null,null,null,null,{"$f":"IF(E663<>\"\",ROUND((VLOOKUP(E663,Param!$A$7:$E$13,4,0)*Fonct_Empl!F663*((Fonct_Empl!G663/12)))+(VLOOKUP(E663,Param!$A$7:$E$13,5,0)*Fonct_Empl!H663),2),\"\")","v":""}]
[null,null,null,null,null,null,null,null,{"$f":"IF(E664<>\"\",ROUND((VLOOKUP(E664,Param!$A$7:$E$13,4,0)*Fonct_Empl!F664*((Fonct_Empl!G664/12)))+(VLOOKUP(E664,Param!$A$7:$E$13,5,0)*Fonct_Empl!H664),2),\"\")","v":""}]
[null,null,null,null,null,null,null,null,{"$f":"IF(E665<>\"\",ROUND((VLOOKUP(E665,Param!$A$7:$E$13,4,0)*Fonct_Empl!F665*((Fonct_Empl!G665/12)))+(VLOOKUP(E665,Param!$A$7:$E$13,5,0)*Fonct_Empl!H665),2),\"\")","v":""}]
[null,null,null,null,null,null,null,null,{"$f":"IF(E666<>\"\",ROUND((VLOOKUP(E666,Param!$A$7:$E$13,4,0)*Fonct_Empl!F666*((Fonct_Empl!G666/12)))+(VLOOKUP(E666,Param!$A$7:$E$13,5,0)*Fonct_Empl!H666),2),\"\")","v":""}]
[null,null,null,null,null,null,null,null,{"$f":"IF(E667<>\"\",ROUND((VLOOKUP(E667,Param!$A$7:$E$13,4,0)*Fonct_Empl!F667*((Fonct_Empl!G667/12)))+(VLOOKUP(E667,Param!$A$7:$E$13,5,0)*Fonct_Empl!H667),2),\"\")","v":""}]
[null,null,null,null,null,null,null,null,{"$f":"IF(E668<>\"\",ROUND((VLOOKUP(E668,Param!$A$7:$E$13,4,0)*Fonct_Empl!F668*((Fonct_Empl!G668/12)))+(VLOOKUP(E668,Param!$A$7:$E$13,5,0)*Fonct_Empl!H668),2),\"\")","v":""}]
[null,null,null,null,null,null,null,null,{"$f":"IF(E669<>\"\",ROUND((VLOOKUP(E669,Param!$A$7:$E$13,4,0)*Fonct_Empl!F669*((Fonct_Empl!G669/12)))+(VLOOKUP(E669,Param!$A$7:$E$13,5,0)*Fonct_Empl!H669),2),\"\")","v":""}]
[null,null,null,null,null,null,null,null,{"$f":"IF(E670<>\"\",ROUND((VLOOKUP(E670,Param!$A$7:$E$13,4,0)*Fonct_Empl!F670*((Fonct_Empl!G670/12)))+(VLOOKUP(E670,Param!$A$7:$E$13,5,0)*Fonct_Empl!H670),2),\"\")","v":""}]
[null,null,null,null,null,null,null,null,{"$f":"IF(E671<>\"\",ROUND((VLOOKUP(E671,Param!$A$7:$E$13,4,0)*Fonct_Empl!F671*((Fonct_Empl!G671/12)))+(VLOOKUP(E671,Param!$A$7:$E$13,5,0)*Fonct_Empl!H671),2),\"\")","v":""}]
[null,null,null,null,null,null,null,null,{"$f":"IF(E672<>\"\",ROUND((VLOOKUP(E672,Param!$A$7:$E$13,4,0)*Fonct_Empl!F672*((Fonct_Empl!G672/12)))+(VLOOKUP(E672,Param!$A$7:$E$13,5,0)*Fonct_Empl!H672),2),\"\")","v":""}]
[null,null,null,null,null,null,null,null,{"$f":"IF(E673<>\"\",ROUND((VLOOKUP(E673,Param!$A$7:$E$13,4,0)*Fonct_Empl!F673*((Fonct_Empl!G673/12)))+(VLOOKUP(E673,Param!$A$7:$E$13,5,0)*Fonct_Empl!H673),2),\"\")","v":""}]
[null,null,null,null,null,null,null,null,{"$f":"IF(E674<>\"\",ROUND((VLOOKUP(E674,Param!$A$7:$E$13,4,0)*Fonct_Empl!F674*((Fonct_Empl!G674/12)))+(VLOOKUP(E674,Param!$A$7:$E$13,5,0)*Fonct_Empl!H674),2),\"\")","v":""}]
[null,null,null,null,null,null,null,null,{"$f":"IF(E675<>\"\",ROUND((VLOOKUP(E675,Param!$A$7:$E$13,4,0)*Fonct_Empl!F675*((Fonct_Empl!G675/12)))+(VLOOKUP(E675,Param!$A$7:$E$13,5,0)*Fonct_Empl!H675),2),\"\")","v":""}]
[null,null,null,null,null,null,null,null,{"$f":"IF(E676<>\"\",ROUND((VLOOKUP(E676,Param!$A$7:$E$13,4,0)*Fonct_Empl!F676*((Fonct_Empl!G676/12)))+(VLOOKUP(E676,Param!$A$7:$E$13,5,0)*Fonct_Empl!H676),2),\"\")","v":""}]
[null,null,null,null,null,null,null,null,{"$f":"IF(E677<>\"\",ROUND((VLOOKUP(E677,Param!$A$7:$E$13,4,0)*Fonct_Empl!F677*((Fonct_Empl!G677/12)))+(VLOOKUP(E677,Param!$A$7:$E$13,5,0)*Fonct_Empl!H677),2),\"\")","v":""}]
[null,null,null,null,null,null,null,null,{"$f":"IF(E678<>\"\",ROUND((VLOOKUP(E678,Param!$A$7:$E$13,4,0)*Fonct_Empl!F678*((Fonct_Empl!G678/12)))+(VLOOKUP(E678,Param!$A$7:$E$13,5,0)*Fonct_Empl!H678),2),\"\")","v":""}]
[null,null,null,null,null,null,null,null,{"$f":"IF(E679<>\"\",ROUND((VLOOKUP(E679,Param!$A$7:$E$13,4,0)*Fonct_Empl!F679*((Fonct_Empl!G679/12)))+(VLOOKUP(E679,Param!$A$7:$E$13,5,0)*Fonct_Empl!H679),2),\"\")","v":""}]
[null,null,null,null,null,null,null,null,{"$f":"IF(E680<>\"\",ROUND((VLOOKUP(E680,Param!$A$7:$E$13,4,0)*Fonct_Empl!F680*((Fonct_Empl!G680/12)))+(VLOOKUP(E680,Param!$A$7:$E$13,5,0)*Fonct_Empl!H680),2),\"\")","v":""}]
[null,null,null,null,null,null,null,null,{"$f":"IF(E681<>\"\",ROUND((VLOOKUP(E681,Param!$A$7:$E$13,4,0)*Fonct_Empl!F681*((Fonct_Empl!G681/12)))+(VLOOKUP(E681,Param!$A$7:$E$13,5,0)*Fonct_Empl!H681),2),\"\")","v":""}]
[null,null,null,null,null,null,null,null,{"$f":"IF(E682<>\"\",ROUND((VLOOKUP(E682,Param!$A$7:$E$13,4,0)*Fonct_Empl!F682*((Fonct_Empl!G682/12)))+(VLOOKUP(E682,Param!$A$7:$E$13,5,0)*Fonct_Empl!H682),2),\"\")","v":""}]
[null,null,null,null,null,null,null,null,{"$f":"IF(E683<>\"\",ROUND((VLOOKUP(E683,Param!$A$7:$E$13,4,0)*Fonct_Empl!F683*((Fonct_Empl!G683/12)))+(VLOOKUP(E683,Param!$A$7:$E$13,5,0)*Fonct_Empl!H683),2),\"\")","v":""}]
[null,null,null,null,null,null,null,null,{"$f":"IF(E684<>\"\",ROUND((VLOOKUP(E684,Param!$A$7:$E$13,4,0)*Fonct_Empl!F684*((Fonct_Empl!G684/12)))+(VLOOKUP(E684,Param!$A$7:$E$13,5,0)*Fonct_Empl!H684),2),\"\")","v":""}]
[null,null,null,null,null,null,null,null,{"$f":"IF(E685<>\"\",ROUND((VLOOKUP(E685,Param!$A$7:$E$13,4,0)*Fonct_Empl!F685*((Fonct_Empl!G685/12)))+(VLOOKUP(E685,Param!$A$7:$E$13,5,0)*Fonct_Empl!H685),2),\"\")","v":""}]
[null,null,null,null,null,null,null,null,{"$f":"IF(E686<>\"\",ROUND((VLOOKUP(E686,Param!$A$7:$E$13,4,0)*Fonct_Empl!F686*((Fonct_Empl!G686/12)))+(VLOOKUP(E686,Param!$A$7:$E$13,5,0)*Fonct_Empl!H686),2),\"\")","v":""}]
[null,null,null,null,null,null,null,null,{"$f":"IF(E687<>\"\",ROUND((VLOOKUP(E687,Param!$A$7:$E$13,4,0)*Fonct_Empl!F687*((Fonct_Empl!G687/12)))+(VLOOKUP(E687,Param!$A$7:$E$13,5,0)*Fonct_Empl!H687),2),\"\")","v":""}]
[null,null,null,null,null,null,null,null,{"$f":"IF(E688<>\"\",ROUND((VLOOKUP(E688,Param!$A$7:$E$13,4,0)*Fonct_Empl!F688*((Fonct_Empl!G688/12)))+(VLOOKUP(E688,Param!$A$7:$E$13,5,0)*Fonct_Empl!H688),2),\"\")","v":""}]
[null,null,null,null,null,null,null,null,{"$f":"IF(E689<>\"\",ROUND((VLOOKUP(E689,Param!$A$7:$E$13,4,0)*Fonct_Empl!F689*((Fonct_Empl!G689/12)))+(VLOOKUP(E689,Param!$A$7:$E$13,5,0)*Fonct_Empl!H689),2),\"\")","v":""}]
[null,null,null,null,null,null,null,null,{"$f":"IF(E690<>\"\",ROUND((VLOOKUP(E690,Param!$A$7:$E$13,4,0)*Fonct_Empl!F690*((Fonct_Empl!G690/12)))+(VLOOKUP(E690,Param!$A$7:$E$13,5,0)*Fonct_Empl!H690),2),\"\")","v":""}]
[null,null,null,null,null,null,null,null,{"$f":"IF(E691<>\"\",ROUND((VLOOKUP(E691,Param!$A$7:$E$13,4,0)*Fonct_Empl!F691*((Fonct_Empl!G691/12)))+(VLOOKUP(E691,Param!$A$7:$E$13,5,0)*Fonct_Empl!H691),2),\"\")","v":""}]
[null,null,null,null,null,null,null,null,{"$f":"IF(E692<>\"\",ROUND((VLOOKUP(E692,Param!$A$7:$E$13,4,0)*Fonct_Empl!F692*((Fonct_Empl!G692/12)))+(VLOOKUP(E692,Param!$A$7:$E$13,5,0)*Fonct_Empl!H692),2),\"\")","v":""}]
[null,null,null,null,null,null,null,null,{"$f":"IF(E693<>\"\",ROUND((VLOOKUP(E693,Param!$A$7:$E$13,4,0)*Fonct_Empl!F693*((Fonct_Empl!G693/12)))+(VLOOKUP(E693,Param!$A$7:$E$13,5,0)*Fonct_Empl!H693),2),\"\")","v":""}]
[null,null,null,null,null,null,null,null,{"$f":"IF(E694<>\"\",ROUND((VLOOKUP(E694,Param!$A$7:$E$13,4,0)*Fonct_Empl!F694*((Fonct_Empl!G694/12)))+(VLOOKUP(E694,Param!$A$7:$E$13,5,0)*Fonct_Empl!H694),2),\"\")","v":""}]
[null,null,null,null,null,null,null,null,{"$f":"IF(E695<>\"\",ROUND((VLOOKUP(E695,Param!$A$7:$E$13,4,0)*Fonct_Empl!F695*((Fonct_Empl!G695/12)))+(VLOOKUP(E695,Param!$A$7:$E$13,5,0)*Fonct_Empl!H695),2),\"\")","v":""}]
[null,null,null,null,null,null,null,null,{"$f":"IF(E696<>\"\",ROUND((VLOOKUP(E696,Param!$A$7:$E$13,4,0)*Fonct_Empl!F696*((Fonct_Empl!G696/12)))+(VLOOKUP(E696,Param!$A$7:$E$13,5,0)*Fonct_Empl!H696),2),\"\")","v":""}]
[null,null,null,null,null,null,null,null,{"$f":"IF(E697<>\"\",ROUND((VLOOKUP(E697,Param!$A$7:$E$13,4,0)*Fonct_Empl!F697*((Fonct_Empl!G697/12)))+(VLOOKUP(E697,Param!$A$7:$E$13,5,0)*Fonct_Empl!H697),2),\"\")","v":""}]
[null,null,null,null,null,null,null,null,{"$f":"IF(E698<>\"\",ROUND((VLOOKUP(E698,Param!$A$7:$E$13,4,0)*Fonct_Empl!F698*((Fonct_Empl!G698/12)))+(VLOOKUP(E698,Param!$A$7:$E$13,5,0)*Fonct_Empl!H698),2),\"\")","v":""}]
[null,null,null,null,null,null,null,null,{"$f":"IF(E699<>\"\",ROUND((VLOOKUP(E699,Param!$A$7:$E$13,4,0)*Fonct_Empl!F699*((Fonct_Empl!G699/12)))+(VLOOKUP(E699,Param!$A$7:$E$13,5,0)*Fonct_Empl!H699),2),\"\")","v":""}]
[null,null,null,null,null,null,null,null,{"$f":"IF(E700<>\"\",ROUND((VLOOKUP(E700,Param!$A$7:$E$13,4,0)*Fonct_Empl!F700*((Fonct_Empl!G700/12)))+(VLOOKUP(E700,Param!$A$7:$E$13,5,0)*Fonct_Empl!H700),2),\"\")","v":""}]
[null,null,null,null,null,null,null,null,{"$f":"IF(E701<>\"\",ROUND((VLOOKUP(E701,Param!$A$7:$E$13,4,0)*Fonct_Empl!F701*((Fonct_Empl!G701/12)))+(VLOOKUP(E701,Param!$A$7:$E$13,5,0)*Fonct_Empl!H701),2),\"\")","v":""}]
[null,null,null,null,null,null,null,null,{"$f":"IF(E702<>\"\",ROUND((VLOOKUP(E702,Param!$A$7:$E$13,4,0)*Fonct_Empl!F702*((Fonct_Empl!G702/12)))+(VLOOKUP(E702,Param!$A$7:$E$13,5,0)*Fonct_Empl!H702),2),\"\")","v":""}]
[null,null,null,null,null,null,null,null,{"$f":"IF(E703<>\"\",ROUND((VLOOKUP(E703,Param!$A$7:$E$13,4,0)*Fonct_Empl!F703*((Fonct_Empl!G703/12)))+(VLOOKUP(E703,Param!$A$7:$E$13,5,0)*Fonct_Empl!H703),2),\"\")","v":""}]
[null,null,null,null,null,null,null,null,{"$f":"IF(E704<>\"\",ROUND((VLOOKUP(E704,Param!$A$7:$E$13,4,0)*Fonct_Empl!F704*((Fonct_Empl!G704/12)))+(VLOOKUP(E704,Param!$A$7:$E$13,5,0)*Fonct_Empl!H704),2),\"\")","v":""}]
[null,null,null,null,null,null,null,null,{"$f":"IF(E705<>\"\",ROUND((VLOOKUP(E705,Param!$A$7:$E$13,4,0)*Fonct_Empl!F705*((Fonct_Empl!G705/12)))+(VLOOKUP(E705,Param!$A$7:$E$13,5,0)*Fonct_Empl!H705),2),\"\")","v":""}]
[null,null,null,null,null,null,null,null,{"$f":"IF(E706<>\"\",ROUND((VLOOKUP(E706,Param!$A$7:$E$13,4,0)*Fonct_Empl!F706*((Fonct_Empl!G706/12)))+(VLOOKUP(E706,Param!$A$7:$E$13,5,0)*Fonct_Empl!H706),2),\"\")","v":""}]
[null,null,null,null,null,null,null,null,{"$f":"IF(E707<>\"\",ROUND((VLOOKUP(E707,Param!$A$7:$E$13,4,0)*Fonct_Empl!F707*((Fonct_Empl!G707/12)))+(VLOOKUP(E707,Param!$A$7:$E$13,5,0)*Fonct_Empl!H707),2),\"\")","v":""}]
[null,null,null,null,null,null,null,null,{"$f":"IF(E708<>\"\",ROUND((VLOOKUP(E708,Param!$A$7:$E$13,4,0)*Fonct_Empl!F708*((Fonct_Empl!G708/12)))+(VLOOKUP(E708,Param!$A$7:$E$13,5,0)*Fonct_Empl!H708),2),\"\")","v":""}]
[null,null,null,null,null,null,null,null,{"$f":"IF(E709<>\"\",ROUND((VLOOKUP(E709,Param!$A$7:$E$13,4,0)*Fonct_Empl!F709*((Fonct_Empl!G709/12)))+(VLOOKUP(E709,Param!$A$7:$E$13,5,0)*Fonct_Empl!H709),2),\"\")","v":""}]
[null,null,null,null,null,null,null,null,{"$f":"IF(E710<>\"\",ROUND((VLOOKUP(E710,Param!$A$7:$E$13,4,0)*Fonct_Empl!F710*((Fonct_Empl!G710/12)))+(VLOOKUP(E710,Param!$A$7:$E$13,5,0)*Fonct_Empl!H710),2),\"\")","v":""}]
[null,null,null,null,null,null,null,null,{"$f":"IF(E711<>\"\",ROUND((VLOOKUP(E711,Param!$A$7:$E$13,4,0)*Fonct_Empl!F711*((Fonct_Empl!G711/12)))+(VLOOKUP(E711,Param!$A$7:$E$13,5,0)*Fonct_Empl!H711),2),\"\")","v":""}]
[null,null,null,null,null,null,null,null,{"$f":"IF(E712<>\"\",ROUND((VLOOKUP(E712,Param!$A$7:$E$13,4,0)*Fonct_Empl!F712*((Fonct_Empl!G712/12)))+(VLOOKUP(E712,Param!$A$7:$E$13,5,0)*Fonct_Empl!H712),2),\"\")","v":""}]
[null,null,null,null,null,null,null,null,{"$f":"IF(E713<>\"\",ROUND((VLOOKUP(E713,Param!$A$7:$E$13,4,0)*Fonct_Empl!F713*((Fonct_Empl!G713/12)))+(VLOOKUP(E713,Param!$A$7:$E$13,5,0)*Fonct_Empl!H713),2),\"\")","v":""}]
[null,null,null,null,null,null,null,null,{"$f":"IF(E714<>\"\",ROUND((VLOOKUP(E714,Param!$A$7:$E$13,4,0)*Fonct_Empl!F714*((Fonct_Empl!G714/12)))+(VLOOKUP(E714,Param!$A$7:$E$13,5,0)*Fonct_Empl!H714),2),\"\")","v":""}]
[null,null,null,null,null,null,null,null,{"$f":"IF(E715<>\"\",ROUND((VLOOKUP(E715,Param!$A$7:$E$13,4,0)*Fonct_Empl!F715*((Fonct_Empl!G715/12)))+(VLOOKUP(E715,Param!$A$7:$E$13,5,0)*Fonct_Empl!H715),2),\"\")","v":""}]
[null,null,null,null,null,null,null,null,{"$f":"IF(E716<>\"\",ROUND((VLOOKUP(E716,Param!$A$7:$E$13,4,0)*Fonct_Empl!F716*((Fonct_Empl!G716/12)))+(VLOOKUP(E716,Param!$A$7:$E$13,5,0)*Fonct_Empl!H716),2),\"\")","v":""}]
[null,null,null,null,null,null,null,null,{"$f":"IF(E717<>\"\",ROUND((VLOOKUP(E717,Param!$A$7:$E$13,4,0)*Fonct_Empl!F717*((Fonct_Empl!G717/12)))+(VLOOKUP(E717,Param!$A$7:$E$13,5,0)*Fonct_Empl!H717),2),\"\")","v":""}]
[null,null,null,null,null,null,null,null,{"$f":"IF(E718<>\"\",ROUND((VLOOKUP(E718,Param!$A$7:$E$13,4,0)*Fonct_Empl!F718*((Fonct_Empl!G718/12)))+(VLOOKUP(E718,Param!$A$7:$E$13,5,0)*Fonct_Empl!H718),2),\"\")","v":""}]
[null,null,null,null,null,null,null,null,{"$f":"IF(E719<>\"\",ROUND((VLOOKUP(E719,Param!$A$7:$E$13,4,0)*Fonct_Empl!F719*((Fonct_Empl!G719/12)))+(VLOOKUP(E719,Param!$A$7:$E$13,5,0)*Fonct_Empl!H719),2),\"\")","v":""}]
[null,null,null,null,null,null,null,null,{"$f":"IF(E720<>\"\",ROUND((VLOOKUP(E720,Param!$A$7:$E$13,4,0)*Fonct_Empl!F720*((Fonct_Empl!G720/12)))+(VLOOKUP(E720,Param!$A$7:$E$13,5,0)*Fonct_Empl!H720),2),\"\")","v":""}]
[null,null,null,null,null,null,null,null,{"$f":"IF(E721<>\"\",ROUND((VLOOKUP(E721,Param!$A$7:$E$13,4,0)*Fonct_Empl!F721*((Fonct_Empl!G721/12)))+(VLOOKUP(E721,Param!$A$7:$E$13,5,0)*Fonct_Empl!H721),2),\"\")","v":""}]
[null,null,null,null,null,null,null,null,{"$f":"IF(E722<>\"\",ROUND((VLOOKUP(E722,Param!$A$7:$E$13,4,0)*Fonct_Empl!F722*((Fonct_Empl!G722/12)))+(VLOOKUP(E722,Param!$A$7:$E$13,5,0)*Fonct_Empl!H722),2),\"\")","v":""}]
[null,null,null,null,null,null,null,null,{"$f":"IF(E723<>\"\",ROUND((VLOOKUP(E723,Param!$A$7:$E$13,4,0)*Fonct_Empl!F723*((Fonct_Empl!G723/12)))+(VLOOKUP(E723,Param!$A$7:$E$13,5,0)*Fonct_Empl!H723),2),\"\")","v":""}]
[null,null,null,null,null,null,null,null,{"$f":"IF(E724<>\"\",ROUND((VLOOKUP(E724,Param!$A$7:$E$13,4,0)*Fonct_Empl!F724*((Fonct_Empl!G724/12)))+(VLOOKUP(E724,Param!$A$7:$E$13,5,0)*Fonct_Empl!H724),2),\"\")","v":""}]
[null,null,null,null,null,null,null,null,{"$f":"IF(E725<>\"\",ROUND((VLOOKUP(E725,Param!$A$7:$E$13,4,0)*Fonct_Empl!F725*((Fonct_Empl!G725/12)))+(VLOOKUP(E725,Param!$A$7:$E$13,5,0)*Fonct_Empl!H725),2),\"\")","v":""}]
[null,null,null,null,null,null,null,null,{"$f":"IF(E726<>\"\",ROUND((VLOOKUP(E726,Param!$A$7:$E$13,4,0)*Fonct_Empl!F726*((Fonct_Empl!G726/12)))+(VLOOKUP(E726,Param!$A$7:$E$13,5,0)*Fonct_Empl!H726),2),\"\")","v":""}]
[null,null,null,null,null,null,null,null,{"$f":"IF(E727<>\"\",ROUND((VLOOKUP(E727,Param!$A$7:$E$13,4,0)*Fonct_Empl!F727*((Fonct_Empl!G727/12)))+(VLOOKUP(E727,Param!$A$7:$E$13,5,0)*Fonct_Empl!H727),2),\"\")","v":""}]
[null,null,null,null,null,null,null,null,{"$f":"IF(E728<>\"\",ROUND((VLOOKUP(E728,Param!$A$7:$E$13,4,0)*Fonct_Empl!F728*((Fonct_Empl!G728/12)))+(VLOOKUP(E728,Param!$A$7:$E$13,5,0)*Fonct_Empl!H728),2),\"\")","v":""}]
[null,null,null,null,null,null,null,null,{"$f":"IF(E729<>\"\",ROUND((VLOOKUP(E729,Param!$A$7:$E$13,4,0)*Fonct_Empl!F729*((Fonct_Empl!G729/12)))+(VLOOKUP(E729,Param!$A$7:$E$13,5,0)*Fonct_Empl!H729),2),\"\")","v":""}]
[null,null,null,null,null,null,null,null,{"$f":"IF(E730<>\"\",ROUND((VLOOKUP(E730,Param!$A$7:$E$13,4,0)*Fonct_Empl!F730*((Fonct_Empl!G730/12)))+(VLOOKUP(E730,Param!$A$7:$E$13,5,0)*Fonct_Empl!H730),2),\"\")","v":""}]
[null,null,null,null,null,null,null,null,{"$f":"IF(E731<>\"\",ROUND((VLOOKUP(E731,Param!$A$7:$E$13,4,0)*Fonct_Empl!F731*((Fonct_Empl!G731/12)))+(VLOOKUP(E731,Param!$A$7:$E$13,5,0)*Fonct_Empl!H731),2),\"\")","v":""}]
[null,null,null,null,null,null,null,null,{"$f":"IF(E732<>\"\",ROUND((VLOOKUP(E732,Param!$A$7:$E$13,4,0)*Fonct_Empl!F732*((Fonct_Empl!G732/12)))+(VLOOKUP(E732,Param!$A$7:$E$13,5,0)*Fonct_Empl!H732),2),\"\")","v":""}]
[null,null,null,null,null,null,null,null,{"$f":"IF(E733<>\"\",ROUND((VLOOKUP(E733,Param!$A$7:$E$13,4,0)*Fonct_Empl!F733*((Fonct_Empl!G733/12)))+(VLOOKUP(E733,Param!$A$7:$E$13,5,0)*Fonct_Empl!H733),2),\"\")","v":""}]
[null,null,null,null,null,null,null,null,{"$f":"IF(E734<>\"\",ROUND((VLOOKUP(E734,Param!$A$7:$E$13,4,0)*Fonct_Empl!F734*((Fonct_Empl!G734/12)))+(VLOOKUP(E734,Param!$A$7:$E$13,5,0)*Fonct_Empl!H734),2),\"\")","v":""}]
[null,null,null,null,null,null,null,null,{"$f":"IF(E735<>\"\",ROUND((VLOOKUP(E735,Param!$A$7:$E$13,4,0)*Fonct_Empl!F735*((Fonct_Empl!G735/12)))+(VLOOKUP(E735,Param!$A$7:$E$13,5,0)*Fonct_Empl!H735),2),\"\")","v":""}]
[null,null,null,null,null,null,null,null,{"$f":"IF(E736<>\"\",ROUND((VLOOKUP(E736,Param!$A$7:$E$13,4,0)*Fonct_Empl!F736*((Fonct_Empl!G736/12)))+(VLOOKUP(E736,Param!$A$7:$E$13,5,0)*Fonct_Empl!H736),2),\"\")","v":""}]
[null,null,null,null,null,null,null,null,{"$f":"IF(E737<>\"\",ROUND((VLOOKUP(E737,Param!$A$7:$E$13,4,0)*Fonct_Empl!F737*((Fonct_Empl!G737/12)))+(VLOOKUP(E737,Param!$A$7:$E$13,5,0)*Fonct_Empl!H737),2),\"\")","v":""}]
[null,null,null,null,null,null,null,null,{"$f":"IF(E738<>\"\",ROUND((VLOOKUP(E738,Param!$A$7:$E$13,4,0)*Fonct_Empl!F738*((Fonct_Empl!G738/12)))+(VLOOKUP(E738,Param!$A$7:$E$13,5,0)*Fonct_Empl!H738),2),\"\")","v":""}]
[null,null,null,null,null,null,null,null,{"$f":"IF(E739<>\"\",ROUND((VLOOKUP(E739,Param!$A$7:$E$13,4,0)*Fonct_Empl!F739*((Fonct_Empl!G739/12)))+(VLOOKUP(E739,Param!$A$7:$E$13,5,0)*Fonct_Empl!H739),2),\"\")","v":""}]
[null,null,null,null,null,null,null,null,{"$f":"IF(E740<>\"\",ROUND((VLOOKUP(E740,Param!$A$7:$E$13,4,0)*Fonct_Empl!F740*((Fonct_Empl!G740/12)))+(VLOOKUP(E740,Param!$A$7:$E$13,5,0)*Fonct_Empl!H740),2),\"\")","v":""}]
[null,null,null,null,null,null,null,null,{"$f":"IF(E741<>\"\",ROUND((VLOOKUP(E741,Param!$A$7:$E$13,4,0)*Fonct_Empl!F741*((Fonct_Empl!G741/12)))+(VLOOKUP(E741,Param!$A$7:$E$13,5,0)*Fonct_Empl!H741),2),\"\")","v":""}]
[null,null,null,null,null,null,null,null,{"$f":"IF(E742<>\"\",ROUND((VLOOKUP(E742,Param!$A$7:$E$13,4,0)*Fonct_Empl!F742*((Fonct_Empl!G742/12)))+(VLOOKUP(E742,Param!$A$7:$E$13,5,0)*Fonct_Empl!H742),2),\"\")","v":""}]
[null,null,null,null,null,null,null,null,{"$f":"IF(E743<>\"\",ROUND((VLOOKUP(E743,Param!$A$7:$E$13,4,0)*Fonct_Empl!F743*((Fonct_Empl!G743/12)))+(VLOOKUP(E743,Param!$A$7:$E$13,5,0)*Fonct_Empl!H743),2),\"\")","v":""}]
[null,null,null,null,null,null,null,null,{"$f":"IF(E744<>\"\",ROUND((VLOOKUP(E744,Param!$A$7:$E$13,4,0)*Fonct_Empl!F744*((Fonct_Empl!G744/12)))+(VLOOKUP(E744,Param!$A$7:$E$13,5,0)*Fonct_Empl!H744),2),\"\")","v":""}]
[null,null,null,null,null,null,null,null,{"$f":"IF(E745<>\"\",ROUND((VLOOKUP(E745,Param!$A$7:$E$13,4,0)*Fonct_Empl!F745*((Fonct_Empl!G745/12)))+(VLOOKUP(E745,Param!$A$7:$E$13,5,0)*Fonct_Empl!H745),2),\"\")","v":""}]
[null,null,null,null,null,null,null,null,{"$f":"IF(E746<>\"\",ROUND((VLOOKUP(E746,Param!$A$7:$E$13,4,0)*Fonct_Empl!F746*((Fonct_Empl!G746/12)))+(VLOOKUP(E746,Param!$A$7:$E$13,5,0)*Fonct_Empl!H746),2),\"\")","v":""}]
[null,null,null,null,null,null,null,null,{"$f":"IF(E747<>\"\",ROUND((VLOOKUP(E747,Param!$A$7:$E$13,4,0)*Fonct_Empl!F747*((Fonct_Empl!G747/12)))+(VLOOKUP(E747,Param!$A$7:$E$13,5,0)*Fonct_Empl!H747),2),\"\")","v":""}]
[null,null,null,null,null,null,null,null,{"$f":"IF(E748<>\"\",ROUND((VLOOKUP(E748,Param!$A$7:$E$13,4,0)*Fonct_Empl!F748*((Fonct_Empl!G748/12)))+(VLOOKUP(E748,Param!$A$7:$E$13,5,0)*Fonct_Empl!H748),2),\"\")","v":""}]
[null,null,null,null,null,null,null,null,{"$f":"IF(E749<>\"\",ROUND((VLOOKUP(E749,Param!$A$7:$E$13,4,0)*Fonct_Empl!F749*((Fonct_Empl!G749/12)))+(VLOOKUP(E749,Param!$A$7:$E$13,5,0)*Fonct_Empl!H749),2),\"\")","v":""}]
[null,null,null,null,null,null,null,null,{"$f":"IF(E750<>\"\",ROUND((VLOOKUP(E750,Param!$A$7:$E$13,4,0)*Fonct_Empl!F750*((Fonct_Empl!G750/12)))+(VLOOKUP(E750,Param!$A$7:$E$13,5,0)*Fonct_Empl!H750),2),\"\")","v":""}]
[null,null,null,null,null,null,null,null,{"$f":"IF(E751<>\"\",ROUND((VLOOKUP(E751,Param!$A$7:$E$13,4,0)*Fonct_Empl!F751*((Fonct_Empl!G751/12)))+(VLOOKUP(E751,Param!$A$7:$E$13,5,0)*Fonct_Empl!H751),2),\"\")","v":""}]
[null,null,null,null,null,null,null,null,{"$f":"IF(E752<>\"\",ROUND((VLOOKUP(E752,Param!$A$7:$E$13,4,0)*Fonct_Empl!F752*((Fonct_Empl!G752/12)))+(VLOOKUP(E752,Param!$A$7:$E$13,5,0)*Fonct_Empl!H752),2),\"\")","v":""}]
[null,null,null,null,null,null,null,null,{"$f":"IF(E753<>\"\",ROUND((VLOOKUP(E753,Param!$A$7:$E$13,4,0)*Fonct_Empl!F753*((Fonct_Empl!G753/12)))+(VLOOKUP(E753,Param!$A$7:$E$13,5,0)*Fonct_Empl!H753),2),\"\")","v":""}]
[null,null,null,null,null,null,null,null,{"$f":"IF(E754<>\"\",ROUND((VLOOKUP(E754,Param!$A$7:$E$13,4,0)*Fonct_Empl!F754*((Fonct_Empl!G754/12)))+(VLOOKUP(E754,Param!$A$7:$E$13,5,0)*Fonct_Empl!H754),2),\"\")","v":""}]
[null,null,null,null,null,null,null,null,{"$f":"IF(E755<>\"\",ROUND((VLOOKUP(E755,Param!$A$7:$E$13,4,0)*Fonct_Empl!F755*((Fonct_Empl!G755/12)))+(VLOOKUP(E755,Param!$A$7:$E$13,5,0)*Fonct_Empl!H755),2),\"\")","v":""}]
[null,null,null,null,null,null,null,null,{"$f":"IF(E756<>\"\",ROUND((VLOOKUP(E756,Param!$A$7:$E$13,4,0)*Fonct_Empl!F756*((Fonct_Empl!G756/12)))+(VLOOKUP(E756,Param!$A$7:$E$13,5,0)*Fonct_Empl!H756),2),\"\")","v":""}]
[null,null,null,null,null,null,null,null,{"$f":"IF(E757<>\"\",ROUND((VLOOKUP(E757,Param!$A$7:$E$13,4,0)*Fonct_Empl!F757*((Fonct_Empl!G757/12)))+(VLOOKUP(E757,Param!$A$7:$E$13,5,0)*Fonct_Empl!H757),2),\"\")","v":""}]
[null,null,null,null,null,null,null,null,{"$f":"IF(E758<>\"\",ROUND((VLOOKUP(E758,Param!$A$7:$E$13,4,0)*Fonct_Empl!F758*((Fonct_Empl!G758/12)))+(VLOOKUP(E758,Param!$A$7:$E$13,5,0)*Fonct_Empl!H758),2),\"\")","v":""}]
[null,null,null,null,null,null,null,null,{"$f":"IF(E759<>\"\",ROUND((VLOOKUP(E759,Param!$A$7:$E$13,4,0)*Fonct_Empl!F759*((Fonct_Empl!G759/12)))+(VLOOKUP(E759,Param!$A$7:$E$13,5,0)*Fonct_Empl!H759),2),\"\")","v":""}]
[null,null,null,null,null,null,null,null,{"$f":"IF(E760<>\"\",ROUND((VLOOKUP(E760,Param!$A$7:$E$13,4,0)*Fonct_Empl!F760*((Fonct_Empl!G760/12)))+(VLOOKUP(E760,Param!$A$7:$E$13,5,0)*Fonct_Empl!H760),2),\"\")","v":""}]
[null,null,null,null,null,null,null,null,{"$f":"IF(E761<>\"\",ROUND((VLOOKUP(E761,Param!$A$7:$E$13,4,0)*Fonct_Empl!F761*((Fonct_Empl!G761/12)))+(VLOOKUP(E761,Param!$A$7:$E$13,5,0)*Fonct_Empl!H761),2),\"\")","v":""}]
[null,null,null,null,null,null,null,null,{"$f":"IF(E762<>\"\",ROUND((VLOOKUP(E762,Param!$A$7:$E$13,4,0)*Fonct_Empl!F762*((Fonct_Empl!G762/12)))+(VLOOKUP(E762,Param!$A$7:$E$13,5,0)*Fonct_Empl!H762),2),\"\")","v":""}]
[null,null,null,null,null,null,null,null,{"$f":"IF(E763<>\"\",ROUND((VLOOKUP(E763,Param!$A$7:$E$13,4,0)*Fonct_Empl!F763*((Fonct_Empl!G763/12)))+(VLOOKUP(E763,Param!$A$7:$E$13,5,0)*Fonct_Empl!H763),2),\"\")","v":""}]
[null,null,null,null,null,null,null,null,{"$f":"IF(E764<>\"\",ROUND((VLOOKUP(E764,Param!$A$7:$E$13,4,0)*Fonct_Empl!F764*((Fonct_Empl!G764/12)))+(VLOOKUP(E764,Param!$A$7:$E$13,5,0)*Fonct_Empl!H764),2),\"\")","v":""}]
[null,null,null,null,null,null,null,null,{"$f":"IF(E765<>\"\",ROUND((VLOOKUP(E765,Param!$A$7:$E$13,4,0)*Fonct_Empl!F765*((Fonct_Empl!G765/12)))+(VLOOKUP(E765,Param!$A$7:$E$13,5,0)*Fonct_Empl!H765),2),\"\")","v":""}]
[null,null,null,null,null,null,null,null,{"$f":"IF(E766<>\"\",ROUND((VLOOKUP(E766,Param!$A$7:$E$13,4,0)*Fonct_Empl!F766*((Fonct_Empl!G766/12)))+(VLOOKUP(E766,Param!$A$7:$E$13,5,0)*Fonct_Empl!H766),2),\"\")","v":""}]
[null,null,null,null,null,null,null,null,{"$f":"IF(E767<>\"\",ROUND((VLOOKUP(E767,Param!$A$7:$E$13,4,0)*Fonct_Empl!F767*((Fonct_Empl!G767/12)))+(VLOOKUP(E767,Param!$A$7:$E$13,5,0)*Fonct_Empl!H767),2),\"\")","v":""}]
[null,null,null,null,null,null,null,null,{"$f":"IF(E768<>\"\",ROUND((VLOOKUP(E768,Param!$A$7:$E$13,4,0)*Fonct_Empl!F768*((Fonct_Empl!G768/12)))+(VLOOKUP(E768,Param!$A$7:$E$13,5,0)*Fonct_Empl!H768),2),\"\")","v":""}]
[null,null,null,null,null,null,null,null,{"$f":"IF(E769<>\"\",ROUND((VLOOKUP(E769,Param!$A$7:$E$13,4,0)*Fonct_Empl!F769*((Fonct_Empl!G769/12)))+(VLOOKUP(E769,Param!$A$7:$E$13,5,0)*Fonct_Empl!H769),2),\"\")","v":""}]
[null,null,null,null,null,null,null,null,{"$f":"IF(E770<>\"\",ROUND((VLOOKUP(E770,Param!$A$7:$E$13,4,0)*Fonct_Empl!F770*((Fonct_Empl!G770/12)))+(VLOOKUP(E770,Param!$A$7:$E$13,5,0)*Fonct_Empl!H770),2),\"\")","v":""}]
[null,null,null,null,null,null,null,null,{"$f":"IF(E771<>\"\",ROUND((VLOOKUP(E771,Param!$A$7:$E$13,4,0)*Fonct_Empl!F771*((Fonct_Empl!G771/12)))+(VLOOKUP(E771,Param!$A$7:$E$13,5,0)*Fonct_Empl!H771),2),\"\")","v":""}]
[null,null,null,null,null,null,null,null,{"$f":"IF(E772<>\"\",ROUND((VLOOKUP(E772,Param!$A$7:$E$13,4,0)*Fonct_Empl!F772*((Fonct_Empl!G772/12)))+(VLOOKUP(E772,Param!$A$7:$E$13,5,0)*Fonct_Empl!H772),2),\"\")","v":""}]
[null,null,null,null,null,null,null,null,{"$f":"IF(E773<>\"\",ROUND((VLOOKUP(E773,Param!$A$7:$E$13,4,0)*Fonct_Empl!F773*((Fonct_Empl!G773/12)))+(VLOOKUP(E773,Param!$A$7:$E$13,5,0)*Fonct_Empl!H773),2),\"\")","v":""}]
[null,null,null,null,null,null,null,null,{"$f":"IF(E774<>\"\",ROUND((VLOOKUP(E774,Param!$A$7:$E$13,4,0)*Fonct_Empl!F774*((Fonct_Empl!G774/12)))+(VLOOKUP(E774,Param!$A$7:$E$13,5,0)*Fonct_Empl!H774),2),\"\")","v":""}]
[null,null,null,null,null,null,null,null,{"$f":"IF(E775<>\"\",ROUND((VLOOKUP(E775,Param!$A$7:$E$13,4,0)*Fonct_Empl!F775*((Fonct_Empl!G775/12)))+(VLOOKUP(E775,Param!$A$7:$E$13,5,0)*Fonct_Empl!H775),2),\"\")","v":""}]
[null,null,null,null,null,null,null,null,{"$f":"IF(E776<>\"\",ROUND((VLOOKUP(E776,Param!$A$7:$E$13,4,0)*Fonct_Empl!F776*((Fonct_Empl!G776/12)))+(VLOOKUP(E776,Param!$A$7:$E$13,5,0)*Fonct_Empl!H776),2),\"\")","v":""}]
[null,null,null,null,null,null,null,null,{"$f":"IF(E777<>\"\",ROUND((VLOOKUP(E777,Param!$A$7:$E$13,4,0)*Fonct_Empl!F777*((Fonct_Empl!G777/12)))+(VLOOKUP(E777,Param!$A$7:$E$13,5,0)*Fonct_Empl!H777),2),\"\")","v":""}]
[null,null,null,null,null,null,null,null,{"$f":"IF(E778<>\"\",ROUND((VLOOKUP(E778,Param!$A$7:$E$13,4,0)*Fonct_Empl!F778*((Fonct_Empl!G778/12)))+(VLOOKUP(E778,Param!$A$7:$E$13,5,0)*Fonct_Empl!H778),2),\"\")","v":""}]
[null,null,null,null,null,null,null,null,{"$f":"IF(E779<>\"\",ROUND((VLOOKUP(E779,Param!$A$7:$E$13,4,0)*Fonct_Empl!F779*((Fonct_Empl!G779/12)))+(VLOOKUP(E779,Param!$A$7:$E$13,5,0)*Fonct_Empl!H779),2),\"\")","v":""}]
[null,null,null,null,null,null,null,null,{"$f":"IF(E780<>\"\",ROUND((VLOOKUP(E780,Param!$A$7:$E$13,4,0)*Fonct_Empl!F780*((Fonct_Empl!G780/12)))+(VLOOKUP(E780,Param!$A$7:$E$13,5,0)*Fonct_Empl!H780),2),\"\")","v":""}]
[null,null,null,null,null,null,null,null,{"$f":"IF(E781<>\"\",ROUND((VLOOKUP(E781,Param!$A$7:$E$13,4,0)*Fonct_Empl!F781*((Fonct_Empl!G781/12)))+(VLOOKUP(E781,Param!$A$7:$E$13,5,0)*Fonct_Empl!H781),2),\"\")","v":""}]
[null,null,null,null,null,null,null,null,{"$f":"IF(E782<>\"\",ROUND((VLOOKUP(E782,Param!$A$7:$E$13,4,0)*Fonct_Empl!F782*((Fonct_Empl!G782/12)))+(VLOOKUP(E782,Param!$A$7:$E$13,5,0)*Fonct_Empl!H782),2),\"\")","v":""}]
[null,null,null,null,null,null,null,null,{"$f":"IF(E783<>\"\",ROUND((VLOOKUP(E783,Param!$A$7:$E$13,4,0)*Fonct_Empl!F783*((Fonct_Empl!G783/12)))+(VLOOKUP(E783,Param!$A$7:$E$13,5,0)*Fonct_Empl!H783),2),\"\")","v":""}]
[null,null,null,null,null,null,null,null,{"$f":"IF(E784<>\"\",ROUND((VLOOKUP(E784,Param!$A$7:$E$13,4,0)*Fonct_Empl!F784*((Fonct_Empl!G784/12)))+(VLOOKUP(E784,Param!$A$7:$E$13,5,0)*Fonct_Empl!H784),2),\"\")","v":""}]
[null,null,null,null,null,null,null,null,{"$f":"IF(E785<>\"\",ROUND((VLOOKUP(E785,Param!$A$7:$E$13,4,0)*Fonct_Empl!F785*((Fonct_Empl!G785/12)))+(VLOOKUP(E785,Param!$A$7:$E$13,5,0)*Fonct_Empl!H785),2),\"\")","v":""}]
[null,null,null,null,null,null,null,null,{"$f":"IF(E786<>\"\",ROUND((VLOOKUP(E786,Param!$A$7:$E$13,4,0)*Fonct_Empl!F786*((Fonct_Empl!G786/12)))+(VLOOKUP(E786,Param!$A$7:$E$13,5,0)*Fonct_Empl!H786),2),\"\")","v":""}]
[null,null,null,null,null,null,null,null,{"$f":"IF(E787<>\"\",ROUND((VLOOKUP(E787,Param!$A$7:$E$13,4,0)*Fonct_Empl!F787*((Fonct_Empl!G787/12)))+(VLOOKUP(E787,Param!$A$7:$E$13,5,0)*Fonct_Empl!H787),2),\"\")","v":""}]
[null,null,null,null,null,null,null,null,{"$f":"IF(E788<>\"\",ROUND((VLOOKUP(E788,Param!$A$7:$E$13,4,0)*Fonct_Empl!F788*((Fonct_Empl!G788/12)))+(VLOOKUP(E788,Param!$A$7:$E$13,5,0)*Fonct_Empl!H788),2),\"\")","v":""}]
[null,null,null,null,null,null,null,null,{"$f":"IF(E789<>\"\",ROUND((VLOOKUP(E789,Param!$A$7:$E$13,4,0)*Fonct_Empl!F789*((Fonct_Empl!G789/12)))+(VLOOKUP(E789,Param!$A$7:$E$13,5,0)*Fonct_Empl!H789),2),\"\")","v":""}]
[null,null,null,null,null,null,null,null,{"$f":"IF(E790<>\"\",ROUND((VLOOKUP(E790,Param!$A$7:$E$13,4,0)*Fonct_Empl!F790*((Fonct_Empl!G790/12)))+(VLOOKUP(E790,Param!$A$7:$E$13,5,0)*Fonct_Empl!H790),2),\"\")","v":""}]
[null,null,null,null,null,null,null,null,{"$f":"IF(E791<>\"\",ROUND((VLOOKUP(E791,Param!$A$7:$E$13,4,0)*Fonct_Empl!F791*((Fonct_Empl!G791/12)))+(VLOOKUP(E791,Param!$A$7:$E$13,5,0)*Fonct_Empl!H791),2),\"\")","v":""}]
[null,null,null,null,null,null,null,null,{"$f":"IF(E792<>\"\",ROUND((VLOOKUP(E792,Param!$A$7:$E$13,4,0)*Fonct_Empl!F792*((Fonct_Empl!G792/12)))+(VLOOKUP(E792,Param!$A$7:$E$13,5,0)*Fonct_Empl!H792),2),\"\")","v":""}]
[null,null,null,null,null,null,null,null,{"$f":"IF(E793<>\"\",ROUND((VLOOKUP(E793,Param!$A$7:$E$13,4,0)*Fonct_Empl!F793*((Fonct_Empl!G793/12)))+(VLOOKUP(E793,Param!$A$7:$E$13,5,0)*Fonct_Empl!H793),2),\"\")","v":""}]
[null,null,null,null,null,null,null,null,{"$f":"IF(E794<>\"\",ROUND((VLOOKUP(E794,Param!$A$7:$E$13,4,0)*Fonct_Empl!F794*((Fonct_Empl!G794/12)))+(VLOOKUP(E794,Param!$A$7:$E$13,5,0)*Fonct_Empl!H794),2),\"\")","v":""}]
[null,null,null,null,null,null,null,null,{"$f":"IF(E795<>\"\",ROUND((VLOOKUP(E795,Param!$A$7:$E$13,4,0)*Fonct_Empl!F795*((Fonct_Empl!G795/12)))+(VLOOKUP(E795,Param!$A$7:$E$13,5,0)*Fonct_Empl!H795),2),\"\")","v":""}]
[null,null,null,null,null,null,null,null,{"$f":"IF(E796<>\"\",ROUND((VLOOKUP(E796,Param!$A$7:$E$13,4,0)*Fonct_Empl!F796*((Fonct_Empl!G796/12)))+(VLOOKUP(E796,Param!$A$7:$E$13,5,0)*Fonct_Empl!H796),2),\"\")","v":""}]
[null,null,null,null,null,null,null,null,{"$f":"IF(E797<>\"\",ROUND((VLOOKUP(E797,Param!$A$7:$E$13,4,0)*Fonct_Empl!F797*((Fonct_Empl!G797/12)))+(VLOOKUP(E797,Param!$A$7:$E$13,5,0)*Fonct_Empl!H797),2),\"\")","v":""}]
[null,null,null,null,null,null,null,null,{"$f":"IF(E798<>\"\",ROUND((VLOOKUP(E798,Param!$A$7:$E$13,4,0)*Fonct_Empl!F798*((Fonct_Empl!G798/12)))+(VLOOKUP(E798,Param!$A$7:$E$13,5,0)*Fonct_Empl!H798),2),\"\")","v":""}]
[null,null,null,null,null,null,null,null,{"$f":"IF(E799<>\"\",ROUND((VLOOKUP(E799,Param!$A$7:$E$13,4,0)*Fonct_Empl!F799*((Fonct_Empl!G799/12)))+(VLOOKUP(E799,Param!$A$7:$E$13,5,0)*Fonct_Empl!H799),2),\"\")","v":""}]
[null,null,null,null,null,null,null,null,{"$f":"IF(E800<>\"\",ROUND((VLOOKUP(E800,Param!$A$7:$E$13,4,0)*Fonct_Empl!F800*((Fonct_Empl!G800/12)))+(VLOOKUP(E800,Param!$A$7:$E$13,5,0)*Fonct_Empl!H800),2),\"\")","v":""}]
[null,null,null,null,null,null,null,null,{"$f":"IF(E801<>\"\",ROUND((VLOOKUP(E801,Param!$A$7:$E$13,4,0)*Fonct_Empl!F801*((Fonct_Empl!G801/12)))+(VLOOKUP(E801,Param!$A$7:$E$13,5,0)*Fonct_Empl!H801),2),\"\")","v":""}]
[null,null,null,null,null,null,null,null,{"$f":"IF(E802<>\"\",ROUND((VLOOKUP(E802,Param!$A$7:$E$13,4,0)*Fonct_Empl!F802*((Fonct_Empl!G802/12)))+(VLOOKUP(E802,Param!$A$7:$E$13,5,0)*Fonct_Empl!H802),2),\"\")","v":""}]
[null,null,null,null,null,null,null,null,{"$f":"IF(E803<>\"\",ROUND((VLOOKUP(E803,Param!$A$7:$E$13,4,0)*Fonct_Empl!F803*((Fonct_Empl!G803/12)))+(VLOOKUP(E803,Param!$A$7:$E$13,5,0)*Fonct_Empl!H803),2),\"\")","v":""}]
[null,null,null,null,null,null,null,null,{"$f":"IF(E804<>\"\",ROUND((VLOOKUP(E804,Param!$A$7:$E$13,4,0)*Fonct_Empl!F804*((Fonct_Empl!G804/12)))+(VLOOKUP(E804,Param!$A$7:$E$13,5,0)*Fonct_Empl!H804),2),\"\")","v":""}]
[null,null,null,null,null,null,null,null,{"$f":"IF(E805<>\"\",ROUND((VLOOKUP(E805,Param!$A$7:$E$13,4,0)*Fonct_Empl!F805*((Fonct_Empl!G805/12)))+(VLOOKUP(E805,Param!$A$7:$E$13,5,0)*Fonct_Empl!H805),2),\"\")","v":""}]
[null,null,null,null,null,null,null,null,{"$f":"IF(E806<>\"\",ROUND((VLOOKUP(E806,Param!$A$7:$E$13,4,0)*Fonct_Empl!F806*((Fonct_Empl!G806/12)))+(VLOOKUP(E806,Param!$A$7:$E$13,5,0)*Fonct_Empl!H806),2),\"\")","v":""}]
[null,null,null,null,null,null,null,null,{"$f":"IF(E807<>\"\",ROUND((VLOOKUP(E807,Param!$A$7:$E$13,4,0)*Fonct_Empl!F807*((Fonct_Empl!G807/12)))+(VLOOKUP(E807,Param!$A$7:$E$13,5,0)*Fonct_Empl!H807),2),\"\")","v":""}]
[null,null,null,null,null,null,null,null,{"$f":"IF(E808<>\"\",ROUND((VLOOKUP(E808,Param!$A$7:$E$13,4,0)*Fonct_Empl!F808*((Fonct_Empl!G808/12)))+(VLOOKUP(E808,Param!$A$7:$E$13,5,0)*Fonct_Empl!H808),2),\"\")","v":""}]
[null,null,null,null,null,null,null,null,{"$f":"IF(E809<>\"\",ROUND((VLOOKUP(E809,Param!$A$7:$E$13,4,0)*Fonct_Empl!F809*((Fonct_Empl!G809/12)))+(VLOOKUP(E809,Param!$A$7:$E$13,5,0)*Fonct_Empl!H809),2),\"\")","v":""}]
[null,null,null,null,null,null,null,null,{"$f":"IF(E810<>\"\",ROUND((VLOOKUP(E810,Param!$A$7:$E$13,4,0)*Fonct_Empl!F810*((Fonct_Empl!G810/12)))+(VLOOKUP(E810,Param!$A$7:$E$13,5,0)*Fonct_Empl!H810),2),\"\")","v":""}]
[null,null,null,null,null,null,null,null,{"$f":"IF(E811<>\"\",ROUND((VLOOKUP(E811,Param!$A$7:$E$13,4,0)*Fonct_Empl!F811*((Fonct_Empl!G811/12)))+(VLOOKUP(E811,Param!$A$7:$E$13,5,0)*Fonct_Empl!H811),2),\"\")","v":""}]
[null,null,null,null,null,null,null,null,{"$f":"IF(E812<>\"\",ROUND((VLOOKUP(E812,Param!$A$7:$E$13,4,0)*Fonct_Empl!F812*((Fonct_Empl!G812/12)))+(VLOOKUP(E812,Param!$A$7:$E$13,5,0)*Fonct_Empl!H812),2),\"\")","v":""}]
[null,null,null,null,null,null,null,null,{"$f":"IF(E813<>\"\",ROUND((VLOOKUP(E813,Param!$A$7:$E$13,4,0)*Fonct_Empl!F813*((Fonct_Empl!G813/12)))+(VLOOKUP(E813,Param!$A$7:$E$13,5,0)*Fonct_Empl!H813),2),\"\")","v":""}]
[null,null,null,null,null,null,null,null,{"$f":"IF(E814<>\"\",ROUND((VLOOKUP(E814,Param!$A$7:$E$13,4,0)*Fonct_Empl!F814*((Fonct_Empl!G814/12)))+(VLOOKUP(E814,Param!$A$7:$E$13,5,0)*Fonct_Empl!H814),2),\"\")","v":""}]
[null,null,null,null,null,null,null,null,{"$f":"IF(E815<>\"\",ROUND((VLOOKUP(E815,Param!$A$7:$E$13,4,0)*Fonct_Empl!F815*((Fonct_Empl!G815/12)))+(VLOOKUP(E815,Param!$A$7:$E$13,5,0)*Fonct_Empl!H815),2),\"\")","v":""}]
[null,null,null,null,null,null,null,null,{"$f":"IF(E816<>\"\",ROUND((VLOOKUP(E816,Param!$A$7:$E$13,4,0)*Fonct_Empl!F816*((Fonct_Empl!G816/12)))+(VLOOKUP(E816,Param!$A$7:$E$13,5,0)*Fonct_Empl!H816),2),\"\")","v":""}]
[null,null,null,null,null,null,null,null,{"$f":"IF(E817<>\"\",ROUND((VLOOKUP(E817,Param!$A$7:$E$13,4,0)*Fonct_Empl!F817*((Fonct_Empl!G817/12)))+(VLOOKUP(E817,Param!$A$7:$E$13,5,0)*Fonct_Empl!H817),2),\"\")","v":""}]
[null,null,null,null,null,null,null,null,{"$f":"IF(E818<>\"\",ROUND((VLOOKUP(E818,Param!$A$7:$E$13,4,0)*Fonct_Empl!F818*((Fonct_Empl!G818/12)))+(VLOOKUP(E818,Param!$A$7:$E$13,5,0)*Fonct_Empl!H818),2),\"\")","v":""}]
[null,null,null,null,null,null,null,null,{"$f":"IF(E819<>\"\",ROUND((VLOOKUP(E819,Param!$A$7:$E$13,4,0)*Fonct_Empl!F819*((Fonct_Empl!G819/12)))+(VLOOKUP(E819,Param!$A$7:$E$13,5,0)*Fonct_Empl!H819),2),\"\")","v":""}]
[null,null,null,null,null,null,null,null,{"$f":"IF(E820<>\"\",ROUND((VLOOKUP(E820,Param!$A$7:$E$13,4,0)*Fonct_Empl!F820*((Fonct_Empl!G820/12)))+(VLOOKUP(E820,Param!$A$7:$E$13,5,0)*Fonct_Empl!H820),2),\"\")","v":""}]
[null,null,null,null,null,null,null,null,{"$f":"IF(E821<>\"\",ROUND((VLOOKUP(E821,Param!$A$7:$E$13,4,0)*Fonct_Empl!F821*((Fonct_Empl!G821/12)))+(VLOOKUP(E821,Param!$A$7:$E$13,5,0)*Fonct_Empl!H821),2),\"\")","v":""}]
[null,null,null,null,null,null,null,null,{"$f":"IF(E822<>\"\",ROUND((VLOOKUP(E822,Param!$A$7:$E$13,4,0)*Fonct_Empl!F822*((Fonct_Empl!G822/12)))+(VLOOKUP(E822,Param!$A$7:$E$13,5,0)*Fonct_Empl!H822),2),\"\")","v":""}]
[null,null,null,null,null,null,null,null,{"$f":"IF(E823<>\"\",ROUND((VLOOKUP(E823,Param!$A$7:$E$13,4,0)*Fonct_Empl!F823*((Fonct_Empl!G823/12)))+(VLOOKUP(E823,Param!$A$7:$E$13,5,0)*Fonct_Empl!H823),2),\"\")","v":""}]
[null,null,null,null,null,null,null,null,{"$f":"IF(E824<>\"\",ROUND((VLOOKUP(E824,Param!$A$7:$E$13,4,0)*Fonct_Empl!F824*((Fonct_Empl!G824/12)))+(VLOOKUP(E824,Param!$A$7:$E$13,5,0)*Fonct_Empl!H824),2),\"\")","v":""}]
[null,null,null,null,null,null,null,null,{"$f":"IF(E825<>\"\",ROUND((VLOOKUP(E825,Param!$A$7:$E$13,4,0)*Fonct_Empl!F825*((Fonct_Empl!G825/12)))+(VLOOKUP(E825,Param!$A$7:$E$13,5,0)*Fonct_Empl!H825),2),\"\")","v":""}]
[null,null,null,null,null,null,null,null,{"$f":"IF(E826<>\"\",ROUND((VLOOKUP(E826,Param!$A$7:$E$13,4,0)*Fonct_Empl!F826*((Fonct_Empl!G826/12)))+(VLOOKUP(E826,Param!$A$7:$E$13,5,0)*Fonct_Empl!H826),2),\"\")","v":""}]
[null,null,null,null,null,null,null,null,{"$f":"IF(E827<>\"\",ROUND((VLOOKUP(E827,Param!$A$7:$E$13,4,0)*Fonct_Empl!F827*((Fonct_Empl!G827/12)))+(VLOOKUP(E827,Param!$A$7:$E$13,5,0)*Fonct_Empl!H827),2),\"\")","v":""}]
[null,null,null,null,null,null,null,null,{"$f":"IF(E828<>\"\",ROUND((VLOOKUP(E828,Param!$A$7:$E$13,4,0)*Fonct_Empl!F828*((Fonct_Empl!G828/12)))+(VLOOKUP(E828,Param!$A$7:$E$13,5,0)*Fonct_Empl!H828),2),\"\")","v":""}]
[null,null,null,null,null,null,null,null,{"$f":"IF(E829<>\"\",ROUND((VLOOKUP(E829,Param!$A$7:$E$13,4,0)*Fonct_Empl!F829*((Fonct_Empl!G829/12)))+(VLOOKUP(E829,Param!$A$7:$E$13,5,0)*Fonct_Empl!H829),2),\"\")","v":""}]
[null,null,null,null,null,null,null,null,{"$f":"IF(E830<>\"\",ROUND((VLOOKUP(E830,Param!$A$7:$E$13,4,0)*Fonct_Empl!F830*((Fonct_Empl!G830/12)))+(VLOOKUP(E830,Param!$A$7:$E$13,5,0)*Fonct_Empl!H830),2),\"\")","v":""}]
[null,null,null,null,null,null,null,null,{"$f":"IF(E831<>\"\",ROUND((VLOOKUP(E831,Param!$A$7:$E$13,4,0)*Fonct_Empl!F831*((Fonct_Empl!G831/12)))+(VLOOKUP(E831,Param!$A$7:$E$13,5,0)*Fonct_Empl!H831),2),\"\")","v":""}]
[null,null,null,null,null,null,null,null,{"$f":"IF(E832<>\"\",ROUND((VLOOKUP(E832,Param!$A$7:$E$13,4,0)*Fonct_Empl!F832*((Fonct_Empl!G832/12)))+(VLOOKUP(E832,Param!$A$7:$E$13,5,0)*Fonct_Empl!H832),2),\"\")","v":""}]
[null,null,null,null,null,null,null,null,{"$f":"IF(E833<>\"\",ROUND((VLOOKUP(E833,Param!$A$7:$E$13,4,0)*Fonct_Empl!F833*((Fonct_Empl!G833/12)))+(VLOOKUP(E833,Param!$A$7:$E$13,5,0)*Fonct_Empl!H833),2),\"\")","v":""}]
[null,null,null,null,null,null,null,null,{"$f":"IF(E834<>\"\",ROUND((VLOOKUP(E834,Param!$A$7:$E$13,4,0)*Fonct_Empl!F834*((Fonct_Empl!G834/12)))+(VLOOKUP(E834,Param!$A$7:$E$13,5,0)*Fonct_Empl!H834),2),\"\")","v":""}]
[null,null,null,null,null,null,null,null,{"$f":"IF(E835<>\"\",ROUND((VLOOKUP(E835,Param!$A$7:$E$13,4,0)*Fonct_Empl!F835*((Fonct_Empl!G835/12)))+(VLOOKUP(E835,Param!$A$7:$E$13,5,0)*Fonct_Empl!H835),2),\"\")","v":""}]
[null,null,null,null,null,null,null,null,{"$f":"IF(E836<>\"\",ROUND((VLOOKUP(E836,Param!$A$7:$E$13,4,0)*Fonct_Empl!F836*((Fonct_Empl!G836/12)))+(VLOOKUP(E836,Param!$A$7:$E$13,5,0)*Fonct_Empl!H836),2),\"\")","v":""}]
[null,null,null,null,null,null,null,null,{"$f":"IF(E837<>\"\",ROUND((VLOOKUP(E837,Param!$A$7:$E$13,4,0)*Fonct_Empl!F837*((Fonct_Empl!G837/12)))+(VLOOKUP(E837,Param!$A$7:$E$13,5,0)*Fonct_Empl!H837),2),\"\")","v":""}]
[null,null,null,null,null,null,null,null,{"$f":"IF(E838<>\"\",ROUND((VLOOKUP(E838,Param!$A$7:$E$13,4,0)*Fonct_Empl!F838*((Fonct_Empl!G838/12)))+(VLOOKUP(E838,Param!$A$7:$E$13,5,0)*Fonct_Empl!H838),2),\"\")","v":""}]
[null,null,null,null,null,null,null,null,{"$f":"IF(E839<>\"\",ROUND((VLOOKUP(E839,Param!$A$7:$E$13,4,0)*Fonct_Empl!F839*((Fonct_Empl!G839/12)))+(VLOOKUP(E839,Param!$A$7:$E$13,5,0)*Fonct_Empl!H839),2),\"\")","v":""}]
[null,null,null,null,null,null,null,null,{"$f":"IF(E840<>\"\",ROUND((VLOOKUP(E840,Param!$A$7:$E$13,4,0)*Fonct_Empl!F840*((Fonct_Empl!G840/12)))+(VLOOKUP(E840,Param!$A$7:$E$13,5,0)*Fonct_Empl!H840),2),\"\")","v":""}]
[null,null,null,null,null,null,null,null,{"$f":"IF(E841<>\"\",ROUND((VLOOKUP(E841,Param!$A$7:$E$13,4,0)*Fonct_Empl!F841*((Fonct_Empl!G841/12)))+(VLOOKUP(E841,Param!$A$7:$E$13,5,0)*Fonct_Empl!H841),2),\"\")","v":""}]
[null,null,null,null,null,null,null,null,{"$f":"IF(E842<>\"\",ROUND((VLOOKUP(E842,Param!$A$7:$E$13,4,0)*Fonct_Empl!F842*((Fonct_Empl!G842/12)))+(VLOOKUP(E842,Param!$A$7:$E$13,5,0)*Fonct_Empl!H842),2),\"\")","v":""}]
[null,null,null,null,null,null,null,null,{"$f":"IF(E843<>\"\",ROUND((VLOOKUP(E843,Param!$A$7:$E$13,4,0)*Fonct_Empl!F843*((Fonct_Empl!G843/12)))+(VLOOKUP(E843,Param!$A$7:$E$13,5,0)*Fonct_Empl!H843),2),\"\")","v":""}]
[null,null,null,null,null,null,null,null,{"$f":"IF(E844<>\"\",ROUND((VLOOKUP(E844,Param!$A$7:$E$13,4,0)*Fonct_Empl!F844*((Fonct_Empl!G844/12)))+(VLOOKUP(E844,Param!$A$7:$E$13,5,0)*Fonct_Empl!H844),2),\"\")","v":""}]
[null,null,null,null,null,null,null,null,{"$f":"IF(E845<>\"\",ROUND((VLOOKUP(E845,Param!$A$7:$E$13,4,0)*Fonct_Empl!F845*((Fonct_Empl!G845/12)))+(VLOOKUP(E845,Param!$A$7:$E$13,5,0)*Fonct_Empl!H845),2),\"\")","v":""}]
[null,null,null,null,null,null,null,null,{"$f":"IF(E846<>\"\",ROUND((VLOOKUP(E846,Param!$A$7:$E$13,4,0)*Fonct_Empl!F846*((Fonct_Empl!G846/12)))+(VLOOKUP(E846,Param!$A$7:$E$13,5,0)*Fonct_Empl!H846),2),\"\")","v":""}]
[null,null,null,null,null,null,null,null,{"$f":"IF(E847<>\"\",ROUND((VLOOKUP(E847,Param!$A$7:$E$13,4,0)*Fonct_Empl!F847*((Fonct_Empl!G847/12)))+(VLOOKUP(E847,Param!$A$7:$E$13,5,0)*Fonct_Empl!H847),2),\"\")","v":""}]
[null,null,null,null,null,null,null,null,{"$f":"IF(E848<>\"\",ROUND((VLOOKUP(E848,Param!$A$7:$E$13,4,0)*Fonct_Empl!F848*((Fonct_Empl!G848/12)))+(VLOOKUP(E848,Param!$A$7:$E$13,5,0)*Fonct_Empl!H848),2),\"\")","v":""}]
[null,null,null,null,null,null,null,null,{"$f":"IF(E849<>\"\",ROUND((VLOOKUP(E849,Param!$A$7:$E$13,4,0)*Fonct_Empl!F849*((Fonct_Empl!G849/12)))+(VLOOKUP(E849,Param!$A$7:$E$13,5,0)*Fonct_Empl!H849),2),\"\")","v":""}]
[null,null,null,null,null,null,null,null,{"$f":"IF(E850<>\"\",ROUND((VLOOKUP(E850,Param!$A$7:$E$13,4,0)*Fonct_Empl!F850*((Fonct_Empl!G850/12)))+(VLOOKUP(E850,Param!$A$7:$E$13,5,0)*Fonct_Empl!H850),2),\"\")","v":""}]
[null,null,null,null,null,null,null,null,{"$f":"IF(E851<>\"\",ROUND((VLOOKUP(E851,Param!$A$7:$E$13,4,0)*Fonct_Empl!F851*((Fonct_Empl!G851/12)))+(VLOOKUP(E851,Param!$A$7:$E$13,5,0)*Fonct_Empl!H851),2),\"\")","v":""}]
[null,null,null,null,null,null,null,null,{"$f":"IF(E852<>\"\",ROUND((VLOOKUP(E852,Param!$A$7:$E$13,4,0)*Fonct_Empl!F852*((Fonct_Empl!G852/12)))+(VLOOKUP(E852,Param!$A$7:$E$13,5,0)*Fonct_Empl!H852),2),\"\")","v":""}]
[null,null,null,null,null,null,null,null,{"$f":"IF(E853<>\"\",ROUND((VLOOKUP(E853,Param!$A$7:$E$13,4,0)*Fonct_Empl!F853*((Fonct_Empl!G853/12)))+(VLOOKUP(E853,Param!$A$7:$E$13,5,0)*Fonct_Empl!H853),2),\"\")","v":""}]
[null,null,null,null,null,null,null,null,{"$f":"IF(E854<>\"\",ROUND((VLOOKUP(E854,Param!$A$7:$E$13,4,0)*Fonct_Empl!F854*((Fonct_Empl!G854/12)))+(VLOOKUP(E854,Param!$A$7:$E$13,5,0)*Fonct_Empl!H854),2),\"\")","v":""}]
[null,null,null,null,null,null,null,null,{"$f":"IF(E855<>\"\",ROUND((VLOOKUP(E855,Param!$A$7:$E$13,4,0)*Fonct_Empl!F855*((Fonct_Empl!G855/12)))+(VLOOKUP(E855,Param!$A$7:$E$13,5,0)*Fonct_Empl!H855),2),\"\")","v":""}]
[null,null,null,null,null,null,null,null,{"$f":"IF(E856<>\"\",ROUND((VLOOKUP(E856,Param!$A$7:$E$13,4,0)*Fonct_Empl!F856*((Fonct_Empl!G856/12)))+(VLOOKUP(E856,Param!$A$7:$E$13,5,0)*Fonct_Empl!H856),2),\"\")","v":""}]
[null,null,null,null,null,null,null,null,{"$f":"IF(E857<>\"\",ROUND((VLOOKUP(E857,Param!$A$7:$E$13,4,0)*Fonct_Empl!F857*((Fonct_Empl!G857/12)))+(VLOOKUP(E857,Param!$A$7:$E$13,5,0)*Fonct_Empl!H857),2),\"\")","v":""}]
[null,null,null,null,null,null,null,null,{"$f":"IF(E858<>\"\",ROUND((VLOOKUP(E858,Param!$A$7:$E$13,4,0)*Fonct_Empl!F858*((Fonct_Empl!G858/12)))+(VLOOKUP(E858,Param!$A$7:$E$13,5,0)*Fonct_Empl!H858),2),\"\")","v":""}]
[null,null,null,null,null,null,null,null,{"$f":"IF(E859<>\"\",ROUND((VLOOKUP(E859,Param!$A$7:$E$13,4,0)*Fonct_Empl!F859*((Fonct_Empl!G859/12)))+(VLOOKUP(E859,Param!$A$7:$E$13,5,0)*Fonct_Empl!H859),2),\"\")","v":""}]
[null,null,null,null,null,null,null,null,{"$f":"IF(E860<>\"\",ROUND((VLOOKUP(E860,Param!$A$7:$E$13,4,0)*Fonct_Empl!F860*((Fonct_Empl!G860/12)))+(VLOOKUP(E860,Param!$A$7:$E$13,5,0)*Fonct_Empl!H860),2),\"\")","v":""}]
[null,null,null,null,null,null,null,null,{"$f":"IF(E861<>\"\",ROUND((VLOOKUP(E861,Param!$A$7:$E$13,4,0)*Fonct_Empl!F861*((Fonct_Empl!G861/12)))+(VLOOKUP(E861,Param!$A$7:$E$13,5,0)*Fonct_Empl!H861),2),\"\")","v":""}]
[null,null,null,null,null,null,null,null,{"$f":"IF(E862<>\"\",ROUND((VLOOKUP(E862,Param!$A$7:$E$13,4,0)*Fonct_Empl!F862*((Fonct_Empl!G862/12)))+(VLOOKUP(E862,Param!$A$7:$E$13,5,0)*Fonct_Empl!H862),2),\"\")","v":""}]
[null,null,null,null,null,null,null,null,{"$f":"IF(E863<>\"\",ROUND((VLOOKUP(E863,Param!$A$7:$E$13,4,0)*Fonct_Empl!F863*((Fonct_Empl!G863/12)))+(VLOOKUP(E863,Param!$A$7:$E$13,5,0)*Fonct_Empl!H863),2),\"\")","v":""}]
[null,null,null,null,null,null,null,null,{"$f":"IF(E864<>\"\",ROUND((VLOOKUP(E864,Param!$A$7:$E$13,4,0)*Fonct_Empl!F864*((Fonct_Empl!G864/12)))+(VLOOKUP(E864,Param!$A$7:$E$13,5,0)*Fonct_Empl!H864),2),\"\")","v":""}]
[null,null,null,null,null,null,null,null,{"$f":"IF(E865<>\"\",ROUND((VLOOKUP(E865,Param!$A$7:$E$13,4,0)*Fonct_Empl!F865*((Fonct_Empl!G865/12)))+(VLOOKUP(E865,Param!$A$7:$E$13,5,0)*Fonct_Empl!H865),2),\"\")","v":""}]
[null,null,null,null,null,null,null,null,{"$f":"IF(E866<>\"\",ROUND((VLOOKUP(E866,Param!$A$7:$E$13,4,0)*Fonct_Empl!F866*((Fonct_Empl!G866/12)))+(VLOOKUP(E866,Param!$A$7:$E$13,5,0)*Fonct_Empl!H866),2),\"\")","v":""}]
[null,null,null,null,null,null,null,null,{"$f":"IF(E867<>\"\",ROUND((VLOOKUP(E867,Param!$A$7:$E$13,4,0)*Fonct_Empl!F867*((Fonct_Empl!G867/12)))+(VLOOKUP(E867,Param!$A$7:$E$13,5,0)*Fonct_Empl!H867),2),\"\")","v":""}]
[null,null,null,null,null,null,null,null,{"$f":"IF(E868<>\"\",ROUND((VLOOKUP(E868,Param!$A$7:$E$13,4,0)*Fonct_Empl!F868*((Fonct_Empl!G868/12)))+(VLOOKUP(E868,Param!$A$7:$E$13,5,0)*Fonct_Empl!H868),2),\"\")","v":""}]
[null,null,null,null,null,null,null,null,{"$f":"IF(E869<>\"\",ROUND((VLOOKUP(E869,Param!$A$7:$E$13,4,0)*Fonct_Empl!F869*((Fonct_Empl!G869/12)))+(VLOOKUP(E869,Param!$A$7:$E$13,5,0)*Fonct_Empl!H869),2),\"\")","v":""}]
[null,null,null,null,null,null,null,null,{"$f":"IF(E870<>\"\",ROUND((VLOOKUP(E870,Param!$A$7:$E$13,4,0)*Fonct_Empl!F870*((Fonct_Empl!G870/12)))+(VLOOKUP(E870,Param!$A$7:$E$13,5,0)*Fonct_Empl!H870),2),\"\")","v":""}]
[null,null,null,null,null,null,null,null,{"$f":"IF(E871<>\"\",ROUND((VLOOKUP(E871,Param!$A$7:$E$13,4,0)*Fonct_Empl!F871*((Fonct_Empl!G871/12)))+(VLOOKUP(E871,Param!$A$7:$E$13,5,0)*Fonct_Empl!H871),2),\"\")","v":""}]
[null,null,null,null,null,null,null,null,{"$f":"IF(E872<>\"\",ROUND((VLOOKUP(E872,Param!$A$7:$E$13,4,0)*Fonct_Empl!F872*((Fonct_Empl!G872/12)))+(VLOOKUP(E872,Param!$A$7:$E$13,5,0)*Fonct_Empl!H872),2),\"\")","v":""}]
[null,null,null,null,null,null,null,null,{"$f":"IF(E873<>\"\",ROUND((VLOOKUP(E873,Param!$A$7:$E$13,4,0)*Fonct_Empl!F873*((Fonct_Empl!G873/12)))+(VLOOKUP(E873,Param!$A$7:$E$13,5,0)*Fonct_Empl!H873),2),\"\")","v":""}]
[null,null,null,null,null,null,null,null,{"$f":"IF(E874<>\"\",ROUND((VLOOKUP(E874,Param!$A$7:$E$13,4,0)*Fonct_Empl!F874*((Fonct_Empl!G874/12)))+(VLOOKUP(E874,Param!$A$7:$E$13,5,0)*Fonct_Empl!H874),2),\"\")","v":""}]
[null,null,null,null,null,null,null,null,{"$f":"IF(E875<>\"\",ROUND((VLOOKUP(E875,Param!$A$7:$E$13,4,0)*Fonct_Empl!F875*((Fonct_Empl!G875/12)))+(VLOOKUP(E875,Param!$A$7:$E$13,5,0)*Fonct_Empl!H875),2),\"\")","v":""}]
[null,null,null,null,null,null,null,null,{"$f":"IF(E876<>\"\",ROUND((VLOOKUP(E876,Param!$A$7:$E$13,4,0)*Fonct_Empl!F876*((Fonct_Empl!G876/12)))+(VLOOKUP(E876,Param!$A$7:$E$13,5,0)*Fonct_Empl!H876),2),\"\")","v":""}]
[null,null,null,null,null,null,null,null,{"$f":"IF(E877<>\"\",ROUND((VLOOKUP(E877,Param!$A$7:$E$13,4,0)*Fonct_Empl!F877*((Fonct_Empl!G877/12)))+(VLOOKUP(E877,Param!$A$7:$E$13,5,0)*Fonct_Empl!H877),2),\"\")","v":""}]
[null,null,null,null,null,null,null,null,{"$f":"IF(E878<>\"\",ROUND((VLOOKUP(E878,Param!$A$7:$E$13,4,0)*Fonct_Empl!F878*((Fonct_Empl!G878/12)))+(VLOOKUP(E878,Param!$A$7:$E$13,5,0)*Fonct_Empl!H878),2),\"\")","v":""}]
[null,null,null,null,null,null,null,null,{"$f":"IF(E879<>\"\",ROUND((VLOOKUP(E879,Param!$A$7:$E$13,4,0)*Fonct_Empl!F879*((Fonct_Empl!G879/12)))+(VLOOKUP(E879,Param!$A$7:$E$13,5,0)*Fonct_Empl!H879),2),\"\")","v":""}]
[null,null,null,null,null,null,null,null,{"$f":"IF(E880<>\"\",ROUND((VLOOKUP(E880,Param!$A$7:$E$13,4,0)*Fonct_Empl!F880*((Fonct_Empl!G880/12)))+(VLOOKUP(E880,Param!$A$7:$E$13,5,0)*Fonct_Empl!H880),2),\"\")","v":""}]
[null,null,null,null,null,null,null,null,{"$f":"IF(E881<>\"\",ROUND((VLOOKUP(E881,Param!$A$7:$E$13,4,0)*Fonct_Empl!F881*((Fonct_Empl!G881/12)))+(VLOOKUP(E881,Param!$A$7:$E$13,5,0)*Fonct_Empl!H881),2),\"\")","v":""}]
[null,null,null,null,null,null,null,null,{"$f":"IF(E882<>\"\",ROUND((VLOOKUP(E882,Param!$A$7:$E$13,4,0)*Fonct_Empl!F882*((Fonct_Empl!G882/12)))+(VLOOKUP(E882,Param!$A$7:$E$13,5,0)*Fonct_Empl!H882),2),\"\")","v":""}]
[null,null,null,null,null,null,null,null,{"$f":"IF(E883<>\"\",ROUND((VLOOKUP(E883,Param!$A$7:$E$13,4,0)*Fonct_Empl!F883*((Fonct_Empl!G883/12)))+(VLOOKUP(E883,Param!$A$7:$E$13,5,0)*Fonct_Empl!H883),2),\"\")","v":""}]
[null,null,null,null,null,null,null,null,{"$f":"IF(E884<>\"\",ROUND((VLOOKUP(E884,Param!$A$7:$E$13,4,0)*Fonct_Empl!F884*((Fonct_Empl!G884/12)))+(VLOOKUP(E884,Param!$A$7:$E$13,5,0)*Fonct_Empl!H884),2),\"\")","v":""}]
[null,null,null,null,null,null,null,null,{"$f":"IF(E885<>\"\",ROUND((VLOOKUP(E885,Param!$A$7:$E$13,4,0)*Fonct_Empl!F885*((Fonct_Empl!G885/12)))+(VLOOKUP(E885,Param!$A$7:$E$13,5,0)*Fonct_Empl!H885),2),\"\")","v":""}]
[null,null,null,null,null,null,null,null,{"$f":"IF(E886<>\"\",ROUND((VLOOKUP(E886,Param!$A$7:$E$13,4,0)*Fonct_Empl!F886*((Fonct_Empl!G886/12)))+(VLOOKUP(E886,Param!$A$7:$E$13,5,0)*Fonct_Empl!H886),2),\"\")","v":""}]
[null,null,null,null,null,null,null,null,{"$f":"IF(E887<>\"\",ROUND((VLOOKUP(E887,Param!$A$7:$E$13,4,0)*Fonct_Empl!F887*((Fonct_Empl!G887/12)))+(VLOOKUP(E887,Param!$A$7:$E$13,5,0)*Fonct_Empl!H887),2),\"\")","v":""}]
[null,null,null,null,null,null,null,null,{"$f":"IF(E888<>\"\",ROUND((VLOOKUP(E888,Param!$A$7:$E$13,4,0)*Fonct_Empl!F888*((Fonct_Empl!G888/12)))+(VLOOKUP(E888,Param!$A$7:$E$13,5,0)*Fonct_Empl!H888),2),\"\")","v":""}]
[null,null,null,null,null,null,null,null,{"$f":"IF(E889<>\"\",ROUND((VLOOKUP(E889,Param!$A$7:$E$13,4,0)*Fonct_Empl!F889*((Fonct_Empl!G889/12)))+(VLOOKUP(E889,Param!$A$7:$E$13,5,0)*Fonct_Empl!H889),2),\"\")","v":""}]
[null,null,null,null,null,null,null,null,{"$f":"IF(E890<>\"\",ROUND((VLOOKUP(E890,Param!$A$7:$E$13,4,0)*Fonct_Empl!F890*((Fonct_Empl!G890/12)))+(VLOOKUP(E890,Param!$A$7:$E$13,5,0)*Fonct_Empl!H890),2),\"\")","v":""}]
[null,null,null,null,null,null,null,null,{"$f":"IF(E891<>\"\",ROUND((VLOOKUP(E891,Param!$A$7:$E$13,4,0)*Fonct_Empl!F891*((Fonct_Empl!G891/12)))+(VLOOKUP(E891,Param!$A$7:$E$13,5,0)*Fonct_Empl!H891),2),\"\")","v":""}]
[null,null,null,null,null,null,null,null,{"$f":"IF(E892<>\"\",ROUND((VLOOKUP(E892,Param!$A$7:$E$13,4,0)*Fonct_Empl!F892*((Fonct_Empl!G892/12)))+(VLOOKUP(E892,Param!$A$7:$E$13,5,0)*Fonct_Empl!H892),2),\"\")","v":""}]
[null,null,null,null,null,null,null,null,{"$f":"IF(E893<>\"\",ROUND((VLOOKUP(E893,Param!$A$7:$E$13,4,0)*Fonct_Empl!F893*((Fonct_Empl!G893/12)))+(VLOOKUP(E893,Param!$A$7:$E$13,5,0)*Fonct_Empl!H893),2),\"\")","v":""}]
[null,null,null,null,null,null,null,null,{"$f":"IF(E894<>\"\",ROUND((VLOOKUP(E894,Param!$A$7:$E$13,4,0)*Fonct_Empl!F894*((Fonct_Empl!G894/12)))+(VLOOKUP(E894,Param!$A$7:$E$13,5,0)*Fonct_Empl!H894),2),\"\")","v":""}]
[null,null,null,null,null,null,null,null,{"$f":"IF(E895<>\"\",ROUND((VLOOKUP(E895,Param!$A$7:$E$13,4,0)*Fonct_Empl!F895*((Fonct_Empl!G895/12)))+(VLOOKUP(E895,Param!$A$7:$E$13,5,0)*Fonct_Empl!H895),2),\"\")","v":""}]
[null,null,null,null,null,null,null,null,{"$f":"IF(E896<>\"\",ROUND((VLOOKUP(E896,Param!$A$7:$E$13,4,0)*Fonct_Empl!F896*((Fonct_Empl!G896/12)))+(VLOOKUP(E896,Param!$A$7:$E$13,5,0)*Fonct_Empl!H896),2),\"\")","v":""}]
[null,null,null,null,null,null,null,null,{"$f":"IF(E897<>\"\",ROUND((VLOOKUP(E897,Param!$A$7:$E$13,4,0)*Fonct_Empl!F897*((Fonct_Empl!G897/12)))+(VLOOKUP(E897,Param!$A$7:$E$13,5,0)*Fonct_Empl!H897),2),\"\")","v":""}]
[null,null,null,null,null,null,null,null,{"$f":"IF(E898<>\"\",ROUND((VLOOKUP(E898,Param!$A$7:$E$13,4,0)*Fonct_Empl!F898*((Fonct_Empl!G898/12)))+(VLOOKUP(E898,Param!$A$7:$E$13,5,0)*Fonct_Empl!H898),2),\"\")","v":""}]
[null,null,null,null,null,null,null,null,{"$f":"IF(E899<>\"\",ROUND((VLOOKUP(E899,Param!$A$7:$E$13,4,0)*Fonct_Empl!F899*((Fonct_Empl!G899/12)))+(VLOOKUP(E899,Param!$A$7:$E$13,5,0)*Fonct_Empl!H899),2),\"\")","v":""}]
[null,null,null,null,null,null,null,null,{"$f":"IF(E900<>\"\",ROUND((VLOOKUP(E900,Param!$A$7:$E$13,4,0)*Fonct_Empl!F900*((Fonct_Empl!G900/12)))+(VLOOKUP(E900,Param!$A$7:$E$13,5,0)*Fonct_Empl!H900),2),\"\")","v":""}]
[null,null,null,null,null,null,null,null,{"$f":"IF(E901<>\"\",ROUND((VLOOKUP(E901,Param!$A$7:$E$13,4,0)*Fonct_Empl!F901*((Fonct_Empl!G901/12)))+(VLOOKUP(E901,Param!$A$7:$E$13,5,0)*Fonct_Empl!H901),2),\"\")","v":""}]
[null,null,null,null,null,null,null,null,{"$f":"IF(E902<>\"\",ROUND((VLOOKUP(E902,Param!$A$7:$E$13,4,0)*Fonct_Empl!F902*((Fonct_Empl!G902/12)))+(VLOOKUP(E902,Param!$A$7:$E$13,5,0)*Fonct_Empl!H902),2),\"\")","v":""}]
[null,null,null,null,null,null,null,null,{"$f":"IF(E903<>\"\",ROUND((VLOOKUP(E903,Param!$A$7:$E$13,4,0)*Fonct_Empl!F903*((Fonct_Empl!G903/12)))+(VLOOKUP(E903,Param!$A$7:$E$13,5,0)*Fonct_Empl!H903),2),\"\")","v":""}]
[null,null,null,null,null,null,null,null,{"$f":"IF(E904<>\"\",ROUND((VLOOKUP(E904,Param!$A$7:$E$13,4,0)*Fonct_Empl!F904*((Fonct_Empl!G904/12)))+(VLOOKUP(E904,Param!$A$7:$E$13,5,0)*Fonct_Empl!H904),2),\"\")","v":""}]
[null,null,null,null,null,null,null,null,{"$f":"IF(E905<>\"\",ROUND((VLOOKUP(E905,Param!$A$7:$E$13,4,0)*Fonct_Empl!F905*((Fonct_Empl!G905/12)))+(VLOOKUP(E905,Param!$A$7:$E$13,5,0)*Fonct_Empl!H905),2),\"\")","v":""}]
[null,null,null,null,null,null,null,null,{"$f":"IF(E906<>\"\",ROUND((VLOOKUP(E906,Param!$A$7:$E$13,4,0)*Fonct_Empl!F906*((Fonct_Empl!G906/12)))+(VLOOKUP(E906,Param!$A$7:$E$13,5,0)*Fonct_Empl!H906),2),\"\")","v":""}]
[null,null,null,null,null,null,null,null,{"$f":"IF(E907<>\"\",ROUND((VLOOKUP(E907,Param!$A$7:$E$13,4,0)*Fonct_Empl!F907*((Fonct_Empl!G907/12)))+(VLOOKUP(E907,Param!$A$7:$E$13,5,0)*Fonct_Empl!H907),2),\"\")","v":""}]
[null,null,null,null,null,null,null,null,{"$f":"IF(E908<>\"\",ROUND((VLOOKUP(E908,Param!$A$7:$E$13,4,0)*Fonct_Empl!F908*((Fonct_Empl!G908/12)))+(VLOOKUP(E908,Param!$A$7:$E$13,5,0)*Fonct_Empl!H908),2),\"\")","v":""}]
[null,null,null,null,null,null,null,null,{"$f":"IF(E909<>\"\",ROUND((VLOOKUP(E909,Param!$A$7:$E$13,4,0)*Fonct_Empl!F909*((Fonct_Empl!G909/12)))+(VLOOKUP(E909,Param!$A$7:$E$13,5,0)*Fonct_Empl!H909),2),\"\")","v":""}]
[null,null,null,null,null,null,null,null,{"$f":"IF(E910<>\"\",ROUND((VLOOKUP(E910,Param!$A$7:$E$13,4,0)*Fonct_Empl!F910*((Fonct_Empl!G910/12)))+(VLOOKUP(E910,Param!$A$7:$E$13,5,0)*Fonct_Empl!H910),2),\"\")","v":""}]
[null,null,null,null,null,null,null,null,{"$f":"IF(E911<>\"\",ROUND((VLOOKUP(E911,Param!$A$7:$E$13,4,0)*Fonct_Empl!F911*((Fonct_Empl!G911/12)))+(VLOOKUP(E911,Param!$A$7:$E$13,5,0)*Fonct_Empl!H911),2),\"\")","v":""}]
[null,null,null,null,null,null,null,null,{"$f":"IF(E912<>\"\",ROUND((VLOOKUP(E912,Param!$A$7:$E$13,4,0)*Fonct_Empl!F912*((Fonct_Empl!G912/12)))+(VLOOKUP(E912,Param!$A$7:$E$13,5,0)*Fonct_Empl!H912),2),\"\")","v":""}]
[null,null,null,null,null,null,null,null,{"$f":"IF(E913<>\"\",ROUND((VLOOKUP(E913,Param!$A$7:$E$13,4,0)*Fonct_Empl!F913*((Fonct_Empl!G913/12)))+(VLOOKUP(E913,Param!$A$7:$E$13,5,0)*Fonct_Empl!H913),2),\"\")","v":""}]
[null,null,null,null,null,null,null,null,{"$f":"IF(E914<>\"\",ROUND((VLOOKUP(E914,Param!$A$7:$E$13,4,0)*Fonct_Empl!F914*((Fonct_Empl!G914/12)))+(VLOOKUP(E914,Param!$A$7:$E$13,5,0)*Fonct_Empl!H914),2),\"\")","v":""}]
[null,null,null,null,null,null,null,null,{"$f":"IF(E915<>\"\",ROUND((VLOOKUP(E915,Param!$A$7:$E$13,4,0)*Fonct_Empl!F915*((Fonct_Empl!G915/12)))+(VLOOKUP(E915,Param!$A$7:$E$13,5,0)*Fonct_Empl!H915),2),\"\")","v":""}]
[null,null,null,null,null,null,null,null,{"$f":"IF(E916<>\"\",ROUND((VLOOKUP(E916,Param!$A$7:$E$13,4,0)*Fonct_Empl!F916*((Fonct_Empl!G916/12)))+(VLOOKUP(E916,Param!$A$7:$E$13,5,0)*Fonct_Empl!H916),2),\"\")","v":""}]
[null,null,null,null,null,null,null,null,{"$f":"IF(E917<>\"\",ROUND((VLOOKUP(E917,Param!$A$7:$E$13,4,0)*Fonct_Empl!F917*((Fonct_Empl!G917/12)))+(VLOOKUP(E917,Param!$A$7:$E$13,5,0)*Fonct_Empl!H917),2),\"\")","v":""}]
[null,null,null,null,null,null,null,null,{"$f":"IF(E918<>\"\",ROUND((VLOOKUP(E918,Param!$A$7:$E$13,4,0)*Fonct_Empl!F918*((Fonct_Empl!G918/12)))+(VLOOKUP(E918,Param!$A$7:$E$13,5,0)*Fonct_Empl!H918),2),\"\")","v":""}]
[null,null,null,null,null,null,null,null,{"$f":"IF(E919<>\"\",ROUND((VLOOKUP(E919,Param!$A$7:$E$13,4,0)*Fonct_Empl!F919*((Fonct_Empl!G919/12)))+(VLOOKUP(E919,Param!$A$7:$E$13,5,0)*Fonct_Empl!H919),2),\"\")","v":""}]
[null,null,null,null,null,null,null,null,{"$f":"IF(E920<>\"\",ROUND((VLOOKUP(E920,Param!$A$7:$E$13,4,0)*Fonct_Empl!F920*((Fonct_Empl!G920/12)))+(VLOOKUP(E920,Param!$A$7:$E$13,5,0)*Fonct_Empl!H920),2),\"\")","v":""}]
[null,null,null,null,null,null,null,null,{"$f":"IF(E921<>\"\",ROUND((VLOOKUP(E921,Param!$A$7:$E$13,4,0)*Fonct_Empl!F921*((Fonct_Empl!G921/12)))+(VLOOKUP(E921,Param!$A$7:$E$13,5,0)*Fonct_Empl!H921),2),\"\")","v":""}]
[null,null,null,null,null,null,null,null,{"$f":"IF(E922<>\"\",ROUND((VLOOKUP(E922,Param!$A$7:$E$13,4,0)*Fonct_Empl!F922*((Fonct_Empl!G922/12)))+(VLOOKUP(E922,Param!$A$7:$E$13,5,0)*Fonct_Empl!H922),2),\"\")","v":""}]
[null,null,null,null,null,null,null,null,{"$f":"IF(E923<>\"\",ROUND((VLOOKUP(E923,Param!$A$7:$E$13,4,0)*Fonct_Empl!F923*((Fonct_Empl!G923/12)))+(VLOOKUP(E923,Param!$A$7:$E$13,5,0)*Fonct_Empl!H923),2),\"\")","v":""}]
[null,null,null,null,null,null,null,null,{"$f":"IF(E924<>\"\",ROUND((VLOOKUP(E924,Param!$A$7:$E$13,4,0)*Fonct_Empl!F924*((Fonct_Empl!G924/12)))+(VLOOKUP(E924,Param!$A$7:$E$13,5,0)*Fonct_Empl!H924),2),\"\")","v":""}]
[null,null,null,null,null,null,null,null,{"$f":"IF(E925<>\"\",ROUND((VLOOKUP(E925,Param!$A$7:$E$13,4,0)*Fonct_Empl!F925*((Fonct_Empl!G925/12)))+(VLOOKUP(E925,Param!$A$7:$E$13,5,0)*Fonct_Empl!H925),2),\"\")","v":""}]
[null,null,null,null,null,null,null,null,{"$f":"IF(E926<>\"\",ROUND((VLOOKUP(E926,Param!$A$7:$E$13,4,0)*Fonct_Empl!F926*((Fonct_Empl!G926/12)))+(VLOOKUP(E926,Param!$A$7:$E$13,5,0)*Fonct_Empl!H926),2),\"\")","v":""}]
[null,null,null,null,null,null,null,null,{"$f":"IF(E927<>\"\",ROUND((VLOOKUP(E927,Param!$A$7:$E$13,4,0)*Fonct_Empl!F927*((Fonct_Empl!G927/12)))+(VLOOKUP(E927,Param!$A$7:$E$13,5,0)*Fonct_Empl!H927),2),\"\")","v":""}]
[null,null,null,null,null,null,null,null,{"$f":"IF(E928<>\"\",ROUND((VLOOKUP(E928,Param!$A$7:$E$13,4,0)*Fonct_Empl!F928*((Fonct_Empl!G928/12)))+(VLOOKUP(E928,Param!$A$7:$E$13,5,0)*Fonct_Empl!H928),2),\"\")","v":""}]
[null,null,null,null,null,null,null,null,{"$f":"IF(E929<>\"\",ROUND((VLOOKUP(E929,Param!$A$7:$E$13,4,0)*Fonct_Empl!F929*((Fonct_Empl!G929/12)))+(VLOOKUP(E929,Param!$A$7:$E$13,5,0)*Fonct_Empl!H929),2),\"\")","v":""}]
[null,null,null,null,null,null,null,null,{"$f":"IF(E930<>\"\",ROUND((VLOOKUP(E930,Param!$A$7:$E$13,4,0)*Fonct_Empl!F930*((Fonct_Empl!G930/12)))+(VLOOKUP(E930,Param!$A$7:$E$13,5,0)*Fonct_Empl!H930),2),\"\")","v":""}]
[null,null,null,null,null,null,null,null,{"$f":"IF(E931<>\"\",ROUND((VLOOKUP(E931,Param!$A$7:$E$13,4,0)*Fonct_Empl!F931*((Fonct_Empl!G931/12)))+(VLOOKUP(E931,Param!$A$7:$E$13,5,0)*Fonct_Empl!H931),2),\"\")","v":""}]
[null,null,null,null,null,null,null,null,{"$f":"IF(E932<>\"\",ROUND((VLOOKUP(E932,Param!$A$7:$E$13,4,0)*Fonct_Empl!F932*((Fonct_Empl!G932/12)))+(VLOOKUP(E932,Param!$A$7:$E$13,5,0)*Fonct_Empl!H932),2),\"\")","v":""}]
[null,null,null,null,null,null,null,null,{"$f":"IF(E933<>\"\",ROUND((VLOOKUP(E933,Param!$A$7:$E$13,4,0)*Fonct_Empl!F933*((Fonct_Empl!G933/12)))+(VLOOKUP(E933,Param!$A$7:$E$13,5,0)*Fonct_Empl!H933),2),\"\")","v":""}]
[null,null,null,null,null,null,null,null,{"$f":"IF(E934<>\"\",ROUND((VLOOKUP(E934,Param!$A$7:$E$13,4,0)*Fonct_Empl!F934*((Fonct_Empl!G934/12)))+(VLOOKUP(E934,Param!$A$7:$E$13,5,0)*Fonct_Empl!H934),2),\"\")","v":""}]
[null,null,null,null,null,null,null,null,{"$f":"IF(E935<>\"\",ROUND((VLOOKUP(E935,Param!$A$7:$E$13,4,0)*Fonct_Empl!F935*((Fonct_Empl!G935/12)))+(VLOOKUP(E935,Param!$A$7:$E$13,5,0)*Fonct_Empl!H935),2),\"\")","v":""}]
[null,null,null,null,null,null,null,null,{"$f":"IF(E936<>\"\",ROUND((VLOOKUP(E936,Param!$A$7:$E$13,4,0)*Fonct_Empl!F936*((Fonct_Empl!G936/12)))+(VLOOKUP(E936,Param!$A$7:$E$13,5,0)*Fonct_Empl!H936),2),\"\")","v":""}]
[null,null,null,null,null,null,null,null,{"$f":"IF(E937<>\"\",ROUND((VLOOKUP(E937,Param!$A$7:$E$13,4,0)*Fonct_Empl!F937*((Fonct_Empl!G937/12)))+(VLOOKUP(E937,Param!$A$7:$E$13,5,0)*Fonct_Empl!H937),2),\"\")","v":""}]
[null,null,null,null,null,null,null,null,{"$f":"IF(E938<>\"\",ROUND((VLOOKUP(E938,Param!$A$7:$E$13,4,0)*Fonct_Empl!F938*((Fonct_Empl!G938/12)))+(VLOOKUP(E938,Param!$A$7:$E$13,5,0)*Fonct_Empl!H938),2),\"\")","v":""}]
[null,null,null,null,null,null,null,null,{"$f":"IF(E939<>\"\",ROUND((VLOOKUP(E939,Param!$A$7:$E$13,4,0)*Fonct_Empl!F939*((Fonct_Empl!G939/12)))+(VLOOKUP(E939,Param!$A$7:$E$13,5,0)*Fonct_Empl!H939),2),\"\")","v":""}]
[null,null,null,null,null,null,null,null,{"$f":"IF(E940<>\"\",ROUND((VLOOKUP(E940,Param!$A$7:$E$13,4,0)*Fonct_Empl!F940*((Fonct_Empl!G940/12)))+(VLOOKUP(E940,Param!$A$7:$E$13,5,0)*Fonct_Empl!H940),2),\"\")","v":""}]
[null,null,null,null,null,null,null,null,{"$f":"IF(E941<>\"\",ROUND((VLOOKUP(E941,Param!$A$7:$E$13,4,0)*Fonct_Empl!F941*((Fonct_Empl!G941/12)))+(VLOOKUP(E941,Param!$A$7:$E$13,5,0)*Fonct_Empl!H941),2),\"\")","v":""}]
[null,null,null,null,null,null,null,null,{"$f":"IF(E942<>\"\",ROUND((VLOOKUP(E942,Param!$A$7:$E$13,4,0)*Fonct_Empl!F942*((Fonct_Empl!G942/12)))+(VLOOKUP(E942,Param!$A$7:$E$13,5,0)*Fonct_Empl!H942),2),\"\")","v":""}]
[null,null,null,null,null,null,null,null,{"$f":"IF(E943<>\"\",ROUND((VLOOKUP(E943,Param!$A$7:$E$13,4,0)*Fonct_Empl!F943*((Fonct_Empl!G943/12)))+(VLOOKUP(E943,Param!$A$7:$E$13,5,0)*Fonct_Empl!H943),2),\"\")","v":""}]
[null,null,null,null,null,null,null,null,{"$f":"IF(E944<>\"\",ROUND((VLOOKUP(E944,Param!$A$7:$E$13,4,0)*Fonct_Empl!F944*((Fonct_Empl!G944/12)))+(VLOOKUP(E944,Param!$A$7:$E$13,5,0)*Fonct_Empl!H944),2),\"\")","v":""}]
[null,null,null,null,null,null,null,null,{"$f":"IF(E945<>\"\",ROUND((VLOOKUP(E945,Param!$A$7:$E$13,4,0)*Fonct_Empl!F945*((Fonct_Empl!G945/12)))+(VLOOKUP(E945,Param!$A$7:$E$13,5,0)*Fonct_Empl!H945),2),\"\")","v":""}]
[null,null,null,null,null,null,null,null,{"$f":"IF(E946<>\"\",ROUND((VLOOKUP(E946,Param!$A$7:$E$13,4,0)*Fonct_Empl!F946*((Fonct_Empl!G946/12)))+(VLOOKUP(E946,Param!$A$7:$E$13,5,0)*Fonct_Empl!H946),2),\"\")","v":""}]
[null,null,null,null,null,null,null,null,{"$f":"IF(E947<>\"\",ROUND((VLOOKUP(E947,Param!$A$7:$E$13,4,0)*Fonct_Empl!F947*((Fonct_Empl!G947/12)))+(VLOOKUP(E947,Param!$A$7:$E$13,5,0)*Fonct_Empl!H947),2),\"\")","v":""}]
[null,null,null,null,null,null,null,null,{"$f":"IF(E948<>\"\",ROUND((VLOOKUP(E948,Param!$A$7:$E$13,4,0)*Fonct_Empl!F948*((Fonct_Empl!G948/12)))+(VLOOKUP(E948,Param!$A$7:$E$13,5,0)*Fonct_Empl!H948),2),\"\")","v":""}]
[null,null,null,null,null,null,null,null,{"$f":"IF(E949<>\"\",ROUND((VLOOKUP(E949,Param!$A$7:$E$13,4,0)*Fonct_Empl!F949*((Fonct_Empl!G949/12)))+(VLOOKUP(E949,Param!$A$7:$E$13,5,0)*Fonct_Empl!H949),2),\"\")","v":""}]
[null,null,null,null,null,null,null,null,{"$f":"IF(E950<>\"\",ROUND((VLOOKUP(E950,Param!$A$7:$E$13,4,0)*Fonct_Empl!F950*((Fonct_Empl!G950/12)))+(VLOOKUP(E950,Param!$A$7:$E$13,5,0)*Fonct_Empl!H950),2),\"\")","v":""}]
[null,null,null,null,null,null,null,null,{"$f":"IF(E951<>\"\",ROUND((VLOOKUP(E951,Param!$A$7:$E$13,4,0)*Fonct_Empl!F951*((Fonct_Empl!G951/12)))+(VLOOKUP(E951,Param!$A$7:$E$13,5,0)*Fonct_Empl!H951),2),\"\")","v":""}]
[null,null,null,null,null,null,null,null,{"$f":"IF(E952<>\"\",ROUND((VLOOKUP(E952,Param!$A$7:$E$13,4,0)*Fonct_Empl!F952*((Fonct_Empl!G952/12)))+(VLOOKUP(E952,Param!$A$7:$E$13,5,0)*Fonct_Empl!H952),2),\"\")","v":""}]
[null,null,null,null,null,null,null,null,{"$f":"IF(E953<>\"\",ROUND((VLOOKUP(E953,Param!$A$7:$E$13,4,0)*Fonct_Empl!F953*((Fonct_Empl!G953/12)))+(VLOOKUP(E953,Param!$A$7:$E$13,5,0)*Fonct_Empl!H953),2),\"\")","v":""}]
[null,null,null,null,null,null,null,null,{"$f":"IF(E954<>\"\",ROUND((VLOOKUP(E954,Param!$A$7:$E$13,4,0)*Fonct_Empl!F954*((Fonct_Empl!G954/12)))+(VLOOKUP(E954,Param!$A$7:$E$13,5,0)*Fonct_Empl!H954),2),\"\")","v":""}]
[null,null,null,null,null,null,null,null,{"$f":"IF(E955<>\"\",ROUND((VLOOKUP(E955,Param!$A$7:$E$13,4,0)*Fonct_Empl!F955*((Fonct_Empl!G955/12)))+(VLOOKUP(E955,Param!$A$7:$E$13,5,0)*Fonct_Empl!H955),2),\"\")","v":""}]
[null,null,null,null,null,null,null,null,{"$f":"IF(E956<>\"\",ROUND((VLOOKUP(E956,Param!$A$7:$E$13,4,0)*Fonct_Empl!F956*((Fonct_Empl!G956/12)))+(VLOOKUP(E956,Param!$A$7:$E$13,5,0)*Fonct_Empl!H956),2),\"\")","v":""}]
[null,null,null,null,null,null,null,null,{"$f":"IF(E957<>\"\",ROUND((VLOOKUP(E957,Param!$A$7:$E$13,4,0)*Fonct_Empl!F957*((Fonct_Empl!G957/12)))+(VLOOKUP(E957,Param!$A$7:$E$13,5,0)*Fonct_Empl!H957),2),\"\")","v":""}]
[null,null,null,null,null,null,null,null,{"$f":"IF(E958<>\"\",ROUND((VLOOKUP(E958,Param!$A$7:$E$13,4,0)*Fonct_Empl!F958*((Fonct_Empl!G958/12)))+(VLOOKUP(E958,Param!$A$7:$E$13,5,0)*Fonct_Empl!H958),2),\"\")","v":""}]
[null,null,null,null,null,null,null,null,{"$f":"IF(E959<>\"\",ROUND((VLOOKUP(E959,Param!$A$7:$E$13,4,0)*Fonct_Empl!F959*((Fonct_Empl!G959/12)))+(VLOOKUP(E959,Param!$A$7:$E$13,5,0)*Fonct_Empl!H959),2),\"\")","v":""}]
[null,null,null,null,null,null,null,null,{"$f":"IF(E960<>\"\",ROUND((VLOOKUP(E960,Param!$A$7:$E$13,4,0)*Fonct_Empl!F960*((Fonct_Empl!G960/12)))+(VLOOKUP(E960,Param!$A$7:$E$13,5,0)*Fonct_Empl!H960),2),\"\")","v":""}]
[null,null,null,null,null,null,null,null,{"$f":"IF(E961<>\"\",ROUND((VLOOKUP(E961,Param!$A$7:$E$13,4,0)*Fonct_Empl!F961*((Fonct_Empl!G961/12)))+(VLOOKUP(E961,Param!$A$7:$E$13,5,0)*Fonct_Empl!H961),2),\"\")","v":""}]
[null,null,null,null,null,null,null,null,{"$f":"IF(E962<>\"\",ROUND((VLOOKUP(E962,Param!$A$7:$E$13,4,0)*Fonct_Empl!F962*((Fonct_Empl!G962/12)))+(VLOOKUP(E962,Param!$A$7:$E$13,5,0)*Fonct_Empl!H962),2),\"\")","v":""}]
[null,null,null,null,null,null,null,null,{"$f":"IF(E963<>\"\",ROUND((VLOOKUP(E963,Param!$A$7:$E$13,4,0)*Fonct_Empl!F963*((Fonct_Empl!G963/12)))+(VLOOKUP(E963,Param!$A$7:$E$13,5,0)*Fonct_Empl!H963),2),\"\")","v":""}]
[null,null,null,null,null,null,null,null,{"$f":"IF(E964<>\"\",ROUND((VLOOKUP(E964,Param!$A$7:$E$13,4,0)*Fonct_Empl!F964*((Fonct_Empl!G964/12)))+(VLOOKUP(E964,Param!$A$7:$E$13,5,0)*Fonct_Empl!H964),2),\"\")","v":""}]
[null,null,null,null,null,null,null,null,{"$f":"IF(E965<>\"\",ROUND((VLOOKUP(E965,Param!$A$7:$E$13,4,0)*Fonct_Empl!F965*((Fonct_Empl!G965/12)))+(VLOOKUP(E965,Param!$A$7:$E$13,5,0)*Fonct_Empl!H965),2),\"\")","v":""}]
[null,null,null,null,null,null,null,null,{"$f":"IF(E966<>\"\",ROUND((VLOOKUP(E966,Param!$A$7:$E$13,4,0)*Fonct_Empl!F966*((Fonct_Empl!G966/12)))+(VLOOKUP(E966,Param!$A$7:$E$13,5,0)*Fonct_Empl!H966),2),\"\")","v":""}]
[null,null,null,null,null,null,null,null,{"$f":"IF(E967<>\"\",ROUND((VLOOKUP(E967,Param!$A$7:$E$13,4,0)*Fonct_Empl!F967*((Fonct_Empl!G967/12)))+(VLOOKUP(E967,Param!$A$7:$E$13,5,0)*Fonct_Empl!H967),2),\"\")","v":""}]
[null,null,null,null,null,null,null,null,{"$f":"IF(E968<>\"\",ROUND((VLOOKUP(E968,Param!$A$7:$E$13,4,0)*Fonct_Empl!F968*((Fonct_Empl!G968/12)))+(VLOOKUP(E968,Param!$A$7:$E$13,5,0)*Fonct_Empl!H968),2),\"\")","v":""}]
[null,null,null,null,null,null,null,null,{"$f":"IF(E969<>\"\",ROUND((VLOOKUP(E969,Param!$A$7:$E$13,4,0)*Fonct_Empl!F969*((Fonct_Empl!G969/12)))+(VLOOKUP(E969,Param!$A$7:$E$13,5,0)*Fonct_Empl!H969),2),\"\")","v":""}]
[null,null,null,null,null,null,null,null,{"$f":"IF(E970<>\"\",ROUND((VLOOKUP(E970,Param!$A$7:$E$13,4,0)*Fonct_Empl!F970*((Fonct_Empl!G970/12)))+(VLOOKUP(E970,Param!$A$7:$E$13,5,0)*Fonct_Empl!H970),2),\"\")","v":""}]
[null,null,null,null,null,null,null,null,{"$f":"IF(E971<>\"\",ROUND((VLOOKUP(E971,Param!$A$7:$E$13,4,0)*Fonct_Empl!F971*((Fonct_Empl!G971/12)))+(VLOOKUP(E971,Param!$A$7:$E$13,5,0)*Fonct_Empl!H971),2),\"\")","v":""}]
[null,null,null,null,null,null,null,null,{"$f":"IF(E972<>\"\",ROUND((VLOOKUP(E972,Param!$A$7:$E$13,4,0)*Fonct_Empl!F972*((Fonct_Empl!G972/12)))+(VLOOKUP(E972,Param!$A$7:$E$13,5,0)*Fonct_Empl!H972),2),\"\")","v":""}]
[null,null,null,null,null,null,null,null,{"$f":"IF(E973<>\"\",ROUND((VLOOKUP(E973,Param!$A$7:$E$13,4,0)*Fonct_Empl!F973*((Fonct_Empl!G973/12)))+(VLOOKUP(E973,Param!$A$7:$E$13,5,0)*Fonct_Empl!H973),2),\"\")","v":""}]
[null,null,null,null,null,null,null,null,{"$f":"IF(E974<>\"\",ROUND((VLOOKUP(E974,Param!$A$7:$E$13,4,0)*Fonct_Empl!F974*((Fonct_Empl!G974/12)))+(VLOOKUP(E974,Param!$A$7:$E$13,5,0)*Fonct_Empl!H974),2),\"\")","v":""}]
[null,null,null,null,null,null,null,null,{"$f":"IF(E975<>\"\",ROUND((VLOOKUP(E975,Param!$A$7:$E$13,4,0)*Fonct_Empl!F975*((Fonct_Empl!G975/12)))+(VLOOKUP(E975,Param!$A$7:$E$13,5,0)*Fonct_Empl!H975),2),\"\")","v":""}]
[null,null,null,null,null,null,null,null,{"$f":"IF(E976<>\"\",ROUND((VLOOKUP(E976,Param!$A$7:$E$13,4,0)*Fonct_Empl!F976*((Fonct_Empl!G976/12)))+(VLOOKUP(E976,Param!$A$7:$E$13,5,0)*Fonct_Empl!H976),2),\"\")","v":""}]
[null,null,null,null,null,null,null,null,{"$f":"IF(E977<>\"\",ROUND((VLOOKUP(E977,Param!$A$7:$E$13,4,0)*Fonct_Empl!F977*((Fonct_Empl!G977/12)))+(VLOOKUP(E977,Param!$A$7:$E$13,5,0)*Fonct_Empl!H977),2),\"\")","v":""}]
[null,null,null,null,null,null,null,null,{"$f":"IF(E978<>\"\",ROUND((VLOOKUP(E978,Param!$A$7:$E$13,4,0)*Fonct_Empl!F978*((Fonct_Empl!G978/12)))+(VLOOKUP(E978,Param!$A$7:$E$13,5,0)*Fonct_Empl!H978),2),\"\")","v":""}]
[null,null,null,null,null,null,null,null,{"$f":"IF(E979<>\"\",ROUND((VLOOKUP(E979,Param!$A$7:$E$13,4,0)*Fonct_Empl!F979*((Fonct_Empl!G979/12)))+(VLOOKUP(E979,Param!$A$7:$E$13,5,0)*Fonct_Empl!H979),2),\"\")","v":""}]
[null,null,null,null,null,null,null,null,{"$f":"IF(E980<>\"\",ROUND((VLOOKUP(E980,Param!$A$7:$E$13,4,0)*Fonct_Empl!F980*((Fonct_Empl!G980/12)))+(VLOOKUP(E980,Param!$A$7:$E$13,5,0)*Fonct_Empl!H980),2),\"\")","v":""}]
[null,null,null,null,null,null,null,null,{"$f":"IF(E981<>\"\",ROUND((VLOOKUP(E981,Param!$A$7:$E$13,4,0)*Fonct_Empl!F981*((Fonct_Empl!G981/12)))+(VLOOKUP(E981,Param!$A$7:$E$13,5,0)*Fonct_Empl!H981),2),\"\")","v":""}]
[null,null,null,null,null,null,null,null,{"$f":"IF(E982<>\"\",ROUND((VLOOKUP(E982,Param!$A$7:$E$13,4,0)*Fonct_Empl!F982*((Fonct_Empl!G982/12)))+(VLOOKUP(E982,Param!$A$7:$E$13,5,0)*Fonct_Empl!H982),2),\"\")","v":""}]
[null,null,null,null,null,null,null,null,{"$f":"IF(E983<>\"\",ROUND((VLOOKUP(E983,Param!$A$7:$E$13,4,0)*Fonct_Empl!F983*((Fonct_Empl!G983/12)))+(VLOOKUP(E983,Param!$A$7:$E$13,5,0)*Fonct_Empl!H983),2),\"\")","v":""}]
[null,null,null,null,null,null,null,null,{"$f":"IF(E984<>\"\",ROUND((VLOOKUP(E984,Param!$A$7:$E$13,4,0)*Fonct_Empl!F984*((Fonct_Empl!G984/12)))+(VLOOKUP(E984,Param!$A$7:$E$13,5,0)*Fonct_Empl!H984),2),\"\")","v":""}]
[null,null,null,null,null,null,null,null,{"$f":"IF(E985<>\"\",ROUND((VLOOKUP(E985,Param!$A$7:$E$13,4,0)*Fonct_Empl!F985*((Fonct_Empl!G985/12)))+(VLOOKUP(E985,Param!$A$7:$E$13,5,0)*Fonct_Empl!H985),2),\"\")","v":""}]
[null,null,null,null,null,null,null,null,{"$f":"IF(E986<>\"\",ROUND((VLOOKUP(E986,Param!$A$7:$E$13,4,0)*Fonct_Empl!F986*((Fonct_Empl!G986/12)))+(VLOOKUP(E986,Param!$A$7:$E$13,5,0)*Fonct_Empl!H986),2),\"\")","v":""}]
[null,null,null,null,null,null,null,null,{"$f":"IF(E987<>\"\",ROUND((VLOOKUP(E987,Param!$A$7:$E$13,4,0)*Fonct_Empl!F987*((Fonct_Empl!G987/12)))+(VLOOKUP(E987,Param!$A$7:$E$13,5,0)*Fonct_Empl!H987),2),\"\")","v":""}]
[null,null,null,null,null,null,null,null,{"$f":"IF(E988<>\"\",ROUND((VLOOKUP(E988,Param!$A$7:$E$13,4,0)*Fonct_Empl!F988*((Fonct_Empl!G988/12)))+(VLOOKUP(E988,Param!$A$7:$E$13,5,0)*Fonct_Empl!H988),2),\"\")","v":""}]
[null,null,null,null,null,null,null,null,{"$f":"IF(E989<>\"\",ROUND((VLOOKUP(E989,Param!$A$7:$E$13,4,0)*Fonct_Empl!F989*((Fonct_Empl!G989/12)))+(VLOOKUP(E989,Param!$A$7:$E$13,5,0)*Fonct_Empl!H989),2),\"\")","v":""}]
[null,null,null,null,null,null,null,null,{"$f":"IF(E990<>\"\",ROUND((VLOOKUP(E990,Param!$A$7:$E$13,4,0)*Fonct_Empl!F990*((Fonct_Empl!G990/12)))+(VLOOKUP(E990,Param!$A$7:$E$13,5,0)*Fonct_Empl!H990),2),\"\")","v":""}]
[null,null,null,null,null,null,null,null,{"$f":"IF(E991<>\"\",ROUND((VLOOKUP(E991,Param!$A$7:$E$13,4,0)*Fonct_Empl!F991*((Fonct_Empl!G991/12)))+(VLOOKUP(E991,Param!$A$7:$E$13,5,0)*Fonct_Empl!H991),2),\"\")","v":""}]
[null,null,null,null,null,null,null,null,{"$f":"IF(E992<>\"\",ROUND((VLOOKUP(E992,Param!$A$7:$E$13,4,0)*Fonct_Empl!F992*((Fonct_Empl!G992/12)))+(VLOOKUP(E992,Param!$A$7:$E$13,5,0)*Fonct_Empl!H992),2),\"\")","v":""}]
[null,null,null,null,null,null,null,null,{"$f":"IF(E993<>\"\",ROUND((VLOOKUP(E993,Param!$A$7:$E$13,4,0)*Fonct_Empl!F993*((Fonct_Empl!G993/12)))+(VLOOKUP(E993,Param!$A$7:$E$13,5,0)*Fonct_Empl!H993),2),\"\")","v":""}]
[null,null,null,null,null,null,null,null,{"$f":"IF(E994<>\"\",ROUND((VLOOKUP(E994,Param!$A$7:$E$13,4,0)*Fonct_Empl!F994*((Fonct_Empl!G994/12)))+(VLOOKUP(E994,Param!$A$7:$E$13,5,0)*Fonct_Empl!H994),2),\"\")","v":""}]
[null,null,null,null,null,null,null,null,{"$f":"IF(E995<>\"\",ROUND((VLOOKUP(E995,Param!$A$7:$E$13,4,0)*Fonct_Empl!F995*((Fonct_Empl!G995/12)))+(VLOOKUP(E995,Param!$A$7:$E$13,5,0)*Fonct_Empl!H995),2),\"\")","v":""}]
[null,null,null,null,null,null,null,null,{"$f":"IF(E996<>\"\",ROUND((VLOOKUP(E996,Param!$A$7:$E$13,4,0)*Fonct_Empl!F996*((Fonct_Empl!G996/12)))+(VLOOKUP(E996,Param!$A$7:$E$13,5,0)*Fonct_Empl!H996),2),\"\")","v":""}]
[null,null,null,null,null,null,null,null,{"$f":"IF(E997<>\"\",ROUND((VLOOKUP(E997,Param!$A$7:$E$13,4,0)*Fonct_Empl!F997*((Fonct_Empl!G997/12)))+(VLOOKUP(E997,Param!$A$7:$E$13,5,0)*Fonct_Empl!H997),2),\"\")","v":""}]
[null,null,null,null,null,null,null,null,{"$f":"IF(E998<>\"\",ROUND((VLOOKUP(E998,Param!$A$7:$E$13,4,0)*Fonct_Empl!F998*((Fonct_Empl!G998/12)))+(VLOOKUP(E998,Param!$A$7:$E$13,5,0)*Fonct_Empl!H998),2),\"\")","v":""}]
[null,null,null,null,null,null,null,null,{"$f":"IF(E999<>\"\",ROUND((VLOOKUP(E999,Param!$A$7:$E$13,4,0)*Fonct_Empl!F999*((Fonct_Empl!G999/12)))+(VLOOKUP(E999,Param!$A$7:$E$13,5,0)*Fonct_Empl!H999),2),\"\")","v":""}]
[null,null,null,null,null,null,null,null,{"$f":"IF(E1000<>\"\",ROUND((VLOOKUP(E1000,Param!$A$7:$E$13,4,0)*Fonct_Empl!F1000*((Fonct_Empl!G1000/12)))+(VLOOKUP(E1000,Param!$A$7:$E$13,5,0)*Fonct_Empl!H1000),2),\"\")","v":""}]
[null,null,null,null,null,null,null,null,{"$f":"IF(E1001<>\"\",ROUND((VLOOKUP(E1001,Param!$A$7:$E$13,4,0)*Fonct_Empl!F1001*((Fonct_Empl!G1001/12)))+(VLOOKUP(E1001,Param!$A$7:$E$13,5,0)*Fonct_Empl!H1001),2),\"\")","v":""}]
[null,null,null,null,null,null,null,null,{"$f":"IF(E1002<>\"\",ROUND((VLOOKUP(E1002,Param!$A$7:$E$13,4,0)*Fonct_Empl!F1002*((Fonct_Empl!G1002/12)))+(VLOOKUP(E1002,Param!$A$7:$E$13,5,0)*Fonct_Empl!H1002),2),\"\")","v":""}]
[null,null,null,null,null,null,null,null,{"$f":"IF(E1003<>\"\",ROUND((VLOOKUP(E1003,Param!$A$7:$E$13,4,0)*Fonct_Empl!F1003*((Fonct_Empl!G1003/12)))+(VLOOKUP(E1003,Param!$A$7:$E$13,5,0)*Fonct_Empl!H1003),2),\"\")","v":""}]
[null,null,null,null,null,null,null,null,{"$f":"IF(E1004<>\"\",ROUND((VLOOKUP(E1004,Param!$A$7:$E$13,4,0)*Fonct_Empl!F1004*((Fonct_Empl!G1004/12)))+(VLOOKUP(E1004,Param!$A$7:$E$13,5,0)*Fonct_Empl!H1004),2),\"\")","v":""}]
[null,null,null,null,null,null,null,null,{"$f":"IF(E1005<>\"\",ROUND((VLOOKUP(E1005,Param!$A$7:$E$13,4,0)*Fonct_Empl!F1005*((Fonct_Empl!G1005/12)))+(VLOOKUP(E1005,Param!$A$7:$E$13,5,0)*Fonct_Empl!H1005),2),\"\")","v":""}]
[null,null,null,null,null,null,null,null,{"$f":"IF(E1006<>\"\",ROUND((VLOOKUP(E1006,Param!$A$7:$E$13,4,0)*Fonct_Empl!F1006*((Fonct_Empl!G1006/12)))+(VLOOKUP(E1006,Param!$A$7:$E$13,5,0)*Fonct_Empl!H1006),2),\"\")","v":""}]
[null,null,null,null,null,null,null,null,{"$f":"IF(E1007<>\"\",ROUND((VLOOKUP(E1007,Param!$A$7:$E$13,4,0)*Fonct_Empl!F1007*((Fonct_Empl!G1007/12)))+(VLOOKUP(E1007,Param!$A$7:$E$13,5,0)*Fonct_Empl!H1007),2),\"\")","v":""}]
[null,null,null,null,null,null,null,null,{"$f":"IF(E1008<>\"\",ROUND((VLOOKUP(E1008,Param!$A$7:$E$13,4,0)*Fonct_Empl!F1008*((Fonct_Empl!G1008/12)))+(VLOOKUP(E1008,Param!$A$7:$E$13,5,0)*Fonct_Empl!H1008),2),\"\")","v":""}]
[null,null,null,null,null,null,null,null,{"$f":"IF(E1009<>\"\",ROUND((VLOOKUP(E1009,Param!$A$7:$E$13,4,0)*Fonct_Empl!F1009*((Fonct_Empl!G1009/12)))+(VLOOKUP(E1009,Param!$A$7:$E$13,5,0)*Fonct_Empl!H1009),2),\"\")","v":""}]
[null,null,null,null,null,null,null,null,{"$f":"IF(E1010<>\"\",ROUND((VLOOKUP(E1010,Param!$A$7:$E$13,4,0)*Fonct_Empl!F1010*((Fonct_Empl!G1010/12)))+(VLOOKUP(E1010,Param!$A$7:$E$13,5,0)*Fonct_Empl!H1010),2),\"\")","v":""}]
[null,null,null,null,null,null,null,null,{"$f":"IF(E1011<>\"\",ROUND((VLOOKUP(E1011,Param!$A$7:$E$13,4,0)*Fonct_Empl!F1011*((Fonct_Empl!G1011/12)))+(VLOOKUP(E1011,Param!$A$7:$E$13,5,0)*Fonct_Empl!H1011),2),\"\")","v":""}]
[null,null,null,null,null,null,null,null,{"$f":"IF(E1012<>\"\",ROUND((VLOOKUP(E1012,Param!$A$7:$E$13,4,0)*Fonct_Empl!F1012*((Fonct_Empl!G1012/12)))+(VLOOKUP(E1012,Param!$A$7:$E$13,5,0)*Fonct_Empl!H1012),2),\"\")","v":""}]
[null,null,null,null,null,null,null,null,{"$f":"IF(E1013<>\"\",ROUND((VLOOKUP(E1013,Param!$A$7:$E$13,4,0)*Fonct_Empl!F1013*((Fonct_Empl!G1013/12)))+(VLOOKUP(E1013,Param!$A$7:$E$13,5,0)*Fonct_Empl!H1013),2),\"\")","v":""}]
[null,null,null,null,null,null,null,null,{"$f":"IF(E1014<>\"\",ROUND((VLOOKUP(E1014,Param!$A$7:$E$13,4,0)*Fonct_Empl!F1014*((Fonct_Empl!G1014/12)))+(VLOOKUP(E1014,Param!$A$7:$E$13,5,0)*Fonct_Empl!H1014),2),\"\")","v":""}]
[null,null,null,null,null,null,null,null,{"$f":"IF(E1015<>\"\",ROUND((VLOOKUP(E1015,Param!$A$7:$E$13,4,0)*Fonct_Empl!F1015*((Fonct_Empl!G1015/12)))+(VLOOKUP(E1015,Param!$A$7:$E$13,5,0)*Fonct_Empl!H1015),2),\"\")","v":""}]
[null,null,null,null,null,null,null,null,{"$f":"IF(E1016<>\"\",ROUND((VLOOKUP(E1016,Param!$A$7:$E$13,4,0)*Fonct_Empl!F1016*((Fonct_Empl!G1016/12)))+(VLOOKUP(E1016,Param!$A$7:$E$13,5,0)*Fonct_Empl!H1016),2),\"\")","v":""}]
[null,null,null,null,null,null,null,null,{"$f":"IF(E1017<>\"\",ROUND((VLOOKUP(E1017,Param!$A$7:$E$13,4,0)*Fonct_Empl!F1017*((Fonct_Empl!G1017/12)))+(VLOOKUP(E1017,Param!$A$7:$E$13,5,0)*Fonct_Empl!H1017),2),\"\")","v":""}]
[null,null,null,null,null,null,null,null,{"$f":"IF(E1018<>\"\",ROUND((VLOOKUP(E1018,Param!$A$7:$E$13,4,0)*Fonct_Empl!F1018*((Fonct_Empl!G1018/12)))+(VLOOKUP(E1018,Param!$A$7:$E$13,5,0)*Fonct_Empl!H1018),2),\"\")","v":""}]
[null,null,null,null,null,null,null,null,{"$f":"IF(E1019<>\"\",ROUND((VLOOKUP(E1019,Param!$A$7:$E$13,4,0)*Fonct_Empl!F1019*((Fonct_Empl!G1019/12)))+(VLOOKUP(E1019,Param!$A$7:$E$13,5,0)*Fonct_Empl!H1019),2),\"\")","v":""}]
[null,null,null,null,null,null,null,null,{"$f":"IF(E1020<>\"\",ROUND((VLOOKUP(E1020,Param!$A$7:$E$13,4,0)*Fonct_Empl!F1020*((Fonct_Empl!G1020/12)))+(VLOOKUP(E1020,Param!$A$7:$E$13,5,0)*Fonct_Empl!H1020),2),\"\")","v":""}]
[null,null,null,null,null,null,null,null,{"$f":"IF(E1021<>\"\",ROUND((VLOOKUP(E1021,Param!$A$7:$E$13,4,0)*Fonct_Empl!F1021*((Fonct_Empl!G1021/12)))+(VLOOKUP(E1021,Param!$A$7:$E$13,5,0)*Fonct_Empl!H1021),2),\"\")","v":""}]
[null,null,null,null,null,null,null,null,{"$f":"IF(E1022<>\"\",ROUND((VLOOKUP(E1022,Param!$A$7:$E$13,4,0)*Fonct_Empl!F1022*((Fonct_Empl!G1022/12)))+(VLOOKUP(E1022,Param!$A$7:$E$13,5,0)*Fonct_Empl!H1022),2),\"\")","v":""}]
[null,null,null,null,null,null,null,null,{"$f":"IF(E1023<>\"\",ROUND((VLOOKUP(E1023,Param!$A$7:$E$13,4,0)*Fonct_Empl!F1023*((Fonct_Empl!G1023/12)))+(VLOOKUP(E1023,Param!$A$7:$E$13,5,0)*Fonct_Empl!H1023),2),\"\")","v":""}]
[null,null,null,null,null,null,null,null,{"$f":"IF(E1024<>\"\",ROUND((VLOOKUP(E1024,Param!$A$7:$E$13,4,0)*Fonct_Empl!F1024*((Fonct_Empl!G1024/12)))+(VLOOKUP(E1024,Param!$A$7:$E$13,5,0)*Fonct_Empl!H1024),2),\"\")","v":""}]
[null,null,null,null,null,null,null,null,{"$f":"IF(E1025<>\"\",ROUND((VLOOKUP(E1025,Param!$A$7:$E$13,4,0)*Fonct_Empl!F1025*((Fonct_Empl!G1025/12)))+(VLOOKUP(E1025,Param!$A$7:$E$13,5,0)*Fonct_Empl!H1025),2),\"\")","v":""}]
[null,null,null,null,null,null,null,null,{"$f":"IF(E1026<>\"\",ROUND((VLOOKUP(E1026,Param!$A$7:$E$13,4,0)*Fonct_Empl!F1026*((Fonct_Empl!G1026/12)))+(VLOOKUP(E1026,Param!$A$7:$E$13,5,0)*Fonct_Empl!H1026),2),\"\")","v":""}]
[null,null,null,null,null,null,null,null,{"$f":"IF(E1027<>\"\",ROUND((VLOOKUP(E1027,Param!$A$7:$E$13,4,0)*Fonct_Empl!F1027*((Fonct_Empl!G1027/12)))+(VLOOKUP(E1027,Param!$A$7:$E$13,5,0)*Fonct_Empl!H1027),2),\"\")","v":""}]
[null,null,null,null,null,null,null,null,{"$f":"IF(E1028<>\"\",ROUND((VLOOKUP(E1028,Param!$A$7:$E$13,4,0)*Fonct_Empl!F1028*((Fonct_Empl!G1028/12)))+(VLOOKUP(E1028,Param!$A$7:$E$13,5,0)*Fonct_Empl!H1028),2),\"\")","v":""}]
[null,null,null,null,null,null,null,null,{"$f":"IF(E1029<>\"\",ROUND((VLOOKUP(E1029,Param!$A$7:$E$13,4,0)*Fonct_Empl!F1029*((Fonct_Empl!G1029/12)))+(VLOOKUP(E1029,Param!$A$7:$E$13,5,0)*Fonct_Empl!H1029),2),\"\")","v":""}]
[null,null,null,null,null,null,null,null,{"$f":"IF(E1030<>\"\",ROUND((VLOOKUP(E1030,Param!$A$7:$E$13,4,0)*Fonct_Empl!F1030*((Fonct_Empl!G1030/12)))+(VLOOKUP(E1030,Param!$A$7:$E$13,5,0)*Fonct_Empl!H1030),2),\"\")","v":""}]
[null,null,null,null,null,null,null,null,{"$f":"IF(E1031<>\"\",ROUND((VLOOKUP(E1031,Param!$A$7:$E$13,4,0)*Fonct_Empl!F1031*((Fonct_Empl!G1031/12)))+(VLOOKUP(E1031,Param!$A$7:$E$13,5,0)*Fonct_Empl!H1031),2),\"\")","v":""}]
[null,null,null,null,null,null,null,null,{"$f":"IF(E1032<>\"\",ROUND((VLOOKUP(E1032,Param!$A$7:$E$13,4,0)*Fonct_Empl!F1032*((Fonct_Empl!G1032/12)))+(VLOOKUP(E1032,Param!$A$7:$E$13,5,0)*Fonct_Empl!H1032),2),\"\")","v":""}]
[null,null,null,null,null,null,null,null,{"$f":"IF(E1033<>\"\",ROUND((VLOOKUP(E1033,Param!$A$7:$E$13,4,0)*Fonct_Empl!F1033*((Fonct_Empl!G1033/12)))+(VLOOKUP(E1033,Param!$A$7:$E$13,5,0)*Fonct_Empl!H1033),2),\"\")","v":""}]
[null,null,null,null,null,null,null,null,{"$f":"IF(E1034<>\"\",ROUND((VLOOKUP(E1034,Param!$A$7:$E$13,4,0)*Fonct_Empl!F1034*((Fonct_Empl!G1034/12)))+(VLOOKUP(E1034,Param!$A$7:$E$13,5,0)*Fonct_Empl!H1034),2),\"\")","v":""}]
[null,null,null,null,null,null,null,null,{"$f":"IF(E1035<>\"\",ROUND((VLOOKUP(E1035,Param!$A$7:$E$13,4,0)*Fonct_Empl!F1035*((Fonct_Empl!G1035/12)))+(VLOOKUP(E1035,Param!$A$7:$E$13,5,0)*Fonct_Empl!H1035),2),\"\")","v":""}]
[null,null,null,null,null,null,null,null,{"$f":"IF(E1036<>\"\",ROUND((VLOOKUP(E1036,Param!$A$7:$E$13,4,0)*Fonct_Empl!F1036*((Fonct_Empl!G1036/12)))+(VLOOKUP(E1036,Param!$A$7:$E$13,5,0)*Fonct_Empl!H1036),2),\"\")","v":""}]
[null,null,null,null,null,null,null,null,{"$f":"IF(E1037<>\"\",ROUND((VLOOKUP(E1037,Param!$A$7:$E$13,4,0)*Fonct_Empl!F1037*((Fonct_Empl!G1037/12)))+(VLOOKUP(E1037,Param!$A$7:$E$13,5,0)*Fonct_Empl!H1037),2),\"\")","v":""}]
[null,null,null,null,null,null,null,null,{"$f":"IF(E1038<>\"\",ROUND((VLOOKUP(E1038,Param!$A$7:$E$13,4,0)*Fonct_Empl!F1038*((Fonct_Empl!G1038/12)))+(VLOOKUP(E1038,Param!$A$7:$E$13,5,0)*Fonct_Empl!H1038),2),\"\")","v":""}]
[null,null,null,null,null,null,null,null,{"$f":"IF(E1039<>\"\",ROUND((VLOOKUP(E1039,Param!$A$7:$E$13,4,0)*Fonct_Empl!F1039*((Fonct_Empl!G1039/12)))+(VLOOKUP(E1039,Param!$A$7:$E$13,5,0)*Fonct_Empl!H1039),2),\"\")","v":""}]
[null,null,null,null,null,null,null,null,{"$f":"IF(E1040<>\"\",ROUND((VLOOKUP(E1040,Param!$A$7:$E$13,4,0)*Fonct_Empl!F1040*((Fonct_Empl!G1040/12)))+(VLOOKUP(E1040,Param!$A$7:$E$13,5,0)*Fonct_Empl!H1040),2),\"\")","v":""}]
[null,null,null,null,null,null,null,null,{"$f":"IF(E1041<>\"\",ROUND((VLOOKUP(E1041,Param!$A$7:$E$13,4,0)*Fonct_Empl!F1041*((Fonct_Empl!G1041/12)))+(VLOOKUP(E1041,Param!$A$7:$E$13,5,0)*Fonct_Empl!H1041),2),\"\")","v":""}]
[null,null,null,null,null,null,null,null,{"$f":"IF(E1042<>\"\",ROUND((VLOOKUP(E1042,Param!$A$7:$E$13,4,0)*Fonct_Empl!F1042*((Fonct_Empl!G1042/12)))+(VLOOKUP(E1042,Param!$A$7:$E$13,5,0)*Fonct_Empl!H1042),2),\"\")","v":""}]
[null,null,null,null,null,null,null,null,{"$f":"IF(E1043<>\"\",ROUND((VLOOKUP(E1043,Param!$A$7:$E$13,4,0)*Fonct_Empl!F1043*((Fonct_Empl!G1043/12)))+(VLOOKUP(E1043,Param!$A$7:$E$13,5,0)*Fonct_Empl!H1043),2),\"\")","v":""}]
[null,null,null,null,null,null,null,null,{"$f":"IF(E1044<>\"\",ROUND((VLOOKUP(E1044,Param!$A$7:$E$13,4,0)*Fonct_Empl!F1044*((Fonct_Empl!G1044/12)))+(VLOOKUP(E1044,Param!$A$7:$E$13,5,0)*Fonct_Empl!H1044),2),\"\")","v":""}]
[null,null,null,null,null,null,null,null,{"$f":"IF(E1045<>\"\",ROUND((VLOOKUP(E1045,Param!$A$7:$E$13,4,0)*Fonct_Empl!F1045*((Fonct_Empl!G1045/12)))+(VLOOKUP(E1045,Param!$A$7:$E$13,5,0)*Fonct_Empl!H1045),2),\"\")","v":""}]
[null,null,null,null,null,null,null,null,{"$f":"IF(E1046<>\"\",ROUND((VLOOKUP(E1046,Param!$A$7:$E$13,4,0)*Fonct_Empl!F1046*((Fonct_Empl!G1046/12)))+(VLOOKUP(E1046,Param!$A$7:$E$13,5,0)*Fonct_Empl!H1046),2),\"\")","v":""}]
[null,null,null,null,null,null,null,null,{"$f":"IF(E1047<>\"\",ROUND((VLOOKUP(E1047,Param!$A$7:$E$13,4,0)*Fonct_Empl!F1047*((Fonct_Empl!G1047/12)))+(VLOOKUP(E1047,Param!$A$7:$E$13,5,0)*Fonct_Empl!H1047),2),\"\")","v":""}]
[null,null,null,null,null,null,null,null,{"$f":"IF(E1048<>\"\",ROUND((VLOOKUP(E1048,Param!$A$7:$E$13,4,0)*Fonct_Empl!F1048*((Fonct_Empl!G1048/12)))+(VLOOKUP(E1048,Param!$A$7:$E$13,5,0)*Fonct_Empl!H1048),2),\"\")","v":""}]
[null,null,null,null,null,null,null,null,{"$f":"IF(E1049<>\"\",ROUND((VLOOKUP(E1049,Param!$A$7:$E$13,4,0)*Fonct_Empl!F1049*((Fonct_Empl!G1049/12)))+(VLOOKUP(E1049,Param!$A$7:$E$13,5,0)*Fonct_Empl!H1049),2),\"\")","v":""}]
[null,null,null,null,null,null,null,null,{"$f":"IF(E1050<>\"\",ROUND((VLOOKUP(E1050,Param!$A$7:$E$13,4,0)*Fonct_Empl!F1050*((Fonct_Empl!G1050/12)))+(VLOOKUP(E1050,Param!$A$7:$E$13,5,0)*Fonct_Empl!H1050),2),\"\")","v":""}]
[null,null,null,null,null,null,null,null,{"$f":"IF(E1051<>\"\",ROUND((VLOOKUP(E1051,Param!$A$7:$E$13,4,0)*Fonct_Empl!F1051*((Fonct_Empl!G1051/12)))+(VLOOKUP(E1051,Param!$A$7:$E$13,5,0)*Fonct_Empl!H1051),2),\"\")","v":""}]
[null,null,null,null,null,null,null,null,{"$f":"IF(E1052<>\"\",ROUND((VLOOKUP(E1052,Param!$A$7:$E$13,4,0)*Fonct_Empl!F1052*((Fonct_Empl!G1052/12)))+(VLOOKUP(E1052,Param!$A$7:$E$13,5,0)*Fonct_Empl!H1052),2),\"\")","v":""}]
[null,null,null,null,null,null,null,null,{"$f":"IF(E1053<>\"\",ROUND((VLOOKUP(E1053,Param!$A$7:$E$13,4,0)*Fonct_Empl!F1053*((Fonct_Empl!G1053/12)))+(VLOOKUP(E1053,Param!$A$7:$E$13,5,0)*Fonct_Empl!H1053),2),\"\")","v":""}]
[null,null,null,null,null,null,null,null,{"$f":"IF(E1054<>\"\",ROUND((VLOOKUP(E1054,Param!$A$7:$E$13,4,0)*Fonct_Empl!F1054*((Fonct_Empl!G1054/12)))+(VLOOKUP(E1054,Param!$A$7:$E$13,5,0)*Fonct_Empl!H1054),2),\"\")","v":""}]
[null,null,null,null,null,null,null,null,{"$f":"IF(E1055<>\"\",ROUND((VLOOKUP(E1055,Param!$A$7:$E$13,4,0)*Fonct_Empl!F1055*((Fonct_Empl!G1055/12)))+(VLOOKUP(E1055,Param!$A$7:$E$13,5,0)*Fonct_Empl!H1055),2),\"\")","v":""}]
[null,null,null,null,null,null,null,null,{"$f":"IF(E1056<>\"\",ROUND((VLOOKUP(E1056,Param!$A$7:$E$13,4,0)*Fonct_Empl!F1056*((Fonct_Empl!G1056/12)))+(VLOOKUP(E1056,Param!$A$7:$E$13,5,0)*Fonct_Empl!H1056),2),\"\")","v":""}]
[null,null,null,null,null,null,null,null,{"$f":"IF(E1057<>\"\",ROUND((VLOOKUP(E1057,Param!$A$7:$E$13,4,0)*Fonct_Empl!F1057*((Fonct_Empl!G1057/12)))+(VLOOKUP(E1057,Param!$A$7:$E$13,5,0)*Fonct_Empl!H1057),2),\"\")","v":""}]
[null,null,null,null,null,null,null,null,{"$f":"IF(E1058<>\"\",ROUND((VLOOKUP(E1058,Param!$A$7:$E$13,4,0)*Fonct_Empl!F1058*((Fonct_Empl!G1058/12)))+(VLOOKUP(E1058,Param!$A$7:$E$13,5,0)*Fonct_Empl!H1058),2),\"\")","v":""}]
[null,null,null,null,null,null,null,null,{"$f":"IF(E1059<>\"\",ROUND((VLOOKUP(E1059,Param!$A$7:$E$13,4,0)*Fonct_Empl!F1059*((Fonct_Empl!G1059/12)))+(VLOOKUP(E1059,Param!$A$7:$E$13,5,0)*Fonct_Empl!H1059),2),\"\")","v":""}]
[null,null,null,null,null,null,null,null,{"$f":"IF(E1060<>\"\",ROUND((VLOOKUP(E1060,Param!$A$7:$E$13,4,0)*Fonct_Empl!F1060*((Fonct_Empl!G1060/12)))+(VLOOKUP(E1060,Param!$A$7:$E$13,5,0)*Fonct_Empl!H1060),2),\"\")","v":""}]
[null,null,null,null,null,null,null,null,{"$f":"IF(E1061<>\"\",ROUND((VLOOKUP(E1061,Param!$A$7:$E$13,4,0)*Fonct_Empl!F1061*((Fonct_Empl!G1061/12)))+(VLOOKUP(E1061,Param!$A$7:$E$13,5,0)*Fonct_Empl!H1061),2),\"\")","v":""}]
[null,null,null,null,null,null,null,null,{"$f":"IF(E1062<>\"\",ROUND((VLOOKUP(E1062,Param!$A$7:$E$13,4,0)*Fonct_Empl!F1062*((Fonct_Empl!G1062/12)))+(VLOOKUP(E1062,Param!$A$7:$E$13,5,0)*Fonct_Empl!H1062),2),\"\")","v":""}]
[null,null,null,null,null,null,null,null,{"$f":"IF(E1063<>\"\",ROUND((VLOOKUP(E1063,Param!$A$7:$E$13,4,0)*Fonct_Empl!F1063*((Fonct_Empl!G1063/12)))+(VLOOKUP(E1063,Param!$A$7:$E$13,5,0)*Fonct_Empl!H1063),2),\"\")","v":""}]
[null,null,null,null,null,null,null,null,{"$f":"IF(E1064<>\"\",ROUND((VLOOKUP(E1064,Param!$A$7:$E$13,4,0)*Fonct_Empl!F1064*((Fonct_Empl!G1064/12)))+(VLOOKUP(E1064,Param!$A$7:$E$13,5,0)*Fonct_Empl!H1064),2),\"\")","v":""}]
[null,null,null,null,null,null,null,null,{"$f":"IF(E1065<>\"\",ROUND((VLOOKUP(E1065,Param!$A$7:$E$13,4,0)*Fonct_Empl!F1065*((Fonct_Empl!G1065/12)))+(VLOOKUP(E1065,Param!$A$7:$E$13,5,0)*Fonct_Empl!H1065),2),\"\")","v":""}]
[null,null,null,null,null,null,null,null,{"$f":"IF(E1066<>\"\",ROUND((VLOOKUP(E1066,Param!$A$7:$E$13,4,0)*Fonct_Empl!F1066*((Fonct_Empl!G1066/12)))+(VLOOKUP(E1066,Param!$A$7:$E$13,5,0)*Fonct_Empl!H1066),2),\"\")","v":""}]
[null,null,null,null,null,null,null,null,{"$f":"IF(E1067<>\"\",ROUND((VLOOKUP(E1067,Param!$A$7:$E$13,4,0)*Fonct_Empl!F1067*((Fonct_Empl!G1067/12)))+(VLOOKUP(E1067,Param!$A$7:$E$13,5,0)*Fonct_Empl!H1067),2),\"\")","v":""}]
[null,null,null,null,null,null,null,null,{"$f":"IF(E1068<>\"\",ROUND((VLOOKUP(E1068,Param!$A$7:$E$13,4,0)*Fonct_Empl!F1068*((Fonct_Empl!G1068/12)))+(VLOOKUP(E1068,Param!$A$7:$E$13,5,0)*Fonct_Empl!H1068),2),\"\")","v":""}]
[null,null,null,null,null,null,null,null,{"$f":"IF(E1069<>\"\",ROUND((VLOOKUP(E1069,Param!$A$7:$E$13,4,0)*Fonct_Empl!F1069*((Fonct_Empl!G1069/12)))+(VLOOKUP(E1069,Param!$A$7:$E$13,5,0)*Fonct_Empl!H1069),2),\"\")","v":""}]
[null,null,null,null,null,null,null,null,{"$f":"IF(E1070<>\"\",ROUND((VLOOKUP(E1070,Param!$A$7:$E$13,4,0)*Fonct_Empl!F1070*((Fonct_Empl!G1070/12)))+(VLOOKUP(E1070,Param!$A$7:$E$13,5,0)*Fonct_Empl!H1070),2),\"\")","v":""}]
[null,null,null,null,null,null,null,null,{"$f":"IF(E1071<>\"\",ROUND((VLOOKUP(E1071,Param!$A$7:$E$13,4,0)*Fonct_Empl!F1071*((Fonct_Empl!G1071/12)))+(VLOOKUP(E1071,Param!$A$7:$E$13,5,0)*Fonct_Empl!H1071),2),\"\")","v":""}]
[null,null,null,null,null,null,null,null,{"$f":"IF(E1072<>\"\",ROUND((VLOOKUP(E1072,Param!$A$7:$E$13,4,0)*Fonct_Empl!F1072*((Fonct_Empl!G1072/12)))+(VLOOKUP(E1072,Param!$A$7:$E$13,5,0)*Fonct_Empl!H1072),2),\"\")","v":""}]
[null,null,null,null,null,null,null,null,{"$f":"IF(E1073<>\"\",ROUND((VLOOKUP(E1073,Param!$A$7:$E$13,4,0)*Fonct_Empl!F1073*((Fonct_Empl!G1073/12)))+(VLOOKUP(E1073,Param!$A$7:$E$13,5,0)*Fonct_Empl!H1073),2),\"\")","v":""}]
[null,null,null,null,null,null,null,null,{"$f":"IF(E1074<>\"\",ROUND((VLOOKUP(E1074,Param!$A$7:$E$13,4,0)*Fonct_Empl!F1074*((Fonct_Empl!G1074/12)))+(VLOOKUP(E1074,Param!$A$7:$E$13,5,0)*Fonct_Empl!H1074),2),\"\")","v":""}]
[null,null,null,null,null,null,null,null,{"$f":"IF(E1075<>\"\",ROUND((VLOOKUP(E1075,Param!$A$7:$E$13,4,0)*Fonct_Empl!F1075*((Fonct_Empl!G1075/12)))+(VLOOKUP(E1075,Param!$A$7:$E$13,5,0)*Fonct_Empl!H1075),2),\"\")","v":""}]
[null,null,null,null,null,null,null,null,{"$f":"IF(E1076<>\"\",ROUND((VLOOKUP(E1076,Param!$A$7:$E$13,4,0)*Fonct_Empl!F1076*((Fonct_Empl!G1076/12)))+(VLOOKUP(E1076,Param!$A$7:$E$13,5,0)*Fonct_Empl!H1076),2),\"\")","v":""}]
[null,null,null,null,null,null,null,null,{"$f":"IF(E1077<>\"\",ROUND((VLOOKUP(E1077,Param!$A$7:$E$13,4,0)*Fonct_Empl!F1077*((Fonct_Empl!G1077/12)))+(VLOOKUP(E1077,Param!$A$7:$E$13,5,0)*Fonct_Empl!H1077),2),\"\")","v":""}]
[null,null,null,null,null,null,null,null,{"$f":"IF(E1078<>\"\",ROUND((VLOOKUP(E1078,Param!$A$7:$E$13,4,0)*Fonct_Empl!F1078*((Fonct_Empl!G1078/12)))+(VLOOKUP(E1078,Param!$A$7:$E$13,5,0)*Fonct_Empl!H1078),2),\"\")","v":""}]
[null,null,null,null,null,null,null,null,{"$f":"IF(E1079<>\"\",ROUND((VLOOKUP(E1079,Param!$A$7:$E$13,4,0)*Fonct_Empl!F1079*((Fonct_Empl!G1079/12)))+(VLOOKUP(E1079,Param!$A$7:$E$13,5,0)*Fonct_Empl!H1079),2),\"\")","v":""}]
[null,null,null,null,null,null,null,null,{"$f":"IF(E1080<>\"\",ROUND((VLOOKUP(E1080,Param!$A$7:$E$13,4,0)*Fonct_Empl!F1080*((Fonct_Empl!G1080/12)))+(VLOOKUP(E1080,Param!$A$7:$E$13,5,0)*Fonct_Empl!H1080),2),\"\")","v":""}]
[null,null,null,null,null,null,null,null,{"$f":"IF(E1081<>\"\",ROUND((VLOOKUP(E1081,Param!$A$7:$E$13,4,0)*Fonct_Empl!F1081*((Fonct_Empl!G1081/12)))+(VLOOKUP(E1081,Param!$A$7:$E$13,5,0)*Fonct_Empl!H1081),2),\"\")","v":""}]
[null,null,null,null,null,null,null,null,{"$f":"IF(E1082<>\"\",ROUND((VLOOKUP(E1082,Param!$A$7:$E$13,4,0)*Fonct_Empl!F1082*((Fonct_Empl!G1082/12)))+(VLOOKUP(E1082,Param!$A$7:$E$13,5,0)*Fonct_Empl!H1082),2),\"\")","v":""}]
[null,null,null,null,null,null,null,null,{"$f":"IF(E1083<>\"\",ROUND((VLOOKUP(E1083,Param!$A$7:$E$13,4,0)*Fonct_Empl!F1083*((Fonct_Empl!G1083/12)))+(VLOOKUP(E1083,Param!$A$7:$E$13,5,0)*Fonct_Empl!H1083),2),\"\")","v":""}]
[null,null,null,null,null,null,null,null,{"$f":"IF(E1084<>\"\",ROUND((VLOOKUP(E1084,Param!$A$7:$E$13,4,0)*Fonct_Empl!F1084*((Fonct_Empl!G1084/12)))+(VLOOKUP(E1084,Param!$A$7:$E$13,5,0)*Fonct_Empl!H1084),2),\"\")","v":""}]
[null,null,null,null,null,null,null,null,{"$f":"IF(E1085<>\"\",ROUND((VLOOKUP(E1085,Param!$A$7:$E$13,4,0)*Fonct_Empl!F1085*((Fonct_Empl!G1085/12)))+(VLOOKUP(E1085,Param!$A$7:$E$13,5,0)*Fonct_Empl!H1085),2),\"\")","v":""}]
[null,null,null,null,null,null,null,null,{"$f":"IF(E1086<>\"\",ROUND((VLOOKUP(E1086,Param!$A$7:$E$13,4,0)*Fonct_Empl!F1086*((Fonct_Empl!G1086/12)))+(VLOOKUP(E1086,Param!$A$7:$E$13,5,0)*Fonct_Empl!H1086),2),\"\")","v":""}]
[null,null,null,null,null,null,null,null,{"$f":"IF(E1087<>\"\",ROUND((VLOOKUP(E1087,Param!$A$7:$E$13,4,0)*Fonct_Empl!F1087*((Fonct_Empl!G1087/12)))+(VLOOKUP(E1087,Param!$A$7:$E$13,5,0)*Fonct_Empl!H1087),2),\"\")","v":""}]
[null,null,null,null,null,null,null,null,{"$f":"IF(E1088<>\"\",ROUND((VLOOKUP(E1088,Param!$A$7:$E$13,4,0)*Fonct_Empl!F1088*((Fonct_Empl!G1088/12)))+(VLOOKUP(E1088,Param!$A$7:$E$13,5,0)*Fonct_Empl!H1088),2),\"\")","v":""}]
[null,null,null,null,null,null,null,null,{"$f":"IF(E1089<>\"\",ROUND((VLOOKUP(E1089,Param!$A$7:$E$13,4,0)*Fonct_Empl!F1089*((Fonct_Empl!G1089/12)))+(VLOOKUP(E1089,Param!$A$7:$E$13,5,0)*Fonct_Empl!H1089),2),\"\")","v":""}]
[null,null,null,null,null,null,null,null,{"$f":"IF(E1090<>\"\",ROUND((VLOOKUP(E1090,Param!$A$7:$E$13,4,0)*Fonct_Empl!F1090*((Fonct_Empl!G1090/12)))+(VLOOKUP(E1090,Param!$A$7:$E$13,5,0)*Fonct_Empl!H1090),2),\"\")","v":""}]
[null,null,null,null,null,null,null,null,{"$f":"IF(E1091<>\"\",ROUND((VLOOKUP(E1091,Param!$A$7:$E$13,4,0)*Fonct_Empl!F1091*((Fonct_Empl!G1091/12)))+(VLOOKUP(E1091,Param!$A$7:$E$13,5,0)*Fonct_Empl!H1091),2),\"\")","v":""}]
[null,null,null,null,null,null,null,null,{"$f":"IF(E1092<>\"\",ROUND((VLOOKUP(E1092,Param!$A$7:$E$13,4,0)*Fonct_Empl!F1092*((Fonct_Empl!G1092/12)))+(VLOOKUP(E1092,Param!$A$7:$E$13,5,0)*Fonct_Empl!H1092),2),\"\")","v":""}]
[null,null,null,null,null,null,null,null,{"$f":"IF(E1093<>\"\",ROUND((VLOOKUP(E1093,Param!$A$7:$E$13,4,0)*Fonct_Empl!F1093*((Fonct_Empl!G1093/12)))+(VLOOKUP(E1093,Param!$A$7:$E$13,5,0)*Fonct_Empl!H1093),2),\"\")","v":""}]
[null,null,null,null,null,null,null,null,{"$f":"IF(E1094<>\"\",ROUND((VLOOKUP(E1094,Param!$A$7:$E$13,4,0)*Fonct_Empl!F1094*((Fonct_Empl!G1094/12)))+(VLOOKUP(E1094,Param!$A$7:$E$13,5,0)*Fonct_Empl!H1094),2),\"\")","v":""}]
[null,null,null,null,null,null,null,null,{"$f":"IF(E1095<>\"\",ROUND((VLOOKUP(E1095,Param!$A$7:$E$13,4,0)*Fonct_Empl!F1095*((Fonct_Empl!G1095/12)))+(VLOOKUP(E1095,Param!$A$7:$E$13,5,0)*Fonct_Empl!H1095),2),\"\")","v":""}]
[null,null,null,null,null,null,null,null,{"$f":"IF(E1096<>\"\",ROUND((VLOOKUP(E1096,Param!$A$7:$E$13,4,0)*Fonct_Empl!F1096*((Fonct_Empl!G1096/12)))+(VLOOKUP(E1096,Param!$A$7:$E$13,5,0)*Fonct_Empl!H1096),2),\"\")","v":""}]
[null,null,null,null,null,null,null,null,{"$f":"IF(E1097<>\"\",ROUND((VLOOKUP(E1097,Param!$A$7:$E$13,4,0)*Fonct_Empl!F1097*((Fonct_Empl!G1097/12)))+(VLOOKUP(E1097,Param!$A$7:$E$13,5,0)*Fonct_Empl!H1097),2),\"\")","v":""}]
[null,null,null,null,null,null,null,null,{"$f":"IF(E1098<>\"\",ROUND((VLOOKUP(E1098,Param!$A$7:$E$13,4,0)*Fonct_Empl!F1098*((Fonct_Empl!G1098/12)))+(VLOOKUP(E1098,Param!$A$7:$E$13,5,0)*Fonct_Empl!H1098),2),\"\")","v":""}]
[null,null,null,null,null,null,null,null,{"$f":"IF(E1099<>\"\",ROUND((VLOOKUP(E1099,Param!$A$7:$E$13,4,0)*Fonct_Empl!F1099*((Fonct_Empl!G1099/12)))+(VLOOKUP(E1099,Param!$A$7:$E$13,5,0)*Fonct_Empl!H1099),2),\"\")","v":""}]
[null,null,null,null,null,null,null,null,{"$f":"IF(E1100<>\"\",ROUND((VLOOKUP(E1100,Param!$A$7:$E$13,4,0)*Fonct_Empl!F1100*((Fonct_Empl!G1100/12)))+(VLOOKUP(E1100,Param!$A$7:$E$13,5,0)*Fonct_Empl!H1100),2),\"\")","v":""}]
[null,null,null,null,null,null,null,null,{"$f":"IF(E1101<>\"\",ROUND((VLOOKUP(E1101,Param!$A$7:$E$13,4,0)*Fonct_Empl!F1101*((Fonct_Empl!G1101/12)))+(VLOOKUP(E1101,Param!$A$7:$E$13,5,0)*Fonct_Empl!H1101),2),\"\")","v":""}]
[null,null,null,null,null,null,null,null,{"$f":"IF(E1102<>\"\",ROUND((VLOOKUP(E1102,Param!$A$7:$E$13,4,0)*Fonct_Empl!F1102*((Fonct_Empl!G1102/12)))+(VLOOKUP(E1102,Param!$A$7:$E$13,5,0)*Fonct_Empl!H1102),2),\"\")","v":""}]
[null,null,null,null,null,null,null,null,{"$f":"IF(E1103<>\"\",ROUND((VLOOKUP(E1103,Param!$A$7:$E$13,4,0)*Fonct_Empl!F1103*((Fonct_Empl!G1103/12)))+(VLOOKUP(E1103,Param!$A$7:$E$13,5,0)*Fonct_Empl!H1103),2),\"\")","v":""}]
[null,null,null,null,null,null,null,null,{"$f":"IF(E1104<>\"\",ROUND((VLOOKUP(E1104,Param!$A$7:$E$13,4,0)*Fonct_Empl!F1104*((Fonct_Empl!G1104/12)))+(VLOOKUP(E1104,Param!$A$7:$E$13,5,0)*Fonct_Empl!H1104),2),\"\")","v":""}]
[null,null,null,null,null,null,null,null,{"$f":"IF(E1105<>\"\",ROUND((VLOOKUP(E1105,Param!$A$7:$E$13,4,0)*Fonct_Empl!F1105*((Fonct_Empl!G1105/12)))+(VLOOKUP(E1105,Param!$A$7:$E$13,5,0)*Fonct_Empl!H1105),2),\"\")","v":""}]
[null,null,null,null,null,null,null,null,{"$f":"IF(E1106<>\"\",ROUND((VLOOKUP(E1106,Param!$A$7:$E$13,4,0)*Fonct_Empl!F1106*((Fonct_Empl!G1106/12)))+(VLOOKUP(E1106,Param!$A$7:$E$13,5,0)*Fonct_Empl!H1106),2),\"\")","v":""}]
[null,null,null,null,null,null,null,null,{"$f":"IF(E1107<>\"\",ROUND((VLOOKUP(E1107,Param!$A$7:$E$13,4,0)*Fonct_Empl!F1107*((Fonct_Empl!G1107/12)))+(VLOOKUP(E1107,Param!$A$7:$E$13,5,0)*Fonct_Empl!H1107),2),\"\")","v":""}]
[null,null,null,null,null,null,null,null,{"$f":"IF(E1108<>\"\",ROUND((VLOOKUP(E1108,Param!$A$7:$E$13,4,0)*Fonct_Empl!F1108*((Fonct_Empl!G1108/12)))+(VLOOKUP(E1108,Param!$A$7:$E$13,5,0)*Fonct_Empl!H1108),2),\"\")","v":""}]
[null,null,null,null,null,null,null,null,{"$f":"IF(E1109<>\"\",ROUND((VLOOKUP(E1109,Param!$A$7:$E$13,4,0)*Fonct_Empl!F1109*((Fonct_Empl!G1109/12)))+(VLOOKUP(E1109,Param!$A$7:$E$13,5,0)*Fonct_Empl!H1109),2),\"\")","v":""}]
[null,null,null,null,null,null,null,null,{"$f":"IF(E1110<>\"\",ROUND((VLOOKUP(E1110,Param!$A$7:$E$13,4,0)*Fonct_Empl!F1110*((Fonct_Empl!G1110/12)))+(VLOOKUP(E1110,Param!$A$7:$E$13,5,0)*Fonct_Empl!H1110),2),\"\")","v":""}]
[null,null,null,null,null,null,null,null,{"$f":"IF(E1111<>\"\",ROUND((VLOOKUP(E1111,Param!$A$7:$E$13,4,0)*Fonct_Empl!F1111*((Fonct_Empl!G1111/12)))+(VLOOKUP(E1111,Param!$A$7:$E$13,5,0)*Fonct_Empl!H1111),2),\"\")","v":""}]
[null,null,null,null,null,null,null,null,{"$f":"IF(E1112<>\"\",ROUND((VLOOKUP(E1112,Param!$A$7:$E$13,4,0)*Fonct_Empl!F1112*((Fonct_Empl!G1112/12)))+(VLOOKUP(E1112,Param!$A$7:$E$13,5,0)*Fonct_Empl!H1112),2),\"\")","v":""}]
[null,null,null,null,null,null,null,null,{"$f":"IF(E1113<>\"\",ROUND((VLOOKUP(E1113,Param!$A$7:$E$13,4,0)*Fonct_Empl!F1113*((Fonct_Empl!G1113/12)))+(VLOOKUP(E1113,Param!$A$7:$E$13,5,0)*Fonct_Empl!H1113),2),\"\")","v":""}]
[null,null,null,null,null,null,null,null,{"$f":"IF(E1114<>\"\",ROUND((VLOOKUP(E1114,Param!$A$7:$E$13,4,0)*Fonct_Empl!F1114*((Fonct_Empl!G1114/12)))+(VLOOKUP(E1114,Param!$A$7:$E$13,5,0)*Fonct_Empl!H1114),2),\"\")","v":""}]
[null,null,null,null,null,null,null,null,{"$f":"IF(E1115<>\"\",ROUND((VLOOKUP(E1115,Param!$A$7:$E$13,4,0)*Fonct_Empl!F1115*((Fonct_Empl!G1115/12)))+(VLOOKUP(E1115,Param!$A$7:$E$13,5,0)*Fonct_Empl!H1115),2),\"\")","v":""}]
[null,null,null,null,null,null,null,null,{"$f":"IF(E1116<>\"\",ROUND((VLOOKUP(E1116,Param!$A$7:$E$13,4,0)*Fonct_Empl!F1116*((Fonct_Empl!G1116/12)))+(VLOOKUP(E1116,Param!$A$7:$E$13,5,0)*Fonct_Empl!H1116),2),\"\")","v":""}]
[null,null,null,null,null,null,null,null,{"$f":"IF(E1117<>\"\",ROUND((VLOOKUP(E1117,Param!$A$7:$E$13,4,0)*Fonct_Empl!F1117*((Fonct_Empl!G1117/12)))+(VLOOKUP(E1117,Param!$A$7:$E$13,5,0)*Fonct_Empl!H1117),2),\"\")","v":""}]
[null,null,null,null,null,null,null,null,{"$f":"IF(E1118<>\"\",ROUND((VLOOKUP(E1118,Param!$A$7:$E$13,4,0)*Fonct_Empl!F1118*((Fonct_Empl!G1118/12)))+(VLOOKUP(E1118,Param!$A$7:$E$13,5,0)*Fonct_Empl!H1118),2),\"\")","v":""}]
[null,null,null,null,null,null,null,null,{"$f":"IF(E1119<>\"\",ROUND((VLOOKUP(E1119,Param!$A$7:$E$13,4,0)*Fonct_Empl!F1119*((Fonct_Empl!G1119/12)))+(VLOOKUP(E1119,Param!$A$7:$E$13,5,0)*Fonct_Empl!H1119),2),\"\")","v":""}]
[null,null,null,null,null,null,null,null,{"$f":"IF(E1120<>\"\",ROUND((VLOOKUP(E1120,Param!$A$7:$E$13,4,0)*Fonct_Empl!F1120*((Fonct_Empl!G1120/12)))+(VLOOKUP(E1120,Param!$A$7:$E$13,5,0)*Fonct_Empl!H1120),2),\"\")","v":""}]
[null,null,null,null,null,null,null,null,{"$f":"IF(E1121<>\"\",ROUND((VLOOKUP(E1121,Param!$A$7:$E$13,4,0)*Fonct_Empl!F1121*((Fonct_Empl!G1121/12)))+(VLOOKUP(E1121,Param!$A$7:$E$13,5,0)*Fonct_Empl!H1121),2),\"\")","v":""}]
[null,null,null,null,null,null,null,null,{"$f":"IF(E1122<>\"\",ROUND((VLOOKUP(E1122,Param!$A$7:$E$13,4,0)*Fonct_Empl!F1122*((Fonct_Empl!G1122/12)))+(VLOOKUP(E1122,Param!$A$7:$E$13,5,0)*Fonct_Empl!H1122),2),\"\")","v":""}]
[null,null,null,null,null,null,null,null,{"$f":"IF(E1123<>\"\",ROUND((VLOOKUP(E1123,Param!$A$7:$E$13,4,0)*Fonct_Empl!F1123*((Fonct_Empl!G1123/12)))+(VLOOKUP(E1123,Param!$A$7:$E$13,5,0)*Fonct_Empl!H1123),2),\"\")","v":""}]
[null,null,null,null,null,null,null,null,{"$f":"IF(E1124<>\"\",ROUND((VLOOKUP(E1124,Param!$A$7:$E$13,4,0)*Fonct_Empl!F1124*((Fonct_Empl!G1124/12)))+(VLOOKUP(E1124,Param!$A$7:$E$13,5,0)*Fonct_Empl!H1124),2),\"\")","v":""}]
[null,null,null,null,null,null,null,null,{"$f":"IF(E1125<>\"\",ROUND((VLOOKUP(E1125,Param!$A$7:$E$13,4,0)*Fonct_Empl!F1125*((Fonct_Empl!G1125/12)))+(VLOOKUP(E1125,Param!$A$7:$E$13,5,0)*Fonct_Empl!H1125),2),\"\")","v":""}]
[null,null,null,null,null,null,null,null,{"$f":"IF(E1126<>\"\",ROUND((VLOOKUP(E1126,Param!$A$7:$E$13,4,0)*Fonct_Empl!F1126*((Fonct_Empl!G1126/12)))+(VLOOKUP(E1126,Param!$A$7:$E$13,5,0)*Fonct_Empl!H1126),2),\"\")","v":""}]
[null,null,null,null,null,null,null,null,{"$f":"IF(E1127<>\"\",ROUND((VLOOKUP(E1127,Param!$A$7:$E$13,4,0)*Fonct_Empl!F1127*((Fonct_Empl!G1127/12)))+(VLOOKUP(E1127,Param!$A$7:$E$13,5,0)*Fonct_Empl!H1127),2),\"\")","v":""}]
[null,null,null,null,null,null,null,null,{"$f":"IF(E1128<>\"\",ROUND((VLOOKUP(E1128,Param!$A$7:$E$13,4,0)*Fonct_Empl!F1128*((Fonct_Empl!G1128/12)))+(VLOOKUP(E1128,Param!$A$7:$E$13,5,0)*Fonct_Empl!H1128),2),\"\")","v":""}]
[null,null,null,null,null,null,null,null,{"$f":"IF(E1129<>\"\",ROUND((VLOOKUP(E1129,Param!$A$7:$E$13,4,0)*Fonct_Empl!F1129*((Fonct_Empl!G1129/12)))+(VLOOKUP(E1129,Param!$A$7:$E$13,5,0)*Fonct_Empl!H1129),2),\"\")","v":""}]
[null,null,null,null,null,null,null,null,{"$f":"IF(E1130<>\"\",ROUND((VLOOKUP(E1130,Param!$A$7:$E$13,4,0)*Fonct_Empl!F1130*((Fonct_Empl!G1130/12)))+(VLOOKUP(E1130,Param!$A$7:$E$13,5,0)*Fonct_Empl!H1130),2),\"\")","v":""}]
[null,null,null,null,null,null,null,null,{"$f":"IF(E1131<>\"\",ROUND((VLOOKUP(E1131,Param!$A$7:$E$13,4,0)*Fonct_Empl!F1131*((Fonct_Empl!G1131/12)))+(VLOOKUP(E1131,Param!$A$7:$E$13,5,0)*Fonct_Empl!H1131),2),\"\")","v":""}]
[null,null,null,null,null,null,null,null,{"$f":"IF(E1132<>\"\",ROUND((VLOOKUP(E1132,Param!$A$7:$E$13,4,0)*Fonct_Empl!F1132*((Fonct_Empl!G1132/12)))+(VLOOKUP(E1132,Param!$A$7:$E$13,5,0)*Fonct_Empl!H1132),2),\"\")","v":""}]
[null,null,null,null,null,null,null,null,{"$f":"IF(E1133<>\"\",ROUND((VLOOKUP(E1133,Param!$A$7:$E$13,4,0)*Fonct_Empl!F1133*((Fonct_Empl!G1133/12)))+(VLOOKUP(E1133,Param!$A$7:$E$13,5,0)*Fonct_Empl!H1133),2),\"\")","v":""}]
[null,null,null,null,null,null,null,null,{"$f":"IF(E1134<>\"\",ROUND((VLOOKUP(E1134,Param!$A$7:$E$13,4,0)*Fonct_Empl!F1134*((Fonct_Empl!G1134/12)))+(VLOOKUP(E1134,Param!$A$7:$E$13,5,0)*Fonct_Empl!H1134),2),\"\")","v":""}]
[null,null,null,null,null,null,null,null,{"$f":"IF(E1135<>\"\",ROUND((VLOOKUP(E1135,Param!$A$7:$E$13,4,0)*Fonct_Empl!F1135*((Fonct_Empl!G1135/12)))+(VLOOKUP(E1135,Param!$A$7:$E$13,5,0)*Fonct_Empl!H1135),2),\"\")","v":""}]
[null,null,null,null,null,null,null,null,{"$f":"IF(E1136<>\"\",ROUND((VLOOKUP(E1136,Param!$A$7:$E$13,4,0)*Fonct_Empl!F1136*((Fonct_Empl!G1136/12)))+(VLOOKUP(E1136,Param!$A$7:$E$13,5,0)*Fonct_Empl!H1136),2),\"\")","v":""}]
[null,null,null,null,null,null,null,null,{"$f":"IF(E1137<>\"\",ROUND((VLOOKUP(E1137,Param!$A$7:$E$13,4,0)*Fonct_Empl!F1137*((Fonct_Empl!G1137/12)))+(VLOOKUP(E1137,Param!$A$7:$E$13,5,0)*Fonct_Empl!H1137),2),\"\")","v":""}]
[null,null,null,null,null,null,null,null,{"$f":"IF(E1138<>\"\",ROUND((VLOOKUP(E1138,Param!$A$7:$E$13,4,0)*Fonct_Empl!F1138*((Fonct_Empl!G1138/12)))+(VLOOKUP(E1138,Param!$A$7:$E$13,5,0)*Fonct_Empl!H1138),2),\"\")","v":""}]
[null,null,null,null,null,null,null,null,{"$f":"IF(E1139<>\"\",ROUND((VLOOKUP(E1139,Param!$A$7:$E$13,4,0)*Fonct_Empl!F1139*((Fonct_Empl!G1139/12)))+(VLOOKUP(E1139,Param!$A$7:$E$13,5,0)*Fonct_Empl!H1139),2),\"\")","v":""}]
[null,null,null,null,null,null,null,null,{"$f":"IF(E1140<>\"\",ROUND((VLOOKUP(E1140,Param!$A$7:$E$13,4,0)*Fonct_Empl!F1140*((Fonct_Empl!G1140/12)))+(VLOOKUP(E1140,Param!$A$7:$E$13,5,0)*Fonct_Empl!H1140),2),\"\")","v":""}]
[null,null,null,null,null,null,null,null,{"$f":"IF(E1141<>\"\",ROUND((VLOOKUP(E1141,Param!$A$7:$E$13,4,0)*Fonct_Empl!F1141*((Fonct_Empl!G1141/12)))+(VLOOKUP(E1141,Param!$A$7:$E$13,5,0)*Fonct_Empl!H1141),2),\"\")","v":""}]
[null,null,null,null,null,null,null,null,{"$f":"IF(E1142<>\"\",ROUND((VLOOKUP(E1142,Param!$A$7:$E$13,4,0)*Fonct_Empl!F1142*((Fonct_Empl!G1142/12)))+(VLOOKUP(E1142,Param!$A$7:$E$13,5,0)*Fonct_Empl!H1142),2),\"\")","v":""}]
[null,null,null,null,null,null,null,null,{"$f":"IF(E1143<>\"\",ROUND((VLOOKUP(E1143,Param!$A$7:$E$13,4,0)*Fonct_Empl!F1143*((Fonct_Empl!G1143/12)))+(VLOOKUP(E1143,Param!$A$7:$E$13,5,0)*Fonct_Empl!H1143),2),\"\")","v":""}]
[null,null,null,null,null,null,null,null,{"$f":"IF(E1144<>\"\",ROUND((VLOOKUP(E1144,Param!$A$7:$E$13,4,0)*Fonct_Empl!F1144*((Fonct_Empl!G1144/12)))+(VLOOKUP(E1144,Param!$A$7:$E$13,5,0)*Fonct_Empl!H1144),2),\"\")","v":""}]
[null,null,null,null,null,null,null,null,{"$f":"IF(E1145<>\"\",ROUND((VLOOKUP(E1145,Param!$A$7:$E$13,4,0)*Fonct_Empl!F1145*((Fonct_Empl!G1145/12)))+(VLOOKUP(E1145,Param!$A$7:$E$13,5,0)*Fonct_Empl!H1145),2),\"\")","v":""}]
[null,null,null,null,null,null,null,null,{"$f":"IF(E1146<>\"\",ROUND((VLOOKUP(E1146,Param!$A$7:$E$13,4,0)*Fonct_Empl!F1146*((Fonct_Empl!G1146/12)))+(VLOOKUP(E1146,Param!$A$7:$E$13,5,0)*Fonct_Empl!H1146),2),\"\")","v":""}]
[null,null,null,null,null,null,null,null,{"$f":"IF(E1147<>\"\",ROUND((VLOOKUP(E1147,Param!$A$7:$E$13,4,0)*Fonct_Empl!F1147*((Fonct_Empl!G1147/12)))+(VLOOKUP(E1147,Param!$A$7:$E$13,5,0)*Fonct_Empl!H1147),2),\"\")","v":""}]
[null,null,null,null,null,null,null,null,{"$f":"IF(E1148<>\"\",ROUND((VLOOKUP(E1148,Param!$A$7:$E$13,4,0)*Fonct_Empl!F1148*((Fonct_Empl!G1148/12)))+(VLOOKUP(E1148,Param!$A$7:$E$13,5,0)*Fonct_Empl!H1148),2),\"\")","v":""}]
[null,null,null,null,null,null,null,null,{"$f":"IF(E1149<>\"\",ROUND((VLOOKUP(E1149,Param!$A$7:$E$13,4,0)*Fonct_Empl!F1149*((Fonct_Empl!G1149/12)))+(VLOOKUP(E1149,Param!$A$7:$E$13,5,0)*Fonct_Empl!H1149),2),\"\")","v":""}]
[null,null,null,null,null,null,null,null,{"$f":"IF(E1150<>\"\",ROUND((VLOOKUP(E1150,Param!$A$7:$E$13,4,0)*Fonct_Empl!F1150*((Fonct_Empl!G1150/12)))+(VLOOKUP(E1150,Param!$A$7:$E$13,5,0)*Fonct_Empl!H1150),2),\"\")","v":""}]
[null,null,null,null,null,null,null,null,{"$f":"IF(E1151<>\"\",ROUND((VLOOKUP(E1151,Param!$A$7:$E$13,4,0)*Fonct_Empl!F1151*((Fonct_Empl!G1151/12)))+(VLOOKUP(E1151,Param!$A$7:$E$13,5,0)*Fonct_Empl!H1151),2),\"\")","v":""}]
[null,null,null,null,null,null,null,null,{"$f":"IF(E1152<>\"\",ROUND((VLOOKUP(E1152,Param!$A$7:$E$13,4,0)*Fonct_Empl!F1152*((Fonct_Empl!G1152/12)))+(VLOOKUP(E1152,Param!$A$7:$E$13,5,0)*Fonct_Empl!H1152),2),\"\")","v":""}]
[null,null,null,null,null,null,null,null,{"$f":"IF(E1153<>\"\",ROUND((VLOOKUP(E1153,Param!$A$7:$E$13,4,0)*Fonct_Empl!F1153*((Fonct_Empl!G1153/12)))+(VLOOKUP(E1153,Param!$A$7:$E$13,5,0)*Fonct_Empl!H1153),2),\"\")","v":""}]
[null,null,null,null,null,null,null,null,{"$f":"IF(E1154<>\"\",ROUND((VLOOKUP(E1154,Param!$A$7:$E$13,4,0)*Fonct_Empl!F1154*((Fonct_Empl!G1154/12)))+(VLOOKUP(E1154,Param!$A$7:$E$13,5,0)*Fonct_Empl!H1154),2),\"\")","v":""}]
[null,null,null,null,null,null,null,null,{"$f":"IF(E1155<>\"\",ROUND((VLOOKUP(E1155,Param!$A$7:$E$13,4,0)*Fonct_Empl!F1155*((Fonct_Empl!G1155/12)))+(VLOOKUP(E1155,Param!$A$7:$E$13,5,0)*Fonct_Empl!H1155),2),\"\")","v":""}]
[null,null,null,null,null,null,null,null,{"$f":"IF(E1156<>\"\",ROUND((VLOOKUP(E1156,Param!$A$7:$E$13,4,0)*Fonct_Empl!F1156*((Fonct_Empl!G1156/12)))+(VLOOKUP(E1156,Param!$A$7:$E$13,5,0)*Fonct_Empl!H1156),2),\"\")","v":""}]
[null,null,null,null,null,null,null,null,{"$f":"IF(E1157<>\"\",ROUND((VLOOKUP(E1157,Param!$A$7:$E$13,4,0)*Fonct_Empl!F1157*((Fonct_Empl!G1157/12)))+(VLOOKUP(E1157,Param!$A$7:$E$13,5,0)*Fonct_Empl!H1157),2),\"\")","v":""}]
[null,null,null,null,null,null,null,null,{"$f":"IF(E1158<>\"\",ROUND((VLOOKUP(E1158,Param!$A$7:$E$13,4,0)*Fonct_Empl!F1158*((Fonct_Empl!G1158/12)))+(VLOOKUP(E1158,Param!$A$7:$E$13,5,0)*Fonct_Empl!H1158),2),\"\")","v":""}]
[null,null,null,null,null,null,null,null,{"$f":"IF(E1159<>\"\",ROUND((VLOOKUP(E1159,Param!$A$7:$E$13,4,0)*Fonct_Empl!F1159*((Fonct_Empl!G1159/12)))+(VLOOKUP(E1159,Param!$A$7:$E$13,5,0)*Fonct_Empl!H1159),2),\"\")","v":""}]
[null,null,null,null,null,null,null,null,{"$f":"IF(E1160<>\"\",ROUND((VLOOKUP(E1160,Param!$A$7:$E$13,4,0)*Fonct_Empl!F1160*((Fonct_Empl!G1160/12)))+(VLOOKUP(E1160,Param!$A$7:$E$13,5,0)*Fonct_Empl!H1160),2),\"\")","v":""}]
[null,null,null,null,null,null,null,null,{"$f":"IF(E1161<>\"\",ROUND((VLOOKUP(E1161,Param!$A$7:$E$13,4,0)*Fonct_Empl!F1161*((Fonct_Empl!G1161/12)))+(VLOOKUP(E1161,Param!$A$7:$E$13,5,0)*Fonct_Empl!H1161),2),\"\")","v":""}]
[null,null,null,null,null,null,null,null,{"$f":"IF(E1162<>\"\",ROUND((VLOOKUP(E1162,Param!$A$7:$E$13,4,0)*Fonct_Empl!F1162*((Fonct_Empl!G1162/12)))+(VLOOKUP(E1162,Param!$A$7:$E$13,5,0)*Fonct_Empl!H1162),2),\"\")","v":""}]
[null,null,null,null,null,null,null,null,{"$f":"IF(E1163<>\"\",ROUND((VLOOKUP(E1163,Param!$A$7:$E$13,4,0)*Fonct_Empl!F1163*((Fonct_Empl!G1163/12)))+(VLOOKUP(E1163,Param!$A$7:$E$13,5,0)*Fonct_Empl!H1163),2),\"\")","v":""}]
[null,null,null,null,null,null,null,null,{"$f":"IF(E1164<>\"\",ROUND((VLOOKUP(E1164,Param!$A$7:$E$13,4,0)*Fonct_Empl!F1164*((Fonct_Empl!G1164/12)))+(VLOOKUP(E1164,Param!$A$7:$E$13,5,0)*Fonct_Empl!H1164),2),\"\")","v":""}]
[null,null,null,null,null,null,null,null,{"$f":"IF(E1165<>\"\",ROUND((VLOOKUP(E1165,Param!$A$7:$E$13,4,0)*Fonct_Empl!F1165*((Fonct_Empl!G1165/12)))+(VLOOKUP(E1165,Param!$A$7:$E$13,5,0)*Fonct_Empl!H1165),2),\"\")","v":""}]
[null,null,null,null,null,null,null,null,{"$f":"IF(E1166<>\"\",ROUND((VLOOKUP(E1166,Param!$A$7:$E$13,4,0)*Fonct_Empl!F1166*((Fonct_Empl!G1166/12)))+(VLOOKUP(E1166,Param!$A$7:$E$13,5,0)*Fonct_Empl!H1166),2),\"\")","v":""}]
[null,null,null,null,null,null,null,null,{"$f":"IF(E1167<>\"\",ROUND((VLOOKUP(E1167,Param!$A$7:$E$13,4,0)*Fonct_Empl!F1167*((Fonct_Empl!G1167/12)))+(VLOOKUP(E1167,Param!$A$7:$E$13,5,0)*Fonct_Empl!H1167),2),\"\")","v":""}]
[null,null,null,null,null,null,null,null,{"$f":"IF(E1168<>\"\",ROUND((VLOOKUP(E1168,Param!$A$7:$E$13,4,0)*Fonct_Empl!F1168*((Fonct_Empl!G1168/12)))+(VLOOKUP(E1168,Param!$A$7:$E$13,5,0)*Fonct_Empl!H1168),2),\"\")","v":""}]
[null,null,null,null,null,null,null,null,{"$f":"IF(E1169<>\"\",ROUND((VLOOKUP(E1169,Param!$A$7:$E$13,4,0)*Fonct_Empl!F1169*((Fonct_Empl!G1169/12)))+(VLOOKUP(E1169,Param!$A$7:$E$13,5,0)*Fonct_Empl!H1169),2),\"\")","v":""}]
[null,null,null,null,null,null,null,null,{"$f":"IF(E1170<>\"\",ROUND((VLOOKUP(E1170,Param!$A$7:$E$13,4,0)*Fonct_Empl!F1170*((Fonct_Empl!G1170/12)))+(VLOOKUP(E1170,Param!$A$7:$E$13,5,0)*Fonct_Empl!H1170),2),\"\")","v":""}]
[null,null,null,null,null,null,null,null,{"$f":"IF(E1171<>\"\",ROUND((VLOOKUP(E1171,Param!$A$7:$E$13,4,0)*Fonct_Empl!F1171*((Fonct_Empl!G1171/12)))+(VLOOKUP(E1171,Param!$A$7:$E$13,5,0)*Fonct_Empl!H1171),2),\"\")","v":""}]
[null,null,null,null,null,null,null,null,{"$f":"IF(E1172<>\"\",ROUND((VLOOKUP(E1172,Param!$A$7:$E$13,4,0)*Fonct_Empl!F1172*((Fonct_Empl!G1172/12)))+(VLOOKUP(E1172,Param!$A$7:$E$13,5,0)*Fonct_Empl!H1172),2),\"\")","v":""}]
[null,null,null,null,null,null,null,null,{"$f":"IF(E1173<>\"\",ROUND((VLOOKUP(E1173,Param!$A$7:$E$13,4,0)*Fonct_Empl!F1173*((Fonct_Empl!G1173/12)))+(VLOOKUP(E1173,Param!$A$7:$E$13,5,0)*Fonct_Empl!H1173),2),\"\")","v":""}]
[null,null,null,null,null,null,null,null,{"$f":"IF(E1174<>\"\",ROUND((VLOOKUP(E1174,Param!$A$7:$E$13,4,0)*Fonct_Empl!F1174*((Fonct_Empl!G1174/12)))+(VLOOKUP(E1174,Param!$A$7:$E$13,5,0)*Fonct_Empl!H1174),2),\"\")","v":""}]
[null,null,null,null,null,null,null,null,{"$f":"IF(E1175<>\"\",ROUND((VLOOKUP(E1175,Param!$A$7:$E$13,4,0)*Fonct_Empl!F1175*((Fonct_Empl!G1175/12)))+(VLOOKUP(E1175,Param!$A$7:$E$13,5,0)*Fonct_Empl!H1175),2),\"\")","v":""}]
[null,null,null,null,null,null,null,null,{"$f":"IF(E1176<>\"\",ROUND((VLOOKUP(E1176,Param!$A$7:$E$13,4,0)*Fonct_Empl!F1176*((Fonct_Empl!G1176/12)))+(VLOOKUP(E1176,Param!$A$7:$E$13,5,0)*Fonct_Empl!H1176),2),\"\")","v":""}]
[null,null,null,null,null,null,null,null,{"$f":"IF(E1177<>\"\",ROUND((VLOOKUP(E1177,Param!$A$7:$E$13,4,0)*Fonct_Empl!F1177*((Fonct_Empl!G1177/12)))+(VLOOKUP(E1177,Param!$A$7:$E$13,5,0)*Fonct_Empl!H1177),2),\"\")","v":""}]
[null,null,null,null,null,null,null,null,{"$f":"IF(E1178<>\"\",ROUND((VLOOKUP(E1178,Param!$A$7:$E$13,4,0)*Fonct_Empl!F1178*((Fonct_Empl!G1178/12)))+(VLOOKUP(E1178,Param!$A$7:$E$13,5,0)*Fonct_Empl!H1178),2),\"\")","v":""}]
[null,null,null,null,null,null,null,null,{"$f":"IF(E1179<>\"\",ROUND((VLOOKUP(E1179,Param!$A$7:$E$13,4,0)*Fonct_Empl!F1179*((Fonct_Empl!G1179/12)))+(VLOOKUP(E1179,Param!$A$7:$E$13,5,0)*Fonct_Empl!H1179),2),\"\")","v":""}]
[null,null,null,null,null,null,null,null,{"$f":"IF(E1180<>\"\",ROUND((VLOOKUP(E1180,Param!$A$7:$E$13,4,0)*Fonct_Empl!F1180*((Fonct_Empl!G1180/12)))+(VLOOKUP(E1180,Param!$A$7:$E$13,5,0)*Fonct_Empl!H1180),2),\"\")","v":""}]
[null,null,null,null,null,null,null,null,{"$f":"IF(E1181<>\"\",ROUND((VLOOKUP(E1181,Param!$A$7:$E$13,4,0)*Fonct_Empl!F1181*((Fonct_Empl!G1181/12)))+(VLOOKUP(E1181,Param!$A$7:$E$13,5,0)*Fonct_Empl!H1181),2),\"\")","v":""}]
[null,null,null,null,null,null,null,null,{"$f":"IF(E1182<>\"\",ROUND((VLOOKUP(E1182,Param!$A$7:$E$13,4,0)*Fonct_Empl!F1182*((Fonct_Empl!G1182/12)))+(VLOOKUP(E1182,Param!$A$7:$E$13,5,0)*Fonct_Empl!H1182),2),\"\")","v":""}]
[null,null,null,null,null,null,null,null,{"$f":"IF(E1183<>\"\",ROUND((VLOOKUP(E1183,Param!$A$7:$E$13,4,0)*Fonct_Empl!F1183*((Fonct_Empl!G1183/12)))+(VLOOKUP(E1183,Param!$A$7:$E$13,5,0)*Fonct_Empl!H1183),2),\"\")","v":""}]
[null,null,null,null,null,null,null,null,{"$f":"IF(E1184<>\"\",ROUND((VLOOKUP(E1184,Param!$A$7:$E$13,4,0)*Fonct_Empl!F1184*((Fonct_Empl!G1184/12)))+(VLOOKUP(E1184,Param!$A$7:$E$13,5,0)*Fonct_Empl!H1184),2),\"\")","v":""}]
[null,null,null,null,null,null,null,null,{"$f":"IF(E1185<>\"\",ROUND((VLOOKUP(E1185,Param!$A$7:$E$13,4,0)*Fonct_Empl!F1185*((Fonct_Empl!G1185/12)))+(VLOOKUP(E1185,Param!$A$7:$E$13,5,0)*Fonct_Empl!H1185),2),\"\")","v":""}]
[null,null,null,null,null,null,null,null,{"$f":"IF(E1186<>\"\",ROUND((VLOOKUP(E1186,Param!$A$7:$E$13,4,0)*Fonct_Empl!F1186*((Fonct_Empl!G1186/12)))+(VLOOKUP(E1186,Param!$A$7:$E$13,5,0)*Fonct_Empl!H1186),2),\"\")","v":""}]
[null,null,null,null,null,null,null,null,{"$f":"IF(E1187<>\"\",ROUND((VLOOKUP(E1187,Param!$A$7:$E$13,4,0)*Fonct_Empl!F1187*((Fonct_Empl!G1187/12)))+(VLOOKUP(E1187,Param!$A$7:$E$13,5,0)*Fonct_Empl!H1187),2),\"\")","v":""}]
[null,null,null,null,null,null,null,null,{"$f":"IF(E1188<>\"\",ROUND((VLOOKUP(E1188,Param!$A$7:$E$13,4,0)*Fonct_Empl!F1188*((Fonct_Empl!G1188/12)))+(VLOOKUP(E1188,Param!$A$7:$E$13,5,0)*Fonct_Empl!H1188),2),\"\")","v":""}]
[null,null,null,null,null,null,null,null,{"$f":"IF(E1189<>\"\",ROUND((VLOOKUP(E1189,Param!$A$7:$E$13,4,0)*Fonct_Empl!F1189*((Fonct_Empl!G1189/12)))+(VLOOKUP(E1189,Param!$A$7:$E$13,5,0)*Fonct_Empl!H1189),2),\"\")","v":""}]
[null,null,null,null,null,null,null,null,{"$f":"IF(E1190<>\"\",ROUND((VLOOKUP(E1190,Param!$A$7:$E$13,4,0)*Fonct_Empl!F1190*((Fonct_Empl!G1190/12)))+(VLOOKUP(E1190,Param!$A$7:$E$13,5,0)*Fonct_Empl!H1190),2),\"\")","v":""}]
[null,null,null,null,null,null,null,null,{"$f":"IF(E1191<>\"\",ROUND((VLOOKUP(E1191,Param!$A$7:$E$13,4,0)*Fonct_Empl!F1191*((Fonct_Empl!G1191/12)))+(VLOOKUP(E1191,Param!$A$7:$E$13,5,0)*Fonct_Empl!H1191),2),\"\")","v":""}]
[null,null,null,null,null,null,null,null,{"$f":"IF(E1192<>\"\",ROUND((VLOOKUP(E1192,Param!$A$7:$E$13,4,0)*Fonct_Empl!F1192*((Fonct_Empl!G1192/12)))+(VLOOKUP(E1192,Param!$A$7:$E$13,5,0)*Fonct_Empl!H1192),2),\"\")","v":""}]
[null,null,null,null,null,null,null,null,{"$f":"IF(E1193<>\"\",ROUND((VLOOKUP(E1193,Param!$A$7:$E$13,4,0)*Fonct_Empl!F1193*((Fonct_Empl!G1193/12)))+(VLOOKUP(E1193,Param!$A$7:$E$13,5,0)*Fonct_Empl!H1193),2),\"\")","v":""}]
[null,null,null,null,null,null,null,null,{"$f":"IF(E1194<>\"\",ROUND((VLOOKUP(E1194,Param!$A$7:$E$13,4,0)*Fonct_Empl!F1194*((Fonct_Empl!G1194/12)))+(VLOOKUP(E1194,Param!$A$7:$E$13,5,0)*Fonct_Empl!H1194),2),\"\")","v":""}]
[null,null,null,null,null,null,null,null,{"$f":"IF(E1195<>\"\",ROUND((VLOOKUP(E1195,Param!$A$7:$E$13,4,0)*Fonct_Empl!F1195*((Fonct_Empl!G1195/12)))+(VLOOKUP(E1195,Param!$A$7:$E$13,5,0)*Fonct_Empl!H1195),2),\"\")","v":""}]
[null,null,null,null,null,null,null,null,{"$f":"IF(E1196<>\"\",ROUND((VLOOKUP(E1196,Param!$A$7:$E$13,4,0)*Fonct_Empl!F1196*((Fonct_Empl!G1196/12)))+(VLOOKUP(E1196,Param!$A$7:$E$13,5,0)*Fonct_Empl!H1196),2),\"\")","v":""}]
[null,null,null,null,null,null,null,null,{"$f":"IF(E1197<>\"\",ROUND((VLOOKUP(E1197,Param!$A$7:$E$13,4,0)*Fonct_Empl!F1197*((Fonct_Empl!G1197/12)))+(VLOOKUP(E1197,Param!$A$7:$E$13,5,0)*Fonct_Empl!H1197),2),\"\")","v":""}]
[null,null,null,null,null,null,null,null,{"$f":"IF(E1198<>\"\",ROUND((VLOOKUP(E1198,Param!$A$7:$E$13,4,0)*Fonct_Empl!F1198*((Fonct_Empl!G1198/12)))+(VLOOKUP(E1198,Param!$A$7:$E$13,5,0)*Fonct_Empl!H1198),2),\"\")","v":""}]
[null,null,null,null,null,null,null,null,{"$f":"IF(E1199<>\"\",ROUND((VLOOKUP(E1199,Param!$A$7:$E$13,4,0)*Fonct_Empl!F1199*((Fonct_Empl!G1199/12)))+(VLOOKUP(E1199,Param!$A$7:$E$13,5,0)*Fonct_Empl!H1199),2),\"\")","v":""}]
[null,null,null,null,null,null,null,null,{"$f":"IF(E1200<>\"\",ROUND((VLOOKUP(E1200,Param!$A$7:$E$13,4,0)*Fonct_Empl!F1200*((Fonct_Empl!G1200/12)))+(VLOOKUP(E1200,Param!$A$7:$E$13,5,0)*Fonct_Empl!H1200),2),\"\")","v":""}]
[null,null,null,null,null,null,null,null,{"$f":"IF(E1201<>\"\",ROUND((VLOOKUP(E1201,Param!$A$7:$E$13,4,0)*Fonct_Empl!F1201*((Fonct_Empl!G1201/12)))+(VLOOKUP(E1201,Param!$A$7:$E$13,5,0)*Fonct_Empl!H1201),2),\"\")","v":""}]
[null,null,null,null,null,null,null,null,{"$f":"IF(E1202<>\"\",ROUND((VLOOKUP(E1202,Param!$A$7:$E$13,4,0)*Fonct_Empl!F1202*((Fonct_Empl!G1202/12)))+(VLOOKUP(E1202,Param!$A$7:$E$13,5,0)*Fonct_Empl!H1202),2),\"\")","v":""}]
[null,null,null,null,null,null,null,null,{"$f":"IF(E1203<>\"\",ROUND((VLOOKUP(E1203,Param!$A$7:$E$13,4,0)*Fonct_Empl!F1203*((Fonct_Empl!G1203/12)))+(VLOOKUP(E1203,Param!$A$7:$E$13,5,0)*Fonct_Empl!H1203),2),\"\")","v":""}]
[null,null,null,null,null,null,null,null,{"$f":"IF(E1204<>\"\",ROUND((VLOOKUP(E1204,Param!$A$7:$E$13,4,0)*Fonct_Empl!F1204*((Fonct_Empl!G1204/12)))+(VLOOKUP(E1204,Param!$A$7:$E$13,5,0)*Fonct_Empl!H1204),2),\"\")","v":""}]
[null,null,null,null,null,null,null,null,{"$f":"IF(E1205<>\"\",ROUND((VLOOKUP(E1205,Param!$A$7:$E$13,4,0)*Fonct_Empl!F1205*((Fonct_Empl!G1205/12)))+(VLOOKUP(E1205,Param!$A$7:$E$13,5,0)*Fonct_Empl!H1205),2),\"\")","v":""}]
[null,null,null,null,null,null,null,null,{"$f":"IF(E1206<>\"\",ROUND((VLOOKUP(E1206,Param!$A$7:$E$13,4,0)*Fonct_Empl!F1206*((Fonct_Empl!G1206/12)))+(VLOOKUP(E1206,Param!$A$7:$E$13,5,0)*Fonct_Empl!H1206),2),\"\")","v":""}]
[null,null,null,null,null,null,null,null,{"$f":"IF(E1207<>\"\",ROUND((VLOOKUP(E1207,Param!$A$7:$E$13,4,0)*Fonct_Empl!F1207*((Fonct_Empl!G1207/12)))+(VLOOKUP(E1207,Param!$A$7:$E$13,5,0)*Fonct_Empl!H1207),2),\"\")","v":""}]
[null,null,null,null,null,null,null,null,{"$f":"IF(E1208<>\"\",ROUND((VLOOKUP(E1208,Param!$A$7:$E$13,4,0)*Fonct_Empl!F1208*((Fonct_Empl!G1208/12)))+(VLOOKUP(E1208,Param!$A$7:$E$13,5,0)*Fonct_Empl!H1208),2),\"\")","v":""}]
[null,null,null,null,null,null,null,null,{"$f":"IF(E1209<>\"\",ROUND((VLOOKUP(E1209,Param!$A$7:$E$13,4,0)*Fonct_Empl!F1209*((Fonct_Empl!G1209/12)))+(VLOOKUP(E1209,Param!$A$7:$E$13,5,0)*Fonct_Empl!H1209),2),\"\")","v":""}]
[null,null,null,null,null,null,null,null,{"$f":"IF(E1210<>\"\",ROUND((VLOOKUP(E1210,Param!$A$7:$E$13,4,0)*Fonct_Empl!F1210*((Fonct_Empl!G1210/12)))+(VLOOKUP(E1210,Param!$A$7:$E$13,5,0)*Fonct_Empl!H1210),2),\"\")","v":""}]
[null,null,null,null,null,null,null,null,{"$f":"IF(E1211<>\"\",ROUND((VLOOKUP(E1211,Param!$A$7:$E$13,4,0)*Fonct_Empl!F1211*((Fonct_Empl!G1211/12)))+(VLOOKUP(E1211,Param!$A$7:$E$13,5,0)*Fonct_Empl!H1211),2),\"\")","v":""}]
[null,null,null,null,null,null,null,null,{"$f":"IF(E1212<>\"\",ROUND((VLOOKUP(E1212,Param!$A$7:$E$13,4,0)*Fonct_Empl!F1212*((Fonct_Empl!G1212/12)))+(VLOOKUP(E1212,Param!$A$7:$E$13,5,0)*Fonct_Empl!H1212),2),\"\")","v":""}]
[null,null,null,null,null,null,null,null,{"$f":"IF(E1213<>\"\",ROUND((VLOOKUP(E1213,Param!$A$7:$E$13,4,0)*Fonct_Empl!F1213*((Fonct_Empl!G1213/12)))+(VLOOKUP(E1213,Param!$A$7:$E$13,5,0)*Fonct_Empl!H1213),2),\"\")","v":""}]
[null,null,null,null,null,null,null,null,{"$f":"IF(E1214<>\"\",ROUND((VLOOKUP(E1214,Param!$A$7:$E$13,4,0)*Fonct_Empl!F1214*((Fonct_Empl!G1214/12)))+(VLOOKUP(E1214,Param!$A$7:$E$13,5,0)*Fonct_Empl!H1214),2),\"\")","v":""}]
[null,null,null,null,null,null,null,null,{"$f":"IF(E1215<>\"\",ROUND((VLOOKUP(E1215,Param!$A$7:$E$13,4,0)*Fonct_Empl!F1215*((Fonct_Empl!G1215/12)))+(VLOOKUP(E1215,Param!$A$7:$E$13,5,0)*Fonct_Empl!H1215),2),\"\")","v":""}]
[null,null,null,null,null,null,null,null,{"$f":"IF(E1216<>\"\",ROUND((VLOOKUP(E1216,Param!$A$7:$E$13,4,0)*Fonct_Empl!F1216*((Fonct_Empl!G1216/12)))+(VLOOKUP(E1216,Param!$A$7:$E$13,5,0)*Fonct_Empl!H1216),2),\"\")","v":""}]
[null,null,null,null,null,null,null,null,{"$f":"IF(E1217<>\"\",ROUND((VLOOKUP(E1217,Param!$A$7:$E$13,4,0)*Fonct_Empl!F1217*((Fonct_Empl!G1217/12)))+(VLOOKUP(E1217,Param!$A$7:$E$13,5,0)*Fonct_Empl!H1217),2),\"\")","v":""}]
[null,null,null,null,null,null,null,null,{"$f":"IF(E1218<>\"\",ROUND((VLOOKUP(E1218,Param!$A$7:$E$13,4,0)*Fonct_Empl!F1218*((Fonct_Empl!G1218/12)))+(VLOOKUP(E1218,Param!$A$7:$E$13,5,0)*Fonct_Empl!H1218),2),\"\")","v":""}]
[null,null,null,null,null,null,null,null,{"$f":"IF(E1219<>\"\",ROUND((VLOOKUP(E1219,Param!$A$7:$E$13,4,0)*Fonct_Empl!F1219*((Fonct_Empl!G1219/12)))+(VLOOKUP(E1219,Param!$A$7:$E$13,5,0)*Fonct_Empl!H1219),2),\"\")","v":""}]
[null,null,null,null,null,null,null,null,{"$f":"IF(E1220<>\"\",ROUND((VLOOKUP(E1220,Param!$A$7:$E$13,4,0)*Fonct_Empl!F1220*((Fonct_Empl!G1220/12)))+(VLOOKUP(E1220,Param!$A$7:$E$13,5,0)*Fonct_Empl!H1220),2),\"\")","v":""}]
[null,null,null,null,null,null,null,null,{"$f":"IF(E1221<>\"\",ROUND((VLOOKUP(E1221,Param!$A$7:$E$13,4,0)*Fonct_Empl!F1221*((Fonct_Empl!G1221/12)))+(VLOOKUP(E1221,Param!$A$7:$E$13,5,0)*Fonct_Empl!H1221),2),\"\")","v":""}]
[null,null,null,null,null,null,null,null,{"$f":"IF(E1222<>\"\",ROUND((VLOOKUP(E1222,Param!$A$7:$E$13,4,0)*Fonct_Empl!F1222*((Fonct_Empl!G1222/12)))+(VLOOKUP(E1222,Param!$A$7:$E$13,5,0)*Fonct_Empl!H1222),2),\"\")","v":""}]
[null,null,null,null,null,null,null,null,{"$f":"IF(E1223<>\"\",ROUND((VLOOKUP(E1223,Param!$A$7:$E$13,4,0)*Fonct_Empl!F1223*((Fonct_Empl!G1223/12)))+(VLOOKUP(E1223,Param!$A$7:$E$13,5,0)*Fonct_Empl!H1223),2),\"\")","v":""}]
[null,null,null,null,null,null,null,null,{"$f":"IF(E1224<>\"\",ROUND((VLOOKUP(E1224,Param!$A$7:$E$13,4,0)*Fonct_Empl!F1224*((Fonct_Empl!G1224/12)))+(VLOOKUP(E1224,Param!$A$7:$E$13,5,0)*Fonct_Empl!H1224),2),\"\")","v":""}]
[null,null,null,null,null,null,null,null,{"$f":"IF(E1225<>\"\",ROUND((VLOOKUP(E1225,Param!$A$7:$E$13,4,0)*Fonct_Empl!F1225*((Fonct_Empl!G1225/12)))+(VLOOKUP(E1225,Param!$A$7:$E$13,5,0)*Fonct_Empl!H1225),2),\"\")","v":""}]
[null,null,null,null,null,null,null,null,{"$f":"IF(E1226<>\"\",ROUND((VLOOKUP(E1226,Param!$A$7:$E$13,4,0)*Fonct_Empl!F1226*((Fonct_Empl!G1226/12)))+(VLOOKUP(E1226,Param!$A$7:$E$13,5,0)*Fonct_Empl!H1226),2),\"\")","v":""}]
[null,null,null,null,null,null,null,null,{"$f":"IF(E1227<>\"\",ROUND((VLOOKUP(E1227,Param!$A$7:$E$13,4,0)*Fonct_Empl!F1227*((Fonct_Empl!G1227/12)))+(VLOOKUP(E1227,Param!$A$7:$E$13,5,0)*Fonct_Empl!H1227),2),\"\")","v":""}]
[null,null,null,null,null,null,null,null,{"$f":"IF(E1228<>\"\",ROUND((VLOOKUP(E1228,Param!$A$7:$E$13,4,0)*Fonct_Empl!F1228*((Fonct_Empl!G1228/12)))+(VLOOKUP(E1228,Param!$A$7:$E$13,5,0)*Fonct_Empl!H1228),2),\"\")","v":""}]
[null,null,null,null,null,null,null,null,{"$f":"IF(E1229<>\"\",ROUND((VLOOKUP(E1229,Param!$A$7:$E$13,4,0)*Fonct_Empl!F1229*((Fonct_Empl!G1229/12)))+(VLOOKUP(E1229,Param!$A$7:$E$13,5,0)*Fonct_Empl!H1229),2),\"\")","v":""}]
[null,null,null,null,null,null,null,null,{"$f":"IF(E1230<>\"\",ROUND((VLOOKUP(E1230,Param!$A$7:$E$13,4,0)*Fonct_Empl!F1230*((Fonct_Empl!G1230/12)))+(VLOOKUP(E1230,Param!$A$7:$E$13,5,0)*Fonct_Empl!H1230),2),\"\")","v":""}]
[null,null,null,null,null,null,null,null,{"$f":"IF(E1231<>\"\",ROUND((VLOOKUP(E1231,Param!$A$7:$E$13,4,0)*Fonct_Empl!F1231*((Fonct_Empl!G1231/12)))+(VLOOKUP(E1231,Param!$A$7:$E$13,5,0)*Fonct_Empl!H1231),2),\"\")","v":""}]
[null,null,null,null,null,null,null,null,{"$f":"IF(E1232<>\"\",ROUND((VLOOKUP(E1232,Param!$A$7:$E$13,4,0)*Fonct_Empl!F1232*((Fonct_Empl!G1232/12)))+(VLOOKUP(E1232,Param!$A$7:$E$13,5,0)*Fonct_Empl!H1232),2),\"\")","v":""}]
[null,null,null,null,null,null,null,null,{"$f":"IF(E1233<>\"\",ROUND((VLOOKUP(E1233,Param!$A$7:$E$13,4,0)*Fonct_Empl!F1233*((Fonct_Empl!G1233/12)))+(VLOOKUP(E1233,Param!$A$7:$E$13,5,0)*Fonct_Empl!H1233),2),\"\")","v":""}]
[null,null,null,null,null,null,null,null,{"$f":"IF(E1234<>\"\",ROUND((VLOOKUP(E1234,Param!$A$7:$E$13,4,0)*Fonct_Empl!F1234*((Fonct_Empl!G1234/12)))+(VLOOKUP(E1234,Param!$A$7:$E$13,5,0)*Fonct_Empl!H1234),2),\"\")","v":""}]
[null,null,null,null,null,null,null,null,{"$f":"IF(E1235<>\"\",ROUND((VLOOKUP(E1235,Param!$A$7:$E$13,4,0)*Fonct_Empl!F1235*((Fonct_Empl!G1235/12)))+(VLOOKUP(E1235,Param!$A$7:$E$13,5,0)*Fonct_Empl!H1235),2),\"\")","v":""}]
[null,null,null,null,null,null,null,null,{"$f":"IF(E1236<>\"\",ROUND((VLOOKUP(E1236,Param!$A$7:$E$13,4,0)*Fonct_Empl!F1236*((Fonct_Empl!G1236/12)))+(VLOOKUP(E1236,Param!$A$7:$E$13,5,0)*Fonct_Empl!H1236),2),\"\")","v":""}]
[null,null,null,null,null,null,null,null,{"$f":"IF(E1237<>\"\",ROUND((VLOOKUP(E1237,Param!$A$7:$E$13,4,0)*Fonct_Empl!F1237*((Fonct_Empl!G1237/12)))+(VLOOKUP(E1237,Param!$A$7:$E$13,5,0)*Fonct_Empl!H1237),2),\"\")","v":""}]
[null,null,null,null,null,null,null,null,{"$f":"IF(E1238<>\"\",ROUND((VLOOKUP(E1238,Param!$A$7:$E$13,4,0)*Fonct_Empl!F1238*((Fonct_Empl!G1238/12)))+(VLOOKUP(E1238,Param!$A$7:$E$13,5,0)*Fonct_Empl!H1238),2),\"\")","v":""}]
[null,null,null,null,null,null,null,null,{"$f":"IF(E1239<>\"\",ROUND((VLOOKUP(E1239,Param!$A$7:$E$13,4,0)*Fonct_Empl!F1239*((Fonct_Empl!G1239/12)))+(VLOOKUP(E1239,Param!$A$7:$E$13,5,0)*Fonct_Empl!H1239),2),\"\")","v":""}]
[null,null,null,null,null,null,null,null,{"$f":"IF(E1240<>\"\",ROUND((VLOOKUP(E1240,Param!$A$7:$E$13,4,0)*Fonct_Empl!F1240*((Fonct_Empl!G1240/12)))+(VLOOKUP(E1240,Param!$A$7:$E$13,5,0)*Fonct_Empl!H1240),2),\"\")","v":""}]
[null,null,null,null,null,null,null,null,{"$f":"IF(E1241<>\"\",ROUND((VLOOKUP(E1241,Param!$A$7:$E$13,4,0)*Fonct_Empl!F1241*((Fonct_Empl!G1241/12)))+(VLOOKUP(E1241,Param!$A$7:$E$13,5,0)*Fonct_Empl!H1241),2),\"\")","v":""}]
[null,null,null,null,null,null,null,null,{"$f":"IF(E1242<>\"\",ROUND((VLOOKUP(E1242,Param!$A$7:$E$13,4,0)*Fonct_Empl!F1242*((Fonct_Empl!G1242/12)))+(VLOOKUP(E1242,Param!$A$7:$E$13,5,0)*Fonct_Empl!H1242),2),\"\")","v":""}]
[null,null,null,null,null,null,null,null,{"$f":"IF(E1243<>\"\",ROUND((VLOOKUP(E1243,Param!$A$7:$E$13,4,0)*Fonct_Empl!F1243*((Fonct_Empl!G1243/12)))+(VLOOKUP(E1243,Param!$A$7:$E$13,5,0)*Fonct_Empl!H1243),2),\"\")","v":""}]
[null,null,null,null,null,null,null,null,{"$f":"IF(E1244<>\"\",ROUND((VLOOKUP(E1244,Param!$A$7:$E$13,4,0)*Fonct_Empl!F1244*((Fonct_Empl!G1244/12)))+(VLOOKUP(E1244,Param!$A$7:$E$13,5,0)*Fonct_Empl!H1244),2),\"\")","v":""}]
[null,null,null,null,null,null,null,null,{"$f":"IF(E1245<>\"\",ROUND((VLOOKUP(E1245,Param!$A$7:$E$13,4,0)*Fonct_Empl!F1245*((Fonct_Empl!G1245/12)))+(VLOOKUP(E1245,Param!$A$7:$E$13,5,0)*Fonct_Empl!H1245),2),\"\")","v":""}]
[null,null,null,null,null,null,null,null,{"$f":"IF(E1246<>\"\",ROUND((VLOOKUP(E1246,Param!$A$7:$E$13,4,0)*Fonct_Empl!F1246*((Fonct_Empl!G1246/12)))+(VLOOKUP(E1246,Param!$A$7:$E$13,5,0)*Fonct_Empl!H1246),2),\"\")","v":""}]
[null,null,null,null,null,null,null,null,{"$f":"IF(E1247<>\"\",ROUND((VLOOKUP(E1247,Param!$A$7:$E$13,4,0)*Fonct_Empl!F1247*((Fonct_Empl!G1247/12)))+(VLOOKUP(E1247,Param!$A$7:$E$13,5,0)*Fonct_Empl!H1247),2),\"\")","v":""}]
[null,null,null,null,null,null,null,null,{"$f":"IF(E1248<>\"\",ROUND((VLOOKUP(E1248,Param!$A$7:$E$13,4,0)*Fonct_Empl!F1248*((Fonct_Empl!G1248/12)))+(VLOOKUP(E1248,Param!$A$7:$E$13,5,0)*Fonct_Empl!H1248),2),\"\")","v":""}]
[null,null,null,null,null,null,null,null,{"$f":"IF(E1249<>\"\",ROUND((VLOOKUP(E1249,Param!$A$7:$E$13,4,0)*Fonct_Empl!F1249*((Fonct_Empl!G1249/12)))+(VLOOKUP(E1249,Param!$A$7:$E$13,5,0)*Fonct_Empl!H1249),2),\"\")","v":""}]
[null,null,null,null,null,null,null,null,{"$f":"IF(E1250<>\"\",ROUND((VLOOKUP(E1250,Param!$A$7:$E$13,4,0)*Fonct_Empl!F1250*((Fonct_Empl!G1250/12)))+(VLOOKUP(E1250,Param!$A$7:$E$13,5,0)*Fonct_Empl!H1250),2),\"\")","v":""}]
[null,null,null,null,null,null,null,null,{"$f":"IF(E1251<>\"\",ROUND((VLOOKUP(E1251,Param!$A$7:$E$13,4,0)*Fonct_Empl!F1251*((Fonct_Empl!G1251/12)))+(VLOOKUP(E1251,Param!$A$7:$E$13,5,0)*Fonct_Empl!H1251),2),\"\")","v":""}]
[null,null,null,null,null,null,null,null,{"$f":"IF(E1252<>\"\",ROUND((VLOOKUP(E1252,Param!$A$7:$E$13,4,0)*Fonct_Empl!F1252*((Fonct_Empl!G1252/12)))+(VLOOKUP(E1252,Param!$A$7:$E$13,5,0)*Fonct_Empl!H1252),2),\"\")","v":""}]
[null,null,null,null,null,null,null,null,{"$f":"IF(E1253<>\"\",ROUND((VLOOKUP(E1253,Param!$A$7:$E$13,4,0)*Fonct_Empl!F1253*((Fonct_Empl!G1253/12)))+(VLOOKUP(E1253,Param!$A$7:$E$13,5,0)*Fonct_Empl!H1253),2),\"\")","v":""}]
[null,null,null,null,null,null,null,null,{"$f":"IF(E1254<>\"\",ROUND((VLOOKUP(E1254,Param!$A$7:$E$13,4,0)*Fonct_Empl!F1254*((Fonct_Empl!G1254/12)))+(VLOOKUP(E1254,Param!$A$7:$E$13,5,0)*Fonct_Empl!H1254),2),\"\")","v":""}]
[null,null,null,null,null,null,null,null,{"$f":"IF(E1255<>\"\",ROUND((VLOOKUP(E1255,Param!$A$7:$E$13,4,0)*Fonct_Empl!F1255*((Fonct_Empl!G1255/12)))+(VLOOKUP(E1255,Param!$A$7:$E$13,5,0)*Fonct_Empl!H1255),2),\"\")","v":""}]
[null,null,null,null,null,null,null,null,{"$f":"IF(E1256<>\"\",ROUND((VLOOKUP(E1256,Param!$A$7:$E$13,4,0)*Fonct_Empl!F1256*((Fonct_Empl!G1256/12)))+(VLOOKUP(E1256,Param!$A$7:$E$13,5,0)*Fonct_Empl!H1256),2),\"\")","v":""}]
[null,null,null,null,null,null,null,null,{"$f":"IF(E1257<>\"\",ROUND((VLOOKUP(E1257,Param!$A$7:$E$13,4,0)*Fonct_Empl!F1257*((Fonct_Empl!G1257/12)))+(VLOOKUP(E1257,Param!$A$7:$E$13,5,0)*Fonct_Empl!H1257),2),\"\")","v":""}]
[null,null,null,null,null,null,null,null,{"$f":"IF(E1258<>\"\",ROUND((VLOOKUP(E1258,Param!$A$7:$E$13,4,0)*Fonct_Empl!F1258*((Fonct_Empl!G1258/12)))+(VLOOKUP(E1258,Param!$A$7:$E$13,5,0)*Fonct_Empl!H1258),2),\"\")","v":""}]
[null,null,null,null,null,null,null,null,{"$f":"IF(E1259<>\"\",ROUND((VLOOKUP(E1259,Param!$A$7:$E$13,4,0)*Fonct_Empl!F1259*((Fonct_Empl!G1259/12)))+(VLOOKUP(E1259,Param!$A$7:$E$13,5,0)*Fonct_Empl!H1259),2),\"\")","v":""}]
[null,null,null,null,null,null,null,null,{"$f":"IF(E1260<>\"\",ROUND((VLOOKUP(E1260,Param!$A$7:$E$13,4,0)*Fonct_Empl!F1260*((Fonct_Empl!G1260/12)))+(VLOOKUP(E1260,Param!$A$7:$E$13,5,0)*Fonct_Empl!H1260),2),\"\")","v":""}]
[null,null,null,null,null,null,null,null,{"$f":"IF(E1261<>\"\",ROUND((VLOOKUP(E1261,Param!$A$7:$E$13,4,0)*Fonct_Empl!F1261*((Fonct_Empl!G1261/12)))+(VLOOKUP(E1261,Param!$A$7:$E$13,5,0)*Fonct_Empl!H1261),2),\"\")","v":""}]
[null,null,null,null,null,null,null,null,{"$f":"IF(E1262<>\"\",ROUND((VLOOKUP(E1262,Param!$A$7:$E$13,4,0)*Fonct_Empl!F1262*((Fonct_Empl!G1262/12)))+(VLOOKUP(E1262,Param!$A$7:$E$13,5,0)*Fonct_Empl!H1262),2),\"\")","v":""}]
[null,null,null,null,null,null,null,null,{"$f":"IF(E1263<>\"\",ROUND((VLOOKUP(E1263,Param!$A$7:$E$13,4,0)*Fonct_Empl!F1263*((Fonct_Empl!G1263/12)))+(VLOOKUP(E1263,Param!$A$7:$E$13,5,0)*Fonct_Empl!H1263),2),\"\")","v":""}]
[null,null,null,null,null,null,null,null,{"$f":"IF(E1264<>\"\",ROUND((VLOOKUP(E1264,Param!$A$7:$E$13,4,0)*Fonct_Empl!F1264*((Fonct_Empl!G1264/12)))+(VLOOKUP(E1264,Param!$A$7:$E$13,5,0)*Fonct_Empl!H1264),2),\"\")","v":""}]
[null,null,null,null,null,null,null,null,{"$f":"IF(E1265<>\"\",ROUND((VLOOKUP(E1265,Param!$A$7:$E$13,4,0)*Fonct_Empl!F1265*((Fonct_Empl!G1265/12)))+(VLOOKUP(E1265,Param!$A$7:$E$13,5,0)*Fonct_Empl!H1265),2),\"\")","v":""}]
[null,null,null,null,null,null,null,null,{"$f":"IF(E1266<>\"\",ROUND((VLOOKUP(E1266,Param!$A$7:$E$13,4,0)*Fonct_Empl!F1266*((Fonct_Empl!G1266/12)))+(VLOOKUP(E1266,Param!$A$7:$E$13,5,0)*Fonct_Empl!H1266),2),\"\")","v":""}]
[null,null,null,null,null,null,null,null,{"$f":"IF(E1267<>\"\",ROUND((VLOOKUP(E1267,Param!$A$7:$E$13,4,0)*Fonct_Empl!F1267*((Fonct_Empl!G1267/12)))+(VLOOKUP(E1267,Param!$A$7:$E$13,5,0)*Fonct_Empl!H1267),2),\"\")","v":""}]
[null,null,null,null,null,null,null,null,{"$f":"IF(E1268<>\"\",ROUND((VLOOKUP(E1268,Param!$A$7:$E$13,4,0)*Fonct_Empl!F1268*((Fonct_Empl!G1268/12)))+(VLOOKUP(E1268,Param!$A$7:$E$13,5,0)*Fonct_Empl!H1268),2),\"\")","v":""}]
[null,null,null,null,null,null,null,null,{"$f":"IF(E1269<>\"\",ROUND((VLOOKUP(E1269,Param!$A$7:$E$13,4,0)*Fonct_Empl!F1269*((Fonct_Empl!G1269/12)))+(VLOOKUP(E1269,Param!$A$7:$E$13,5,0)*Fonct_Empl!H1269),2),\"\")","v":""}]
[null,null,null,null,null,null,null,null,{"$f":"IF(E1270<>\"\",ROUND((VLOOKUP(E1270,Param!$A$7:$E$13,4,0)*Fonct_Empl!F1270*((Fonct_Empl!G1270/12)))+(VLOOKUP(E1270,Param!$A$7:$E$13,5,0)*Fonct_Empl!H1270),2),\"\")","v":""}]
[null,null,null,null,null,null,null,null,{"$f":"IF(E1271<>\"\",ROUND((VLOOKUP(E1271,Param!$A$7:$E$13,4,0)*Fonct_Empl!F1271*((Fonct_Empl!G1271/12)))+(VLOOKUP(E1271,Param!$A$7:$E$13,5,0)*Fonct_Empl!H1271),2),\"\")","v":""}]
[null,null,null,null,null,null,null,null,{"$f":"IF(E1272<>\"\",ROUND((VLOOKUP(E1272,Param!$A$7:$E$13,4,0)*Fonct_Empl!F1272*((Fonct_Empl!G1272/12)))+(VLOOKUP(E1272,Param!$A$7:$E$13,5,0)*Fonct_Empl!H1272),2),\"\")","v":""}]
[null,null,null,null,null,null,null,null,{"$f":"IF(E1273<>\"\",ROUND((VLOOKUP(E1273,Param!$A$7:$E$13,4,0)*Fonct_Empl!F1273*((Fonct_Empl!G1273/12)))+(VLOOKUP(E1273,Param!$A$7:$E$13,5,0)*Fonct_Empl!H1273),2),\"\")","v":""}]
[null,null,null,null,null,null,null,null,{"$f":"IF(E1274<>\"\",ROUND((VLOOKUP(E1274,Param!$A$7:$E$13,4,0)*Fonct_Empl!F1274*((Fonct_Empl!G1274/12)))+(VLOOKUP(E1274,Param!$A$7:$E$13,5,0)*Fonct_Empl!H1274),2),\"\")","v":""}]
[null,null,null,null,null,null,null,null,{"$f":"IF(E1275<>\"\",ROUND((VLOOKUP(E1275,Param!$A$7:$E$13,4,0)*Fonct_Empl!F1275*((Fonct_Empl!G1275/12)))+(VLOOKUP(E1275,Param!$A$7:$E$13,5,0)*Fonct_Empl!H1275),2),\"\")","v":""}]
[null,null,null,null,null,null,null,null,{"$f":"IF(E1276<>\"\",ROUND((VLOOKUP(E1276,Param!$A$7:$E$13,4,0)*Fonct_Empl!F1276*((Fonct_Empl!G1276/12)))+(VLOOKUP(E1276,Param!$A$7:$E$13,5,0)*Fonct_Empl!H1276),2),\"\")","v":""}]
[null,null,null,null,null,null,null,null,{"$f":"IF(E1277<>\"\",ROUND((VLOOKUP(E1277,Param!$A$7:$E$13,4,0)*Fonct_Empl!F1277*((Fonct_Empl!G1277/12)))+(VLOOKUP(E1277,Param!$A$7:$E$13,5,0)*Fonct_Empl!H1277),2),\"\")","v":""}]
[null,null,null,null,null,null,null,null,{"$f":"IF(E1278<>\"\",ROUND((VLOOKUP(E1278,Param!$A$7:$E$13,4,0)*Fonct_Empl!F1278*((Fonct_Empl!G1278/12)))+(VLOOKUP(E1278,Param!$A$7:$E$13,5,0)*Fonct_Empl!H1278),2),\"\")","v":""}]
[null,null,null,null,null,null,null,null,{"$f":"IF(E1279<>\"\",ROUND((VLOOKUP(E1279,Param!$A$7:$E$13,4,0)*Fonct_Empl!F1279*((Fonct_Empl!G1279/12)))+(VLOOKUP(E1279,Param!$A$7:$E$13,5,0)*Fonct_Empl!H1279),2),\"\")","v":""}]
[null,null,null,null,null,null,null,null,{"$f":"IF(E1280<>\"\",ROUND((VLOOKUP(E1280,Param!$A$7:$E$13,4,0)*Fonct_Empl!F1280*((Fonct_Empl!G1280/12)))+(VLOOKUP(E1280,Param!$A$7:$E$13,5,0)*Fonct_Empl!H1280),2),\"\")","v":""}]
[null,null,null,null,null,null,null,null,{"$f":"IF(E1281<>\"\",ROUND((VLOOKUP(E1281,Param!$A$7:$E$13,4,0)*Fonct_Empl!F1281*((Fonct_Empl!G1281/12)))+(VLOOKUP(E1281,Param!$A$7:$E$13,5,0)*Fonct_Empl!H1281),2),\"\")","v":""}]
[null,null,null,null,null,null,null,null,{"$f":"IF(E1282<>\"\",ROUND((VLOOKUP(E1282,Param!$A$7:$E$13,4,0)*Fonct_Empl!F1282*((Fonct_Empl!G1282/12)))+(VLOOKUP(E1282,Param!$A$7:$E$13,5,0)*Fonct_Empl!H1282),2),\"\")","v":""}]
[null,null,null,null,null,null,null,null,{"$f":"IF(E1283<>\"\",ROUND((VLOOKUP(E1283,Param!$A$7:$E$13,4,0)*Fonct_Empl!F1283*((Fonct_Empl!G1283/12)))+(VLOOKUP(E1283,Param!$A$7:$E$13,5,0)*Fonct_Empl!H1283),2),\"\")","v":""}]
[null,null,null,null,null,null,null,null,{"$f":"IF(E1284<>\"\",ROUND((VLOOKUP(E1284,Param!$A$7:$E$13,4,0)*Fonct_Empl!F1284*((Fonct_Empl!G1284/12)))+(VLOOKUP(E1284,Param!$A$7:$E$13,5,0)*Fonct_Empl!H1284),2),\"\")","v":""}]
[null,null,null,null,null,null,null,null,{"$f":"IF(E1285<>\"\",ROUND((VLOOKUP(E1285,Param!$A$7:$E$13,4,0)*Fonct_Empl!F1285*((Fonct_Empl!G1285/12)))+(VLOOKUP(E1285,Param!$A$7:$E$13,5,0)*Fonct_Empl!H1285),2),\"\")","v":""}]
[null,null,null,null,null,null,null,null,{"$f":"IF(E1286<>\"\",ROUND((VLOOKUP(E1286,Param!$A$7:$E$13,4,0)*Fonct_Empl!F1286*((Fonct_Empl!G1286/12)))+(VLOOKUP(E1286,Param!$A$7:$E$13,5,0)*Fonct_Empl!H1286),2),\"\")","v":""}]
[null,null,null,null,null,null,null,null,{"$f":"IF(E1287<>\"\",ROUND((VLOOKUP(E1287,Param!$A$7:$E$13,4,0)*Fonct_Empl!F1287*((Fonct_Empl!G1287/12)))+(VLOOKUP(E1287,Param!$A$7:$E$13,5,0)*Fonct_Empl!H1287),2),\"\")","v":""}]
[null,null,null,null,null,null,null,null,{"$f":"IF(E1288<>\"\",ROUND((VLOOKUP(E1288,Param!$A$7:$E$13,4,0)*Fonct_Empl!F1288*((Fonct_Empl!G1288/12)))+(VLOOKUP(E1288,Param!$A$7:$E$13,5,0)*Fonct_Empl!H1288),2),\"\")","v":""}]
[null,null,null,null,null,null,null,null,{"$f":"IF(E1289<>\"\",ROUND((VLOOKUP(E1289,Param!$A$7:$E$13,4,0)*Fonct_Empl!F1289*((Fonct_Empl!G1289/12)))+(VLOOKUP(E1289,Param!$A$7:$E$13,5,0)*Fonct_Empl!H1289),2),\"\")","v":""}]
[null,null,null,null,null,null,null,null,{"$f":"IF(E1290<>\"\",ROUND((VLOOKUP(E1290,Param!$A$7:$E$13,4,0)*Fonct_Empl!F1290*((Fonct_Empl!G1290/12)))+(VLOOKUP(E1290,Param!$A$7:$E$13,5,0)*Fonct_Empl!H1290),2),\"\")","v":""}]
[null,null,null,null,null,null,null,null,{"$f":"IF(E1291<>\"\",ROUND((VLOOKUP(E1291,Param!$A$7:$E$13,4,0)*Fonct_Empl!F1291*((Fonct_Empl!G1291/12)))+(VLOOKUP(E1291,Param!$A$7:$E$13,5,0)*Fonct_Empl!H1291),2),\"\")","v":""}]
[null,null,null,null,null,null,null,null,{"$f":"IF(E1292<>\"\",ROUND((VLOOKUP(E1292,Param!$A$7:$E$13,4,0)*Fonct_Empl!F1292*((Fonct_Empl!G1292/12)))+(VLOOKUP(E1292,Param!$A$7:$E$13,5,0)*Fonct_Empl!H1292),2),\"\")","v":""}]
[null,null,null,null,null,null,null,null,{"$f":"IF(E1293<>\"\",ROUND((VLOOKUP(E1293,Param!$A$7:$E$13,4,0)*Fonct_Empl!F1293*((Fonct_Empl!G1293/12)))+(VLOOKUP(E1293,Param!$A$7:$E$13,5,0)*Fonct_Empl!H1293),2),\"\")","v":""}]
[null,null,null,null,null,null,null,null,{"$f":"IF(E1294<>\"\",ROUND((VLOOKUP(E1294,Param!$A$7:$E$13,4,0)*Fonct_Empl!F1294*((Fonct_Empl!G1294/12)))+(VLOOKUP(E1294,Param!$A$7:$E$13,5,0)*Fonct_Empl!H1294),2),\"\")","v":""}]
[null,null,null,null,null,null,null,null,{"$f":"IF(E1295<>\"\",ROUND((VLOOKUP(E1295,Param!$A$7:$E$13,4,0)*Fonct_Empl!F1295*((Fonct_Empl!G1295/12)))+(VLOOKUP(E1295,Param!$A$7:$E$13,5,0)*Fonct_Empl!H1295),2),\"\")","v":""}]
[null,null,null,null,null,null,null,null,{"$f":"IF(E1296<>\"\",ROUND((VLOOKUP(E1296,Param!$A$7:$E$13,4,0)*Fonct_Empl!F1296*((Fonct_Empl!G1296/12)))+(VLOOKUP(E1296,Param!$A$7:$E$13,5,0)*Fonct_Empl!H1296),2),\"\")","v":""}]
[null,null,null,null,null,null,null,null,{"$f":"IF(E1297<>\"\",ROUND((VLOOKUP(E1297,Param!$A$7:$E$13,4,0)*Fonct_Empl!F1297*((Fonct_Empl!G1297/12)))+(VLOOKUP(E1297,Param!$A$7:$E$13,5,0)*Fonct_Empl!H1297),2),\"\")","v":""}]
[null,null,null,null,null,null,null,null,{"$f":"IF(E1298<>\"\",ROUND((VLOOKUP(E1298,Param!$A$7:$E$13,4,0)*Fonct_Empl!F1298*((Fonct_Empl!G1298/12)))+(VLOOKUP(E1298,Param!$A$7:$E$13,5,0)*Fonct_Empl!H1298),2),\"\")","v":""}]
[null,null,null,null,null,null,null,null,{"$f":"IF(E1299<>\"\",ROUND((VLOOKUP(E1299,Param!$A$7:$E$13,4,0)*Fonct_Empl!F1299*((Fonct_Empl!G1299/12)))+(VLOOKUP(E1299,Param!$A$7:$E$13,5,0)*Fonct_Empl!H1299),2),\"\")","v":""}]
[null,null,null,null,null,null,null,null,{"$f":"IF(E1300<>\"\",ROUND((VLOOKUP(E1300,Param!$A$7:$E$13,4,0)*Fonct_Empl!F1300*((Fonct_Empl!G1300/12)))+(VLOOKUP(E1300,Param!$A$7:$E$13,5,0)*Fonct_Empl!H1300),2),\"\")","v":""}]
[null,null,null,null,null,null,null,null,{"$f":"IF(E1301<>\"\",ROUND((VLOOKUP(E1301,Param!$A$7:$E$13,4,0)*Fonct_Empl!F1301*((Fonct_Empl!G1301/12)))+(VLOOKUP(E1301,Param!$A$7:$E$13,5,0)*Fonct_Empl!H1301),2),\"\")","v":""}]
[null,null,null,null,null,null,null,null,{"$f":"IF(E1302<>\"\",ROUND((VLOOKUP(E1302,Param!$A$7:$E$13,4,0)*Fonct_Empl!F1302*((Fonct_Empl!G1302/12)))+(VLOOKUP(E1302,Param!$A$7:$E$13,5,0)*Fonct_Empl!H1302),2),\"\")","v":""}]
[null,null,null,null,null,null,null,null,{"$f":"IF(E1303<>\"\",ROUND((VLOOKUP(E1303,Param!$A$7:$E$13,4,0)*Fonct_Empl!F1303*((Fonct_Empl!G1303/12)))+(VLOOKUP(E1303,Param!$A$7:$E$13,5,0)*Fonct_Empl!H1303),2),\"\")","v":""}]
[null,null,null,null,null,null,null,null,{"$f":"IF(E1304<>\"\",ROUND((VLOOKUP(E1304,Param!$A$7:$E$13,4,0)*Fonct_Empl!F1304*((Fonct_Empl!G1304/12)))+(VLOOKUP(E1304,Param!$A$7:$E$13,5,0)*Fonct_Empl!H1304),2),\"\")","v":""}]
[null,null,null,null,null,null,null,null,{"$f":"IF(E1305<>\"\",ROUND((VLOOKUP(E1305,Param!$A$7:$E$13,4,0)*Fonct_Empl!F1305*((Fonct_Empl!G1305/12)))+(VLOOKUP(E1305,Param!$A$7:$E$13,5,0)*Fonct_Empl!H1305),2),\"\")","v":""}]
[null,null,null,null,null,null,null,null,{"$f":"IF(E1306<>\"\",ROUND((VLOOKUP(E1306,Param!$A$7:$E$13,4,0)*Fonct_Empl!F1306*((Fonct_Empl!G1306/12)))+(VLOOKUP(E1306,Param!$A$7:$E$13,5,0)*Fonct_Empl!H1306),2),\"\")","v":""}]
[null,null,null,null,null,null,null,null,{"$f":"IF(E1307<>\"\",ROUND((VLOOKUP(E1307,Param!$A$7:$E$13,4,0)*Fonct_Empl!F1307*((Fonct_Empl!G1307/12)))+(VLOOKUP(E1307,Param!$A$7:$E$13,5,0)*Fonct_Empl!H1307),2),\"\")","v":""}]
[null,null,null,null,null,null,null,null,{"$f":"IF(E1308<>\"\",ROUND((VLOOKUP(E1308,Param!$A$7:$E$13,4,0)*Fonct_Empl!F1308*((Fonct_Empl!G1308/12)))+(VLOOKUP(E1308,Param!$A$7:$E$13,5,0)*Fonct_Empl!H1308),2),\"\")","v":""}]
[null,null,null,null,null,null,null,null,{"$f":"IF(E1309<>\"\",ROUND((VLOOKUP(E1309,Param!$A$7:$E$13,4,0)*Fonct_Empl!F1309*((Fonct_Empl!G1309/12)))+(VLOOKUP(E1309,Param!$A$7:$E$13,5,0)*Fonct_Empl!H1309),2),\"\")","v":""}]
[null,null,null,null,null,null,null,null,{"$f":"IF(E1310<>\"\",ROUND((VLOOKUP(E1310,Param!$A$7:$E$13,4,0)*Fonct_Empl!F1310*((Fonct_Empl!G1310/12)))+(VLOOKUP(E1310,Param!$A$7:$E$13,5,0)*Fonct_Empl!H1310),2),\"\")","v":""}]
[null,null,null,null,null,null,null,null,{"$f":"IF(E1311<>\"\",ROUND((VLOOKUP(E1311,Param!$A$7:$E$13,4,0)*Fonct_Empl!F1311*((Fonct_Empl!G1311/12)))+(VLOOKUP(E1311,Param!$A$7:$E$13,5,0)*Fonct_Empl!H1311),2),\"\")","v":""}]
[null,null,null,null,null,null,null,null,{"$f":"IF(E1312<>\"\",ROUND((VLOOKUP(E1312,Param!$A$7:$E$13,4,0)*Fonct_Empl!F1312*((Fonct_Empl!G1312/12)))+(VLOOKUP(E1312,Param!$A$7:$E$13,5,0)*Fonct_Empl!H1312),2),\"\")","v":""}]
[null,null,null,null,null,null,null,null,{"$f":"IF(E1313<>\"\",ROUND((VLOOKUP(E1313,Param!$A$7:$E$13,4,0)*Fonct_Empl!F1313*((Fonct_Empl!G1313/12)))+(VLOOKUP(E1313,Param!$A$7:$E$13,5,0)*Fonct_Empl!H1313),2),\"\")","v":""}]
[null,null,null,null,null,null,null,null,{"$f":"IF(E1314<>\"\",ROUND((VLOOKUP(E1314,Param!$A$7:$E$13,4,0)*Fonct_Empl!F1314*((Fonct_Empl!G1314/12)))+(VLOOKUP(E1314,Param!$A$7:$E$13,5,0)*Fonct_Empl!H1314),2),\"\")","v":""}]
[null,null,null,null,null,null,null,null,{"$f":"IF(E1315<>\"\",ROUND((VLOOKUP(E1315,Param!$A$7:$E$13,4,0)*Fonct_Empl!F1315*((Fonct_Empl!G1315/12)))+(VLOOKUP(E1315,Param!$A$7:$E$13,5,0)*Fonct_Empl!H1315),2),\"\")","v":""}]
[null,null,null,null,null,null,null,null,{"$f":"IF(E1316<>\"\",ROUND((VLOOKUP(E1316,Param!$A$7:$E$13,4,0)*Fonct_Empl!F1316*((Fonct_Empl!G1316/12)))+(VLOOKUP(E1316,Param!$A$7:$E$13,5,0)*Fonct_Empl!H1316),2),\"\")","v":""}]
[null,null,null,null,null,null,null,null,{"$f":"IF(E1317<>\"\",ROUND((VLOOKUP(E1317,Param!$A$7:$E$13,4,0)*Fonct_Empl!F1317*((Fonct_Empl!G1317/12)))+(VLOOKUP(E1317,Param!$A$7:$E$13,5,0)*Fonct_Empl!H1317),2),\"\")","v":""}]
[null,null,null,null,null,null,null,null,{"$f":"IF(E1318<>\"\",ROUND((VLOOKUP(E1318,Param!$A$7:$E$13,4,0)*Fonct_Empl!F1318*((Fonct_Empl!G1318/12)))+(VLOOKUP(E1318,Param!$A$7:$E$13,5,0)*Fonct_Empl!H1318),2),\"\")","v":""}]
[null,null,null,null,null,null,null,null,{"$f":"IF(E1319<>\"\",ROUND((VLOOKUP(E1319,Param!$A$7:$E$13,4,0)*Fonct_Empl!F1319*((Fonct_Empl!G1319/12)))+(VLOOKUP(E1319,Param!$A$7:$E$13,5,0)*Fonct_Empl!H1319),2),\"\")","v":""}]
[null,null,null,null,null,null,null,null,{"$f":"IF(E1320<>\"\",ROUND((VLOOKUP(E1320,Param!$A$7:$E$13,4,0)*Fonct_Empl!F1320*((Fonct_Empl!G1320/12)))+(VLOOKUP(E1320,Param!$A$7:$E$13,5,0)*Fonct_Empl!H1320),2),\"\")","v":""}]
[null,null,null,null,null,null,null,null,{"$f":"IF(E1321<>\"\",ROUND((VLOOKUP(E1321,Param!$A$7:$E$13,4,0)*Fonct_Empl!F1321*((Fonct_Empl!G1321/12)))+(VLOOKUP(E1321,Param!$A$7:$E$13,5,0)*Fonct_Empl!H1321),2),\"\")","v":""}]
[null,null,null,null,null,null,null,null,{"$f":"IF(E1322<>\"\",ROUND((VLOOKUP(E1322,Param!$A$7:$E$13,4,0)*Fonct_Empl!F1322*((Fonct_Empl!G1322/12)))+(VLOOKUP(E1322,Param!$A$7:$E$13,5,0)*Fonct_Empl!H1322),2),\"\")","v":""}]
[null,null,null,null,null,null,null,null,{"$f":"IF(E1323<>\"\",ROUND((VLOOKUP(E1323,Param!$A$7:$E$13,4,0)*Fonct_Empl!F1323*((Fonct_Empl!G1323/12)))+(VLOOKUP(E1323,Param!$A$7:$E$13,5,0)*Fonct_Empl!H1323),2),\"\")","v":""}]
[null,null,null,null,null,null,null,null,{"$f":"IF(E1324<>\"\",ROUND((VLOOKUP(E1324,Param!$A$7:$E$13,4,0)*Fonct_Empl!F1324*((Fonct_Empl!G1324/12)))+(VLOOKUP(E1324,Param!$A$7:$E$13,5,0)*Fonct_Empl!H1324),2),\"\")","v":""}]
[null,null,null,null,null,null,null,null,{"$f":"IF(E1325<>\"\",ROUND((VLOOKUP(E1325,Param!$A$7:$E$13,4,0)*Fonct_Empl!F1325*((Fonct_Empl!G1325/12)))+(VLOOKUP(E1325,Param!$A$7:$E$13,5,0)*Fonct_Empl!H1325),2),\"\")","v":""}]
[null,null,null,null,null,null,null,null,{"$f":"IF(E1326<>\"\",ROUND((VLOOKUP(E1326,Param!$A$7:$E$13,4,0)*Fonct_Empl!F1326*((Fonct_Empl!G1326/12)))+(VLOOKUP(E1326,Param!$A$7:$E$13,5,0)*Fonct_Empl!H1326),2),\"\")","v":""}]
[null,null,null,null,null,null,null,null,{"$f":"IF(E1327<>\"\",ROUND((VLOOKUP(E1327,Param!$A$7:$E$13,4,0)*Fonct_Empl!F1327*((Fonct_Empl!G1327/12)))+(VLOOKUP(E1327,Param!$A$7:$E$13,5,0)*Fonct_Empl!H1327),2),\"\")","v":""}]
[null,null,null,null,null,null,null,null,{"$f":"IF(E1328<>\"\",ROUND((VLOOKUP(E1328,Param!$A$7:$E$13,4,0)*Fonct_Empl!F1328*((Fonct_Empl!G1328/12)))+(VLOOKUP(E1328,Param!$A$7:$E$13,5,0)*Fonct_Empl!H1328),2),\"\")","v":""}]
[null,null,null,null,null,null,null,null,{"$f":"IF(E1329<>\"\",ROUND((VLOOKUP(E1329,Param!$A$7:$E$13,4,0)*Fonct_Empl!F1329*((Fonct_Empl!G1329/12)))+(VLOOKUP(E1329,Param!$A$7:$E$13,5,0)*Fonct_Empl!H1329),2),\"\")","v":""}]
[null,null,null,null,null,null,null,null,{"$f":"IF(E1330<>\"\",ROUND((VLOOKUP(E1330,Param!$A$7:$E$13,4,0)*Fonct_Empl!F1330*((Fonct_Empl!G1330/12)))+(VLOOKUP(E1330,Param!$A$7:$E$13,5,0)*Fonct_Empl!H1330),2),\"\")","v":""}]
[null,null,null,null,null,null,null,null,{"$f":"IF(E1331<>\"\",ROUND((VLOOKUP(E1331,Param!$A$7:$E$13,4,0)*Fonct_Empl!F1331*((Fonct_Empl!G1331/12)))+(VLOOKUP(E1331,Param!$A$7:$E$13,5,0)*Fonct_Empl!H1331),2),\"\")","v":""}]
[null,null,null,null,null,null,null,null,{"$f":"IF(E1332<>\"\",ROUND((VLOOKUP(E1332,Param!$A$7:$E$13,4,0)*Fonct_Empl!F1332*((Fonct_Empl!G1332/12)))+(VLOOKUP(E1332,Param!$A$7:$E$13,5,0)*Fonct_Empl!H1332),2),\"\")","v":""}]
[null,null,null,null,null,null,null,null,{"$f":"IF(E1333<>\"\",ROUND((VLOOKUP(E1333,Param!$A$7:$E$13,4,0)*Fonct_Empl!F1333*((Fonct_Empl!G1333/12)))+(VLOOKUP(E1333,Param!$A$7:$E$13,5,0)*Fonct_Empl!H1333),2),\"\")","v":""}]
[null,null,null,null,null,null,null,null,{"$f":"IF(E1334<>\"\",ROUND((VLOOKUP(E1334,Param!$A$7:$E$13,4,0)*Fonct_Empl!F1334*((Fonct_Empl!G1334/12)))+(VLOOKUP(E1334,Param!$A$7:$E$13,5,0)*Fonct_Empl!H1334),2),\"\")","v":""}]
[null,null,null,null,null,null,null,null,{"$f":"IF(E1335<>\"\",ROUND((VLOOKUP(E1335,Param!$A$7:$E$13,4,0)*Fonct_Empl!F1335*((Fonct_Empl!G1335/12)))+(VLOOKUP(E1335,Param!$A$7:$E$13,5,0)*Fonct_Empl!H1335),2),\"\")","v":""}]
[null,null,null,null,null,null,null,null,{"$f":"IF(E1336<>\"\",ROUND((VLOOKUP(E1336,Param!$A$7:$E$13,4,0)*Fonct_Empl!F1336*((Fonct_Empl!G1336/12)))+(VLOOKUP(E1336,Param!$A$7:$E$13,5,0)*Fonct_Empl!H1336),2),\"\")","v":""}]
[null,null,null,null,null,null,null,null,{"$f":"IF(E1337<>\"\",ROUND((VLOOKUP(E1337,Param!$A$7:$E$13,4,0)*Fonct_Empl!F1337*((Fonct_Empl!G1337/12)))+(VLOOKUP(E1337,Param!$A$7:$E$13,5,0)*Fonct_Empl!H1337),2),\"\")","v":""}]
[null,null,null,null,null,null,null,null,{"$f":"IF(E1338<>\"\",ROUND((VLOOKUP(E1338,Param!$A$7:$E$13,4,0)*Fonct_Empl!F1338*((Fonct_Empl!G1338/12)))+(VLOOKUP(E1338,Param!$A$7:$E$13,5,0)*Fonct_Empl!H1338),2),\"\")","v":""}]
[null,null,null,null,null,null,null,null,{"$f":"IF(E1339<>\"\",ROUND((VLOOKUP(E1339,Param!$A$7:$E$13,4,0)*Fonct_Empl!F1339*((Fonct_Empl!G1339/12)))+(VLOOKUP(E1339,Param!$A$7:$E$13,5,0)*Fonct_Empl!H1339),2),\"\")","v":""}]
[null,null,null,null,null,null,null,null,{"$f":"IF(E1340<>\"\",ROUND((VLOOKUP(E1340,Param!$A$7:$E$13,4,0)*Fonct_Empl!F1340*((Fonct_Empl!G1340/12)))+(VLOOKUP(E1340,Param!$A$7:$E$13,5,0)*Fonct_Empl!H1340),2),\"\")","v":""}]
[null,null,null,null,null,null,null,null,{"$f":"IF(E1341<>\"\",ROUND((VLOOKUP(E1341,Param!$A$7:$E$13,4,0)*Fonct_Empl!F1341*((Fonct_Empl!G1341/12)))+(VLOOKUP(E1341,Param!$A$7:$E$13,5,0)*Fonct_Empl!H1341),2),\"\")","v":""}]
[null,null,null,null,null,null,null,null,{"$f":"IF(E1342<>\"\",ROUND((VLOOKUP(E1342,Param!$A$7:$E$13,4,0)*Fonct_Empl!F1342*((Fonct_Empl!G1342/12)))+(VLOOKUP(E1342,Param!$A$7:$E$13,5,0)*Fonct_Empl!H1342),2),\"\")","v":""}]
[null,null,null,null,null,null,null,null,{"$f":"IF(E1343<>\"\",ROUND((VLOOKUP(E1343,Param!$A$7:$E$13,4,0)*Fonct_Empl!F1343*((Fonct_Empl!G1343/12)))+(VLOOKUP(E1343,Param!$A$7:$E$13,5,0)*Fonct_Empl!H1343),2),\"\")","v":""}]
[null,null,null,null,null,null,null,null,{"$f":"IF(E1344<>\"\",ROUND((VLOOKUP(E1344,Param!$A$7:$E$13,4,0)*Fonct_Empl!F1344*((Fonct_Empl!G1344/12)))+(VLOOKUP(E1344,Param!$A$7:$E$13,5,0)*Fonct_Empl!H1344),2),\"\")","v":""}]
[null,null,null,null,null,null,null,null,{"$f":"IF(E1345<>\"\",ROUND((VLOOKUP(E1345,Param!$A$7:$E$13,4,0)*Fonct_Empl!F1345*((Fonct_Empl!G1345/12)))+(VLOOKUP(E1345,Param!$A$7:$E$13,5,0)*Fonct_Empl!H1345),2),\"\")","v":""}]
[null,null,null,null,null,null,null,null,{"$f":"IF(E1346<>\"\",ROUND((VLOOKUP(E1346,Param!$A$7:$E$13,4,0)*Fonct_Empl!F1346*((Fonct_Empl!G1346/12)))+(VLOOKUP(E1346,Param!$A$7:$E$13,5,0)*Fonct_Empl!H1346),2),\"\")","v":""}]
[null,null,null,null,null,null,null,null,{"$f":"IF(E1347<>\"\",ROUND((VLOOKUP(E1347,Param!$A$7:$E$13,4,0)*Fonct_Empl!F1347*((Fonct_Empl!G1347/12)))+(VLOOKUP(E1347,Param!$A$7:$E$13,5,0)*Fonct_Empl!H1347),2),\"\")","v":""}]
[null,null,null,null,null,null,null,null,{"$f":"IF(E1348<>\"\",ROUND((VLOOKUP(E1348,Param!$A$7:$E$13,4,0)*Fonct_Empl!F1348*((Fonct_Empl!G1348/12)))+(VLOOKUP(E1348,Param!$A$7:$E$13,5,0)*Fonct_Empl!H1348),2),\"\")","v":""}]
[null,null,null,null,null,null,null,null,{"$f":"IF(E1349<>\"\",ROUND((VLOOKUP(E1349,Param!$A$7:$E$13,4,0)*Fonct_Empl!F1349*((Fonct_Empl!G1349/12)))+(VLOOKUP(E1349,Param!$A$7:$E$13,5,0)*Fonct_Empl!H1349),2),\"\")","v":""}]
[null,null,null,null,null,null,null,null,{"$f":"IF(E1350<>\"\",ROUND((VLOOKUP(E1350,Param!$A$7:$E$13,4,0)*Fonct_Empl!F1350*((Fonct_Empl!G1350/12)))+(VLOOKUP(E1350,Param!$A$7:$E$13,5,0)*Fonct_Empl!H1350),2),\"\")","v":""}]
[null,null,null,null,null,null,null,null,{"$f":"IF(E1351<>\"\",ROUND((VLOOKUP(E1351,Param!$A$7:$E$13,4,0)*Fonct_Empl!F1351*((Fonct_Empl!G1351/12)))+(VLOOKUP(E1351,Param!$A$7:$E$13,5,0)*Fonct_Empl!H1351),2),\"\")","v":""}]
[null,null,null,null,null,null,null,null,{"$f":"IF(E1352<>\"\",ROUND((VLOOKUP(E1352,Param!$A$7:$E$13,4,0)*Fonct_Empl!F1352*((Fonct_Empl!G1352/12)))+(VLOOKUP(E1352,Param!$A$7:$E$13,5,0)*Fonct_Empl!H1352),2),\"\")","v":""}]
[null,null,null,null,null,null,null,null,{"$f":"IF(E1353<>\"\",ROUND((VLOOKUP(E1353,Param!$A$7:$E$13,4,0)*Fonct_Empl!F1353*((Fonct_Empl!G1353/12)))+(VLOOKUP(E1353,Param!$A$7:$E$13,5,0)*Fonct_Empl!H1353),2),\"\")","v":""}]
[null,null,null,null,null,null,null,null,{"$f":"IF(E1354<>\"\",ROUND((VLOOKUP(E1354,Param!$A$7:$E$13,4,0)*Fonct_Empl!F1354*((Fonct_Empl!G1354/12)))+(VLOOKUP(E1354,Param!$A$7:$E$13,5,0)*Fonct_Empl!H1354),2),\"\")","v":""}]
[null,null,null,null,null,null,null,null,{"$f":"IF(E1355<>\"\",ROUND((VLOOKUP(E1355,Param!$A$7:$E$13,4,0)*Fonct_Empl!F1355*((Fonct_Empl!G1355/12)))+(VLOOKUP(E1355,Param!$A$7:$E$13,5,0)*Fonct_Empl!H1355),2),\"\")","v":""}]
[null,null,null,null,null,null,null,null,{"$f":"IF(E1356<>\"\",ROUND((VLOOKUP(E1356,Param!$A$7:$E$13,4,0)*Fonct_Empl!F1356*((Fonct_Empl!G1356/12)))+(VLOOKUP(E1356,Param!$A$7:$E$13,5,0)*Fonct_Empl!H1356),2),\"\")","v":""}]
[null,null,null,null,null,null,null,null,{"$f":"IF(E1357<>\"\",ROUND((VLOOKUP(E1357,Param!$A$7:$E$13,4,0)*Fonct_Empl!F1357*((Fonct_Empl!G1357/12)))+(VLOOKUP(E1357,Param!$A$7:$E$13,5,0)*Fonct_Empl!H1357),2),\"\")","v":""}]
[null,null,null,null,null,null,null,null,{"$f":"IF(E1358<>\"\",ROUND((VLOOKUP(E1358,Param!$A$7:$E$13,4,0)*Fonct_Empl!F1358*((Fonct_Empl!G1358/12)))+(VLOOKUP(E1358,Param!$A$7:$E$13,5,0)*Fonct_Empl!H1358),2),\"\")","v":""}]
[null,null,null,null,null,null,null,null,{"$f":"IF(E1359<>\"\",ROUND((VLOOKUP(E1359,Param!$A$7:$E$13,4,0)*Fonct_Empl!F1359*((Fonct_Empl!G1359/12)))+(VLOOKUP(E1359,Param!$A$7:$E$13,5,0)*Fonct_Empl!H1359),2),\"\")","v":""}]
[null,null,null,null,null,null,null,null,{"$f":"IF(E1360<>\"\",ROUND((VLOOKUP(E1360,Param!$A$7:$E$13,4,0)*Fonct_Empl!F1360*((Fonct_Empl!G1360/12)))+(VLOOKUP(E1360,Param!$A$7:$E$13,5,0)*Fonct_Empl!H1360),2),\"\")","v":""}]
[null,null,null,null,null,null,null,null,{"$f":"IF(E1361<>\"\",ROUND((VLOOKUP(E1361,Param!$A$7:$E$13,4,0)*Fonct_Empl!F1361*((Fonct_Empl!G1361/12)))+(VLOOKUP(E1361,Param!$A$7:$E$13,5,0)*Fonct_Empl!H1361),2),\"\")","v":""}]
[null,null,null,null,null,null,null,null,{"$f":"IF(E1362<>\"\",ROUND((VLOOKUP(E1362,Param!$A$7:$E$13,4,0)*Fonct_Empl!F1362*((Fonct_Empl!G1362/12)))+(VLOOKUP(E1362,Param!$A$7:$E$13,5,0)*Fonct_Empl!H1362),2),\"\")","v":""}]
[null,null,null,null,null,null,null,null,{"$f":"IF(E1363<>\"\",ROUND((VLOOKUP(E1363,Param!$A$7:$E$13,4,0)*Fonct_Empl!F1363*((Fonct_Empl!G1363/12)))+(VLOOKUP(E1363,Param!$A$7:$E$13,5,0)*Fonct_Empl!H1363),2),\"\")","v":""}]
[null,null,null,null,null,null,null,null,{"$f":"IF(E1364<>\"\",ROUND((VLOOKUP(E1364,Param!$A$7:$E$13,4,0)*Fonct_Empl!F1364*((Fonct_Empl!G1364/12)))+(VLOOKUP(E1364,Param!$A$7:$E$13,5,0)*Fonct_Empl!H1364),2),\"\")","v":""}]
[null,null,null,null,null,null,null,null,{"$f":"IF(E1365<>\"\",ROUND((VLOOKUP(E1365,Param!$A$7:$E$13,4,0)*Fonct_Empl!F1365*((Fonct_Empl!G1365/12)))+(VLOOKUP(E1365,Param!$A$7:$E$13,5,0)*Fonct_Empl!H1365),2),\"\")","v":""}]
[null,null,null,null,null,null,null,null,{"$f":"IF(E1366<>\"\",ROUND((VLOOKUP(E1366,Param!$A$7:$E$13,4,0)*Fonct_Empl!F1366*((Fonct_Empl!G1366/12)))+(VLOOKUP(E1366,Param!$A$7:$E$13,5,0)*Fonct_Empl!H1366),2),\"\")","v":""}]
[null,null,null,null,null,null,null,null,{"$f":"IF(E1367<>\"\",ROUND((VLOOKUP(E1367,Param!$A$7:$E$13,4,0)*Fonct_Empl!F1367*((Fonct_Empl!G1367/12)))+(VLOOKUP(E1367,Param!$A$7:$E$13,5,0)*Fonct_Empl!H1367),2),\"\")","v":""}]
[null,null,null,null,null,null,null,null,{"$f":"IF(E1368<>\"\",ROUND((VLOOKUP(E1368,Param!$A$7:$E$13,4,0)*Fonct_Empl!F1368*((Fonct_Empl!G1368/12)))+(VLOOKUP(E1368,Param!$A$7:$E$13,5,0)*Fonct_Empl!H1368),2),\"\")","v":""}]
[null,null,null,null,null,null,null,null,{"$f":"IF(E1369<>\"\",ROUND((VLOOKUP(E1369,Param!$A$7:$E$13,4,0)*Fonct_Empl!F1369*((Fonct_Empl!G1369/12)))+(VLOOKUP(E1369,Param!$A$7:$E$13,5,0)*Fonct_Empl!H1369),2),\"\")","v":""}]
[null,null,null,null,null,null,null,null,{"$f":"IF(E1370<>\"\",ROUND((VLOOKUP(E1370,Param!$A$7:$E$13,4,0)*Fonct_Empl!F1370*((Fonct_Empl!G1370/12)))+(VLOOKUP(E1370,Param!$A$7:$E$13,5,0)*Fonct_Empl!H1370),2),\"\")","v":""}]
[null,null,null,null,null,null,null,null,{"$f":"IF(E1371<>\"\",ROUND((VLOOKUP(E1371,Param!$A$7:$E$13,4,0)*Fonct_Empl!F1371*((Fonct_Empl!G1371/12)))+(VLOOKUP(E1371,Param!$A$7:$E$13,5,0)*Fonct_Empl!H1371),2),\"\")","v":""}]
[null,null,null,null,null,null,null,null,{"$f":"IF(E1372<>\"\",ROUND((VLOOKUP(E1372,Param!$A$7:$E$13,4,0)*Fonct_Empl!F1372*((Fonct_Empl!G1372/12)))+(VLOOKUP(E1372,Param!$A$7:$E$13,5,0)*Fonct_Empl!H1372),2),\"\")","v":""}]
[null,null,null,null,null,null,null,null,{"$f":"IF(E1373<>\"\",ROUND((VLOOKUP(E1373,Param!$A$7:$E$13,4,0)*Fonct_Empl!F1373*((Fonct_Empl!G1373/12)))+(VLOOKUP(E1373,Param!$A$7:$E$13,5,0)*Fonct_Empl!H1373),2),\"\")","v":""}]
[null,null,null,null,null,null,null,null,{"$f":"IF(E1374<>\"\",ROUND((VLOOKUP(E1374,Param!$A$7:$E$13,4,0)*Fonct_Empl!F1374*((Fonct_Empl!G1374/12)))+(VLOOKUP(E1374,Param!$A$7:$E$13,5,0)*Fonct_Empl!H1374),2),\"\")","v":""}]
[null,null,null,null,null,null,null,null,{"$f":"IF(E1375<>\"\",ROUND((VLOOKUP(E1375,Param!$A$7:$E$13,4,0)*Fonct_Empl!F1375*((Fonct_Empl!G1375/12)))+(VLOOKUP(E1375,Param!$A$7:$E$13,5,0)*Fonct_Empl!H1375),2),\"\")","v":""}]
[null,null,null,null,null,null,null,null,{"$f":"IF(E1376<>\"\",ROUND((VLOOKUP(E1376,Param!$A$7:$E$13,4,0)*Fonct_Empl!F1376*((Fonct_Empl!G1376/12)))+(VLOOKUP(E1376,Param!$A$7:$E$13,5,0)*Fonct_Empl!H1376),2),\"\")","v":""}]
[null,null,null,null,null,null,null,null,{"$f":"IF(E1377<>\"\",ROUND((VLOOKUP(E1377,Param!$A$7:$E$13,4,0)*Fonct_Empl!F1377*((Fonct_Empl!G1377/12)))+(VLOOKUP(E1377,Param!$A$7:$E$13,5,0)*Fonct_Empl!H1377),2),\"\")","v":""}]
[null,null,null,null,null,null,null,null,{"$f":"IF(E1378<>\"\",ROUND((VLOOKUP(E1378,Param!$A$7:$E$13,4,0)*Fonct_Empl!F1378*((Fonct_Empl!G1378/12)))+(VLOOKUP(E1378,Param!$A$7:$E$13,5,0)*Fonct_Empl!H1378),2),\"\")","v":""}]
[null,null,null,null,null,null,null,null,{"$f":"IF(E1379<>\"\",ROUND((VLOOKUP(E1379,Param!$A$7:$E$13,4,0)*Fonct_Empl!F1379*((Fonct_Empl!G1379/12)))+(VLOOKUP(E1379,Param!$A$7:$E$13,5,0)*Fonct_Empl!H1379),2),\"\")","v":""}]
[null,null,null,null,null,null,null,null,{"$f":"IF(E1380<>\"\",ROUND((VLOOKUP(E1380,Param!$A$7:$E$13,4,0)*Fonct_Empl!F1380*((Fonct_Empl!G1380/12)))+(VLOOKUP(E1380,Param!$A$7:$E$13,5,0)*Fonct_Empl!H1380),2),\"\")","v":""}]
[null,null,null,null,null,null,null,null,{"$f":"IF(E1381<>\"\",ROUND((VLOOKUP(E1381,Param!$A$7:$E$13,4,0)*Fonct_Empl!F1381*((Fonct_Empl!G1381/12)))+(VLOOKUP(E1381,Param!$A$7:$E$13,5,0)*Fonct_Empl!H1381),2),\"\")","v":""}]
[null,null,null,null,null,null,null,null,{"$f":"IF(E1382<>\"\",ROUND((VLOOKUP(E1382,Param!$A$7:$E$13,4,0)*Fonct_Empl!F1382*((Fonct_Empl!G1382/12)))+(VLOOKUP(E1382,Param!$A$7:$E$13,5,0)*Fonct_Empl!H1382),2),\"\")","v":""}]
[null,null,null,null,null,null,null,null,{"$f":"IF(E1383<>\"\",ROUND((VLOOKUP(E1383,Param!$A$7:$E$13,4,0)*Fonct_Empl!F1383*((Fonct_Empl!G1383/12)))+(VLOOKUP(E1383,Param!$A$7:$E$13,5,0)*Fonct_Empl!H1383),2),\"\")","v":""}]
[null,null,null,null,null,null,null,null,{"$f":"IF(E1384<>\"\",ROUND((VLOOKUP(E1384,Param!$A$7:$E$13,4,0)*Fonct_Empl!F1384*((Fonct_Empl!G1384/12)))+(VLOOKUP(E1384,Param!$A$7:$E$13,5,0)*Fonct_Empl!H1384),2),\"\")","v":""}]
[null,null,null,null,null,null,null,null,{"$f":"IF(E1385<>\"\",ROUND((VLOOKUP(E1385,Param!$A$7:$E$13,4,0)*Fonct_Empl!F1385*((Fonct_Empl!G1385/12)))+(VLOOKUP(E1385,Param!$A$7:$E$13,5,0)*Fonct_Empl!H1385),2),\"\")","v":""}]
[null,null,null,null,null,null,null,null,{"$f":"IF(E1386<>\"\",ROUND((VLOOKUP(E1386,Param!$A$7:$E$13,4,0)*Fonct_Empl!F1386*((Fonct_Empl!G1386/12)))+(VLOOKUP(E1386,Param!$A$7:$E$13,5,0)*Fonct_Empl!H1386),2),\"\")","v":""}]
[null,null,null,null,null,null,null,null,{"$f":"IF(E1387<>\"\",ROUND((VLOOKUP(E1387,Param!$A$7:$E$13,4,0)*Fonct_Empl!F1387*((Fonct_Empl!G1387/12)))+(VLOOKUP(E1387,Param!$A$7:$E$13,5,0)*Fonct_Empl!H1387),2),\"\")","v":""}]
[null,null,null,null,null,null,null,null,{"$f":"IF(E1388<>\"\",ROUND((VLOOKUP(E1388,Param!$A$7:$E$13,4,0)*Fonct_Empl!F1388*((Fonct_Empl!G1388/12)))+(VLOOKUP(E1388,Param!$A$7:$E$13,5,0)*Fonct_Empl!H1388),2),\"\")","v":""}]
[null,null,null,null,null,null,null,null,{"$f":"IF(E1389<>\"\",ROUND((VLOOKUP(E1389,Param!$A$7:$E$13,4,0)*Fonct_Empl!F1389*((Fonct_Empl!G1389/12)))+(VLOOKUP(E1389,Param!$A$7:$E$13,5,0)*Fonct_Empl!H1389),2),\"\")","v":""}]
[null,null,null,null,null,null,null,null,{"$f":"IF(E1390<>\"\",ROUND((VLOOKUP(E1390,Param!$A$7:$E$13,4,0)*Fonct_Empl!F1390*((Fonct_Empl!G1390/12)))+(VLOOKUP(E1390,Param!$A$7:$E$13,5,0)*Fonct_Empl!H1390),2),\"\")","v":""}]
[null,null,null,null,null,null,null,null,{"$f":"IF(E1391<>\"\",ROUND((VLOOKUP(E1391,Param!$A$7:$E$13,4,0)*Fonct_Empl!F1391*((Fonct_Empl!G1391/12)))+(VLOOKUP(E1391,Param!$A$7:$E$13,5,0)*Fonct_Empl!H1391),2),\"\")","v":""}]
[null,null,null,null,null,null,null,null,{"$f":"IF(E1392<>\"\",ROUND((VLOOKUP(E1392,Param!$A$7:$E$13,4,0)*Fonct_Empl!F1392*((Fonct_Empl!G1392/12)))+(VLOOKUP(E1392,Param!$A$7:$E$13,5,0)*Fonct_Empl!H1392),2),\"\")","v":""}]
[null,null,null,null,null,null,null,null,{"$f":"IF(E1393<>\"\",ROUND((VLOOKUP(E1393,Param!$A$7:$E$13,4,0)*Fonct_Empl!F1393*((Fonct_Empl!G1393/12)))+(VLOOKUP(E1393,Param!$A$7:$E$13,5,0)*Fonct_Empl!H1393),2),\"\")","v":""}]
[null,null,null,null,null,null,null,null,{"$f":"IF(E1394<>\"\",ROUND((VLOOKUP(E1394,Param!$A$7:$E$13,4,0)*Fonct_Empl!F1394*((Fonct_Empl!G1394/12)))+(VLOOKUP(E1394,Param!$A$7:$E$13,5,0)*Fonct_Empl!H1394),2),\"\")","v":""}]
[null,null,null,null,null,null,null,null,{"$f":"IF(E1395<>\"\",ROUND((VLOOKUP(E1395,Param!$A$7:$E$13,4,0)*Fonct_Empl!F1395*((Fonct_Empl!G1395/12)))+(VLOOKUP(E1395,Param!$A$7:$E$13,5,0)*Fonct_Empl!H1395),2),\"\")","v":""}]
[null,null,null,null,null,null,null,null,{"$f":"IF(E1396<>\"\",ROUND((VLOOKUP(E1396,Param!$A$7:$E$13,4,0)*Fonct_Empl!F1396*((Fonct_Empl!G1396/12)))+(VLOOKUP(E1396,Param!$A$7:$E$13,5,0)*Fonct_Empl!H1396),2),\"\")","v":""}]
[null,null,null,null,null,null,null,null,{"$f":"IF(E1397<>\"\",ROUND((VLOOKUP(E1397,Param!$A$7:$E$13,4,0)*Fonct_Empl!F1397*((Fonct_Empl!G1397/12)))+(VLOOKUP(E1397,Param!$A$7:$E$13,5,0)*Fonct_Empl!H1397),2),\"\")","v":""}]
[null,null,null,null,null,null,null,null,{"$f":"IF(E1398<>\"\",ROUND((VLOOKUP(E1398,Param!$A$7:$E$13,4,0)*Fonct_Empl!F1398*((Fonct_Empl!G1398/12)))+(VLOOKUP(E1398,Param!$A$7:$E$13,5,0)*Fonct_Empl!H1398),2),\"\")","v":""}]
[null,null,null,null,null,null,null,null,{"$f":"IF(E1399<>\"\",ROUND((VLOOKUP(E1399,Param!$A$7:$E$13,4,0)*Fonct_Empl!F1399*((Fonct_Empl!G1399/12)))+(VLOOKUP(E1399,Param!$A$7:$E$13,5,0)*Fonct_Empl!H1399),2),\"\")","v":""}]
[null,null,null,null,null,null,null,null,{"$f":"IF(E1400<>\"\",ROUND((VLOOKUP(E1400,Param!$A$7:$E$13,4,0)*Fonct_Empl!F1400*((Fonct_Empl!G1400/12)))+(VLOOKUP(E1400,Param!$A$7:$E$13,5,0)*Fonct_Empl!H1400),2),\"\")","v":""}]
[null,null,null,null,null,null,null,null,{"$f":"IF(E1401<>\"\",ROUND((VLOOKUP(E1401,Param!$A$7:$E$13,4,0)*Fonct_Empl!F1401*((Fonct_Empl!G1401/12)))+(VLOOKUP(E1401,Param!$A$7:$E$13,5,0)*Fonct_Empl!H1401),2),\"\")","v":""}]
[null,null,null,null,null,null,null,null,{"$f":"IF(E1402<>\"\",ROUND((VLOOKUP(E1402,Param!$A$7:$E$13,4,0)*Fonct_Empl!F1402*((Fonct_Empl!G1402/12)))+(VLOOKUP(E1402,Param!$A$7:$E$13,5,0)*Fonct_Empl!H1402),2),\"\")","v":""}]
[null,null,null,null,null,null,null,null,{"$f":"IF(E1403<>\"\",ROUND((VLOOKUP(E1403,Param!$A$7:$E$13,4,0)*Fonct_Empl!F1403*((Fonct_Empl!G1403/12)))+(VLOOKUP(E1403,Param!$A$7:$E$13,5,0)*Fonct_Empl!H1403),2),\"\")","v":""}]
[null,null,null,null,null,null,null,null,{"$f":"IF(E1404<>\"\",ROUND((VLOOKUP(E1404,Param!$A$7:$E$13,4,0)*Fonct_Empl!F1404*((Fonct_Empl!G1404/12)))+(VLOOKUP(E1404,Param!$A$7:$E$13,5,0)*Fonct_Empl!H1404),2),\"\")","v":""}]
[null,null,null,null,null,null,null,null,{"$f":"IF(E1405<>\"\",ROUND((VLOOKUP(E1405,Param!$A$7:$E$13,4,0)*Fonct_Empl!F1405*((Fonct_Empl!G1405/12)))+(VLOOKUP(E1405,Param!$A$7:$E$13,5,0)*Fonct_Empl!H1405),2),\"\")","v":""}]
[null,null,null,null,null,null,null,null,{"$f":"IF(E1406<>\"\",ROUND((VLOOKUP(E1406,Param!$A$7:$E$13,4,0)*Fonct_Empl!F1406*((Fonct_Empl!G1406/12)))+(VLOOKUP(E1406,Param!$A$7:$E$13,5,0)*Fonct_Empl!H1406),2),\"\")","v":""}]
[null,null,null,null,null,null,null,null,{"$f":"IF(E1407<>\"\",ROUND((VLOOKUP(E1407,Param!$A$7:$E$13,4,0)*Fonct_Empl!F1407*((Fonct_Empl!G1407/12)))+(VLOOKUP(E1407,Param!$A$7:$E$13,5,0)*Fonct_Empl!H1407),2),\"\")","v":""}]
[null,null,null,null,null,null,null,null,{"$f":"IF(E1408<>\"\",ROUND((VLOOKUP(E1408,Param!$A$7:$E$13,4,0)*Fonct_Empl!F1408*((Fonct_Empl!G1408/12)))+(VLOOKUP(E1408,Param!$A$7:$E$13,5,0)*Fonct_Empl!H1408),2),\"\")","v":""}]
[null,null,null,null,null,null,null,null,{"$f":"IF(E1409<>\"\",ROUND((VLOOKUP(E1409,Param!$A$7:$E$13,4,0)*Fonct_Empl!F1409*((Fonct_Empl!G1409/12)))+(VLOOKUP(E1409,Param!$A$7:$E$13,5,0)*Fonct_Empl!H1409),2),\"\")","v":""}]
[null,null,null,null,null,null,null,null,{"$f":"IF(E1410<>\"\",ROUND((VLOOKUP(E1410,Param!$A$7:$E$13,4,0)*Fonct_Empl!F1410*((Fonct_Empl!G1410/12)))+(VLOOKUP(E1410,Param!$A$7:$E$13,5,0)*Fonct_Empl!H1410),2),\"\")","v":""}]
[null,null,null,null,null,null,null,null,{"$f":"IF(E1411<>\"\",ROUND((VLOOKUP(E1411,Param!$A$7:$E$13,4,0)*Fonct_Empl!F1411*((Fonct_Empl!G1411/12)))+(VLOOKUP(E1411,Param!$A$7:$E$13,5,0)*Fonct_Empl!H1411),2),\"\")","v":""}]
[null,null,null,null,null,null,null,null,{"$f":"IF(E1412<>\"\",ROUND((VLOOKUP(E1412,Param!$A$7:$E$13,4,0)*Fonct_Empl!F1412*((Fonct_Empl!G1412/12)))+(VLOOKUP(E1412,Param!$A$7:$E$13,5,0)*Fonct_Empl!H1412),2),\"\")","v":""}]
[null,null,null,null,null,null,null,null,{"$f":"IF(E1413<>\"\",ROUND((VLOOKUP(E1413,Param!$A$7:$E$13,4,0)*Fonct_Empl!F1413*((Fonct_Empl!G1413/12)))+(VLOOKUP(E1413,Param!$A$7:$E$13,5,0)*Fonct_Empl!H1413),2),\"\")","v":""}]
[null,null,null,null,null,null,null,null,{"$f":"IF(E1414<>\"\",ROUND((VLOOKUP(E1414,Param!$A$7:$E$13,4,0)*Fonct_Empl!F1414*((Fonct_Empl!G1414/12)))+(VLOOKUP(E1414,Param!$A$7:$E$13,5,0)*Fonct_Empl!H1414),2),\"\")","v":""}]
[null,null,null,null,null,null,null,null,{"$f":"IF(E1415<>\"\",ROUND((VLOOKUP(E1415,Param!$A$7:$E$13,4,0)*Fonct_Empl!F1415*((Fonct_Empl!G1415/12)))+(VLOOKUP(E1415,Param!$A$7:$E$13,5,0)*Fonct_Empl!H1415),2),\"\")","v":""}]
[null,null,null,null,null,null,null,null,{"$f":"IF(E1416<>\"\",ROUND((VLOOKUP(E1416,Param!$A$7:$E$13,4,0)*Fonct_Empl!F1416*((Fonct_Empl!G1416/12)))+(VLOOKUP(E1416,Param!$A$7:$E$13,5,0)*Fonct_Empl!H1416),2),\"\")","v":""}]
[null,null,null,null,null,null,null,null,{"$f":"IF(E1417<>\"\",ROUND((VLOOKUP(E1417,Param!$A$7:$E$13,4,0)*Fonct_Empl!F1417*((Fonct_Empl!G1417/12)))+(VLOOKUP(E1417,Param!$A$7:$E$13,5,0)*Fonct_Empl!H1417),2),\"\")","v":""}]
[null,null,null,null,null,null,null,null,{"$f":"IF(E1418<>\"\",ROUND((VLOOKUP(E1418,Param!$A$7:$E$13,4,0)*Fonct_Empl!F1418*((Fonct_Empl!G1418/12)))+(VLOOKUP(E1418,Param!$A$7:$E$13,5,0)*Fonct_Empl!H1418),2),\"\")","v":""}]
[null,null,null,null,null,null,null,null,{"$f":"IF(E1419<>\"\",ROUND((VLOOKUP(E1419,Param!$A$7:$E$13,4,0)*Fonct_Empl!F1419*((Fonct_Empl!G1419/12)))+(VLOOKUP(E1419,Param!$A$7:$E$13,5,0)*Fonct_Empl!H1419),2),\"\")","v":""}]
[null,null,null,null,null,null,null,null,{"$f":"IF(E1420<>\"\",ROUND((VLOOKUP(E1420,Param!$A$7:$E$13,4,0)*Fonct_Empl!F1420*((Fonct_Empl!G1420/12)))+(VLOOKUP(E1420,Param!$A$7:$E$13,5,0)*Fonct_Empl!H1420),2),\"\")","v":""}]
[null,null,null,null,null,null,null,null,{"$f":"IF(E1421<>\"\",ROUND((VLOOKUP(E1421,Param!$A$7:$E$13,4,0)*Fonct_Empl!F1421*((Fonct_Empl!G1421/12)))+(VLOOKUP(E1421,Param!$A$7:$E$13,5,0)*Fonct_Empl!H1421),2),\"\")","v":""}]
[null,null,null,null,null,null,null,null,{"$f":"IF(E1422<>\"\",ROUND((VLOOKUP(E1422,Param!$A$7:$E$13,4,0)*Fonct_Empl!F1422*((Fonct_Empl!G1422/12)))+(VLOOKUP(E1422,Param!$A$7:$E$13,5,0)*Fonct_Empl!H1422),2),\"\")","v":""}]
[null,null,null,null,null,null,null,null,{"$f":"IF(E1423<>\"\",ROUND((VLOOKUP(E1423,Param!$A$7:$E$13,4,0)*Fonct_Empl!F1423*((Fonct_Empl!G1423/12)))+(VLOOKUP(E1423,Param!$A$7:$E$13,5,0)*Fonct_Empl!H1423),2),\"\")","v":""}]
[null,null,null,null,null,null,null,null,{"$f":"IF(E1424<>\"\",ROUND((VLOOKUP(E1424,Param!$A$7:$E$13,4,0)*Fonct_Empl!F1424*((Fonct_Empl!G1424/12)))+(VLOOKUP(E1424,Param!$A$7:$E$13,5,0)*Fonct_Empl!H1424),2),\"\")","v":""}]
[null,null,null,null,null,null,null,null,{"$f":"IF(E1425<>\"\",ROUND((VLOOKUP(E1425,Param!$A$7:$E$13,4,0)*Fonct_Empl!F1425*((Fonct_Empl!G1425/12)))+(VLOOKUP(E1425,Param!$A$7:$E$13,5,0)*Fonct_Empl!H1425),2),\"\")","v":""}]
[null,null,null,null,null,null,null,null,{"$f":"IF(E1426<>\"\",ROUND((VLOOKUP(E1426,Param!$A$7:$E$13,4,0)*Fonct_Empl!F1426*((Fonct_Empl!G1426/12)))+(VLOOKUP(E1426,Param!$A$7:$E$13,5,0)*Fonct_Empl!H1426),2),\"\")","v":""}]
[null,null,null,null,null,null,null,null,{"$f":"IF(E1427<>\"\",ROUND((VLOOKUP(E1427,Param!$A$7:$E$13,4,0)*Fonct_Empl!F1427*((Fonct_Empl!G1427/12)))+(VLOOKUP(E1427,Param!$A$7:$E$13,5,0)*Fonct_Empl!H1427),2),\"\")","v":""}]
[null,null,null,null,null,null,null,null,{"$f":"IF(E1428<>\"\",ROUND((VLOOKUP(E1428,Param!$A$7:$E$13,4,0)*Fonct_Empl!F1428*((Fonct_Empl!G1428/12)))+(VLOOKUP(E1428,Param!$A$7:$E$13,5,0)*Fonct_Empl!H1428),2),\"\")","v":""}]
[null,null,null,null,null,null,null,null,{"$f":"IF(E1429<>\"\",ROUND((VLOOKUP(E1429,Param!$A$7:$E$13,4,0)*Fonct_Empl!F1429*((Fonct_Empl!G1429/12)))+(VLOOKUP(E1429,Param!$A$7:$E$13,5,0)*Fonct_Empl!H1429),2),\"\")","v":""}]
[null,null,null,null,null,null,null,null,{"$f":"IF(E1430<>\"\",ROUND((VLOOKUP(E1430,Param!$A$7:$E$13,4,0)*Fonct_Empl!F1430*((Fonct_Empl!G1430/12)))+(VLOOKUP(E1430,Param!$A$7:$E$13,5,0)*Fonct_Empl!H1430),2),\"\")","v":""}]
[null,null,null,null,null,null,null,null,{"$f":"IF(E1431<>\"\",ROUND((VLOOKUP(E1431,Param!$A$7:$E$13,4,0)*Fonct_Empl!F1431*((Fonct_Empl!G1431/12)))+(VLOOKUP(E1431,Param!$A$7:$E$13,5,0)*Fonct_Empl!H1431),2),\"\")","v":""}]
[null,null,null,null,null,null,null,null,{"$f":"IF(E1432<>\"\",ROUND((VLOOKUP(E1432,Param!$A$7:$E$13,4,0)*Fonct_Empl!F1432*((Fonct_Empl!G1432/12)))+(VLOOKUP(E1432,Param!$A$7:$E$13,5,0)*Fonct_Empl!H1432),2),\"\")","v":""}]
[null,null,null,null,null,null,null,null,{"$f":"IF(E1433<>\"\",ROUND((VLOOKUP(E1433,Param!$A$7:$E$13,4,0)*Fonct_Empl!F1433*((Fonct_Empl!G1433/12)))+(VLOOKUP(E1433,Param!$A$7:$E$13,5,0)*Fonct_Empl!H1433),2),\"\")","v":""}]
[null,null,null,null,null,null,null,null,{"$f":"IF(E1434<>\"\",ROUND((VLOOKUP(E1434,Param!$A$7:$E$13,4,0)*Fonct_Empl!F1434*((Fonct_Empl!G1434/12)))+(VLOOKUP(E1434,Param!$A$7:$E$13,5,0)*Fonct_Empl!H1434),2),\"\")","v":""}]
[null,null,null,null,null,null,null,null,{"$f":"IF(E1435<>\"\",ROUND((VLOOKUP(E1435,Param!$A$7:$E$13,4,0)*Fonct_Empl!F1435*((Fonct_Empl!G1435/12)))+(VLOOKUP(E1435,Param!$A$7:$E$13,5,0)*Fonct_Empl!H1435),2),\"\")","v":""}]
[null,null,null,null,null,null,null,null,{"$f":"IF(E1436<>\"\",ROUND((VLOOKUP(E1436,Param!$A$7:$E$13,4,0)*Fonct_Empl!F1436*((Fonct_Empl!G1436/12)))+(VLOOKUP(E1436,Param!$A$7:$E$13,5,0)*Fonct_Empl!H1436),2),\"\")","v":""}]
[null,null,null,null,null,null,null,null,{"$f":"IF(E1437<>\"\",ROUND((VLOOKUP(E1437,Param!$A$7:$E$13,4,0)*Fonct_Empl!F1437*((Fonct_Empl!G1437/12)))+(VLOOKUP(E1437,Param!$A$7:$E$13,5,0)*Fonct_Empl!H1437),2),\"\")","v":""}]
[null,null,null,null,null,null,null,null,{"$f":"IF(E1438<>\"\",ROUND((VLOOKUP(E1438,Param!$A$7:$E$13,4,0)*Fonct_Empl!F1438*((Fonct_Empl!G1438/12)))+(VLOOKUP(E1438,Param!$A$7:$E$13,5,0)*Fonct_Empl!H1438),2),\"\")","v":""}]
[null,null,null,null,null,null,null,null,{"$f":"IF(E1439<>\"\",ROUND((VLOOKUP(E1439,Param!$A$7:$E$13,4,0)*Fonct_Empl!F1439*((Fonct_Empl!G1439/12)))+(VLOOKUP(E1439,Param!$A$7:$E$13,5,0)*Fonct_Empl!H1439),2),\"\")","v":""}]
[null,null,null,null,null,null,null,null,{"$f":"IF(E1440<>\"\",ROUND((VLOOKUP(E1440,Param!$A$7:$E$13,4,0)*Fonct_Empl!F1440*((Fonct_Empl!G1440/12)))+(VLOOKUP(E1440,Param!$A$7:$E$13,5,0)*Fonct_Empl!H1440),2),\"\")","v":""}]
[null,null,null,null,null,null,null,null,{"$f":"IF(E1441<>\"\",ROUND((VLOOKUP(E1441,Param!$A$7:$E$13,4,0)*Fonct_Empl!F1441*((Fonct_Empl!G1441/12)))+(VLOOKUP(E1441,Param!$A$7:$E$13,5,0)*Fonct_Empl!H1441),2),\"\")","v":""}]
[null,null,null,null,null,null,null,null,{"$f":"IF(E1442<>\"\",ROUND((VLOOKUP(E1442,Param!$A$7:$E$13,4,0)*Fonct_Empl!F1442*((Fonct_Empl!G1442/12)))+(VLOOKUP(E1442,Param!$A$7:$E$13,5,0)*Fonct_Empl!H1442),2),\"\")","v":""}]
[null,null,null,null,null,null,null,null,{"$f":"IF(E1443<>\"\",ROUND((VLOOKUP(E1443,Param!$A$7:$E$13,4,0)*Fonct_Empl!F1443*((Fonct_Empl!G1443/12)))+(VLOOKUP(E1443,Param!$A$7:$E$13,5,0)*Fonct_Empl!H1443),2),\"\")","v":""}]
[null,null,null,null,null,null,null,null,{"$f":"IF(E1444<>\"\",ROUND((VLOOKUP(E1444,Param!$A$7:$E$13,4,0)*Fonct_Empl!F1444*((Fonct_Empl!G1444/12)))+(VLOOKUP(E1444,Param!$A$7:$E$13,5,0)*Fonct_Empl!H1444),2),\"\")","v":""}]
[null,null,null,null,null,null,null,null,{"$f":"IF(E1445<>\"\",ROUND((VLOOKUP(E1445,Param!$A$7:$E$13,4,0)*Fonct_Empl!F1445*((Fonct_Empl!G1445/12)))+(VLOOKUP(E1445,Param!$A$7:$E$13,5,0)*Fonct_Empl!H1445),2),\"\")","v":""}]
[null,null,null,null,null,null,null,null,{"$f":"IF(E1446<>\"\",ROUND((VLOOKUP(E1446,Param!$A$7:$E$13,4,0)*Fonct_Empl!F1446*((Fonct_Empl!G1446/12)))+(VLOOKUP(E1446,Param!$A$7:$E$13,5,0)*Fonct_Empl!H1446),2),\"\")","v":""}]
[null,null,null,null,null,null,null,null,{"$f":"IF(E1447<>\"\",ROUND((VLOOKUP(E1447,Param!$A$7:$E$13,4,0)*Fonct_Empl!F1447*((Fonct_Empl!G1447/12)))+(VLOOKUP(E1447,Param!$A$7:$E$13,5,0)*Fonct_Empl!H1447),2),\"\")","v":""}]
[null,null,null,null,null,null,null,null,{"$f":"IF(E1448<>\"\",ROUND((VLOOKUP(E1448,Param!$A$7:$E$13,4,0)*Fonct_Empl!F1448*((Fonct_Empl!G1448/12)))+(VLOOKUP(E1448,Param!$A$7:$E$13,5,0)*Fonct_Empl!H1448),2),\"\")","v":""}]
[null,null,null,null,null,null,null,null,{"$f":"IF(E1449<>\"\",ROUND((VLOOKUP(E1449,Param!$A$7:$E$13,4,0)*Fonct_Empl!F1449*((Fonct_Empl!G1449/12)))+(VLOOKUP(E1449,Param!$A$7:$E$13,5,0)*Fonct_Empl!H1449),2),\"\")","v":""}]
[null,null,null,null,null,null,null,null,{"$f":"IF(E1450<>\"\",ROUND((VLOOKUP(E1450,Param!$A$7:$E$13,4,0)*Fonct_Empl!F1450*((Fonct_Empl!G1450/12)))+(VLOOKUP(E1450,Param!$A$7:$E$13,5,0)*Fonct_Empl!H1450),2),\"\")","v":""}]
[null,null,null,null,null,null,null,null,{"$f":"IF(E1451<>\"\",ROUND((VLOOKUP(E1451,Param!$A$7:$E$13,4,0)*Fonct_Empl!F1451*((Fonct_Empl!G1451/12)))+(VLOOKUP(E1451,Param!$A$7:$E$13,5,0)*Fonct_Empl!H1451),2),\"\")","v":""}]
[null,null,null,null,null,null,null,null,{"$f":"IF(E1452<>\"\",ROUND((VLOOKUP(E1452,Param!$A$7:$E$13,4,0)*Fonct_Empl!F1452*((Fonct_Empl!G1452/12)))+(VLOOKUP(E1452,Param!$A$7:$E$13,5,0)*Fonct_Empl!H1452),2),\"\")","v":""}]
[null,null,null,null,null,null,null,null,{"$f":"IF(E1453<>\"\",ROUND((VLOOKUP(E1453,Param!$A$7:$E$13,4,0)*Fonct_Empl!F1453*((Fonct_Empl!G1453/12)))+(VLOOKUP(E1453,Param!$A$7:$E$13,5,0)*Fonct_Empl!H1453),2),\"\")","v":""}]
[null,null,null,null,null,null,null,null,{"$f":"IF(E1454<>\"\",ROUND((VLOOKUP(E1454,Param!$A$7:$E$13,4,0)*Fonct_Empl!F1454*((Fonct_Empl!G1454/12)))+(VLOOKUP(E1454,Param!$A$7:$E$13,5,0)*Fonct_Empl!H1454),2),\"\")","v":""}]
[null,null,null,null,null,null,null,null,{"$f":"IF(E1455<>\"\",ROUND((VLOOKUP(E1455,Param!$A$7:$E$13,4,0)*Fonct_Empl!F1455*((Fonct_Empl!G1455/12)))+(VLOOKUP(E1455,Param!$A$7:$E$13,5,0)*Fonct_Empl!H1455),2),\"\")","v":""}]
[null,null,null,null,null,null,null,null,{"$f":"IF(E1456<>\"\",ROUND((VLOOKUP(E1456,Param!$A$7:$E$13,4,0)*Fonct_Empl!F1456*((Fonct_Empl!G1456/12)))+(VLOOKUP(E1456,Param!$A$7:$E$13,5,0)*Fonct_Empl!H1456),2),\"\")","v":""}]
[null,null,null,null,null,null,null,null,{"$f":"IF(E1457<>\"\",ROUND((VLOOKUP(E1457,Param!$A$7:$E$13,4,0)*Fonct_Empl!F1457*((Fonct_Empl!G1457/12)))+(VLOOKUP(E1457,Param!$A$7:$E$13,5,0)*Fonct_Empl!H1457),2),\"\")","v":""}]
[null,null,null,null,null,null,null,null,{"$f":"IF(E1458<>\"\",ROUND((VLOOKUP(E1458,Param!$A$7:$E$13,4,0)*Fonct_Empl!F1458*((Fonct_Empl!G1458/12)))+(VLOOKUP(E1458,Param!$A$7:$E$13,5,0)*Fonct_Empl!H1458),2),\"\")","v":""}]
[null,null,null,null,null,null,null,null,{"$f":"IF(E1459<>\"\",ROUND((VLOOKUP(E1459,Param!$A$7:$E$13,4,0)*Fonct_Empl!F1459*((Fonct_Empl!G1459/12)))+(VLOOKUP(E1459,Param!$A$7:$E$13,5,0)*Fonct_Empl!H1459),2),\"\")","v":""}]
[null,null,null,null,null,null,null,null,{"$f":"IF(E1460<>\"\",ROUND((VLOOKUP(E1460,Param!$A$7:$E$13,4,0)*Fonct_Empl!F1460*((Fonct_Empl!G1460/12)))+(VLOOKUP(E1460,Param!$A$7:$E$13,5,0)*Fonct_Empl!H1460),2),\"\")","v":""}]
[null,null,null,null,null,null,null,null,{"$f":"IF(E1461<>\"\",ROUND((VLOOKUP(E1461,Param!$A$7:$E$13,4,0)*Fonct_Empl!F1461*((Fonct_Empl!G1461/12)))+(VLOOKUP(E1461,Param!$A$7:$E$13,5,0)*Fonct_Empl!H1461),2),\"\")","v":""}]
[null,null,null,null,null,null,null,null,{"$f":"IF(E1462<>\"\",ROUND((VLOOKUP(E1462,Param!$A$7:$E$13,4,0)*Fonct_Empl!F1462*((Fonct_Empl!G1462/12)))+(VLOOKUP(E1462,Param!$A$7:$E$13,5,0)*Fonct_Empl!H1462),2),\"\")","v":""}]
[null,null,null,null,null,null,null,null,{"$f":"IF(E1463<>\"\",ROUND((VLOOKUP(E1463,Param!$A$7:$E$13,4,0)*Fonct_Empl!F1463*((Fonct_Empl!G1463/12)))+(VLOOKUP(E1463,Param!$A$7:$E$13,5,0)*Fonct_Empl!H1463),2),\"\")","v":""}]
[null,null,null,null,null,null,null,null,{"$f":"IF(E1464<>\"\",ROUND((VLOOKUP(E1464,Param!$A$7:$E$13,4,0)*Fonct_Empl!F1464*((Fonct_Empl!G1464/12)))+(VLOOKUP(E1464,Param!$A$7:$E$13,5,0)*Fonct_Empl!H1464),2),\"\")","v":""}]
[null,null,null,null,null,null,null,null,{"$f":"IF(E1465<>\"\",ROUND((VLOOKUP(E1465,Param!$A$7:$E$13,4,0)*Fonct_Empl!F1465*((Fonct_Empl!G1465/12)))+(VLOOKUP(E1465,Param!$A$7:$E$13,5,0)*Fonct_Empl!H1465),2),\"\")","v":""}]
[null,null,null,null,null,null,null,null,{"$f":"IF(E1466<>\"\",ROUND((VLOOKUP(E1466,Param!$A$7:$E$13,4,0)*Fonct_Empl!F1466*((Fonct_Empl!G1466/12)))+(VLOOKUP(E1466,Param!$A$7:$E$13,5,0)*Fonct_Empl!H1466),2),\"\")","v":""}]
[null,null,null,null,null,null,null,null,{"$f":"IF(E1467<>\"\",ROUND((VLOOKUP(E1467,Param!$A$7:$E$13,4,0)*Fonct_Empl!F1467*((Fonct_Empl!G1467/12)))+(VLOOKUP(E1467,Param!$A$7:$E$13,5,0)*Fonct_Empl!H1467),2),\"\")","v":""}]
[null,null,null,null,null,null,null,null,{"$f":"IF(E1468<>\"\",ROUND((VLOOKUP(E1468,Param!$A$7:$E$13,4,0)*Fonct_Empl!F1468*((Fonct_Empl!G1468/12)))+(VLOOKUP(E1468,Param!$A$7:$E$13,5,0)*Fonct_Empl!H1468),2),\"\")","v":""}]
[null,null,null,null,null,null,null,null,{"$f":"IF(E1469<>\"\",ROUND((VLOOKUP(E1469,Param!$A$7:$E$13,4,0)*Fonct_Empl!F1469*((Fonct_Empl!G1469/12)))+(VLOOKUP(E1469,Param!$A$7:$E$13,5,0)*Fonct_Empl!H1469),2),\"\")","v":""}]
[null,null,null,null,null,null,null,null,{"$f":"IF(E1470<>\"\",ROUND((VLOOKUP(E1470,Param!$A$7:$E$13,4,0)*Fonct_Empl!F1470*((Fonct_Empl!G1470/12)))+(VLOOKUP(E1470,Param!$A$7:$E$13,5,0)*Fonct_Empl!H1470),2),\"\")","v":""}]
[null,null,null,null,null,null,null,null,{"$f":"IF(E1471<>\"\",ROUND((VLOOKUP(E1471,Param!$A$7:$E$13,4,0)*Fonct_Empl!F1471*((Fonct_Empl!G1471/12)))+(VLOOKUP(E1471,Param!$A$7:$E$13,5,0)*Fonct_Empl!H1471),2),\"\")","v":""}]
[null,null,null,null,null,null,null,null,{"$f":"IF(E1472<>\"\",ROUND((VLOOKUP(E1472,Param!$A$7:$E$13,4,0)*Fonct_Empl!F1472*((Fonct_Empl!G1472/12)))+(VLOOKUP(E1472,Param!$A$7:$E$13,5,0)*Fonct_Empl!H1472),2),\"\")","v":""}]
[null,null,null,null,null,null,null,null,{"$f":"IF(E1473<>\"\",ROUND((VLOOKUP(E1473,Param!$A$7:$E$13,4,0)*Fonct_Empl!F1473*((Fonct_Empl!G1473/12)))+(VLOOKUP(E1473,Param!$A$7:$E$13,5,0)*Fonct_Empl!H1473),2),\"\")","v":""}]
[null,null,null,null,null,null,null,null,{"$f":"IF(E1474<>\"\",ROUND((VLOOKUP(E1474,Param!$A$7:$E$13,4,0)*Fonct_Empl!F1474*((Fonct_Empl!G1474/12)))+(VLOOKUP(E1474,Param!$A$7:$E$13,5,0)*Fonct_Empl!H1474),2),\"\")","v":""}]
[null,null,null,null,null,null,null,null,{"$f":"IF(E1475<>\"\",ROUND((VLOOKUP(E1475,Param!$A$7:$E$13,4,0)*Fonct_Empl!F1475*((Fonct_Empl!G1475/12)))+(VLOOKUP(E1475,Param!$A$7:$E$13,5,0)*Fonct_Empl!H1475),2),\"\")","v":""}]
[null,null,null,null,null,null,null,null,{"$f":"IF(E1476<>\"\",ROUND((VLOOKUP(E1476,Param!$A$7:$E$13,4,0)*Fonct_Empl!F1476*((Fonct_Empl!G1476/12)))+(VLOOKUP(E1476,Param!$A$7:$E$13,5,0)*Fonct_Empl!H1476),2),\"\")","v":""}]
[null,null,null,null,null,null,null,null,{"$f":"IF(E1477<>\"\",ROUND((VLOOKUP(E1477,Param!$A$7:$E$13,4,0)*Fonct_Empl!F1477*((Fonct_Empl!G1477/12)))+(VLOOKUP(E1477,Param!$A$7:$E$13,5,0)*Fonct_Empl!H1477),2),\"\")","v":""}]
[null,null,null,null,null,null,null,null,{"$f":"IF(E1478<>\"\",ROUND((VLOOKUP(E1478,Param!$A$7:$E$13,4,0)*Fonct_Empl!F1478*((Fonct_Empl!G1478/12)))+(VLOOKUP(E1478,Param!$A$7:$E$13,5,0)*Fonct_Empl!H1478),2),\"\")","v":""}]
[null,null,null,null,null,null,null,null,{"$f":"IF(E1479<>\"\",ROUND((VLOOKUP(E1479,Param!$A$7:$E$13,4,0)*Fonct_Empl!F1479*((Fonct_Empl!G1479/12)))+(VLOOKUP(E1479,Param!$A$7:$E$13,5,0)*Fonct_Empl!H1479),2),\"\")","v":""}]
[null,null,null,null,null,null,null,null,{"$f":"IF(E1480<>\"\",ROUND((VLOOKUP(E1480,Param!$A$7:$E$13,4,0)*Fonct_Empl!F1480*((Fonct_Empl!G1480/12)))+(VLOOKUP(E1480,Param!$A$7:$E$13,5,0)*Fonct_Empl!H1480),2),\"\")","v":""}]
[null,null,null,null,null,null,null,null,{"$f":"IF(E1481<>\"\",ROUND((VLOOKUP(E1481,Param!$A$7:$E$13,4,0)*Fonct_Empl!F1481*((Fonct_Empl!G1481/12)))+(VLOOKUP(E1481,Param!$A$7:$E$13,5,0)*Fonct_Empl!H1481),2),\"\")","v":""}]
[null,null,null,null,null,null,null,null,{"$f":"IF(E1482<>\"\",ROUND((VLOOKUP(E1482,Param!$A$7:$E$13,4,0)*Fonct_Empl!F1482*((Fonct_Empl!G1482/12)))+(VLOOKUP(E1482,Param!$A$7:$E$13,5,0)*Fonct_Empl!H1482),2),\"\")","v":""}]
[null,null,null,null,null,null,null,null,{"$f":"IF(E1483<>\"\",ROUND((VLOOKUP(E1483,Param!$A$7:$E$13,4,0)*Fonct_Empl!F1483*((Fonct_Empl!G1483/12)))+(VLOOKUP(E1483,Param!$A$7:$E$13,5,0)*Fonct_Empl!H1483),2),\"\")","v":""}]
[null,null,null,null,null,null,null,null,{"$f":"IF(E1484<>\"\",ROUND((VLOOKUP(E1484,Param!$A$7:$E$13,4,0)*Fonct_Empl!F1484*((Fonct_Empl!G1484/12)))+(VLOOKUP(E1484,Param!$A$7:$E$13,5,0)*Fonct_Empl!H1484),2),\"\")","v":""}]
[null,null,null,null,null,null,null,null,{"$f":"IF(E1485<>\"\",ROUND((VLOOKUP(E1485,Param!$A$7:$E$13,4,0)*Fonct_Empl!F1485*((Fonct_Empl!G1485/12)))+(VLOOKUP(E1485,Param!$A$7:$E$13,5,0)*Fonct_Empl!H1485),2),\"\")","v":""}]
[null,null,null,null,null,null,null,null,{"$f":"IF(E1486<>\"\",ROUND((VLOOKUP(E1486,Param!$A$7:$E$13,4,0)*Fonct_Empl!F1486*((Fonct_Empl!G1486/12)))+(VLOOKUP(E1486,Param!$A$7:$E$13,5,0)*Fonct_Empl!H1486),2),\"\")","v":""}]
[null,null,null,null,null,null,null,null,{"$f":"IF(E1487<>\"\",ROUND((VLOOKUP(E1487,Param!$A$7:$E$13,4,0)*Fonct_Empl!F1487*((Fonct_Empl!G1487/12)))+(VLOOKUP(E1487,Param!$A$7:$E$13,5,0)*Fonct_Empl!H1487),2),\"\")","v":""}]
[null,null,null,null,null,null,null,null,{"$f":"IF(E1488<>\"\",ROUND((VLOOKUP(E1488,Param!$A$7:$E$13,4,0)*Fonct_Empl!F1488*((Fonct_Empl!G1488/12)))+(VLOOKUP(E1488,Param!$A$7:$E$13,5,0)*Fonct_Empl!H1488),2),\"\")","v":""}]
[null,null,null,null,null,null,null,null,{"$f":"IF(E1489<>\"\",ROUND((VLOOKUP(E1489,Param!$A$7:$E$13,4,0)*Fonct_Empl!F1489*((Fonct_Empl!G1489/12)))+(VLOOKUP(E1489,Param!$A$7:$E$13,5,0)*Fonct_Empl!H1489),2),\"\")","v":""}]
[null,null,null,null,null,null,null,null,{"$f":"IF(E1490<>\"\",ROUND((VLOOKUP(E1490,Param!$A$7:$E$13,4,0)*Fonct_Empl!F1490*((Fonct_Empl!G1490/12)))+(VLOOKUP(E1490,Param!$A$7:$E$13,5,0)*Fonct_Empl!H1490),2),\"\")","v":""}]
[null,null,null,null,null,null,null,null,{"$f":"IF(E1491<>\"\",ROUND((VLOOKUP(E1491,Param!$A$7:$E$13,4,0)*Fonct_Empl!F1491*((Fonct_Empl!G1491/12)))+(VLOOKUP(E1491,Param!$A$7:$E$13,5,0)*Fonct_Empl!H1491),2),\"\")","v":""}]
[null,null,null,null,null,null,null,null,{"$f":"IF(E1492<>\"\",ROUND((VLOOKUP(E1492,Param!$A$7:$E$13,4,0)*Fonct_Empl!F1492*((Fonct_Empl!G1492/12)))+(VLOOKUP(E1492,Param!$A$7:$E$13,5,0)*Fonct_Empl!H1492),2),\"\")","v":""}]
[null,null,null,null,null,null,null,null,{"$f":"IF(E1493<>\"\",ROUND((VLOOKUP(E1493,Param!$A$7:$E$13,4,0)*Fonct_Empl!F1493*((Fonct_Empl!G1493/12)))+(VLOOKUP(E1493,Param!$A$7:$E$13,5,0)*Fonct_Empl!H1493),2),\"\")","v":""}]
[null,null,null,null,null,null,null,null,{"$f":"IF(E1494<>\"\",ROUND((VLOOKUP(E1494,Param!$A$7:$E$13,4,0)*Fonct_Empl!F1494*((Fonct_Empl!G1494/12)))+(VLOOKUP(E1494,Param!$A$7:$E$13,5,0)*Fonct_Empl!H1494),2),\"\")","v":""}]
[null,null,null,null,null,null,null,null,{"$f":"IF(E1495<>\"\",ROUND((VLOOKUP(E1495,Param!$A$7:$E$13,4,0)*Fonct_Empl!F1495*((Fonct_Empl!G1495/12)))+(VLOOKUP(E1495,Param!$A$7:$E$13,5,0)*Fonct_Empl!H1495),2),\"\")","v":""}]
[null,null,null,null,null,null,null,null,{"$f":"IF(E1496<>\"\",ROUND((VLOOKUP(E1496,Param!$A$7:$E$13,4,0)*Fonct_Empl!F1496*((Fonct_Empl!G1496/12)))+(VLOOKUP(E1496,Param!$A$7:$E$13,5,0)*Fonct_Empl!H1496),2),\"\")","v":""}]
[null,null,null,null,null,null,null,null,{"$f":"IF(E1497<>\"\",ROUND((VLOOKUP(E1497,Param!$A$7:$E$13,4,0)*Fonct_Empl!F1497*((Fonct_Empl!G1497/12)))+(VLOOKUP(E1497,Param!$A$7:$E$13,5,0)*Fonct_Empl!H1497),2),\"\")","v":""}]
[null,null,null,null,null,null,null,null,{"$f":"IF(E1498<>\"\",ROUND((VLOOKUP(E1498,Param!$A$7:$E$13,4,0)*Fonct_Empl!F1498*((Fonct_Empl!G1498/12)))+(VLOOKUP(E1498,Param!$A$7:$E$13,5,0)*Fonct_Empl!H1498),2),\"\")","v":""}]
[null,null,null,null,null,null,null,null,{"$f":"IF(E1499<>\"\",ROUND((VLOOKUP(E1499,Param!$A$7:$E$13,4,0)*Fonct_Empl!F1499*((Fonct_Empl!G1499/12)))+(VLOOKUP(E1499,Param!$A$7:$E$13,5,0)*Fonct_Empl!H1499),2),\"\")","v":""}]
[null,null,null,null,null,null,null,null,{"$f":"IF(E1500<>\"\",ROUND((VLOOKUP(E1500,Param!$A$7:$E$13,4,0)*Fonct_Empl!F1500*((Fonct_Empl!G1500/12)))+(VLOOKUP(E1500,Param!$A$7:$E$13,5,0)*Fonct_Empl!H1500),2),\"\")","v":""}]
[null,null,null,null,null,null,null,null,{"$f":"IF(E1501<>\"\",ROUND((VLOOKUP(E1501,Param!$A$7:$E$13,4,0)*Fonct_Empl!F1501*((Fonct_Empl!G1501/12)))+(VLOOKUP(E1501,Param!$A$7:$E$13,5,0)*Fonct_Empl!H1501),2),\"\")","v":""}]
[null,null,null,null,null,null,null,null,{"$f":"IF(E1502<>\"\",ROUND((VLOOKUP(E1502,Param!$A$7:$E$13,4,0)*Fonct_Empl!F1502*((Fonct_Empl!G1502/12)))+(VLOOKUP(E1502,Param!$A$7:$E$13,5,0)*Fonct_Empl!H1502),2),\"\")","v":""}]
[null,null,null,null,null,null,null,null,{"$f":"IF(E1503<>\"\",ROUND((VLOOKUP(E1503,Param!$A$7:$E$13,4,0)*Fonct_Empl!F1503*((Fonct_Empl!G1503/12)))+(VLOOKUP(E1503,Param!$A$7:$E$13,5,0)*Fonct_Empl!H1503),2),\"\")","v":""}]
[null,null,null,null,null,null,null,null,{"$f":"IF(E1504<>\"\",ROUND((VLOOKUP(E1504,Param!$A$7:$E$13,4,0)*Fonct_Empl!F1504*((Fonct_Empl!G1504/12)))+(VLOOKUP(E1504,Param!$A$7:$E$13,5,0)*Fonct_Empl!H1504),2),\"\")","v":""}]
[null,null,null,null,null,null,null,null,{"$f":"IF(E1505<>\"\",ROUND((VLOOKUP(E1505,Param!$A$7:$E$13,4,0)*Fonct_Empl!F1505*((Fonct_Empl!G1505/12)))+(VLOOKUP(E1505,Param!$A$7:$E$13,5,0)*Fonct_Empl!H1505),2),\"\")","v":""}]
[null,null,null,null,null,null,null,null,{"$f":"IF(E1506<>\"\",ROUND((VLOOKUP(E1506,Param!$A$7:$E$13,4,0)*Fonct_Empl!F1506*((Fonct_Empl!G1506/12)))+(VLOOKUP(E1506,Param!$A$7:$E$13,5,0)*Fonct_Empl!H1506),2),\"\")","v":""}]
[null,null,null,null,null,null,null,null,{"$f":"IF(E1507<>\"\",ROUND((VLOOKUP(E1507,Param!$A$7:$E$13,4,0)*Fonct_Empl!F1507*((Fonct_Empl!G1507/12)))+(VLOOKUP(E1507,Param!$A$7:$E$13,5,0)*Fonct_Empl!H1507),2),\"\")","v":""}]
[null,null,null,null,null,null,null,null,{"$f":"IF(E1508<>\"\",ROUND((VLOOKUP(E1508,Param!$A$7:$E$13,4,0)*Fonct_Empl!F1508*((Fonct_Empl!G1508/12)))+(VLOOKUP(E1508,Param!$A$7:$E$13,5,0)*Fonct_Empl!H1508),2),\"\")","v":""}]
[null,null,null,null,null,null,null,null,{"$f":"IF(E1509<>\"\",ROUND((VLOOKUP(E1509,Param!$A$7:$E$13,4,0)*Fonct_Empl!F1509*((Fonct_Empl!G1509/12)))+(VLOOKUP(E1509,Param!$A$7:$E$13,5,0)*Fonct_Empl!H1509),2),\"\")","v":""}]
[null,null,null,null,null,null,null,null,{"$f":"IF(E1510<>\"\",ROUND((VLOOKUP(E1510,Param!$A$7:$E$13,4,0)*Fonct_Empl!F1510*((Fonct_Empl!G1510/12)))+(VLOOKUP(E1510,Param!$A$7:$E$13,5,0)*Fonct_Empl!H1510),2),\"\")","v":""}]
[null,null,null,null,null,null,null,null,{"$f":"IF(E1511<>\"\",ROUND((VLOOKUP(E1511,Param!$A$7:$E$13,4,0)*Fonct_Empl!F1511*((Fonct_Empl!G1511/12)))+(VLOOKUP(E1511,Param!$A$7:$E$13,5,0)*Fonct_Empl!H1511),2),\"\")","v":""}]
[null,null,null,null,null,null,null,null,{"$f":"IF(E1512<>\"\",ROUND((VLOOKUP(E1512,Param!$A$7:$E$13,4,0)*Fonct_Empl!F1512*((Fonct_Empl!G1512/12)))+(VLOOKUP(E1512,Param!$A$7:$E$13,5,0)*Fonct_Empl!H1512),2),\"\")","v":""}]
[null,null,null,null,null,null,null,null,{"$f":"IF(E1513<>\"\",ROUND((VLOOKUP(E1513,Param!$A$7:$E$13,4,0)*Fonct_Empl!F1513*((Fonct_Empl!G1513/12)))+(VLOOKUP(E1513,Param!$A$7:$E$13,5,0)*Fonct_Empl!H1513),2),\"\")","v":""}]
[null,null,null,null,null,null,null,null,{"$f":"IF(E1514<>\"\",ROUND((VLOOKUP(E1514,Param!$A$7:$E$13,4,0)*Fonct_Empl!F1514*((Fonct_Empl!G1514/12)))+(VLOOKUP(E1514,Param!$A$7:$E$13,5,0)*Fonct_Empl!H1514),2),\"\")","v":""}]
[null,null,null,null,null,null,null,null,{"$f":"IF(E1515<>\"\",ROUND((VLOOKUP(E1515,Param!$A$7:$E$13,4,0)*Fonct_Empl!F1515*((Fonct_Empl!G1515/12)))+(VLOOKUP(E1515,Param!$A$7:$E$13,5,0)*Fonct_Empl!H1515),2),\"\")","v":""}]
[null,null,null,null,null,null,null,null,{"$f":"IF(E1516<>\"\",ROUND((VLOOKUP(E1516,Param!$A$7:$E$13,4,0)*Fonct_Empl!F1516*((Fonct_Empl!G1516/12)))+(VLOOKUP(E1516,Param!$A$7:$E$13,5,0)*Fonct_Empl!H1516),2),\"\")","v":""}]
[null,null,null,null,null,null,null,null,{"$f":"IF(E1517<>\"\",ROUND((VLOOKUP(E1517,Param!$A$7:$E$13,4,0)*Fonct_Empl!F1517*((Fonct_Empl!G1517/12)))+(VLOOKUP(E1517,Param!$A$7:$E$13,5,0)*Fonct_Empl!H1517),2),\"\")","v":""}]
[null,null,null,null,null,null,null,null,{"$f":"IF(E1518<>\"\",ROUND((VLOOKUP(E1518,Param!$A$7:$E$13,4,0)*Fonct_Empl!F1518*((Fonct_Empl!G1518/12)))+(VLOOKUP(E1518,Param!$A$7:$E$13,5,0)*Fonct_Empl!H1518),2),\"\")","v":""}]
[null,null,null,null,null,null,null,null,{"$f":"IF(E1519<>\"\",ROUND((VLOOKUP(E1519,Param!$A$7:$E$13,4,0)*Fonct_Empl!F1519*((Fonct_Empl!G1519/12)))+(VLOOKUP(E1519,Param!$A$7:$E$13,5,0)*Fonct_Empl!H1519),2),\"\")","v":""}]
[null,null,null,null,null,null,null,null,{"$f":"IF(E1520<>\"\",ROUND((VLOOKUP(E1520,Param!$A$7:$E$13,4,0)*Fonct_Empl!F1520*((Fonct_Empl!G1520/12)))+(VLOOKUP(E1520,Param!$A$7:$E$13,5,0)*Fonct_Empl!H1520),2),\"\")","v":""}]
[null,null,null,null,null,null,null,null,{"$f":"IF(E1521<>\"\",ROUND((VLOOKUP(E1521,Param!$A$7:$E$13,4,0)*Fonct_Empl!F1521*((Fonct_Empl!G1521/12)))+(VLOOKUP(E1521,Param!$A$7:$E$13,5,0)*Fonct_Empl!H1521),2),\"\")","v":""}]
[null,null,null,null,null,null,null,null,{"$f":"IF(E1522<>\"\",ROUND((VLOOKUP(E1522,Param!$A$7:$E$13,4,0)*Fonct_Empl!F1522*((Fonct_Empl!G1522/12)))+(VLOOKUP(E1522,Param!$A$7:$E$13,5,0)*Fonct_Empl!H1522),2),\"\")","v":""}]
[null,null,null,null,null,null,null,null,{"$f":"IF(E1523<>\"\",ROUND((VLOOKUP(E1523,Param!$A$7:$E$13,4,0)*Fonct_Empl!F1523*((Fonct_Empl!G1523/12)))+(VLOOKUP(E1523,Param!$A$7:$E$13,5,0)*Fonct_Empl!H1523),2),\"\")","v":""}]
[null,null,null,null,null,null,null,null,{"$f":"IF(E1524<>\"\",ROUND((VLOOKUP(E1524,Param!$A$7:$E$13,4,0)*Fonct_Empl!F1524*((Fonct_Empl!G1524/12)))+(VLOOKUP(E1524,Param!$A$7:$E$13,5,0)*Fonct_Empl!H1524),2),\"\")","v":""}]
[null,null,null,null,null,null,null,null,{"$f":"IF(E1525<>\"\",ROUND((VLOOKUP(E1525,Param!$A$7:$E$13,4,0)*Fonct_Empl!F1525*((Fonct_Empl!G1525/12)))+(VLOOKUP(E1525,Param!$A$7:$E$13,5,0)*Fonct_Empl!H1525),2),\"\")","v":""}]
[null,null,null,null,null,null,null,null,{"$f":"IF(E1526<>\"\",ROUND((VLOOKUP(E1526,Param!$A$7:$E$13,4,0)*Fonct_Empl!F1526*((Fonct_Empl!G1526/12)))+(VLOOKUP(E1526,Param!$A$7:$E$13,5,0)*Fonct_Empl!H1526),2),\"\")","v":""}]
[null,null,null,null,null,null,null,null,{"$f":"IF(E1527<>\"\",ROUND((VLOOKUP(E1527,Param!$A$7:$E$13,4,0)*Fonct_Empl!F1527*((Fonct_Empl!G1527/12)))+(VLOOKUP(E1527,Param!$A$7:$E$13,5,0)*Fonct_Empl!H1527),2),\"\")","v":""}]
[null,null,null,null,null,null,null,null,{"$f":"IF(E1528<>\"\",ROUND((VLOOKUP(E1528,Param!$A$7:$E$13,4,0)*Fonct_Empl!F1528*((Fonct_Empl!G1528/12)))+(VLOOKUP(E1528,Param!$A$7:$E$13,5,0)*Fonct_Empl!H1528),2),\"\")","v":""}]
[null,null,null,null,null,null,null,null,{"$f":"IF(E1529<>\"\",ROUND((VLOOKUP(E1529,Param!$A$7:$E$13,4,0)*Fonct_Empl!F1529*((Fonct_Empl!G1529/12)))+(VLOOKUP(E1529,Param!$A$7:$E$13,5,0)*Fonct_Empl!H1529),2),\"\")","v":""}]
[null,null,null,null,null,null,null,null,{"$f":"IF(E1530<>\"\",ROUND((VLOOKUP(E1530,Param!$A$7:$E$13,4,0)*Fonct_Empl!F1530*((Fonct_Empl!G1530/12)))+(VLOOKUP(E1530,Param!$A$7:$E$13,5,0)*Fonct_Empl!H1530),2),\"\")","v":""}]
[null,null,null,null,null,null,null,null,{"$f":"IF(E1531<>\"\",ROUND((VLOOKUP(E1531,Param!$A$7:$E$13,4,0)*Fonct_Empl!F1531*((Fonct_Empl!G1531/12)))+(VLOOKUP(E1531,Param!$A$7:$E$13,5,0)*Fonct_Empl!H1531),2),\"\")","v":""}]
[null,null,null,null,null,null,null,null,{"$f":"IF(E1532<>\"\",ROUND((VLOOKUP(E1532,Param!$A$7:$E$13,4,0)*Fonct_Empl!F1532*((Fonct_Empl!G1532/12)))+(VLOOKUP(E1532,Param!$A$7:$E$13,5,0)*Fonct_Empl!H1532),2),\"\")","v":""}]
[null,null,null,null,null,null,null,null,{"$f":"IF(E1533<>\"\",ROUND((VLOOKUP(E1533,Param!$A$7:$E$13,4,0)*Fonct_Empl!F1533*((Fonct_Empl!G1533/12)))+(VLOOKUP(E1533,Param!$A$7:$E$13,5,0)*Fonct_Empl!H1533),2),\"\")","v":""}]
[null,null,null,null,null,null,null,null,{"$f":"IF(E1534<>\"\",ROUND((VLOOKUP(E1534,Param!$A$7:$E$13,4,0)*Fonct_Empl!F1534*((Fonct_Empl!G1534/12)))+(VLOOKUP(E1534,Param!$A$7:$E$13,5,0)*Fonct_Empl!H1534),2),\"\")","v":""}]
[null,null,null,null,null,null,null,null,{"$f":"IF(E1535<>\"\",ROUND((VLOOKUP(E1535,Param!$A$7:$E$13,4,0)*Fonct_Empl!F1535*((Fonct_Empl!G1535/12)))+(VLOOKUP(E1535,Param!$A$7:$E$13,5,0)*Fonct_Empl!H1535),2),\"\")","v":""}]
[null,null,null,null,null,null,null,null,{"$f":"IF(E1536<>\"\",ROUND((VLOOKUP(E1536,Param!$A$7:$E$13,4,0)*Fonct_Empl!F1536*((Fonct_Empl!G1536/12)))+(VLOOKUP(E1536,Param!$A$7:$E$13,5,0)*Fonct_Empl!H1536),2),\"\")","v":""}]
[null,null,null,null,null,null,null,null,{"$f":"IF(E1537<>\"\",ROUND((VLOOKUP(E1537,Param!$A$7:$E$13,4,0)*Fonct_Empl!F1537*((Fonct_Empl!G1537/12)))+(VLOOKUP(E1537,Param!$A$7:$E$13,5,0)*Fonct_Empl!H1537),2),\"\")","v":""}]
[null,null,null,null,null,null,null,null,{"$f":"IF(E1538<>\"\",ROUND((VLOOKUP(E1538,Param!$A$7:$E$13,4,0)*Fonct_Empl!F1538*((Fonct_Empl!G1538/12)))+(VLOOKUP(E1538,Param!$A$7:$E$13,5,0)*Fonct_Empl!H1538),2),\"\")","v":""}]
[null,null,null,null,null,null,null,null,{"$f":"IF(E1539<>\"\",ROUND((VLOOKUP(E1539,Param!$A$7:$E$13,4,0)*Fonct_Empl!F1539*((Fonct_Empl!G1539/12)))+(VLOOKUP(E1539,Param!$A$7:$E$13,5,0)*Fonct_Empl!H1539),2),\"\")","v":""}]
[null,null,null,null,null,null,null,null,{"$f":"IF(E1540<>\"\",ROUND((VLOOKUP(E1540,Param!$A$7:$E$13,4,0)*Fonct_Empl!F1540*((Fonct_Empl!G1540/12)))+(VLOOKUP(E1540,Param!$A$7:$E$13,5,0)*Fonct_Empl!H1540),2),\"\")","v":""}]
[null,null,null,null,null,null,null,null,{"$f":"IF(E1541<>\"\",ROUND((VLOOKUP(E1541,Param!$A$7:$E$13,4,0)*Fonct_Empl!F1541*((Fonct_Empl!G1541/12)))+(VLOOKUP(E1541,Param!$A$7:$E$13,5,0)*Fonct_Empl!H1541),2),\"\")","v":""}]
[null,null,null,null,null,null,null,null,{"$f":"IF(E1542<>\"\",ROUND((VLOOKUP(E1542,Param!$A$7:$E$13,4,0)*Fonct_Empl!F1542*((Fonct_Empl!G1542/12)))+(VLOOKUP(E1542,Param!$A$7:$E$13,5,0)*Fonct_Empl!H1542),2),\"\")","v":""}]
[null,null,null,null,null,null,null,null,{"$f":"IF(E1543<>\"\",ROUND((VLOOKUP(E1543,Param!$A$7:$E$13,4,0)*Fonct_Empl!F1543*((Fonct_Empl!G1543/12)))+(VLOOKUP(E1543,Param!$A$7:$E$13,5,0)*Fonct_Empl!H1543),2),\"\")","v":""}]
[null,null,null,null,null,null,null,null,{"$f":"IF(E1544<>\"\",ROUND((VLOOKUP(E1544,Param!$A$7:$E$13,4,0)*Fonct_Empl!F1544*((Fonct_Empl!G1544/12)))+(VLOOKUP(E1544,Param!$A$7:$E$13,5,0)*Fonct_Empl!H1544),2),\"\")","v":""}]
[null,null,null,null,null,null,null,null,{"$f":"IF(E1545<>\"\",ROUND((VLOOKUP(E1545,Param!$A$7:$E$13,4,0)*Fonct_Empl!F1545*((Fonct_Empl!G1545/12)))+(VLOOKUP(E1545,Param!$A$7:$E$13,5,0)*Fonct_Empl!H1545),2),\"\")","v":""}]
[null,null,null,null,null,null,null,null,{"$f":"IF(E1546<>\"\",ROUND((VLOOKUP(E1546,Param!$A$7:$E$13,4,0)*Fonct_Empl!F1546*((Fonct_Empl!G1546/12)))+(VLOOKUP(E1546,Param!$A$7:$E$13,5,0)*Fonct_Empl!H1546),2),\"\")","v":""}]
[null,null,null,null,null,null,null,null,{"$f":"IF(E1547<>\"\",ROUND((VLOOKUP(E1547,Param!$A$7:$E$13,4,0)*Fonct_Empl!F1547*((Fonct_Empl!G1547/12)))+(VLOOKUP(E1547,Param!$A$7:$E$13,5,0)*Fonct_Empl!H1547),2),\"\")","v":""}]
[null,null,null,null,null,null,null,null,{"$f":"IF(E1548<>\"\",ROUND((VLOOKUP(E1548,Param!$A$7:$E$13,4,0)*Fonct_Empl!F1548*((Fonct_Empl!G1548/12)))+(VLOOKUP(E1548,Param!$A$7:$E$13,5,0)*Fonct_Empl!H1548),2),\"\")","v":""}]
[null,null,null,null,null,null,null,null,{"$f":"IF(E1549<>\"\",ROUND((VLOOKUP(E1549,Param!$A$7:$E$13,4,0)*Fonct_Empl!F1549*((Fonct_Empl!G1549/12)))+(VLOOKUP(E1549,Param!$A$7:$E$13,5,0)*Fonct_Empl!H1549),2),\"\")","v":""}]
[null,null,null,null,null,null,null,null,{"$f":"IF(E1550<>\"\",ROUND((VLOOKUP(E1550,Param!$A$7:$E$13,4,0)*Fonct_Empl!F1550*((Fonct_Empl!G1550/12)))+(VLOOKUP(E1550,Param!$A$7:$E$13,5,0)*Fonct_Empl!H1550),2),\"\")","v":""}]
[null,null,null,null,null,null,null,null,{"$f":"IF(E1551<>\"\",ROUND((VLOOKUP(E1551,Param!$A$7:$E$13,4,0)*Fonct_Empl!F1551*((Fonct_Empl!G1551/12)))+(VLOOKUP(E1551,Param!$A$7:$E$13,5,0)*Fonct_Empl!H1551),2),\"\")","v":""}]
[null,null,null,null,null,null,null,null,{"$f":"IF(E1552<>\"\",ROUND((VLOOKUP(E1552,Param!$A$7:$E$13,4,0)*Fonct_Empl!F1552*((Fonct_Empl!G1552/12)))+(VLOOKUP(E1552,Param!$A$7:$E$13,5,0)*Fonct_Empl!H1552),2),\"\")","v":""}]
[null,null,null,null,null,null,null,null,{"$f":"IF(E1553<>\"\",ROUND((VLOOKUP(E1553,Param!$A$7:$E$13,4,0)*Fonct_Empl!F1553*((Fonct_Empl!G1553/12)))+(VLOOKUP(E1553,Param!$A$7:$E$13,5,0)*Fonct_Empl!H1553),2),\"\")","v":""}]
[null,null,null,null,null,null,null,null,{"$f":"IF(E1554<>\"\",ROUND((VLOOKUP(E1554,Param!$A$7:$E$13,4,0)*Fonct_Empl!F1554*((Fonct_Empl!G1554/12)))+(VLOOKUP(E1554,Param!$A$7:$E$13,5,0)*Fonct_Empl!H1554),2),\"\")","v":""}]
[null,null,null,null,null,null,null,null,{"$f":"IF(E1555<>\"\",ROUND((VLOOKUP(E1555,Param!$A$7:$E$13,4,0)*Fonct_Empl!F1555*((Fonct_Empl!G1555/12)))+(VLOOKUP(E1555,Param!$A$7:$E$13,5,0)*Fonct_Empl!H1555),2),\"\")","v":""}]
[null,null,null,null,null,null,null,null,{"$f":"IF(E1556<>\"\",ROUND((VLOOKUP(E1556,Param!$A$7:$E$13,4,0)*Fonct_Empl!F1556*((Fonct_Empl!G1556/12)))+(VLOOKUP(E1556,Param!$A$7:$E$13,5,0)*Fonct_Empl!H1556),2),\"\")","v":""}]
[null,null,null,null,null,null,null,null,{"$f":"IF(E1557<>\"\",ROUND((VLOOKUP(E1557,Param!$A$7:$E$13,4,0)*Fonct_Empl!F1557*((Fonct_Empl!G1557/12)))+(VLOOKUP(E1557,Param!$A$7:$E$13,5,0)*Fonct_Empl!H1557),2),\"\")","v":""}]
[null,null,null,null,null,null,null,null,{"$f":"IF(E1558<>\"\",ROUND((VLOOKUP(E1558,Param!$A$7:$E$13,4,0)*Fonct_Empl!F1558*((Fonct_Empl!G1558/12)))+(VLOOKUP(E1558,Param!$A$7:$E$13,5,0)*Fonct_Empl!H1558),2),\"\")","v":""}]
[null,null,null,null,null,null,null,null,{"$f":"IF(E1559<>\"\",ROUND((VLOOKUP(E1559,Param!$A$7:$E$13,4,0)*Fonct_Empl!F1559*((Fonct_Empl!G1559/12)))+(VLOOKUP(E1559,Param!$A$7:$E$13,5,0)*Fonct_Empl!H1559),2),\"\")","v":""}]
[null,null,null,null,null,null,null,null,{"$f":"IF(E1560<>\"\",ROUND((VLOOKUP(E1560,Param!$A$7:$E$13,4,0)*Fonct_Empl!F1560*((Fonct_Empl!G1560/12)))+(VLOOKUP(E1560,Param!$A$7:$E$13,5,0)*Fonct_Empl!H1560),2),\"\")","v":""}]
[null,null,null,null,null,null,null,null,{"$f":"IF(E1561<>\"\",ROUND((VLOOKUP(E1561,Param!$A$7:$E$13,4,0)*Fonct_Empl!F1561*((Fonct_Empl!G1561/12)))+(VLOOKUP(E1561,Param!$A$7:$E$13,5,0)*Fonct_Empl!H1561),2),\"\")","v":""}]
[null,null,null,null,null,null,null,null,{"$f":"IF(E1562<>\"\",ROUND((VLOOKUP(E1562,Param!$A$7:$E$13,4,0)*Fonct_Empl!F1562*((Fonct_Empl!G1562/12)))+(VLOOKUP(E1562,Param!$A$7:$E$13,5,0)*Fonct_Empl!H1562),2),\"\")","v":""}]
[null,null,null,null,null,null,null,null,{"$f":"IF(E1563<>\"\",ROUND((VLOOKUP(E1563,Param!$A$7:$E$13,4,0)*Fonct_Empl!F1563*((Fonct_Empl!G1563/12)))+(VLOOKUP(E1563,Param!$A$7:$E$13,5,0)*Fonct_Empl!H1563),2),\"\")","v":""}]
[null,null,null,null,null,null,null,null,{"$f":"IF(E1564<>\"\",ROUND((VLOOKUP(E1564,Param!$A$7:$E$13,4,0)*Fonct_Empl!F1564*((Fonct_Empl!G1564/12)))+(VLOOKUP(E1564,Param!$A$7:$E$13,5,0)*Fonct_Empl!H1564),2),\"\")","v":""}]
[null,null,null,null,null,null,null,null,{"$f":"IF(E1565<>\"\",ROUND((VLOOKUP(E1565,Param!$A$7:$E$13,4,0)*Fonct_Empl!F1565*((Fonct_Empl!G1565/12)))+(VLOOKUP(E1565,Param!$A$7:$E$13,5,0)*Fonct_Empl!H1565),2),\"\")","v":""}]
[null,null,null,null,null,null,null,null,{"$f":"IF(E1566<>\"\",ROUND((VLOOKUP(E1566,Param!$A$7:$E$13,4,0)*Fonct_Empl!F1566*((Fonct_Empl!G1566/12)))+(VLOOKUP(E1566,Param!$A$7:$E$13,5,0)*Fonct_Empl!H1566),2),\"\")","v":""}]
[null,null,null,null,null,null,null,null,{"$f":"IF(E1567<>\"\",ROUND((VLOOKUP(E1567,Param!$A$7:$E$13,4,0)*Fonct_Empl!F1567*((Fonct_Empl!G1567/12)))+(VLOOKUP(E1567,Param!$A$7:$E$13,5,0)*Fonct_Empl!H1567),2),\"\")","v":""}]
[null,null,null,null,null,null,null,null,{"$f":"IF(E1568<>\"\",ROUND((VLOOKUP(E1568,Param!$A$7:$E$13,4,0)*Fonct_Empl!F1568*((Fonct_Empl!G1568/12)))+(VLOOKUP(E1568,Param!$A$7:$E$13,5,0)*Fonct_Empl!H1568),2),\"\")","v":""}]
[null,null,null,null,null,null,null,null,{"$f":"IF(E1569<>\"\",ROUND((VLOOKUP(E1569,Param!$A$7:$E$13,4,0)*Fonct_Empl!F1569*((Fonct_Empl!G1569/12)))+(VLOOKUP(E1569,Param!$A$7:$E$13,5,0)*Fonct_Empl!H1569),2),\"\")","v":""}]
[null,null,null,null,null,null,null,null,{"$f":"IF(E1570<>\"\",ROUND((VLOOKUP(E1570,Param!$A$7:$E$13,4,0)*Fonct_Empl!F1570*((Fonct_Empl!G1570/12)))+(VLOOKUP(E1570,Param!$A$7:$E$13,5,0)*Fonct_Empl!H1570),2),\"\")","v":""}]
[null,null,null,null,null,null,null,null,{"$f":"IF(E1571<>\"\",ROUND((VLOOKUP(E1571,Param!$A$7:$E$13,4,0)*Fonct_Empl!F1571*((Fonct_Empl!G1571/12)))+(VLOOKUP(E1571,Param!$A$7:$E$13,5,0)*Fonct_Empl!H1571),2),\"\")","v":""}]
[null,null,null,null,null,null,null,null,{"$f":"IF(E1572<>\"\",ROUND((VLOOKUP(E1572,Param!$A$7:$E$13,4,0)*Fonct_Empl!F1572*((Fonct_Empl!G1572/12)))+(VLOOKUP(E1572,Param!$A$7:$E$13,5,0)*Fonct_Empl!H1572),2),\"\")","v":""}]
[null,null,null,null,null,null,null,null,{"$f":"IF(E1573<>\"\",ROUND((VLOOKUP(E1573,Param!$A$7:$E$13,4,0)*Fonct_Empl!F1573*((Fonct_Empl!G1573/12)))+(VLOOKUP(E1573,Param!$A$7:$E$13,5,0)*Fonct_Empl!H1573),2),\"\")","v":""}]
[null,null,null,null,null,null,null,null,{"$f":"IF(E1574<>\"\",ROUND((VLOOKUP(E1574,Param!$A$7:$E$13,4,0)*Fonct_Empl!F1574*((Fonct_Empl!G1574/12)))+(VLOOKUP(E1574,Param!$A$7:$E$13,5,0)*Fonct_Empl!H1574),2),\"\")","v":""}]
[null,null,null,null,null,null,null,null,{"$f":"IF(E1575<>\"\",ROUND((VLOOKUP(E1575,Param!$A$7:$E$13,4,0)*Fonct_Empl!F1575*((Fonct_Empl!G1575/12)))+(VLOOKUP(E1575,Param!$A$7:$E$13,5,0)*Fonct_Empl!H1575),2),\"\")","v":""}]
[null,null,null,null,null,null,null,null,{"$f":"IF(E1576<>\"\",ROUND((VLOOKUP(E1576,Param!$A$7:$E$13,4,0)*Fonct_Empl!F1576*((Fonct_Empl!G1576/12)))+(VLOOKUP(E1576,Param!$A$7:$E$13,5,0)*Fonct_Empl!H1576),2),\"\")","v":""}]
[null,null,null,null,null,null,null,null,{"$f":"IF(E1577<>\"\",ROUND((VLOOKUP(E1577,Param!$A$7:$E$13,4,0)*Fonct_Empl!F1577*((Fonct_Empl!G1577/12)))+(VLOOKUP(E1577,Param!$A$7:$E$13,5,0)*Fonct_Empl!H1577),2),\"\")","v":""}]
[null,null,null,null,null,null,null,null,{"$f":"IF(E1578<>\"\",ROUND((VLOOKUP(E1578,Param!$A$7:$E$13,4,0)*Fonct_Empl!F1578*((Fonct_Empl!G1578/12)))+(VLOOKUP(E1578,Param!$A$7:$E$13,5,0)*Fonct_Empl!H1578),2),\"\")","v":""}]
[null,null,null,null,null,null,null,null,{"$f":"IF(E1579<>\"\",ROUND((VLOOKUP(E1579,Param!$A$7:$E$13,4,0)*Fonct_Empl!F1579*((Fonct_Empl!G1579/12)))+(VLOOKUP(E1579,Param!$A$7:$E$13,5,0)*Fonct_Empl!H1579),2),\"\")","v":""}]
[null,null,null,null,null,null,null,null,{"$f":"IF(E1580<>\"\",ROUND((VLOOKUP(E1580,Param!$A$7:$E$13,4,0)*Fonct_Empl!F1580*((Fonct_Empl!G1580/12)))+(VLOOKUP(E1580,Param!$A$7:$E$13,5,0)*Fonct_Empl!H1580),2),\"\")","v":""}]
[null,null,null,null,null,null,null,null,{"$f":"IF(E1581<>\"\",ROUND((VLOOKUP(E1581,Param!$A$7:$E$13,4,0)*Fonct_Empl!F1581*((Fonct_Empl!G1581/12)))+(VLOOKUP(E1581,Param!$A$7:$E$13,5,0)*Fonct_Empl!H1581),2),\"\")","v":""}]
[null,null,null,null,null,null,null,null,{"$f":"IF(E1582<>\"\",ROUND((VLOOKUP(E1582,Param!$A$7:$E$13,4,0)*Fonct_Empl!F1582*((Fonct_Empl!G1582/12)))+(VLOOKUP(E1582,Param!$A$7:$E$13,5,0)*Fonct_Empl!H1582),2),\"\")","v":""}]
[null,null,null,null,null,null,null,null,{"$f":"IF(E1583<>\"\",ROUND((VLOOKUP(E1583,Param!$A$7:$E$13,4,0)*Fonct_Empl!F1583*((Fonct_Empl!G1583/12)))+(VLOOKUP(E1583,Param!$A$7:$E$13,5,0)*Fonct_Empl!H1583),2),\"\")","v":""}]
[null,null,null,null,null,null,null,null,{"$f":"IF(E1584<>\"\",ROUND((VLOOKUP(E1584,Param!$A$7:$E$13,4,0)*Fonct_Empl!F1584*((Fonct_Empl!G1584/12)))+(VLOOKUP(E1584,Param!$A$7:$E$13,5,0)*Fonct_Empl!H1584),2),\"\")","v":""}]
[null,null,null,null,null,null,null,null,{"$f":"IF(E1585<>\"\",ROUND((VLOOKUP(E1585,Param!$A$7:$E$13,4,0)*Fonct_Empl!F1585*((Fonct_Empl!G1585/12)))+(VLOOKUP(E1585,Param!$A$7:$E$13,5,0)*Fonct_Empl!H1585),2),\"\")","v":""}]
[null,null,null,null,null,null,null,null,{"$f":"IF(E1586<>\"\",ROUND((VLOOKUP(E1586,Param!$A$7:$E$13,4,0)*Fonct_Empl!F1586*((Fonct_Empl!G1586/12)))+(VLOOKUP(E1586,Param!$A$7:$E$13,5,0)*Fonct_Empl!H1586),2),\"\")","v":""}]
[null,null,null,null,null,null,null,null,{"$f":"IF(E1587<>\"\",ROUND((VLOOKUP(E1587,Param!$A$7:$E$13,4,0)*Fonct_Empl!F1587*((Fonct_Empl!G1587/12)))+(VLOOKUP(E1587,Param!$A$7:$E$13,5,0)*Fonct_Empl!H1587),2),\"\")","v":""}]
[null,null,null,null,null,null,null,null,{"$f":"IF(E1588<>\"\",ROUND((VLOOKUP(E1588,Param!$A$7:$E$13,4,0)*Fonct_Empl!F1588*((Fonct_Empl!G1588/12)))+(VLOOKUP(E1588,Param!$A$7:$E$13,5,0)*Fonct_Empl!H1588),2),\"\")","v":""}]
[null,null,null,null,null,null,null,null,{"$f":"IF(E1589<>\"\",ROUND((VLOOKUP(E1589,Param!$A$7:$E$13,4,0)*Fonct_Empl!F1589*((Fonct_Empl!G1589/12)))+(VLOOKUP(E1589,Param!$A$7:$E$13,5,0)*Fonct_Empl!H1589),2),\"\")","v":""}]
[null,null,null,null,null,null,null,null,{"$f":"IF(E1590<>\"\",ROUND((VLOOKUP(E1590,Param!$A$7:$E$13,4,0)*Fonct_Empl!F1590*((Fonct_Empl!G1590/12)))+(VLOOKUP(E1590,Param!$A$7:$E$13,5,0)*Fonct_Empl!H1590),2),\"\")","v":""}]
[null,null,null,null,null,null,null,null,{"$f":"IF(E1591<>\"\",ROUND((VLOOKUP(E1591,Param!$A$7:$E$13,4,0)*Fonct_Empl!F1591*((Fonct_Empl!G1591/12)))+(VLOOKUP(E1591,Param!$A$7:$E$13,5,0)*Fonct_Empl!H1591),2),\"\")","v":""}]
[null,null,null,null,null,null,null,null,{"$f":"IF(E1592<>\"\",ROUND((VLOOKUP(E1592,Param!$A$7:$E$13,4,0)*Fonct_Empl!F1592*((Fonct_Empl!G1592/12)))+(VLOOKUP(E1592,Param!$A$7:$E$13,5,0)*Fonct_Empl!H1592),2),\"\")","v":""}]
[null,null,null,null,null,null,null,null,{"$f":"IF(E1593<>\"\",ROUND((VLOOKUP(E1593,Param!$A$7:$E$13,4,0)*Fonct_Empl!F1593*((Fonct_Empl!G1593/12)))+(VLOOKUP(E1593,Param!$A$7:$E$13,5,0)*Fonct_Empl!H1593),2),\"\")","v":""}]
[null,null,null,null,null,null,null,null,{"$f":"IF(E1594<>\"\",ROUND((VLOOKUP(E1594,Param!$A$7:$E$13,4,0)*Fonct_Empl!F1594*((Fonct_Empl!G1594/12)))+(VLOOKUP(E1594,Param!$A$7:$E$13,5,0)*Fonct_Empl!H1594),2),\"\")","v":""}]
[null,null,null,null,null,null,null,null,{"$f":"IF(E1595<>\"\",ROUND((VLOOKUP(E1595,Param!$A$7:$E$13,4,0)*Fonct_Empl!F1595*((Fonct_Empl!G1595/12)))+(VLOOKUP(E1595,Param!$A$7:$E$13,5,0)*Fonct_Empl!H1595),2),\"\")","v":""}]
[null,null,null,null,null,null,null,null,{"$f":"IF(E1596<>\"\",ROUND((VLOOKUP(E1596,Param!$A$7:$E$13,4,0)*Fonct_Empl!F1596*((Fonct_Empl!G1596/12)))+(VLOOKUP(E1596,Param!$A$7:$E$13,5,0)*Fonct_Empl!H1596),2),\"\")","v":""}]
[null,null,null,null,null,null,null,null,{"$f":"IF(E1597<>\"\",ROUND((VLOOKUP(E1597,Param!$A$7:$E$13,4,0)*Fonct_Empl!F1597*((Fonct_Empl!G1597/12)))+(VLOOKUP(E1597,Param!$A$7:$E$13,5,0)*Fonct_Empl!H1597),2),\"\")","v":""}]
[null,null,null,null,null,null,null,null,{"$f":"IF(E1598<>\"\",ROUND((VLOOKUP(E1598,Param!$A$7:$E$13,4,0)*Fonct_Empl!F1598*((Fonct_Empl!G1598/12)))+(VLOOKUP(E1598,Param!$A$7:$E$13,5,0)*Fonct_Empl!H1598),2),\"\")","v":""}]
[null,null,null,null,null,null,null,null,{"$f":"IF(E1599<>\"\",ROUND((VLOOKUP(E1599,Param!$A$7:$E$13,4,0)*Fonct_Empl!F1599*((Fonct_Empl!G1599/12)))+(VLOOKUP(E1599,Param!$A$7:$E$13,5,0)*Fonct_Empl!H1599),2),\"\")","v":""}]
[null,null,null,null,null,null,null,null,{"$f":"IF(E1600<>\"\",ROUND((VLOOKUP(E1600,Param!$A$7:$E$13,4,0)*Fonct_Empl!F1600*((Fonct_Empl!G1600/12)))+(VLOOKUP(E1600,Param!$A$7:$E$13,5,0)*Fonct_Empl!H1600),2),\"\")","v":""}]
[null,null,null,null,null,null,null,null,{"$f":"IF(E1601<>\"\",ROUND((VLOOKUP(E1601,Param!$A$7:$E$13,4,0)*Fonct_Empl!F1601*((Fonct_Empl!G1601/12)))+(VLOOKUP(E1601,Param!$A$7:$E$13,5,0)*Fonct_Empl!H1601),2),\"\")","v":""}]
[null,null,null,null,null,null,null,null,{"$f":"IF(E1602<>\"\",ROUND((VLOOKUP(E1602,Param!$A$7:$E$13,4,0)*Fonct_Empl!F1602*((Fonct_Empl!G1602/12)))+(VLOOKUP(E1602,Param!$A$7:$E$13,5,0)*Fonct_Empl!H1602),2),\"\")","v":""}]
[null,null,null,null,null,null,null,null,{"$f":"IF(E1603<>\"\",ROUND((VLOOKUP(E1603,Param!$A$7:$E$13,4,0)*Fonct_Empl!F1603*((Fonct_Empl!G1603/12)))+(VLOOKUP(E1603,Param!$A$7:$E$13,5,0)*Fonct_Empl!H1603),2),\"\")","v":""}]
[null,null,null,null,null,null,null,null,{"$f":"IF(E1604<>\"\",ROUND((VLOOKUP(E1604,Param!$A$7:$E$13,4,0)*Fonct_Empl!F1604*((Fonct_Empl!G1604/12)))+(VLOOKUP(E1604,Param!$A$7:$E$13,5,0)*Fonct_Empl!H1604),2),\"\")","v":""}]
[null,null,null,null,null,null,null,null,{"$f":"IF(E1605<>\"\",ROUND((VLOOKUP(E1605,Param!$A$7:$E$13,4,0)*Fonct_Empl!F1605*((Fonct_Empl!G1605/12)))+(VLOOKUP(E1605,Param!$A$7:$E$13,5,0)*Fonct_Empl!H1605),2),\"\")","v":""}]
[null,null,null,null,null,null,null,null,{"$f":"IF(E1606<>\"\",ROUND((VLOOKUP(E1606,Param!$A$7:$E$13,4,0)*Fonct_Empl!F1606*((Fonct_Empl!G1606/12)))+(VLOOKUP(E1606,Param!$A$7:$E$13,5,0)*Fonct_Empl!H1606),2),\"\")","v":""}]
[null,null,null,null,null,null,null,null,{"$f":"IF(E1607<>\"\",ROUND((VLOOKUP(E1607,Param!$A$7:$E$13,4,0)*Fonct_Empl!F1607*((Fonct_Empl!G1607/12)))+(VLOOKUP(E1607,Param!$A$7:$E$13,5,0)*Fonct_Empl!H1607),2),\"\")","v":""}]
[null,null,null,null,null,null,null,null,{"$f":"IF(E1608<>\"\",ROUND((VLOOKUP(E1608,Param!$A$7:$E$13,4,0)*Fonct_Empl!F1608*((Fonct_Empl!G1608/12)))+(VLOOKUP(E1608,Param!$A$7:$E$13,5,0)*Fonct_Empl!H1608),2),\"\")","v":""}]
[null,null,null,null,null,null,null,null,{"$f":"IF(E1609<>\"\",ROUND((VLOOKUP(E1609,Param!$A$7:$E$13,4,0)*Fonct_Empl!F1609*((Fonct_Empl!G1609/12)))+(VLOOKUP(E1609,Param!$A$7:$E$13,5,0)*Fonct_Empl!H1609),2),\"\")","v":""}]
[null,null,null,null,null,null,null,null,{"$f":"IF(E1610<>\"\",ROUND((VLOOKUP(E1610,Param!$A$7:$E$13,4,0)*Fonct_Empl!F1610*((Fonct_Empl!G1610/12)))+(VLOOKUP(E1610,Param!$A$7:$E$13,5,0)*Fonct_Empl!H1610),2),\"\")","v":""}]
[null,null,null,null,null,null,null,null,{"$f":"IF(E1611<>\"\",ROUND((VLOOKUP(E1611,Param!$A$7:$E$13,4,0)*Fonct_Empl!F1611*((Fonct_Empl!G1611/12)))+(VLOOKUP(E1611,Param!$A$7:$E$13,5,0)*Fonct_Empl!H1611),2),\"\")","v":""}]
[null,null,null,null,null,null,null,null,{"$f":"IF(E1612<>\"\",ROUND((VLOOKUP(E1612,Param!$A$7:$E$13,4,0)*Fonct_Empl!F1612*((Fonct_Empl!G1612/12)))+(VLOOKUP(E1612,Param!$A$7:$E$13,5,0)*Fonct_Empl!H1612),2),\"\")","v":""}]
[null,null,null,null,null,null,null,null,{"$f":"IF(E1613<>\"\",ROUND((VLOOKUP(E1613,Param!$A$7:$E$13,4,0)*Fonct_Empl!F1613*((Fonct_Empl!G1613/12)))+(VLOOKUP(E1613,Param!$A$7:$E$13,5,0)*Fonct_Empl!H1613),2),\"\")","v":""}]
[null,null,null,null,null,null,null,null,{"$f":"IF(E1614<>\"\",ROUND((VLOOKUP(E1614,Param!$A$7:$E$13,4,0)*Fonct_Empl!F1614*((Fonct_Empl!G1614/12)))+(VLOOKUP(E1614,Param!$A$7:$E$13,5,0)*Fonct_Empl!H1614),2),\"\")","v":""}]
[null,null,null,null,null,null,null,null,{"$f":"IF(E1615<>\"\",ROUND((VLOOKUP(E1615,Param!$A$7:$E$13,4,0)*Fonct_Empl!F1615*((Fonct_Empl!G1615/12)))+(VLOOKUP(E1615,Param!$A$7:$E$13,5,0)*Fonct_Empl!H1615),2),\"\")","v":""}]
[null,null,null,null,null,null,null,null,{"$f":"IF(E1616<>\"\",ROUND((VLOOKUP(E1616,Param!$A$7:$E$13,4,0)*Fonct_Empl!F1616*((Fonct_Empl!G1616/12)))+(VLOOKUP(E1616,Param!$A$7:$E$13,5,0)*Fonct_Empl!H1616),2),\"\")","v":""}]
[null,null,null,null,null,null,null,null,{"$f":"IF(E1617<>\"\",ROUND((VLOOKUP(E1617,Param!$A$7:$E$13,4,0)*Fonct_Empl!F1617*((Fonct_Empl!G1617/12)))+(VLOOKUP(E1617,Param!$A$7:$E$13,5,0)*Fonct_Empl!H1617),2),\"\")","v":""}]
[null,null,null,null,null,null,null,null,{"$f":"IF(E1618<>\"\",ROUND((VLOOKUP(E1618,Param!$A$7:$E$13,4,0)*Fonct_Empl!F1618*((Fonct_Empl!G1618/12)))+(VLOOKUP(E1618,Param!$A$7:$E$13,5,0)*Fonct_Empl!H1618),2),\"\")","v":""}]
[null,null,null,null,null,null,null,null,{"$f":"IF(E1619<>\"\",ROUND((VLOOKUP(E1619,Param!$A$7:$E$13,4,0)*Fonct_Empl!F1619*((Fonct_Empl!G1619/12)))+(VLOOKUP(E1619,Param!$A$7:$E$13,5,0)*Fonct_Empl!H1619),2),\"\")","v":""}]
[null,null,null,null,null,null,null,null,{"$f":"IF(E1620<>\"\",ROUND((VLOOKUP(E1620,Param!$A$7:$E$13,4,0)*Fonct_Empl!F1620*((Fonct_Empl!G1620/12)))+(VLOOKUP(E1620,Param!$A$7:$E$13,5,0)*Fonct_Empl!H1620),2),\"\")","v":""}]
[null,null,null,null,null,null,null,null,{"$f":"IF(E1621<>\"\",ROUND((VLOOKUP(E1621,Param!$A$7:$E$13,4,0)*Fonct_Empl!F1621*((Fonct_Empl!G1621/12)))+(VLOOKUP(E1621,Param!$A$7:$E$13,5,0)*Fonct_Empl!H1621),2),\"\")","v":""}]
[null,null,null,null,null,null,null,null,{"$f":"IF(E1622<>\"\",ROUND((VLOOKUP(E1622,Param!$A$7:$E$13,4,0)*Fonct_Empl!F1622*((Fonct_Empl!G1622/12)))+(VLOOKUP(E1622,Param!$A$7:$E$13,5,0)*Fonct_Empl!H1622),2),\"\")","v":""}]
[null,null,null,null,null,null,null,null,{"$f":"IF(E1623<>\"\",ROUND((VLOOKUP(E1623,Param!$A$7:$E$13,4,0)*Fonct_Empl!F1623*((Fonct_Empl!G1623/12)))+(VLOOKUP(E1623,Param!$A$7:$E$13,5,0)*Fonct_Empl!H1623),2),\"\")","v":""}]
[null,null,null,null,null,null,null,null,{"$f":"IF(E1624<>\"\",ROUND((VLOOKUP(E1624,Param!$A$7:$E$13,4,0)*Fonct_Empl!F1624*((Fonct_Empl!G1624/12)))+(VLOOKUP(E1624,Param!$A$7:$E$13,5,0)*Fonct_Empl!H1624),2),\"\")","v":""}]
[null,null,null,null,null,null,null,null,{"$f":"IF(E1625<>\"\",ROUND((VLOOKUP(E1625,Param!$A$7:$E$13,4,0)*Fonct_Empl!F1625*((Fonct_Empl!G1625/12)))+(VLOOKUP(E1625,Param!$A$7:$E$13,5,0)*Fonct_Empl!H1625),2),\"\")","v":""}]
[null,null,null,null,null,null,null,null,{"$f":"IF(E1626<>\"\",ROUND((VLOOKUP(E1626,Param!$A$7:$E$13,4,0)*Fonct_Empl!F1626*((Fonct_Empl!G1626/12)))+(VLOOKUP(E1626,Param!$A$7:$E$13,5,0)*Fonct_Empl!H1626),2),\"\")","v":""}]
[null,null,null,null,null,null,null,null,{"$f":"IF(E1627<>\"\",ROUND((VLOOKUP(E1627,Param!$A$7:$E$13,4,0)*Fonct_Empl!F1627*((Fonct_Empl!G1627/12)))+(VLOOKUP(E1627,Param!$A$7:$E$13,5,0)*Fonct_Empl!H1627),2),\"\")","v":""}]
[null,null,null,null,null,null,null,null,{"$f":"IF(E1628<>\"\",ROUND((VLOOKUP(E1628,Param!$A$7:$E$13,4,0)*Fonct_Empl!F1628*((Fonct_Empl!G1628/12)))+(VLOOKUP(E1628,Param!$A$7:$E$13,5,0)*Fonct_Empl!H1628),2),\"\")","v":""}]
[null,null,null,null,null,null,null,null,{"$f":"IF(E1629<>\"\",ROUND((VLOOKUP(E1629,Param!$A$7:$E$13,4,0)*Fonct_Empl!F1629*((Fonct_Empl!G1629/12)))+(VLOOKUP(E1629,Param!$A$7:$E$13,5,0)*Fonct_Empl!H1629),2),\"\")","v":""}]
[null,null,null,null,null,null,null,null,{"$f":"IF(E1630<>\"\",ROUND((VLOOKUP(E1630,Param!$A$7:$E$13,4,0)*Fonct_Empl!F1630*((Fonct_Empl!G1630/12)))+(VLOOKUP(E1630,Param!$A$7:$E$13,5,0)*Fonct_Empl!H1630),2),\"\")","v":""}]
[null,null,null,null,null,null,null,null,{"$f":"IF(E1631<>\"\",ROUND((VLOOKUP(E1631,Param!$A$7:$E$13,4,0)*Fonct_Empl!F1631*((Fonct_Empl!G1631/12)))+(VLOOKUP(E1631,Param!$A$7:$E$13,5,0)*Fonct_Empl!H1631),2),\"\")","v":""}]
[null,null,null,null,null,null,null,null,{"$f":"IF(E1632<>\"\",ROUND((VLOOKUP(E1632,Param!$A$7:$E$13,4,0)*Fonct_Empl!F1632*((Fonct_Empl!G1632/12)))+(VLOOKUP(E1632,Param!$A$7:$E$13,5,0)*Fonct_Empl!H1632),2),\"\")","v":""}]
[null,null,null,null,null,null,null,null,{"$f":"IF(E1633<>\"\",ROUND((VLOOKUP(E1633,Param!$A$7:$E$13,4,0)*Fonct_Empl!F1633*((Fonct_Empl!G1633/12)))+(VLOOKUP(E1633,Param!$A$7:$E$13,5,0)*Fonct_Empl!H1633),2),\"\")","v":""}]
[null,null,null,null,null,null,null,null,{"$f":"IF(E1634<>\"\",ROUND((VLOOKUP(E1634,Param!$A$7:$E$13,4,0)*Fonct_Empl!F1634*((Fonct_Empl!G1634/12)))+(VLOOKUP(E1634,Param!$A$7:$E$13,5,0)*Fonct_Empl!H1634),2),\"\")","v":""}]
[null,null,null,null,null,null,null,null,{"$f":"IF(E1635<>\"\",ROUND((VLOOKUP(E1635,Param!$A$7:$E$13,4,0)*Fonct_Empl!F1635*((Fonct_Empl!G1635/12)))+(VLOOKUP(E1635,Param!$A$7:$E$13,5,0)*Fonct_Empl!H1635),2),\"\")","v":""}]
[null,null,null,null,null,null,null,null,{"$f":"IF(E1636<>\"\",ROUND((VLOOKUP(E1636,Param!$A$7:$E$13,4,0)*Fonct_Empl!F1636*((Fonct_Empl!G1636/12)))+(VLOOKUP(E1636,Param!$A$7:$E$13,5,0)*Fonct_Empl!H1636),2),\"\")","v":""}]
[null,null,null,null,null,null,null,null,{"$f":"IF(E1637<>\"\",ROUND((VLOOKUP(E1637,Param!$A$7:$E$13,4,0)*Fonct_Empl!F1637*((Fonct_Empl!G1637/12)))+(VLOOKUP(E1637,Param!$A$7:$E$13,5,0)*Fonct_Empl!H1637),2),\"\")","v":""}]
[null,null,null,null,null,null,null,null,{"$f":"IF(E1638<>\"\",ROUND((VLOOKUP(E1638,Param!$A$7:$E$13,4,0)*Fonct_Empl!F1638*((Fonct_Empl!G1638/12)))+(VLOOKUP(E1638,Param!$A$7:$E$13,5,0)*Fonct_Empl!H1638),2),\"\")","v":""}]
[null,null,null,null,null,null,null,null,{"$f":"IF(E1639<>\"\",ROUND((VLOOKUP(E1639,Param!$A$7:$E$13,4,0)*Fonct_Empl!F1639*((Fonct_Empl!G1639/12)))+(VLOOKUP(E1639,Param!$A$7:$E$13,5,0)*Fonct_Empl!H1639),2),\"\")","v":""}]
[null,null,null,null,null,null,null,null,{"$f":"IF(E1640<>\"\",ROUND((VLOOKUP(E1640,Param!$A$7:$E$13,4,0)*Fonct_Empl!F1640*((Fonct_Empl!G1640/12)))+(VLOOKUP(E1640,Param!$A$7:$E$13,5,0)*Fonct_Empl!H1640),2),\"\")","v":""}]
[null,null,null,null,null,null,null,null,{"$f":"IF(E1641<>\"\",ROUND((VLOOKUP(E1641,Param!$A$7:$E$13,4,0)*Fonct_Empl!F1641*((Fonct_Empl!G1641/12)))+(VLOOKUP(E1641,Param!$A$7:$E$13,5,0)*Fonct_Empl!H1641),2),\"\")","v":""}]
[null,null,null,null,null,null,null,null,{"$f":"IF(E1642<>\"\",ROUND((VLOOKUP(E1642,Param!$A$7:$E$13,4,0)*Fonct_Empl!F1642*((Fonct_Empl!G1642/12)))+(VLOOKUP(E1642,Param!$A$7:$E$13,5,0)*Fonct_Empl!H1642),2),\"\")","v":""}]
[null,null,null,null,null,null,null,null,{"$f":"IF(E1643<>\"\",ROUND((VLOOKUP(E1643,Param!$A$7:$E$13,4,0)*Fonct_Empl!F1643*((Fonct_Empl!G1643/12)))+(VLOOKUP(E1643,Param!$A$7:$E$13,5,0)*Fonct_Empl!H1643),2),\"\")","v":""}]
[null,null,null,null,null,null,null,null,{"$f":"IF(E1644<>\"\",ROUND((VLOOKUP(E1644,Param!$A$7:$E$13,4,0)*Fonct_Empl!F1644*((Fonct_Empl!G1644/12)))+(VLOOKUP(E1644,Param!$A$7:$E$13,5,0)*Fonct_Empl!H1644),2),\"\")","v":""}]
[null,null,null,null,null,null,null,null,{"$f":"IF(E1645<>\"\",ROUND((VLOOKUP(E1645,Param!$A$7:$E$13,4,0)*Fonct_Empl!F1645*((Fonct_Empl!G1645/12)))+(VLOOKUP(E1645,Param!$A$7:$E$13,5,0)*Fonct_Empl!H1645),2),\"\")","v":""}]
[null,null,null,null,null,null,null,null,{"$f":"IF(E1646<>\"\",ROUND((VLOOKUP(E1646,Param!$A$7:$E$13,4,0)*Fonct_Empl!F1646*((Fonct_Empl!G1646/12)))+(VLOOKUP(E1646,Param!$A$7:$E$13,5,0)*Fonct_Empl!H1646),2),\"\")","v":""}]
[null,null,null,null,null,null,null,null,{"$f":"IF(E1647<>\"\",ROUND((VLOOKUP(E1647,Param!$A$7:$E$13,4,0)*Fonct_Empl!F1647*((Fonct_Empl!G1647/12)))+(VLOOKUP(E1647,Param!$A$7:$E$13,5,0)*Fonct_Empl!H1647),2),\"\")","v":""}]
[null,null,null,null,null,null,null,null,{"$f":"IF(E1648<>\"\",ROUND((VLOOKUP(E1648,Param!$A$7:$E$13,4,0)*Fonct_Empl!F1648*((Fonct_Empl!G1648/12)))+(VLOOKUP(E1648,Param!$A$7:$E$13,5,0)*Fonct_Empl!H1648),2),\"\")","v":""}]
[null,null,null,null,null,null,null,null,{"$f":"IF(E1649<>\"\",ROUND((VLOOKUP(E1649,Param!$A$7:$E$13,4,0)*Fonct_Empl!F1649*((Fonct_Empl!G1649/12)))+(VLOOKUP(E1649,Param!$A$7:$E$13,5,0)*Fonct_Empl!H1649),2),\"\")","v":""}]
[null,null,null,null,null,null,null,null,{"$f":"IF(E1650<>\"\",ROUND((VLOOKUP(E1650,Param!$A$7:$E$13,4,0)*Fonct_Empl!F1650*((Fonct_Empl!G1650/12)))+(VLOOKUP(E1650,Param!$A$7:$E$13,5,0)*Fonct_Empl!H1650),2),\"\")","v":""}]
[null,null,null,null,null,null,null,null,{"$f":"IF(E1651<>\"\",ROUND((VLOOKUP(E1651,Param!$A$7:$E$13,4,0)*Fonct_Empl!F1651*((Fonct_Empl!G1651/12)))+(VLOOKUP(E1651,Param!$A$7:$E$13,5,0)*Fonct_Empl!H1651),2),\"\")","v":""}]
[null,null,null,null,null,null,null,null,{"$f":"IF(E1652<>\"\",ROUND((VLOOKUP(E1652,Param!$A$7:$E$13,4,0)*Fonct_Empl!F1652*((Fonct_Empl!G1652/12)))+(VLOOKUP(E1652,Param!$A$7:$E$13,5,0)*Fonct_Empl!H1652),2),\"\")","v":""}]
[null,null,null,null,null,null,null,null,{"$f":"IF(E1653<>\"\",ROUND((VLOOKUP(E1653,Param!$A$7:$E$13,4,0)*Fonct_Empl!F1653*((Fonct_Empl!G1653/12)))+(VLOOKUP(E1653,Param!$A$7:$E$13,5,0)*Fonct_Empl!H1653),2),\"\")","v":""}]
[null,null,null,null,null,null,null,null,{"$f":"IF(E1654<>\"\",ROUND((VLOOKUP(E1654,Param!$A$7:$E$13,4,0)*Fonct_Empl!F1654*((Fonct_Empl!G1654/12)))+(VLOOKUP(E1654,Param!$A$7:$E$13,5,0)*Fonct_Empl!H1654),2),\"\")","v":""}]
[null,null,null,null,null,null,null,null,{"$f":"IF(E1655<>\"\",ROUND((VLOOKUP(E1655,Param!$A$7:$E$13,4,0)*Fonct_Empl!F1655*((Fonct_Empl!G1655/12)))+(VLOOKUP(E1655,Param!$A$7:$E$13,5,0)*Fonct_Empl!H1655),2),\"\")","v":""}]
[null,null,null,null,null,null,null,null,{"$f":"IF(E1656<>\"\",ROUND((VLOOKUP(E1656,Param!$A$7:$E$13,4,0)*Fonct_Empl!F1656*((Fonct_Empl!G1656/12)))+(VLOOKUP(E1656,Param!$A$7:$E$13,5,0)*Fonct_Empl!H1656),2),\"\")","v":""}]
[null,null,null,null,null,null,null,null,{"$f":"IF(E1657<>\"\",ROUND((VLOOKUP(E1657,Param!$A$7:$E$13,4,0)*Fonct_Empl!F1657*((Fonct_Empl!G1657/12)))+(VLOOKUP(E1657,Param!$A$7:$E$13,5,0)*Fonct_Empl!H1657),2),\"\")","v":""}]
[null,null,null,null,null,null,null,null,{"$f":"IF(E1658<>\"\",ROUND((VLOOKUP(E1658,Param!$A$7:$E$13,4,0)*Fonct_Empl!F1658*((Fonct_Empl!G1658/12)))+(VLOOKUP(E1658,Param!$A$7:$E$13,5,0)*Fonct_Empl!H1658),2),\"\")","v":""}]
[null,null,null,null,null,null,null,null,{"$f":"IF(E1659<>\"\",ROUND((VLOOKUP(E1659,Param!$A$7:$E$13,4,0)*Fonct_Empl!F1659*((Fonct_Empl!G1659/12)))+(VLOOKUP(E1659,Param!$A$7:$E$13,5,0)*Fonct_Empl!H1659),2),\"\")","v":""}]
[null,null,null,null,null,null,null,null,{"$f":"IF(E1660<>\"\",ROUND((VLOOKUP(E1660,Param!$A$7:$E$13,4,0)*Fonct_Empl!F1660*((Fonct_Empl!G1660/12)))+(VLOOKUP(E1660,Param!$A$7:$E$13,5,0)*Fonct_Empl!H1660),2),\"\")","v":""}]
[null,null,null,null,null,null,null,null,{"$f":"IF(E1661<>\"\",ROUND((VLOOKUP(E1661,Param!$A$7:$E$13,4,0)*Fonct_Empl!F1661*((Fonct_Empl!G1661/12)))+(VLOOKUP(E1661,Param!$A$7:$E$13,5,0)*Fonct_Empl!H1661),2),\"\")","v":""}]
[null,null,null,null,null,null,null,null,{"$f":"IF(E1662<>\"\",ROUND((VLOOKUP(E1662,Param!$A$7:$E$13,4,0)*Fonct_Empl!F1662*((Fonct_Empl!G1662/12)))+(VLOOKUP(E1662,Param!$A$7:$E$13,5,0)*Fonct_Empl!H1662),2),\"\")","v":""}]
[null,null,null,null,null,null,null,null,{"$f":"IF(E1663<>\"\",ROUND((VLOOKUP(E1663,Param!$A$7:$E$13,4,0)*Fonct_Empl!F1663*((Fonct_Empl!G1663/12)))+(VLOOKUP(E1663,Param!$A$7:$E$13,5,0)*Fonct_Empl!H1663),2),\"\")","v":""}]
[null,null,null,null,null,null,null,null,{"$f":"IF(E1664<>\"\",ROUND((VLOOKUP(E1664,Param!$A$7:$E$13,4,0)*Fonct_Empl!F1664*((Fonct_Empl!G1664/12)))+(VLOOKUP(E1664,Param!$A$7:$E$13,5,0)*Fonct_Empl!H1664),2),\"\")","v":""}]
[null,null,null,null,null,null,null,null,{"$f":"IF(E1665<>\"\",ROUND((VLOOKUP(E1665,Param!$A$7:$E$13,4,0)*Fonct_Empl!F1665*((Fonct_Empl!G1665/12)))+(VLOOKUP(E1665,Param!$A$7:$E$13,5,0)*Fonct_Empl!H1665),2),\"\")","v":""}]
[null,null,null,null,null,null,null,null,{"$f":"IF(E1666<>\"\",ROUND((VLOOKUP(E1666,Param!$A$7:$E$13,4,0)*Fonct_Empl!F1666*((Fonct_Empl!G1666/12)))+(VLOOKUP(E1666,Param!$A$7:$E$13,5,0)*Fonct_Empl!H1666),2),\"\")","v":""}]
[null,null,null,null,null,null,null,null,{"$f":"IF(E1667<>\"\",ROUND((VLOOKUP(E1667,Param!$A$7:$E$13,4,0)*Fonct_Empl!F1667*((Fonct_Empl!G1667/12)))+(VLOOKUP(E1667,Param!$A$7:$E$13,5,0)*Fonct_Empl!H1667),2),\"\")","v":""}]
[null,null,null,null,null,null,null,null,{"$f":"IF(E1668<>\"\",ROUND((VLOOKUP(E1668,Param!$A$7:$E$13,4,0)*Fonct_Empl!F1668*((Fonct_Empl!G1668/12)))+(VLOOKUP(E1668,Param!$A$7:$E$13,5,0)*Fonct_Empl!H1668),2),\"\")","v":""}]
[null,null,null,null,null,null,null,null,{"$f":"IF(E1669<>\"\",ROUND((VLOOKUP(E1669,Param!$A$7:$E$13,4,0)*Fonct_Empl!F1669*((Fonct_Empl!G1669/12)))+(VLOOKUP(E1669,Param!$A$7:$E$13,5,0)*Fonct_Empl!H1669),2),\"\")","v":""}]
[null,null,null,null,null,null,null,null,{"$f":"IF(E1670<>\"\",ROUND((VLOOKUP(E1670,Param!$A$7:$E$13,4,0)*Fonct_Empl!F1670*((Fonct_Empl!G1670/12)))+(VLOOKUP(E1670,Param!$A$7:$E$13,5,0)*Fonct_Empl!H1670),2),\"\")","v":""}]
[null,null,null,null,null,null,null,null,{"$f":"IF(E1671<>\"\",ROUND((VLOOKUP(E1671,Param!$A$7:$E$13,4,0)*Fonct_Empl!F1671*((Fonct_Empl!G1671/12)))+(VLOOKUP(E1671,Param!$A$7:$E$13,5,0)*Fonct_Empl!H1671),2),\"\")","v":""}]
[null,null,null,null,null,null,null,null,{"$f":"IF(E1672<>\"\",ROUND((VLOOKUP(E1672,Param!$A$7:$E$13,4,0)*Fonct_Empl!F1672*((Fonct_Empl!G1672/12)))+(VLOOKUP(E1672,Param!$A$7:$E$13,5,0)*Fonct_Empl!H1672),2),\"\")","v":""}]
[null,null,null,null,null,null,null,null,{"$f":"IF(E1673<>\"\",ROUND((VLOOKUP(E1673,Param!$A$7:$E$13,4,0)*Fonct_Empl!F1673*((Fonct_Empl!G1673/12)))+(VLOOKUP(E1673,Param!$A$7:$E$13,5,0)*Fonct_Empl!H1673),2),\"\")","v":""}]
[null,null,null,null,null,null,null,null,{"$f":"IF(E1674<>\"\",ROUND((VLOOKUP(E1674,Param!$A$7:$E$13,4,0)*Fonct_Empl!F1674*((Fonct_Empl!G1674/12)))+(VLOOKUP(E1674,Param!$A$7:$E$13,5,0)*Fonct_Empl!H1674),2),\"\")","v":""}]
[null,null,null,null,null,null,null,null,{"$f":"IF(E1675<>\"\",ROUND((VLOOKUP(E1675,Param!$A$7:$E$13,4,0)*Fonct_Empl!F1675*((Fonct_Empl!G1675/12)))+(VLOOKUP(E1675,Param!$A$7:$E$13,5,0)*Fonct_Empl!H1675),2),\"\")","v":""}]
[null,null,null,null,null,null,null,null,{"$f":"IF(E1676<>\"\",ROUND((VLOOKUP(E1676,Param!$A$7:$E$13,4,0)*Fonct_Empl!F1676*((Fonct_Empl!G1676/12)))+(VLOOKUP(E1676,Param!$A$7:$E$13,5,0)*Fonct_Empl!H1676),2),\"\")","v":""}]
[null,null,null,null,null,null,null,null,{"$f":"IF(E1677<>\"\",ROUND((VLOOKUP(E1677,Param!$A$7:$E$13,4,0)*Fonct_Empl!F1677*((Fonct_Empl!G1677/12)))+(VLOOKUP(E1677,Param!$A$7:$E$13,5,0)*Fonct_Empl!H1677),2),\"\")","v":""}]
[null,null,null,null,null,null,null,null,{"$f":"IF(E1678<>\"\",ROUND((VLOOKUP(E1678,Param!$A$7:$E$13,4,0)*Fonct_Empl!F1678*((Fonct_Empl!G1678/12)))+(VLOOKUP(E1678,Param!$A$7:$E$13,5,0)*Fonct_Empl!H1678),2),\"\")","v":""}]
[null,null,null,null,null,null,null,null,{"$f":"IF(E1679<>\"\",ROUND((VLOOKUP(E1679,Param!$A$7:$E$13,4,0)*Fonct_Empl!F1679*((Fonct_Empl!G1679/12)))+(VLOOKUP(E1679,Param!$A$7:$E$13,5,0)*Fonct_Empl!H1679),2),\"\")","v":""}]
[null,null,null,null,null,null,null,null,{"$f":"IF(E1680<>\"\",ROUND((VLOOKUP(E1680,Param!$A$7:$E$13,4,0)*Fonct_Empl!F1680*((Fonct_Empl!G1680/12)))+(VLOOKUP(E1680,Param!$A$7:$E$13,5,0)*Fonct_Empl!H1680),2),\"\")","v":""}]
[null,null,null,null,null,null,null,null,{"$f":"IF(E1681<>\"\",ROUND((VLOOKUP(E1681,Param!$A$7:$E$13,4,0)*Fonct_Empl!F1681*((Fonct_Empl!G1681/12)))+(VLOOKUP(E1681,Param!$A$7:$E$13,5,0)*Fonct_Empl!H1681),2),\"\")","v":""}]
[null,null,null,null,null,null,null,null,{"$f":"IF(E1682<>\"\",ROUND((VLOOKUP(E1682,Param!$A$7:$E$13,4,0)*Fonct_Empl!F1682*((Fonct_Empl!G1682/12)))+(VLOOKUP(E1682,Param!$A$7:$E$13,5,0)*Fonct_Empl!H1682),2),\"\")","v":""}]
[null,null,null,null,null,null,null,null,{"$f":"IF(E1683<>\"\",ROUND((VLOOKUP(E1683,Param!$A$7:$E$13,4,0)*Fonct_Empl!F1683*((Fonct_Empl!G1683/12)))+(VLOOKUP(E1683,Param!$A$7:$E$13,5,0)*Fonct_Empl!H1683),2),\"\")","v":""}]
[null,null,null,null,null,null,null,null,{"$f":"IF(E1684<>\"\",ROUND((VLOOKUP(E1684,Param!$A$7:$E$13,4,0)*Fonct_Empl!F1684*((Fonct_Empl!G1684/12)))+(VLOOKUP(E1684,Param!$A$7:$E$13,5,0)*Fonct_Empl!H1684),2),\"\")","v":""}]
[null,null,null,null,null,null,null,null,{"$f":"IF(E1685<>\"\",ROUND((VLOOKUP(E1685,Param!$A$7:$E$13,4,0)*Fonct_Empl!F1685*((Fonct_Empl!G1685/12)))+(VLOOKUP(E1685,Param!$A$7:$E$13,5,0)*Fonct_Empl!H1685),2),\"\")","v":""}]
[null,null,null,null,null,null,null,null,{"$f":"IF(E1686<>\"\",ROUND((VLOOKUP(E1686,Param!$A$7:$E$13,4,0)*Fonct_Empl!F1686*((Fonct_Empl!G1686/12)))+(VLOOKUP(E1686,Param!$A$7:$E$13,5,0)*Fonct_Empl!H1686),2),\"\")","v":""}]
[null,null,null,null,null,null,null,null,{"$f":"IF(E1687<>\"\",ROUND((VLOOKUP(E1687,Param!$A$7:$E$13,4,0)*Fonct_Empl!F1687*((Fonct_Empl!G1687/12)))+(VLOOKUP(E1687,Param!$A$7:$E$13,5,0)*Fonct_Empl!H1687),2),\"\")","v":""}]
[null,null,null,null,null,null,null,null,{"$f":"IF(E1688<>\"\",ROUND((VLOOKUP(E1688,Param!$A$7:$E$13,4,0)*Fonct_Empl!F1688*((Fonct_Empl!G1688/12)))+(VLOOKUP(E1688,Param!$A$7:$E$13,5,0)*Fonct_Empl!H1688),2),\"\")","v":""}]
[null,null,null,null,null,null,null,null,{"$f":"IF(E1689<>\"\",ROUND((VLOOKUP(E1689,Param!$A$7:$E$13,4,0)*Fonct_Empl!F1689*((Fonct_Empl!G1689/12)))+(VLOOKUP(E1689,Param!$A$7:$E$13,5,0)*Fonct_Empl!H1689),2),\"\")","v":""}]
[null,null,null,null,null,null,null,null,{"$f":"IF(E1690<>\"\",ROUND((VLOOKUP(E1690,Param!$A$7:$E$13,4,0)*Fonct_Empl!F1690*((Fonct_Empl!G1690/12)))+(VLOOKUP(E1690,Param!$A$7:$E$13,5,0)*Fonct_Empl!H1690),2),\"\")","v":""}]
[null,null,null,null,null,null,null,null,{"$f":"IF(E1691<>\"\",ROUND((VLOOKUP(E1691,Param!$A$7:$E$13,4,0)*Fonct_Empl!F1691*((Fonct_Empl!G1691/12)))+(VLOOKUP(E1691,Param!$A$7:$E$13,5,0)*Fonct_Empl!H1691),2),\"\")","v":""}]
[null,null,null,null,null,null,null,null,{"$f":"IF(E1692<>\"\",ROUND((VLOOKUP(E1692,Param!$A$7:$E$13,4,0)*Fonct_Empl!F1692*((Fonct_Empl!G1692/12)))+(VLOOKUP(E1692,Param!$A$7:$E$13,5,0)*Fonct_Empl!H1692),2),\"\")","v":""}]
[null,null,null,null,null,null,null,null,{"$f":"IF(E1693<>\"\",ROUND((VLOOKUP(E1693,Param!$A$7:$E$13,4,0)*Fonct_Empl!F1693*((Fonct_Empl!G1693/12)))+(VLOOKUP(E1693,Param!$A$7:$E$13,5,0)*Fonct_Empl!H1693),2),\"\")","v":""}]
[null,null,null,null,null,null,null,null,{"$f":"IF(E1694<>\"\",ROUND((VLOOKUP(E1694,Param!$A$7:$E$13,4,0)*Fonct_Empl!F1694*((Fonct_Empl!G1694/12)))+(VLOOKUP(E1694,Param!$A$7:$E$13,5,0)*Fonct_Empl!H1694),2),\"\")","v":""}]
[null,null,null,null,null,null,null,null,{"$f":"IF(E1695<>\"\",ROUND((VLOOKUP(E1695,Param!$A$7:$E$13,4,0)*Fonct_Empl!F1695*((Fonct_Empl!G1695/12)))+(VLOOKUP(E1695,Param!$A$7:$E$13,5,0)*Fonct_Empl!H1695),2),\"\")","v":""}]
[null,null,null,null,null,null,null,null,{"$f":"IF(E1696<>\"\",ROUND((VLOOKUP(E1696,Param!$A$7:$E$13,4,0)*Fonct_Empl!F1696*((Fonct_Empl!G1696/12)))+(VLOOKUP(E1696,Param!$A$7:$E$13,5,0)*Fonct_Empl!H1696),2),\"\")","v":""}]
[null,null,null,null,null,null,null,null,{"$f":"IF(E1697<>\"\",ROUND((VLOOKUP(E1697,Param!$A$7:$E$13,4,0)*Fonct_Empl!F1697*((Fonct_Empl!G1697/12)))+(VLOOKUP(E1697,Param!$A$7:$E$13,5,0)*Fonct_Empl!H1697),2),\"\")","v":""}]
[null,null,null,null,null,null,null,null,{"$f":"IF(E1698<>\"\",ROUND((VLOOKUP(E1698,Param!$A$7:$E$13,4,0)*Fonct_Empl!F1698*((Fonct_Empl!G1698/12)))+(VLOOKUP(E1698,Param!$A$7:$E$13,5,0)*Fonct_Empl!H1698),2),\"\")","v":""}]
[null,null,null,null,null,null,null,null,{"$f":"IF(E1699<>\"\",ROUND((VLOOKUP(E1699,Param!$A$7:$E$13,4,0)*Fonct_Empl!F1699*((Fonct_Empl!G1699/12)))+(VLOOKUP(E1699,Param!$A$7:$E$13,5,0)*Fonct_Empl!H1699),2),\"\")","v":""}]
[null,null,null,null,null,null,null,null,{"$f":"IF(E1700<>\"\",ROUND((VLOOKUP(E1700,Param!$A$7:$E$13,4,0)*Fonct_Empl!F1700*((Fonct_Empl!G1700/12)))+(VLOOKUP(E1700,Param!$A$7:$E$13,5,0)*Fonct_Empl!H1700),2),\"\")","v":""}]
[null,null,null,null,null,null,null,null,{"$f":"IF(E1701<>\"\",ROUND((VLOOKUP(E1701,Param!$A$7:$E$13,4,0)*Fonct_Empl!F1701*((Fonct_Empl!G1701/12)))+(VLOOKUP(E1701,Param!$A$7:$E$13,5,0)*Fonct_Empl!H1701),2),\"\")","v":""}]
[null,null,null,null,null,null,null,null,{"$f":"IF(E1702<>\"\",ROUND((VLOOKUP(E1702,Param!$A$7:$E$13,4,0)*Fonct_Empl!F1702*((Fonct_Empl!G1702/12)))+(VLOOKUP(E1702,Param!$A$7:$E$13,5,0)*Fonct_Empl!H1702),2),\"\")","v":""}]
[null,null,null,null,null,null,null,null,{"$f":"IF(E1703<>\"\",ROUND((VLOOKUP(E1703,Param!$A$7:$E$13,4,0)*Fonct_Empl!F1703*((Fonct_Empl!G1703/12)))+(VLOOKUP(E1703,Param!$A$7:$E$13,5,0)*Fonct_Empl!H1703),2),\"\")","v":""}]
[null,null,null,null,null,null,null,null,{"$f":"IF(E1704<>\"\",ROUND((VLOOKUP(E1704,Param!$A$7:$E$13,4,0)*Fonct_Empl!F1704*((Fonct_Empl!G1704/12)))+(VLOOKUP(E1704,Param!$A$7:$E$13,5,0)*Fonct_Empl!H1704),2),\"\")","v":""}]
[null,null,null,null,null,null,null,null,{"$f":"IF(E1705<>\"\",ROUND((VLOOKUP(E1705,Param!$A$7:$E$13,4,0)*Fonct_Empl!F1705*((Fonct_Empl!G1705/12)))+(VLOOKUP(E1705,Param!$A$7:$E$13,5,0)*Fonct_Empl!H1705),2),\"\")","v":""}]
[null,null,null,null,null,null,null,null,{"$f":"IF(E1706<>\"\",ROUND((VLOOKUP(E1706,Param!$A$7:$E$13,4,0)*Fonct_Empl!F1706*((Fonct_Empl!G1706/12)))+(VLOOKUP(E1706,Param!$A$7:$E$13,5,0)*Fonct_Empl!H1706),2),\"\")","v":""}]
[null,null,null,null,null,null,null,null,{"$f":"IF(E1707<>\"\",ROUND((VLOOKUP(E1707,Param!$A$7:$E$13,4,0)*Fonct_Empl!F1707*((Fonct_Empl!G1707/12)))+(VLOOKUP(E1707,Param!$A$7:$E$13,5,0)*Fonct_Empl!H1707),2),\"\")","v":""}]
[null,null,null,null,null,null,null,null,{"$f":"IF(E1708<>\"\",ROUND((VLOOKUP(E1708,Param!$A$7:$E$13,4,0)*Fonct_Empl!F1708*((Fonct_Empl!G1708/12)))+(VLOOKUP(E1708,Param!$A$7:$E$13,5,0)*Fonct_Empl!H1708),2),\"\")","v":""}]
[null,null,null,null,null,null,null,null,{"$f":"IF(E1709<>\"\",ROUND((VLOOKUP(E1709,Param!$A$7:$E$13,4,0)*Fonct_Empl!F1709*((Fonct_Empl!G1709/12)))+(VLOOKUP(E1709,Param!$A$7:$E$13,5,0)*Fonct_Empl!H1709),2),\"\")","v":""}]
[null,null,null,null,null,null,null,null,{"$f":"IF(E1710<>\"\",ROUND((VLOOKUP(E1710,Param!$A$7:$E$13,4,0)*Fonct_Empl!F1710*((Fonct_Empl!G1710/12)))+(VLOOKUP(E1710,Param!$A$7:$E$13,5,0)*Fonct_Empl!H1710),2),\"\")","v":""}]
[null,null,null,null,null,null,null,null,{"$f":"IF(E1711<>\"\",ROUND((VLOOKUP(E1711,Param!$A$7:$E$13,4,0)*Fonct_Empl!F1711*((Fonct_Empl!G1711/12)))+(VLOOKUP(E1711,Param!$A$7:$E$13,5,0)*Fonct_Empl!H1711),2),\"\")","v":""}]
[null,null,null,null,null,null,null,null,{"$f":"IF(E1712<>\"\",ROUND((VLOOKUP(E1712,Param!$A$7:$E$13,4,0)*Fonct_Empl!F1712*((Fonct_Empl!G1712/12)))+(VLOOKUP(E1712,Param!$A$7:$E$13,5,0)*Fonct_Empl!H1712),2),\"\")","v":""}]
[null,null,null,null,null,null,null,null,{"$f":"IF(E1713<>\"\",ROUND((VLOOKUP(E1713,Param!$A$7:$E$13,4,0)*Fonct_Empl!F1713*((Fonct_Empl!G1713/12)))+(VLOOKUP(E1713,Param!$A$7:$E$13,5,0)*Fonct_Empl!H1713),2),\"\")","v":""}]
[null,null,null,null,null,null,null,null,{"$f":"IF(E1714<>\"\",ROUND((VLOOKUP(E1714,Param!$A$7:$E$13,4,0)*Fonct_Empl!F1714*((Fonct_Empl!G1714/12)))+(VLOOKUP(E1714,Param!$A$7:$E$13,5,0)*Fonct_Empl!H1714),2),\"\")","v":""}]
[null,null,null,null,null,null,null,null,{"$f":"IF(E1715<>\"\",ROUND((VLOOKUP(E1715,Param!$A$7:$E$13,4,0)*Fonct_Empl!F1715*((Fonct_Empl!G1715/12)))+(VLOOKUP(E1715,Param!$A$7:$E$13,5,0)*Fonct_Empl!H1715),2),\"\")","v":""}]
[null,null,null,null,null,null,null,null,{"$f":"IF(E1716<>\"\",ROUND((VLOOKUP(E1716,Param!$A$7:$E$13,4,0)*Fonct_Empl!F1716*((Fonct_Empl!G1716/12)))+(VLOOKUP(E1716,Param!$A$7:$E$13,5,0)*Fonct_Empl!H1716),2),\"\")","v":""}]
[null,null,null,null,null,null,null,null,{"$f":"IF(E1717<>\"\",ROUND((VLOOKUP(E1717,Param!$A$7:$E$13,4,0)*Fonct_Empl!F1717*((Fonct_Empl!G1717/12)))+(VLOOKUP(E1717,Param!$A$7:$E$13,5,0)*Fonct_Empl!H1717),2),\"\")","v":""}]
[null,null,null,null,null,null,null,null,{"$f":"IF(E1718<>\"\",ROUND((VLOOKUP(E1718,Param!$A$7:$E$13,4,0)*Fonct_Empl!F1718*((Fonct_Empl!G1718/12)))+(VLOOKUP(E1718,Param!$A$7:$E$13,5,0)*Fonct_Empl!H1718),2),\"\")","v":""}]
[null,null,null,null,null,null,null,null,{"$f":"IF(E1719<>\"\",ROUND((VLOOKUP(E1719,Param!$A$7:$E$13,4,0)*Fonct_Empl!F1719*((Fonct_Empl!G1719/12)))+(VLOOKUP(E1719,Param!$A$7:$E$13,5,0)*Fonct_Empl!H1719),2),\"\")","v":""}]
[null,null,null,null,null,null,null,null,{"$f":"IF(E1720<>\"\",ROUND((VLOOKUP(E1720,Param!$A$7:$E$13,4,0)*Fonct_Empl!F1720*((Fonct_Empl!G1720/12)))+(VLOOKUP(E1720,Param!$A$7:$E$13,5,0)*Fonct_Empl!H1720),2),\"\")","v":""}]
[null,null,null,null,null,null,null,null,{"$f":"IF(E1721<>\"\",ROUND((VLOOKUP(E1721,Param!$A$7:$E$13,4,0)*Fonct_Empl!F1721*((Fonct_Empl!G1721/12)))+(VLOOKUP(E1721,Param!$A$7:$E$13,5,0)*Fonct_Empl!H1721),2),\"\")","v":""}]
[null,null,null,null,null,null,null,null,{"$f":"IF(E1722<>\"\",ROUND((VLOOKUP(E1722,Param!$A$7:$E$13,4,0)*Fonct_Empl!F1722*((Fonct_Empl!G1722/12)))+(VLOOKUP(E1722,Param!$A$7:$E$13,5,0)*Fonct_Empl!H1722),2),\"\")","v":""}]
[null,null,null,null,null,null,null,null,{"$f":"IF(E1723<>\"\",ROUND((VLOOKUP(E1723,Param!$A$7:$E$13,4,0)*Fonct_Empl!F1723*((Fonct_Empl!G1723/12)))+(VLOOKUP(E1723,Param!$A$7:$E$13,5,0)*Fonct_Empl!H1723),2),\"\")","v":""}]
[null,null,null,null,null,null,null,null,{"$f":"IF(E1724<>\"\",ROUND((VLOOKUP(E1724,Param!$A$7:$E$13,4,0)*Fonct_Empl!F1724*((Fonct_Empl!G1724/12)))+(VLOOKUP(E1724,Param!$A$7:$E$13,5,0)*Fonct_Empl!H1724),2),\"\")","v":""}]
[null,null,null,null,null,null,null,null,{"$f":"IF(E1725<>\"\",ROUND((VLOOKUP(E1725,Param!$A$7:$E$13,4,0)*Fonct_Empl!F1725*((Fonct_Empl!G1725/12)))+(VLOOKUP(E1725,Param!$A$7:$E$13,5,0)*Fonct_Empl!H1725),2),\"\")","v":""}]
[null,null,null,null,null,null,null,null,{"$f":"IF(E1726<>\"\",ROUND((VLOOKUP(E1726,Param!$A$7:$E$13,4,0)*Fonct_Empl!F1726*((Fonct_Empl!G1726/12)))+(VLOOKUP(E1726,Param!$A$7:$E$13,5,0)*Fonct_Empl!H1726),2),\"\")","v":""}]
[null,null,null,null,null,null,null,null,{"$f":"IF(E1727<>\"\",ROUND((VLOOKUP(E1727,Param!$A$7:$E$13,4,0)*Fonct_Empl!F1727*((Fonct_Empl!G1727/12)))+(VLOOKUP(E1727,Param!$A$7:$E$13,5,0)*Fonct_Empl!H1727),2),\"\")","v":""}]
[null,null,null,null,null,null,null,null,{"$f":"IF(E1728<>\"\",ROUND((VLOOKUP(E1728,Param!$A$7:$E$13,4,0)*Fonct_Empl!F1728*((Fonct_Empl!G1728/12)))+(VLOOKUP(E1728,Param!$A$7:$E$13,5,0)*Fonct_Empl!H1728),2),\"\")","v":""}]
[null,null,null,null,null,null,null,null,{"$f":"IF(E1729<>\"\",ROUND((VLOOKUP(E1729,Param!$A$7:$E$13,4,0)*Fonct_Empl!F1729*((Fonct_Empl!G1729/12)))+(VLOOKUP(E1729,Param!$A$7:$E$13,5,0)*Fonct_Empl!H1729),2),\"\")","v":""}]
[null,null,null,null,null,null,null,null,{"$f":"IF(E1730<>\"\",ROUND((VLOOKUP(E1730,Param!$A$7:$E$13,4,0)*Fonct_Empl!F1730*((Fonct_Empl!G1730/12)))+(VLOOKUP(E1730,Param!$A$7:$E$13,5,0)*Fonct_Empl!H1730),2),\"\")","v":""}]
[null,null,null,null,null,null,null,null,{"$f":"IF(E1731<>\"\",ROUND((VLOOKUP(E1731,Param!$A$7:$E$13,4,0)*Fonct_Empl!F1731*((Fonct_Empl!G1731/12)))+(VLOOKUP(E1731,Param!$A$7:$E$13,5,0)*Fonct_Empl!H1731),2),\"\")","v":""}]
[null,null,null,null,null,null,null,null,{"$f":"IF(E1732<>\"\",ROUND((VLOOKUP(E1732,Param!$A$7:$E$13,4,0)*Fonct_Empl!F1732*((Fonct_Empl!G1732/12)))+(VLOOKUP(E1732,Param!$A$7:$E$13,5,0)*Fonct_Empl!H1732),2),\"\")","v":""}]
[null,null,null,null,null,null,null,null,{"$f":"IF(E1733<>\"\",ROUND((VLOOKUP(E1733,Param!$A$7:$E$13,4,0)*Fonct_Empl!F1733*((Fonct_Empl!G1733/12)))+(VLOOKUP(E1733,Param!$A$7:$E$13,5,0)*Fonct_Empl!H1733),2),\"\")","v":""}]
[null,null,null,null,null,null,null,null,{"$f":"IF(E1734<>\"\",ROUND((VLOOKUP(E1734,Param!$A$7:$E$13,4,0)*Fonct_Empl!F1734*((Fonct_Empl!G1734/12)))+(VLOOKUP(E1734,Param!$A$7:$E$13,5,0)*Fonct_Empl!H1734),2),\"\")","v":""}]
[null,null,null,null,null,null,null,null,{"$f":"IF(E1735<>\"\",ROUND((VLOOKUP(E1735,Param!$A$7:$E$13,4,0)*Fonct_Empl!F1735*((Fonct_Empl!G1735/12)))+(VLOOKUP(E1735,Param!$A$7:$E$13,5,0)*Fonct_Empl!H1735),2),\"\")","v":""}]
[null,null,null,null,null,null,null,null,{"$f":"IF(E1736<>\"\",ROUND((VLOOKUP(E1736,Param!$A$7:$E$13,4,0)*Fonct_Empl!F1736*((Fonct_Empl!G1736/12)))+(VLOOKUP(E1736,Param!$A$7:$E$13,5,0)*Fonct_Empl!H1736),2),\"\")","v":""}]
[null,null,null,null,null,null,null,null,{"$f":"IF(E1737<>\"\",ROUND((VLOOKUP(E1737,Param!$A$7:$E$13,4,0)*Fonct_Empl!F1737*((Fonct_Empl!G1737/12)))+(VLOOKUP(E1737,Param!$A$7:$E$13,5,0)*Fonct_Empl!H1737),2),\"\")","v":""}]
[null,null,null,null,null,null,null,null,{"$f":"IF(E1738<>\"\",ROUND((VLOOKUP(E1738,Param!$A$7:$E$13,4,0)*Fonct_Empl!F1738*((Fonct_Empl!G1738/12)))+(VLOOKUP(E1738,Param!$A$7:$E$13,5,0)*Fonct_Empl!H1738),2),\"\")","v":""}]
[null,null,null,null,null,null,null,null,{"$f":"IF(E1739<>\"\",ROUND((VLOOKUP(E1739,Param!$A$7:$E$13,4,0)*Fonct_Empl!F1739*((Fonct_Empl!G1739/12)))+(VLOOKUP(E1739,Param!$A$7:$E$13,5,0)*Fonct_Empl!H1739),2),\"\")","v":""}]
[null,null,null,null,null,null,null,null,{"$f":"IF(E1740<>\"\",ROUND((VLOOKUP(E1740,Param!$A$7:$E$13,4,0)*Fonct_Empl!F1740*((Fonct_Empl!G1740/12)))+(VLOOKUP(E1740,Param!$A$7:$E$13,5,0)*Fonct_Empl!H1740),2),\"\")","v":""}]
[null,null,null,null,null,null,null,null,{"$f":"IF(E1741<>\"\",ROUND((VLOOKUP(E1741,Param!$A$7:$E$13,4,0)*Fonct_Empl!F1741*((Fonct_Empl!G1741/12)))+(VLOOKUP(E1741,Param!$A$7:$E$13,5,0)*Fonct_Empl!H1741),2),\"\")","v":""}]
[null,null,null,null,null,null,null,null,{"$f":"IF(E1742<>\"\",ROUND((VLOOKUP(E1742,Param!$A$7:$E$13,4,0)*Fonct_Empl!F1742*((Fonct_Empl!G1742/12)))+(VLOOKUP(E1742,Param!$A$7:$E$13,5,0)*Fonct_Empl!H1742),2),\"\")","v":""}]
[null,null,null,null,null,null,null,null,{"$f":"IF(E1743<>\"\",ROUND((VLOOKUP(E1743,Param!$A$7:$E$13,4,0)*Fonct_Empl!F1743*((Fonct_Empl!G1743/12)))+(VLOOKUP(E1743,Param!$A$7:$E$13,5,0)*Fonct_Empl!H1743),2),\"\")","v":""}]
[null,null,null,null,null,null,null,null,{"$f":"IF(E1744<>\"\",ROUND((VLOOKUP(E1744,Param!$A$7:$E$13,4,0)*Fonct_Empl!F1744*((Fonct_Empl!G1744/12)))+(VLOOKUP(E1744,Param!$A$7:$E$13,5,0)*Fonct_Empl!H1744),2),\"\")","v":""}]
[null,null,null,null,null,null,null,null,{"$f":"IF(E1745<>\"\",ROUND((VLOOKUP(E1745,Param!$A$7:$E$13,4,0)*Fonct_Empl!F1745*((Fonct_Empl!G1745/12)))+(VLOOKUP(E1745,Param!$A$7:$E$13,5,0)*Fonct_Empl!H1745),2),\"\")","v":""}]
[null,null,null,null,null,null,null,null,{"$f":"IF(E1746<>\"\",ROUND((VLOOKUP(E1746,Param!$A$7:$E$13,4,0)*Fonct_Empl!F1746*((Fonct_Empl!G1746/12)))+(VLOOKUP(E1746,Param!$A$7:$E$13,5,0)*Fonct_Empl!H1746),2),\"\")","v":""}]
[null,null,null,null,null,null,null,null,{"$f":"IF(E1747<>\"\",ROUND((VLOOKUP(E1747,Param!$A$7:$E$13,4,0)*Fonct_Empl!F1747*((Fonct_Empl!G1747/12)))+(VLOOKUP(E1747,Param!$A$7:$E$13,5,0)*Fonct_Empl!H1747),2),\"\")","v":""}]
[null,null,null,null,null,null,null,null,{"$f":"IF(E1748<>\"\",ROUND((VLOOKUP(E1748,Param!$A$7:$E$13,4,0)*Fonct_Empl!F1748*((Fonct_Empl!G1748/12)))+(VLOOKUP(E1748,Param!$A$7:$E$13,5,0)*Fonct_Empl!H1748),2),\"\")","v":""}]
[null,null,null,null,null,null,null,null,{"$f":"IF(E1749<>\"\",ROUND((VLOOKUP(E1749,Param!$A$7:$E$13,4,0)*Fonct_Empl!F1749*((Fonct_Empl!G1749/12)))+(VLOOKUP(E1749,Param!$A$7:$E$13,5,0)*Fonct_Empl!H1749),2),\"\")","v":""}]
[null,null,null,null,null,null,null,null,{"$f":"IF(E1750<>\"\",ROUND((VLOOKUP(E1750,Param!$A$7:$E$13,4,0)*Fonct_Empl!F1750*((Fonct_Empl!G1750/12)))+(VLOOKUP(E1750,Param!$A$7:$E$13,5,0)*Fonct_Empl!H1750),2),\"\")","v":""}]
[null,null,null,null,null,null,null,null,{"$f":"IF(E1751<>\"\",ROUND((VLOOKUP(E1751,Param!$A$7:$E$13,4,0)*Fonct_Empl!F1751*((Fonct_Empl!G1751/12)))+(VLOOKUP(E1751,Param!$A$7:$E$13,5,0)*Fonct_Empl!H1751),2),\"\")","v":""}]
[null,null,null,null,null,null,null,null,{"$f":"IF(E1752<>\"\",ROUND((VLOOKUP(E1752,Param!$A$7:$E$13,4,0)*Fonct_Empl!F1752*((Fonct_Empl!G1752/12)))+(VLOOKUP(E1752,Param!$A$7:$E$13,5,0)*Fonct_Empl!H1752),2),\"\")","v":""}]
[null,null,null,null,null,null,null,null,{"$f":"IF(E1753<>\"\",ROUND((VLOOKUP(E1753,Param!$A$7:$E$13,4,0)*Fonct_Empl!F1753*((Fonct_Empl!G1753/12)))+(VLOOKUP(E1753,Param!$A$7:$E$13,5,0)*Fonct_Empl!H1753),2),\"\")","v":""}]
[null,null,null,null,null,null,null,null,{"$f":"IF(E1754<>\"\",ROUND((VLOOKUP(E1754,Param!$A$7:$E$13,4,0)*Fonct_Empl!F1754*((Fonct_Empl!G1754/12)))+(VLOOKUP(E1754,Param!$A$7:$E$13,5,0)*Fonct_Empl!H1754),2),\"\")","v":""}]
[null,null,null,null,null,null,null,null,{"$f":"IF(E1755<>\"\",ROUND((VLOOKUP(E1755,Param!$A$7:$E$13,4,0)*Fonct_Empl!F1755*((Fonct_Empl!G1755/12)))+(VLOOKUP(E1755,Param!$A$7:$E$13,5,0)*Fonct_Empl!H1755),2),\"\")","v":""}]
[null,null,null,null,null,null,null,null,{"$f":"IF(E1756<>\"\",ROUND((VLOOKUP(E1756,Param!$A$7:$E$13,4,0)*Fonct_Empl!F1756*((Fonct_Empl!G1756/12)))+(VLOOKUP(E1756,Param!$A$7:$E$13,5,0)*Fonct_Empl!H1756),2),\"\")","v":""}]
[null,null,null,null,null,null,null,null,{"$f":"IF(E1757<>\"\",ROUND((VLOOKUP(E1757,Param!$A$7:$E$13,4,0)*Fonct_Empl!F1757*((Fonct_Empl!G1757/12)))+(VLOOKUP(E1757,Param!$A$7:$E$13,5,0)*Fonct_Empl!H1757),2),\"\")","v":""}]
[null,null,null,null,null,null,null,null,{"$f":"IF(E1758<>\"\",ROUND((VLOOKUP(E1758,Param!$A$7:$E$13,4,0)*Fonct_Empl!F1758*((Fonct_Empl!G1758/12)))+(VLOOKUP(E1758,Param!$A$7:$E$13,5,0)*Fonct_Empl!H1758),2),\"\")","v":""}]
[null,null,null,null,null,null,null,null,{"$f":"IF(E1759<>\"\",ROUND((VLOOKUP(E1759,Param!$A$7:$E$13,4,0)*Fonct_Empl!F1759*((Fonct_Empl!G1759/12)))+(VLOOKUP(E1759,Param!$A$7:$E$13,5,0)*Fonct_Empl!H1759),2),\"\")","v":""}]
[null,null,null,null,null,null,null,null,{"$f":"IF(E1760<>\"\",ROUND((VLOOKUP(E1760,Param!$A$7:$E$13,4,0)*Fonct_Empl!F1760*((Fonct_Empl!G1760/12)))+(VLOOKUP(E1760,Param!$A$7:$E$13,5,0)*Fonct_Empl!H1760),2),\"\")","v":""}]
[null,null,null,null,null,null,null,null,{"$f":"IF(E1761<>\"\",ROUND((VLOOKUP(E1761,Param!$A$7:$E$13,4,0)*Fonct_Empl!F1761*((Fonct_Empl!G1761/12)))+(VLOOKUP(E1761,Param!$A$7:$E$13,5,0)*Fonct_Empl!H1761),2),\"\")","v":""}]
[null,null,null,null,null,null,null,null,{"$f":"IF(E1762<>\"\",ROUND((VLOOKUP(E1762,Param!$A$7:$E$13,4,0)*Fonct_Empl!F1762*((Fonct_Empl!G1762/12)))+(VLOOKUP(E1762,Param!$A$7:$E$13,5,0)*Fonct_Empl!H1762),2),\"\")","v":""}]
[null,null,null,null,null,null,null,null,{"$f":"IF(E1763<>\"\",ROUND((VLOOKUP(E1763,Param!$A$7:$E$13,4,0)*Fonct_Empl!F1763*((Fonct_Empl!G1763/12)))+(VLOOKUP(E1763,Param!$A$7:$E$13,5,0)*Fonct_Empl!H1763),2),\"\")","v":""}]
[null,null,null,null,null,null,null,null,{"$f":"IF(E1764<>\"\",ROUND((VLOOKUP(E1764,Param!$A$7:$E$13,4,0)*Fonct_Empl!F1764*((Fonct_Empl!G1764/12)))+(VLOOKUP(E1764,Param!$A$7:$E$13,5,0)*Fonct_Empl!H1764),2),\"\")","v":""}]
[null,null,null,null,null,null,null,null,{"$f":"IF(E1765<>\"\",ROUND((VLOOKUP(E1765,Param!$A$7:$E$13,4,0)*Fonct_Empl!F1765*((Fonct_Empl!G1765/12)))+(VLOOKUP(E1765,Param!$A$7:$E$13,5,0)*Fonct_Empl!H1765),2),\"\")","v":""}]
[null,null,null,null,null,null,null,null,{"$f":"IF(E1766<>\"\",ROUND((VLOOKUP(E1766,Param!$A$7:$E$13,4,0)*Fonct_Empl!F1766*((Fonct_Empl!G1766/12)))+(VLOOKUP(E1766,Param!$A$7:$E$13,5,0)*Fonct_Empl!H1766),2),\"\")","v":""}]
[null,null,null,null,null,null,null,null,{"$f":"IF(E1767<>\"\",ROUND((VLOOKUP(E1767,Param!$A$7:$E$13,4,0)*Fonct_Empl!F1767*((Fonct_Empl!G1767/12)))+(VLOOKUP(E1767,Param!$A$7:$E$13,5,0)*Fonct_Empl!H1767),2),\"\")","v":""}]
[null,null,null,null,null,null,null,null,{"$f":"IF(E1768<>\"\",ROUND((VLOOKUP(E1768,Param!$A$7:$E$13,4,0)*Fonct_Empl!F1768*((Fonct_Empl!G1768/12)))+(VLOOKUP(E1768,Param!$A$7:$E$13,5,0)*Fonct_Empl!H1768),2),\"\")","v":""}]
[null,null,null,null,null,null,null,null,{"$f":"IF(E1769<>\"\",ROUND((VLOOKUP(E1769,Param!$A$7:$E$13,4,0)*Fonct_Empl!F1769*((Fonct_Empl!G1769/12)))+(VLOOKUP(E1769,Param!$A$7:$E$13,5,0)*Fonct_Empl!H1769),2),\"\")","v":""}]
[null,null,null,null,null,null,null,null,{"$f":"IF(E1770<>\"\",ROUND((VLOOKUP(E1770,Param!$A$7:$E$13,4,0)*Fonct_Empl!F1770*((Fonct_Empl!G1770/12)))+(VLOOKUP(E1770,Param!$A$7:$E$13,5,0)*Fonct_Empl!H1770),2),\"\")","v":""}]
[null,null,null,null,null,null,null,null,{"$f":"IF(E1771<>\"\",ROUND((VLOOKUP(E1771,Param!$A$7:$E$13,4,0)*Fonct_Empl!F1771*((Fonct_Empl!G1771/12)))+(VLOOKUP(E1771,Param!$A$7:$E$13,5,0)*Fonct_Empl!H1771),2),\"\")","v":""}]
[null,null,null,null,null,null,null,null,{"$f":"IF(E1772<>\"\",ROUND((VLOOKUP(E1772,Param!$A$7:$E$13,4,0)*Fonct_Empl!F1772*((Fonct_Empl!G1772/12)))+(VLOOKUP(E1772,Param!$A$7:$E$13,5,0)*Fonct_Empl!H1772),2),\"\")","v":""}]
[null,null,null,null,null,null,null,null,{"$f":"IF(E1773<>\"\",ROUND((VLOOKUP(E1773,Param!$A$7:$E$13,4,0)*Fonct_Empl!F1773*((Fonct_Empl!G1773/12)))+(VLOOKUP(E1773,Param!$A$7:$E$13,5,0)*Fonct_Empl!H1773),2),\"\")","v":""}]
[null,null,null,null,null,null,null,null,{"$f":"IF(E1774<>\"\",ROUND((VLOOKUP(E1774,Param!$A$7:$E$13,4,0)*Fonct_Empl!F1774*((Fonct_Empl!G1774/12)))+(VLOOKUP(E1774,Param!$A$7:$E$13,5,0)*Fonct_Empl!H1774),2),\"\")","v":""}]
[null,null,null,null,null,null,null,null,{"$f":"IF(E1775<>\"\",ROUND((VLOOKUP(E1775,Param!$A$7:$E$13,4,0)*Fonct_Empl!F1775*((Fonct_Empl!G1775/12)))+(VLOOKUP(E1775,Param!$A$7:$E$13,5,0)*Fonct_Empl!H1775),2),\"\")","v":""}]
[null,null,null,null,null,null,null,null,{"$f":"IF(E1776<>\"\",ROUND((VLOOKUP(E1776,Param!$A$7:$E$13,4,0)*Fonct_Empl!F1776*((Fonct_Empl!G1776/12)))+(VLOOKUP(E1776,Param!$A$7:$E$13,5,0)*Fonct_Empl!H1776),2),\"\")","v":""}]
[null,null,null,null,null,null,null,null,{"$f":"IF(E1777<>\"\",ROUND((VLOOKUP(E1777,Param!$A$7:$E$13,4,0)*Fonct_Empl!F1777*((Fonct_Empl!G1777/12)))+(VLOOKUP(E1777,Param!$A$7:$E$13,5,0)*Fonct_Empl!H1777),2),\"\")","v":""}]
[null,null,null,null,null,null,null,null,{"$f":"IF(E1778<>\"\",ROUND((VLOOKUP(E1778,Param!$A$7:$E$13,4,0)*Fonct_Empl!F1778*((Fonct_Empl!G1778/12)))+(VLOOKUP(E1778,Param!$A$7:$E$13,5,0)*Fonct_Empl!H1778),2),\"\")","v":""}]
[null,null,null,null,null,null,null,null,{"$f":"IF(E1779<>\"\",ROUND((VLOOKUP(E1779,Param!$A$7:$E$13,4,0)*Fonct_Empl!F1779*((Fonct_Empl!G1779/12)))+(VLOOKUP(E1779,Param!$A$7:$E$13,5,0)*Fonct_Empl!H1779),2),\"\")","v":""}]
[null,null,null,null,null,null,null,null,{"$f":"IF(E1780<>\"\",ROUND((VLOOKUP(E1780,Param!$A$7:$E$13,4,0)*Fonct_Empl!F1780*((Fonct_Empl!G1780/12)))+(VLOOKUP(E1780,Param!$A$7:$E$13,5,0)*Fonct_Empl!H1780),2),\"\")","v":""}]
[null,null,null,null,null,null,null,null,{"$f":"IF(E1781<>\"\",ROUND((VLOOKUP(E1781,Param!$A$7:$E$13,4,0)*Fonct_Empl!F1781*((Fonct_Empl!G1781/12)))+(VLOOKUP(E1781,Param!$A$7:$E$13,5,0)*Fonct_Empl!H1781),2),\"\")","v":""}]
[null,null,null,null,null,null,null,null,{"$f":"IF(E1782<>\"\",ROUND((VLOOKUP(E1782,Param!$A$7:$E$13,4,0)*Fonct_Empl!F1782*((Fonct_Empl!G1782/12)))+(VLOOKUP(E1782,Param!$A$7:$E$13,5,0)*Fonct_Empl!H1782),2),\"\")","v":""}]
[null,null,null,null,null,null,null,null,{"$f":"IF(E1783<>\"\",ROUND((VLOOKUP(E1783,Param!$A$7:$E$13,4,0)*Fonct_Empl!F1783*((Fonct_Empl!G1783/12)))+(VLOOKUP(E1783,Param!$A$7:$E$13,5,0)*Fonct_Empl!H1783),2),\"\")","v":""}]
[null,null,null,null,null,null,null,null,{"$f":"IF(E1784<>\"\",ROUND((VLOOKUP(E1784,Param!$A$7:$E$13,4,0)*Fonct_Empl!F1784*((Fonct_Empl!G1784/12)))+(VLOOKUP(E1784,Param!$A$7:$E$13,5,0)*Fonct_Empl!H1784),2),\"\")","v":""}]
[null,null,null,null,null,null,null,null,{"$f":"IF(E1785<>\"\",ROUND((VLOOKUP(E1785,Param!$A$7:$E$13,4,0)*Fonct_Empl!F1785*((Fonct_Empl!G1785/12)))+(VLOOKUP(E1785,Param!$A$7:$E$13,5,0)*Fonct_Empl!H1785),2),\"\")","v":""}]
[null,null,null,null,null,null,null,null,{"$f":"IF(E1786<>\"\",ROUND((VLOOKUP(E1786,Param!$A$7:$E$13,4,0)*Fonct_Empl!F1786*((Fonct_Empl!G1786/12)))+(VLOOKUP(E1786,Param!$A$7:$E$13,5,0)*Fonct_Empl!H1786),2),\"\")","v":""}]
[null,null,null,null,null,null,null,null,{"$f":"IF(E1787<>\"\",ROUND((VLOOKUP(E1787,Param!$A$7:$E$13,4,0)*Fonct_Empl!F1787*((Fonct_Empl!G1787/12)))+(VLOOKUP(E1787,Param!$A$7:$E$13,5,0)*Fonct_Empl!H1787),2),\"\")","v":""}]
[null,null,null,null,null,null,null,null,{"$f":"IF(E1788<>\"\",ROUND((VLOOKUP(E1788,Param!$A$7:$E$13,4,0)*Fonct_Empl!F1788*((Fonct_Empl!G1788/12)))+(VLOOKUP(E1788,Param!$A$7:$E$13,5,0)*Fonct_Empl!H1788),2),\"\")","v":""}]
[null,null,null,null,null,null,null,null,{"$f":"IF(E1789<>\"\",ROUND((VLOOKUP(E1789,Param!$A$7:$E$13,4,0)*Fonct_Empl!F1789*((Fonct_Empl!G1789/12)))+(VLOOKUP(E1789,Param!$A$7:$E$13,5,0)*Fonct_Empl!H1789),2),\"\")","v":""}]
[null,null,null,null,null,null,null,null,{"$f":"IF(E1790<>\"\",ROUND((VLOOKUP(E1790,Param!$A$7:$E$13,4,0)*Fonct_Empl!F1790*((Fonct_Empl!G1790/12)))+(VLOOKUP(E1790,Param!$A$7:$E$13,5,0)*Fonct_Empl!H1790),2),\"\")","v":""}]
[null,null,null,null,null,null,null,null,{"$f":"IF(E1791<>\"\",ROUND((VLOOKUP(E1791,Param!$A$7:$E$13,4,0)*Fonct_Empl!F1791*((Fonct_Empl!G1791/12)))+(VLOOKUP(E1791,Param!$A$7:$E$13,5,0)*Fonct_Empl!H1791),2),\"\")","v":""}]
[null,null,null,null,null,null,null,null,{"$f":"IF(E1792<>\"\",ROUND((VLOOKUP(E1792,Param!$A$7:$E$13,4,0)*Fonct_Empl!F1792*((Fonct_Empl!G1792/12)))+(VLOOKUP(E1792,Param!$A$7:$E$13,5,0)*Fonct_Empl!H1792),2),\"\")","v":""}]
[null,null,null,null,null,null,null,null,{"$f":"IF(E1793<>\"\",ROUND((VLOOKUP(E1793,Param!$A$7:$E$13,4,0)*Fonct_Empl!F1793*((Fonct_Empl!G1793/12)))+(VLOOKUP(E1793,Param!$A$7:$E$13,5,0)*Fonct_Empl!H1793),2),\"\")","v":""}]
[null,null,null,null,null,null,null,null,{"$f":"IF(E1794<>\"\",ROUND((VLOOKUP(E1794,Param!$A$7:$E$13,4,0)*Fonct_Empl!F1794*((Fonct_Empl!G1794/12)))+(VLOOKUP(E1794,Param!$A$7:$E$13,5,0)*Fonct_Empl!H1794),2),\"\")","v":""}]
[null,null,null,null,null,null,null,null,{"$f":"IF(E1795<>\"\",ROUND((VLOOKUP(E1795,Param!$A$7:$E$13,4,0)*Fonct_Empl!F1795*((Fonct_Empl!G1795/12)))+(VLOOKUP(E1795,Param!$A$7:$E$13,5,0)*Fonct_Empl!H1795),2),\"\")","v":""}]
[null,null,null,null,null,null,null,null,{"$f":"IF(E1796<>\"\",ROUND((VLOOKUP(E1796,Param!$A$7:$E$13,4,0)*Fonct_Empl!F1796*((Fonct_Empl!G1796/12)))+(VLOOKUP(E1796,Param!$A$7:$E$13,5,0)*Fonct_Empl!H1796),2),\"\")","v":""}]
[null,null,null,null,null,null,null,null,{"$f":"IF(E1797<>\"\",ROUND((VLOOKUP(E1797,Param!$A$7:$E$13,4,0)*Fonct_Empl!F1797*((Fonct_Empl!G1797/12)))+(VLOOKUP(E1797,Param!$A$7:$E$13,5,0)*Fonct_Empl!H1797),2),\"\")","v":""}]
[null,null,null,null,null,null,null,null,{"$f":"IF(E1798<>\"\",ROUND((VLOOKUP(E1798,Param!$A$7:$E$13,4,0)*Fonct_Empl!F1798*((Fonct_Empl!G1798/12)))+(VLOOKUP(E1798,Param!$A$7:$E$13,5,0)*Fonct_Empl!H1798),2),\"\")","v":""}]
[null,null,null,null,null,null,null,null,{"$f":"IF(E1799<>\"\",ROUND((VLOOKUP(E1799,Param!$A$7:$E$13,4,0)*Fonct_Empl!F1799*((Fonct_Empl!G1799/12)))+(VLOOKUP(E1799,Param!$A$7:$E$13,5,0)*Fonct_Empl!H1799),2),\"\")","v":""}]
[null,null,null,null,null,null,null,null,{"$f":"IF(E1800<>\"\",ROUND((VLOOKUP(E1800,Param!$A$7:$E$13,4,0)*Fonct_Empl!F1800*((Fonct_Empl!G1800/12)))+(VLOOKUP(E1800,Param!$A$7:$E$13,5,0)*Fonct_Empl!H1800),2),\"\")","v":""}]
[null,null,null,null,null,null,null,null,{"$f":"IF(E1801<>\"\",ROUND((VLOOKUP(E1801,Param!$A$7:$E$13,4,0)*Fonct_Empl!F1801*((Fonct_Empl!G1801/12)))+(VLOOKUP(E1801,Param!$A$7:$E$13,5,0)*Fonct_Empl!H1801),2),\"\")","v":""}]
[null,null,null,null,null,null,null,null,{"$f":"IF(E1802<>\"\",ROUND((VLOOKUP(E1802,Param!$A$7:$E$13,4,0)*Fonct_Empl!F1802*((Fonct_Empl!G1802/12)))+(VLOOKUP(E1802,Param!$A$7:$E$13,5,0)*Fonct_Empl!H1802),2),\"\")","v":""}]
[null,null,null,null,null,null,null,null,{"$f":"IF(E1803<>\"\",ROUND((VLOOKUP(E1803,Param!$A$7:$E$13,4,0)*Fonct_Empl!F1803*((Fonct_Empl!G1803/12)))+(VLOOKUP(E1803,Param!$A$7:$E$13,5,0)*Fonct_Empl!H1803),2),\"\")","v":""}]
[null,null,null,null,null,null,null,null,{"$f":"IF(E1804<>\"\",ROUND((VLOOKUP(E1804,Param!$A$7:$E$13,4,0)*Fonct_Empl!F1804*((Fonct_Empl!G1804/12)))+(VLOOKUP(E1804,Param!$A$7:$E$13,5,0)*Fonct_Empl!H1804),2),\"\")","v":""}]
[null,null,null,null,null,null,null,null,{"$f":"IF(E1805<>\"\",ROUND((VLOOKUP(E1805,Param!$A$7:$E$13,4,0)*Fonct_Empl!F1805*((Fonct_Empl!G1805/12)))+(VLOOKUP(E1805,Param!$A$7:$E$13,5,0)*Fonct_Empl!H1805),2),\"\")","v":""}]
[null,null,null,null,null,null,null,null,{"$f":"IF(E1806<>\"\",ROUND((VLOOKUP(E1806,Param!$A$7:$E$13,4,0)*Fonct_Empl!F1806*((Fonct_Empl!G1806/12)))+(VLOOKUP(E1806,Param!$A$7:$E$13,5,0)*Fonct_Empl!H1806),2),\"\")","v":""}]
[null,null,null,null,null,null,null,null,{"$f":"IF(E1807<>\"\",ROUND((VLOOKUP(E1807,Param!$A$7:$E$13,4,0)*Fonct_Empl!F1807*((Fonct_Empl!G1807/12)))+(VLOOKUP(E1807,Param!$A$7:$E$13,5,0)*Fonct_Empl!H1807),2),\"\")","v":""}]
[null,null,null,null,null,null,null,null,{"$f":"IF(E1808<>\"\",ROUND((VLOOKUP(E1808,Param!$A$7:$E$13,4,0)*Fonct_Empl!F1808*((Fonct_Empl!G1808/12)))+(VLOOKUP(E1808,Param!$A$7:$E$13,5,0)*Fonct_Empl!H1808),2),\"\")","v":""}]
[null,null,null,null,null,null,null,null,{"$f":"IF(E1809<>\"\",ROUND((VLOOKUP(E1809,Param!$A$7:$E$13,4,0)*Fonct_Empl!F1809*((Fonct_Empl!G1809/12)))+(VLOOKUP(E1809,Param!$A$7:$E$13,5,0)*Fonct_Empl!H1809),2),\"\")","v":""}]
[null,null,null,null,null,null,null,null,{"$f":"IF(E1810<>\"\",ROUND((VLOOKUP(E1810,Param!$A$7:$E$13,4,0)*Fonct_Empl!F1810*((Fonct_Empl!G1810/12)))+(VLOOKUP(E1810,Param!$A$7:$E$13,5,0)*Fonct_Empl!H1810),2),\"\")","v":""}]
[null,null,null,null,null,null,null,null,{"$f":"IF(E1811<>\"\",ROUND((VLOOKUP(E1811,Param!$A$7:$E$13,4,0)*Fonct_Empl!F1811*((Fonct_Empl!G1811/12)))+(VLOOKUP(E1811,Param!$A$7:$E$13,5,0)*Fonct_Empl!H1811),2),\"\")","v":""}]
[null,null,null,null,null,null,null,null,{"$f":"IF(E1812<>\"\",ROUND((VLOOKUP(E1812,Param!$A$7:$E$13,4,0)*Fonct_Empl!F1812*((Fonct_Empl!G1812/12)))+(VLOOKUP(E1812,Param!$A$7:$E$13,5,0)*Fonct_Empl!H1812),2),\"\")","v":""}]
[null,null,null,null,null,null,null,null,{"$f":"IF(E1813<>\"\",ROUND((VLOOKUP(E1813,Param!$A$7:$E$13,4,0)*Fonct_Empl!F1813*((Fonct_Empl!G1813/12)))+(VLOOKUP(E1813,Param!$A$7:$E$13,5,0)*Fonct_Empl!H1813),2),\"\")","v":""}]
[null,null,null,null,null,null,null,null,{"$f":"IF(E1814<>\"\",ROUND((VLOOKUP(E1814,Param!$A$7:$E$13,4,0)*Fonct_Empl!F1814*((Fonct_Empl!G1814/12)))+(VLOOKUP(E1814,Param!$A$7:$E$13,5,0)*Fonct_Empl!H1814),2),\"\")","v":""}]
[null,null,null,null,null,null,null,null,{"$f":"IF(E1815<>\"\",ROUND((VLOOKUP(E1815,Param!$A$7:$E$13,4,0)*Fonct_Empl!F1815*((Fonct_Empl!G1815/12)))+(VLOOKUP(E1815,Param!$A$7:$E$13,5,0)*Fonct_Empl!H1815),2),\"\")","v":""}]
[null,null,null,null,null,null,null,null,{"$f":"IF(E1816<>\"\",ROUND((VLOOKUP(E1816,Param!$A$7:$E$13,4,0)*Fonct_Empl!F1816*((Fonct_Empl!G1816/12)))+(VLOOKUP(E1816,Param!$A$7:$E$13,5,0)*Fonct_Empl!H1816),2),\"\")","v":""}]
[null,null,null,null,null,null,null,null,{"$f":"IF(E1817<>\"\",ROUND((VLOOKUP(E1817,Param!$A$7:$E$13,4,0)*Fonct_Empl!F1817*((Fonct_Empl!G1817/12)))+(VLOOKUP(E1817,Param!$A$7:$E$13,5,0)*Fonct_Empl!H1817),2),\"\")","v":""}]
[null,null,null,null,null,null,null,null,{"$f":"IF(E1818<>\"\",ROUND((VLOOKUP(E1818,Param!$A$7:$E$13,4,0)*Fonct_Empl!F1818*((Fonct_Empl!G1818/12)))+(VLOOKUP(E1818,Param!$A$7:$E$13,5,0)*Fonct_Empl!H1818),2),\"\")","v":""}]
[null,null,null,null,null,null,null,null,{"$f":"IF(E1819<>\"\",ROUND((VLOOKUP(E1819,Param!$A$7:$E$13,4,0)*Fonct_Empl!F1819*((Fonct_Empl!G1819/12)))+(VLOOKUP(E1819,Param!$A$7:$E$13,5,0)*Fonct_Empl!H1819),2),\"\")","v":""}]
[null,null,null,null,null,null,null,null,{"$f":"IF(E1820<>\"\",ROUND((VLOOKUP(E1820,Param!$A$7:$E$13,4,0)*Fonct_Empl!F1820*((Fonct_Empl!G1820/12)))+(VLOOKUP(E1820,Param!$A$7:$E$13,5,0)*Fonct_Empl!H1820),2),\"\")","v":""}]
[null,null,null,null,null,null,null,null,{"$f":"IF(E1821<>\"\",ROUND((VLOOKUP(E1821,Param!$A$7:$E$13,4,0)*Fonct_Empl!F1821*((Fonct_Empl!G1821/12)))+(VLOOKUP(E1821,Param!$A$7:$E$13,5,0)*Fonct_Empl!H1821),2),\"\")","v":""}]
[null,null,null,null,null,null,null,null,{"$f":"IF(E1822<>\"\",ROUND((VLOOKUP(E1822,Param!$A$7:$E$13,4,0)*Fonct_Empl!F1822*((Fonct_Empl!G1822/12)))+(VLOOKUP(E1822,Param!$A$7:$E$13,5,0)*Fonct_Empl!H1822),2),\"\")","v":""}]
[null,null,null,null,null,null,null,null,{"$f":"IF(E1823<>\"\",ROUND((VLOOKUP(E1823,Param!$A$7:$E$13,4,0)*Fonct_Empl!F1823*((Fonct_Empl!G1823/12)))+(VLOOKUP(E1823,Param!$A$7:$E$13,5,0)*Fonct_Empl!H1823),2),\"\")","v":""}]
[null,null,null,null,null,null,null,null,{"$f":"IF(E1824<>\"\",ROUND((VLOOKUP(E1824,Param!$A$7:$E$13,4,0)*Fonct_Empl!F1824*((Fonct_Empl!G1824/12)))+(VLOOKUP(E1824,Param!$A$7:$E$13,5,0)*Fonct_Empl!H1824),2),\"\")","v":""}]
[null,null,null,null,null,null,null,null,{"$f":"IF(E1825<>\"\",ROUND((VLOOKUP(E1825,Param!$A$7:$E$13,4,0)*Fonct_Empl!F1825*((Fonct_Empl!G1825/12)))+(VLOOKUP(E1825,Param!$A$7:$E$13,5,0)*Fonct_Empl!H1825),2),\"\")","v":""}]
[null,null,null,null,null,null,null,null,{"$f":"IF(E1826<>\"\",ROUND((VLOOKUP(E1826,Param!$A$7:$E$13,4,0)*Fonct_Empl!F1826*((Fonct_Empl!G1826/12)))+(VLOOKUP(E1826,Param!$A$7:$E$13,5,0)*Fonct_Empl!H1826),2),\"\")","v":""}]
[null,null,null,null,null,null,null,null,{"$f":"IF(E1827<>\"\",ROUND((VLOOKUP(E1827,Param!$A$7:$E$13,4,0)*Fonct_Empl!F1827*((Fonct_Empl!G1827/12)))+(VLOOKUP(E1827,Param!$A$7:$E$13,5,0)*Fonct_Empl!H1827),2),\"\")","v":""}]
[null,null,null,null,null,null,null,null,{"$f":"IF(E1828<>\"\",ROUND((VLOOKUP(E1828,Param!$A$7:$E$13,4,0)*Fonct_Empl!F1828*((Fonct_Empl!G1828/12)))+(VLOOKUP(E1828,Param!$A$7:$E$13,5,0)*Fonct_Empl!H1828),2),\"\")","v":""}]
[null,null,null,null,null,null,null,null,{"$f":"IF(E1829<>\"\",ROUND((VLOOKUP(E1829,Param!$A$7:$E$13,4,0)*Fonct_Empl!F1829*((Fonct_Empl!G1829/12)))+(VLOOKUP(E1829,Param!$A$7:$E$13,5,0)*Fonct_Empl!H1829),2),\"\")","v":""}]
[null,null,null,null,null,null,null,null,{"$f":"IF(E1830<>\"\",ROUND((VLOOKUP(E1830,Param!$A$7:$E$13,4,0)*Fonct_Empl!F1830*((Fonct_Empl!G1830/12)))+(VLOOKUP(E1830,Param!$A$7:$E$13,5,0)*Fonct_Empl!H1830),2),\"\")","v":""}]
[null,null,null,null,null,null,null,null,{"$f":"IF(E1831<>\"\",ROUND((VLOOKUP(E1831,Param!$A$7:$E$13,4,0)*Fonct_Empl!F1831*((Fonct_Empl!G1831/12)))+(VLOOKUP(E1831,Param!$A$7:$E$13,5,0)*Fonct_Empl!H1831),2),\"\")","v":""}]
[null,null,null,null,null,null,null,null,{"$f":"IF(E1832<>\"\",ROUND((VLOOKUP(E1832,Param!$A$7:$E$13,4,0)*Fonct_Empl!F1832*((Fonct_Empl!G1832/12)))+(VLOOKUP(E1832,Param!$A$7:$E$13,5,0)*Fonct_Empl!H1832),2),\"\")","v":""}]
[null,null,null,null,null,null,null,null,{"$f":"IF(E1833<>\"\",ROUND((VLOOKUP(E1833,Param!$A$7:$E$13,4,0)*Fonct_Empl!F1833*((Fonct_Empl!G1833/12)))+(VLOOKUP(E1833,Param!$A$7:$E$13,5,0)*Fonct_Empl!H1833),2),\"\")","v":""}]
[null,null,null,null,null,null,null,null,{"$f":"IF(E1834<>\"\",ROUND((VLOOKUP(E1834,Param!$A$7:$E$13,4,0)*Fonct_Empl!F1834*((Fonct_Empl!G1834/12)))+(VLOOKUP(E1834,Param!$A$7:$E$13,5,0)*Fonct_Empl!H1834),2),\"\")","v":""}]
[null,null,null,null,null,null,null,null,{"$f":"IF(E1835<>\"\",ROUND((VLOOKUP(E1835,Param!$A$7:$E$13,4,0)*Fonct_Empl!F1835*((Fonct_Empl!G1835/12)))+(VLOOKUP(E1835,Param!$A$7:$E$13,5,0)*Fonct_Empl!H1835),2),\"\")","v":""}]
[null,null,null,null,null,null,null,null,{"$f":"IF(E1836<>\"\",ROUND((VLOOKUP(E1836,Param!$A$7:$E$13,4,0)*Fonct_Empl!F1836*((Fonct_Empl!G1836/12)))+(VLOOKUP(E1836,Param!$A$7:$E$13,5,0)*Fonct_Empl!H1836),2),\"\")","v":""}]
[null,null,null,null,null,null,null,null,{"$f":"IF(E1837<>\"\",ROUND((VLOOKUP(E1837,Param!$A$7:$E$13,4,0)*Fonct_Empl!F1837*((Fonct_Empl!G1837/12)))+(VLOOKUP(E1837,Param!$A$7:$E$13,5,0)*Fonct_Empl!H1837),2),\"\")","v":""}]
[null,null,null,null,null,null,null,null,{"$f":"IF(E1838<>\"\",ROUND((VLOOKUP(E1838,Param!$A$7:$E$13,4,0)*Fonct_Empl!F1838*((Fonct_Empl!G1838/12)))+(VLOOKUP(E1838,Param!$A$7:$E$13,5,0)*Fonct_Empl!H1838),2),\"\")","v":""}]
[null,null,null,null,null,null,null,null,{"$f":"IF(E1839<>\"\",ROUND((VLOOKUP(E1839,Param!$A$7:$E$13,4,0)*Fonct_Empl!F1839*((Fonct_Empl!G1839/12)))+(VLOOKUP(E1839,Param!$A$7:$E$13,5,0)*Fonct_Empl!H1839),2),\"\")","v":""}]
[null,null,null,null,null,null,null,null,{"$f":"IF(E1840<>\"\",ROUND((VLOOKUP(E1840,Param!$A$7:$E$13,4,0)*Fonct_Empl!F1840*((Fonct_Empl!G1840/12)))+(VLOOKUP(E1840,Param!$A$7:$E$13,5,0)*Fonct_Empl!H1840),2),\"\")","v":""}]
[null,null,null,null,null,null,null,null,{"$f":"IF(E1841<>\"\",ROUND((VLOOKUP(E1841,Param!$A$7:$E$13,4,0)*Fonct_Empl!F1841*((Fonct_Empl!G1841/12)))+(VLOOKUP(E1841,Param!$A$7:$E$13,5,0)*Fonct_Empl!H1841),2),\"\")","v":""}]
[null,null,null,null,null,null,null,null,{"$f":"IF(E1842<>\"\",ROUND((VLOOKUP(E1842,Param!$A$7:$E$13,4,0)*Fonct_Empl!F1842*((Fonct_Empl!G1842/12)))+(VLOOKUP(E1842,Param!$A$7:$E$13,5,0)*Fonct_Empl!H1842),2),\"\")","v":""}]
[null,null,null,null,null,null,null,null,{"$f":"IF(E1843<>\"\",ROUND((VLOOKUP(E1843,Param!$A$7:$E$13,4,0)*Fonct_Empl!F1843*((Fonct_Empl!G1843/12)))+(VLOOKUP(E1843,Param!$A$7:$E$13,5,0)*Fonct_Empl!H1843),2),\"\")","v":""}]
[null,null,null,null,null,null,null,null,{"$f":"IF(E1844<>\"\",ROUND((VLOOKUP(E1844,Param!$A$7:$E$13,4,0)*Fonct_Empl!F1844*((Fonct_Empl!G1844/12)))+(VLOOKUP(E1844,Param!$A$7:$E$13,5,0)*Fonct_Empl!H1844),2),\"\")","v":""}]
[null,null,null,null,null,null,null,null,{"$f":"IF(E1845<>\"\",ROUND((VLOOKUP(E1845,Param!$A$7:$E$13,4,0)*Fonct_Empl!F1845*((Fonct_Empl!G1845/12)))+(VLOOKUP(E1845,Param!$A$7:$E$13,5,0)*Fonct_Empl!H1845),2),\"\")","v":""}]
[null,null,null,null,null,null,null,null,{"$f":"IF(E1846<>\"\",ROUND((VLOOKUP(E1846,Param!$A$7:$E$13,4,0)*Fonct_Empl!F1846*((Fonct_Empl!G1846/12)))+(VLOOKUP(E1846,Param!$A$7:$E$13,5,0)*Fonct_Empl!H1846),2),\"\")","v":""}]
[null,null,null,null,null,null,null,null,{"$f":"IF(E1847<>\"\",ROUND((VLOOKUP(E1847,Param!$A$7:$E$13,4,0)*Fonct_Empl!F1847*((Fonct_Empl!G1847/12)))+(VLOOKUP(E1847,Param!$A$7:$E$13,5,0)*Fonct_Empl!H1847),2),\"\")","v":""}]
[null,null,null,null,null,null,null,null,{"$f":"IF(E1848<>\"\",ROUND((VLOOKUP(E1848,Param!$A$7:$E$13,4,0)*Fonct_Empl!F1848*((Fonct_Empl!G1848/12)))+(VLOOKUP(E1848,Param!$A$7:$E$13,5,0)*Fonct_Empl!H1848),2),\"\")","v":""}]
[null,null,null,null,null,null,null,null,{"$f":"IF(E1849<>\"\",ROUND((VLOOKUP(E1849,Param!$A$7:$E$13,4,0)*Fonct_Empl!F1849*((Fonct_Empl!G1849/12)))+(VLOOKUP(E1849,Param!$A$7:$E$13,5,0)*Fonct_Empl!H1849),2),\"\")","v":""}]
[null,null,null,null,null,null,null,null,{"$f":"IF(E1850<>\"\",ROUND((VLOOKUP(E1850,Param!$A$7:$E$13,4,0)*Fonct_Empl!F1850*((Fonct_Empl!G1850/12)))+(VLOOKUP(E1850,Param!$A$7:$E$13,5,0)*Fonct_Empl!H1850),2),\"\")","v":""}]
[null,null,null,null,null,null,null,null,{"$f":"IF(E1851<>\"\",ROUND((VLOOKUP(E1851,Param!$A$7:$E$13,4,0)*Fonct_Empl!F1851*((Fonct_Empl!G1851/12)))+(VLOOKUP(E1851,Param!$A$7:$E$13,5,0)*Fonct_Empl!H1851),2),\"\")","v":""}]
[null,null,null,null,null,null,null,null,{"$f":"IF(E1852<>\"\",ROUND((VLOOKUP(E1852,Param!$A$7:$E$13,4,0)*Fonct_Empl!F1852*((Fonct_Empl!G1852/12)))+(VLOOKUP(E1852,Param!$A$7:$E$13,5,0)*Fonct_Empl!H1852),2),\"\")","v":""}]
[null,null,null,null,null,null,null,null,{"$f":"IF(E1853<>\"\",ROUND((VLOOKUP(E1853,Param!$A$7:$E$13,4,0)*Fonct_Empl!F1853*((Fonct_Empl!G1853/12)))+(VLOOKUP(E1853,Param!$A$7:$E$13,5,0)*Fonct_Empl!H1853),2),\"\")","v":""}]
[null,null,null,null,null,null,null,null,{"$f":"IF(E1854<>\"\",ROUND((VLOOKUP(E1854,Param!$A$7:$E$13,4,0)*Fonct_Empl!F1854*((Fonct_Empl!G1854/12)))+(VLOOKUP(E1854,Param!$A$7:$E$13,5,0)*Fonct_Empl!H1854),2),\"\")","v":""}]
[null,null,null,null,null,null,null,null,{"$f":"IF(E1855<>\"\",ROUND((VLOOKUP(E1855,Param!$A$7:$E$13,4,0)*Fonct_Empl!F1855*((Fonct_Empl!G1855/12)))+(VLOOKUP(E1855,Param!$A$7:$E$13,5,0)*Fonct_Empl!H1855),2),\"\")","v":""}]
[null,null,null,null,null,null,null,null,{"$f":"IF(E1856<>\"\",ROUND((VLOOKUP(E1856,Param!$A$7:$E$13,4,0)*Fonct_Empl!F1856*((Fonct_Empl!G1856/12)))+(VLOOKUP(E1856,Param!$A$7:$E$13,5,0)*Fonct_Empl!H1856),2),\"\")","v":""}]
[null,null,null,null,null,null,null,null,{"$f":"IF(E1857<>\"\",ROUND((VLOOKUP(E1857,Param!$A$7:$E$13,4,0)*Fonct_Empl!F1857*((Fonct_Empl!G1857/12)))+(VLOOKUP(E1857,Param!$A$7:$E$13,5,0)*Fonct_Empl!H1857),2),\"\")","v":""}]
[null,null,null,null,null,null,null,null,{"$f":"IF(E1858<>\"\",ROUND((VLOOKUP(E1858,Param!$A$7:$E$13,4,0)*Fonct_Empl!F1858*((Fonct_Empl!G1858/12)))+(VLOOKUP(E1858,Param!$A$7:$E$13,5,0)*Fonct_Empl!H1858),2),\"\")","v":""}]
[null,null,null,null,null,null,null,null,{"$f":"IF(E1859<>\"\",ROUND((VLOOKUP(E1859,Param!$A$7:$E$13,4,0)*Fonct_Empl!F1859*((Fonct_Empl!G1859/12)))+(VLOOKUP(E1859,Param!$A$7:$E$13,5,0)*Fonct_Empl!H1859),2),\"\")","v":""}]
[null,null,null,null,null,null,null,null,{"$f":"IF(E1860<>\"\",ROUND((VLOOKUP(E1860,Param!$A$7:$E$13,4,0)*Fonct_Empl!F1860*((Fonct_Empl!G1860/12)))+(VLOOKUP(E1860,Param!$A$7:$E$13,5,0)*Fonct_Empl!H1860),2),\"\")","v":""}]
[null,null,null,null,null,null,null,null,{"$f":"IF(E1861<>\"\",ROUND((VLOOKUP(E1861,Param!$A$7:$E$13,4,0)*Fonct_Empl!F1861*((Fonct_Empl!G1861/12)))+(VLOOKUP(E1861,Param!$A$7:$E$13,5,0)*Fonct_Empl!H1861),2),\"\")","v":""}]
[null,null,null,null,null,null,null,null,{"$f":"IF(E1862<>\"\",ROUND((VLOOKUP(E1862,Param!$A$7:$E$13,4,0)*Fonct_Empl!F1862*((Fonct_Empl!G1862/12)))+(VLOOKUP(E1862,Param!$A$7:$E$13,5,0)*Fonct_Empl!H1862),2),\"\")","v":""}]
[null,null,null,null,null,null,null,null,{"$f":"IF(E1863<>\"\",ROUND((VLOOKUP(E1863,Param!$A$7:$E$13,4,0)*Fonct_Empl!F1863*((Fonct_Empl!G1863/12)))+(VLOOKUP(E1863,Param!$A$7:$E$13,5,0)*Fonct_Empl!H1863),2),\"\")","v":""}]
[null,null,null,null,null,null,null,null,{"$f":"IF(E1864<>\"\",ROUND((VLOOKUP(E1864,Param!$A$7:$E$13,4,0)*Fonct_Empl!F1864*((Fonct_Empl!G1864/12)))+(VLOOKUP(E1864,Param!$A$7:$E$13,5,0)*Fonct_Empl!H1864),2),\"\")","v":""}]
[null,null,null,null,null,null,null,null,{"$f":"IF(E1865<>\"\",ROUND((VLOOKUP(E1865,Param!$A$7:$E$13,4,0)*Fonct_Empl!F1865*((Fonct_Empl!G1865/12)))+(VLOOKUP(E1865,Param!$A$7:$E$13,5,0)*Fonct_Empl!H1865),2),\"\")","v":""}]
[null,null,null,null,null,null,null,null,{"$f":"IF(E1866<>\"\",ROUND((VLOOKUP(E1866,Param!$A$7:$E$13,4,0)*Fonct_Empl!F1866*((Fonct_Empl!G1866/12)))+(VLOOKUP(E1866,Param!$A$7:$E$13,5,0)*Fonct_Empl!H1866),2),\"\")","v":""}]
[null,null,null,null,null,null,null,null,{"$f":"IF(E1867<>\"\",ROUND((VLOOKUP(E1867,Param!$A$7:$E$13,4,0)*Fonct_Empl!F1867*((Fonct_Empl!G1867/12)))+(VLOOKUP(E1867,Param!$A$7:$E$13,5,0)*Fonct_Empl!H1867),2),\"\")","v":""}]
[null,null,null,null,null,null,null,null,{"$f":"IF(E1868<>\"\",ROUND((VLOOKUP(E1868,Param!$A$7:$E$13,4,0)*Fonct_Empl!F1868*((Fonct_Empl!G1868/12)))+(VLOOKUP(E1868,Param!$A$7:$E$13,5,0)*Fonct_Empl!H1868),2),\"\")","v":""}]
[null,null,null,null,null,null,null,null,{"$f":"IF(E1869<>\"\",ROUND((VLOOKUP(E1869,Param!$A$7:$E$13,4,0)*Fonct_Empl!F1869*((Fonct_Empl!G1869/12)))+(VLOOKUP(E1869,Param!$A$7:$E$13,5,0)*Fonct_Empl!H1869),2),\"\")","v":""}]
[null,null,null,null,null,null,null,null,{"$f":"IF(E1870<>\"\",ROUND((VLOOKUP(E1870,Param!$A$7:$E$13,4,0)*Fonct_Empl!F1870*((Fonct_Empl!G1870/12)))+(VLOOKUP(E1870,Param!$A$7:$E$13,5,0)*Fonct_Empl!H1870),2),\"\")","v":""}]
[null,null,null,null,null,null,null,null,{"$f":"IF(E1871<>\"\",ROUND((VLOOKUP(E1871,Param!$A$7:$E$13,4,0)*Fonct_Empl!F1871*((Fonct_Empl!G1871/12)))+(VLOOKUP(E1871,Param!$A$7:$E$13,5,0)*Fonct_Empl!H1871),2),\"\")","v":""}]
[null,null,null,null,null,null,null,null,{"$f":"IF(E1872<>\"\",ROUND((VLOOKUP(E1872,Param!$A$7:$E$13,4,0)*Fonct_Empl!F1872*((Fonct_Empl!G1872/12)))+(VLOOKUP(E1872,Param!$A$7:$E$13,5,0)*Fonct_Empl!H1872),2),\"\")","v":""}]
[null,null,null,null,null,null,null,null,{"$f":"IF(E1873<>\"\",ROUND((VLOOKUP(E1873,Param!$A$7:$E$13,4,0)*Fonct_Empl!F1873*((Fonct_Empl!G1873/12)))+(VLOOKUP(E1873,Param!$A$7:$E$13,5,0)*Fonct_Empl!H1873),2),\"\")","v":""}]
[null,null,null,null,null,null,null,null,{"$f":"IF(E1874<>\"\",ROUND((VLOOKUP(E1874,Param!$A$7:$E$13,4,0)*Fonct_Empl!F1874*((Fonct_Empl!G1874/12)))+(VLOOKUP(E1874,Param!$A$7:$E$13,5,0)*Fonct_Empl!H1874),2),\"\")","v":""}]
[null,null,null,null,null,null,null,null,{"$f":"IF(E1875<>\"\",ROUND((VLOOKUP(E1875,Param!$A$7:$E$13,4,0)*Fonct_Empl!F1875*((Fonct_Empl!G1875/12)))+(VLOOKUP(E1875,Param!$A$7:$E$13,5,0)*Fonct_Empl!H1875),2),\"\")","v":""}]
[null,null,null,null,null,null,null,null,{"$f":"IF(E1876<>\"\",ROUND((VLOOKUP(E1876,Param!$A$7:$E$13,4,0)*Fonct_Empl!F1876*((Fonct_Empl!G1876/12)))+(VLOOKUP(E1876,Param!$A$7:$E$13,5,0)*Fonct_Empl!H1876),2),\"\")","v":""}]
[null,null,null,null,null,null,null,null,{"$f":"IF(E1877<>\"\",ROUND((VLOOKUP(E1877,Param!$A$7:$E$13,4,0)*Fonct_Empl!F1877*((Fonct_Empl!G1877/12)))+(VLOOKUP(E1877,Param!$A$7:$E$13,5,0)*Fonct_Empl!H1877),2),\"\")","v":""}]
[null,null,null,null,null,null,null,null,{"$f":"IF(E1878<>\"\",ROUND((VLOOKUP(E1878,Param!$A$7:$E$13,4,0)*Fonct_Empl!F1878*((Fonct_Empl!G1878/12)))+(VLOOKUP(E1878,Param!$A$7:$E$13,5,0)*Fonct_Empl!H1878),2),\"\")","v":""}]
[null,null,null,null,null,null,null,null,{"$f":"IF(E1879<>\"\",ROUND((VLOOKUP(E1879,Param!$A$7:$E$13,4,0)*Fonct_Empl!F1879*((Fonct_Empl!G1879/12)))+(VLOOKUP(E1879,Param!$A$7:$E$13,5,0)*Fonct_Empl!H1879),2),\"\")","v":""}]
[null,null,null,null,null,null,null,null,{"$f":"IF(E1880<>\"\",ROUND((VLOOKUP(E1880,Param!$A$7:$E$13,4,0)*Fonct_Empl!F1880*((Fonct_Empl!G1880/12)))+(VLOOKUP(E1880,Param!$A$7:$E$13,5,0)*Fonct_Empl!H1880),2),\"\")","v":""}]
[null,null,null,null,null,null,null,null,{"$f":"IF(E1881<>\"\",ROUND((VLOOKUP(E1881,Param!$A$7:$E$13,4,0)*Fonct_Empl!F1881*((Fonct_Empl!G1881/12)))+(VLOOKUP(E1881,Param!$A$7:$E$13,5,0)*Fonct_Empl!H1881),2),\"\")","v":""}]
[null,null,null,null,null,null,null,null,{"$f":"IF(E1882<>\"\",ROUND((VLOOKUP(E1882,Param!$A$7:$E$13,4,0)*Fonct_Empl!F1882*((Fonct_Empl!G1882/12)))+(VLOOKUP(E1882,Param!$A$7:$E$13,5,0)*Fonct_Empl!H1882),2),\"\")","v":""}]
[null,null,null,null,null,null,null,null,{"$f":"IF(E1883<>\"\",ROUND((VLOOKUP(E1883,Param!$A$7:$E$13,4,0)*Fonct_Empl!F1883*((Fonct_Empl!G1883/12)))+(VLOOKUP(E1883,Param!$A$7:$E$13,5,0)*Fonct_Empl!H1883),2),\"\")","v":""}]
[null,null,null,null,null,null,null,null,{"$f":"IF(E1884<>\"\",ROUND((VLOOKUP(E1884,Param!$A$7:$E$13,4,0)*Fonct_Empl!F1884*((Fonct_Empl!G1884/12)))+(VLOOKUP(E1884,Param!$A$7:$E$13,5,0)*Fonct_Empl!H1884),2),\"\")","v":""}]
[null,null,null,null,null,null,null,null,{"$f":"IF(E1885<>\"\",ROUND((VLOOKUP(E1885,Param!$A$7:$E$13,4,0)*Fonct_Empl!F1885*((Fonct_Empl!G1885/12)))+(VLOOKUP(E1885,Param!$A$7:$E$13,5,0)*Fonct_Empl!H1885),2),\"\")","v":""}]
[null,null,null,null,null,null,null,null,{"$f":"IF(E1886<>\"\",ROUND((VLOOKUP(E1886,Param!$A$7:$E$13,4,0)*Fonct_Empl!F1886*((Fonct_Empl!G1886/12)))+(VLOOKUP(E1886,Param!$A$7:$E$13,5,0)*Fonct_Empl!H1886),2),\"\")","v":""}]
[null,null,null,null,null,null,null,null,{"$f":"IF(E1887<>\"\",ROUND((VLOOKUP(E1887,Param!$A$7:$E$13,4,0)*Fonct_Empl!F1887*((Fonct_Empl!G1887/12)))+(VLOOKUP(E1887,Param!$A$7:$E$13,5,0)*Fonct_Empl!H1887),2),\"\")","v":""}]
[null,null,null,null,null,null,null,null,{"$f":"IF(E1888<>\"\",ROUND((VLOOKUP(E1888,Param!$A$7:$E$13,4,0)*Fonct_Empl!F1888*((Fonct_Empl!G1888/12)))+(VLOOKUP(E1888,Param!$A$7:$E$13,5,0)*Fonct_Empl!H1888),2),\"\")","v":""}]
[null,null,null,null,null,null,null,null,{"$f":"IF(E1889<>\"\",ROUND((VLOOKUP(E1889,Param!$A$7:$E$13,4,0)*Fonct_Empl!F1889*((Fonct_Empl!G1889/12)))+(VLOOKUP(E1889,Param!$A$7:$E$13,5,0)*Fonct_Empl!H1889),2),\"\")","v":""}]
[null,null,null,null,null,null,null,null,{"$f":"IF(E1890<>\"\",ROUND((VLOOKUP(E1890,Param!$A$7:$E$13,4,0)*Fonct_Empl!F1890*((Fonct_Empl!G1890/12)))+(VLOOKUP(E1890,Param!$A$7:$E$13,5,0)*Fonct_Empl!H1890),2),\"\")","v":""}]
[null,null,null,null,null,null,null,null,{"$f":"IF(E1891<>\"\",ROUND((VLOOKUP(E1891,Param!$A$7:$E$13,4,0)*Fonct_Empl!F1891*((Fonct_Empl!G1891/12)))+(VLOOKUP(E1891,Param!$A$7:$E$13,5,0)*Fonct_Empl!H1891),2),\"\")","v":""}]
[null,null,null,null,null,null,null,null,{"$f":"IF(E1892<>\"\",ROUND((VLOOKUP(E1892,Param!$A$7:$E$13,4,0)*Fonct_Empl!F1892*((Fonct_Empl!G1892/12)))+(VLOOKUP(E1892,Param!$A$7:$E$13,5,0)*Fonct_Empl!H1892),2),\"\")","v":""}]
[null,null,null,null,null,null,null,null,{"$f":"IF(E1893<>\"\",ROUND((VLOOKUP(E1893,Param!$A$7:$E$13,4,0)*Fonct_Empl!F1893*((Fonct_Empl!G1893/12)))+(VLOOKUP(E1893,Param!$A$7:$E$13,5,0)*Fonct_Empl!H1893),2),\"\")","v":""}]
[null,null,null,null,null,null,null,null,{"$f":"IF(E1894<>\"\",ROUND((VLOOKUP(E1894,Param!$A$7:$E$13,4,0)*Fonct_Empl!F1894*((Fonct_Empl!G1894/12)))+(VLOOKUP(E1894,Param!$A$7:$E$13,5,0)*Fonct_Empl!H1894),2),\"\")","v":""}]
[null,null,null,null,null,null,null,null,{"$f":"IF(E1895<>\"\",ROUND((VLOOKUP(E1895,Param!$A$7:$E$13,4,0)*Fonct_Empl!F1895*((Fonct_Empl!G1895/12)))+(VLOOKUP(E1895,Param!$A$7:$E$13,5,0)*Fonct_Empl!H1895),2),\"\")","v":""}]
[null,null,null,null,null,null,null,null,{"$f":"IF(E1896<>\"\",ROUND((VLOOKUP(E1896,Param!$A$7:$E$13,4,0)*Fonct_Empl!F1896*((Fonct_Empl!G1896/12)))+(VLOOKUP(E1896,Param!$A$7:$E$13,5,0)*Fonct_Empl!H1896),2),\"\")","v":""}]
[null,null,null,null,null,null,null,null,{"$f":"IF(E1897<>\"\",ROUND((VLOOKUP(E1897,Param!$A$7:$E$13,4,0)*Fonct_Empl!F1897*((Fonct_Empl!G1897/12)))+(VLOOKUP(E1897,Param!$A$7:$E$13,5,0)*Fonct_Empl!H1897),2),\"\")","v":""}]
[null,null,null,null,null,null,null,null,{"$f":"IF(E1898<>\"\",ROUND((VLOOKUP(E1898,Param!$A$7:$E$13,4,0)*Fonct_Empl!F1898*((Fonct_Empl!G1898/12)))+(VLOOKUP(E1898,Param!$A$7:$E$13,5,0)*Fonct_Empl!H1898),2),\"\")","v":""}]
[null,null,null,null,null,null,null,null,{"$f":"IF(E1899<>\"\",ROUND((VLOOKUP(E1899,Param!$A$7:$E$13,4,0)*Fonct_Empl!F1899*((Fonct_Empl!G1899/12)))+(VLOOKUP(E1899,Param!$A$7:$E$13,5,0)*Fonct_Empl!H1899),2),\"\")","v":""}]
[null,null,null,null,null,null,null,null,{"$f":"IF(E1900<>\"\",ROUND((VLOOKUP(E1900,Param!$A$7:$E$13,4,0)*Fonct_Empl!F1900*((Fonct_Empl!G1900/12)))+(VLOOKUP(E1900,Param!$A$7:$E$13,5,0)*Fonct_Empl!H1900),2),\"\")","v":""}]
[null,null,null,null,null,null,null,null,{"$f":"IF(E1901<>\"\",ROUND((VLOOKUP(E1901,Param!$A$7:$E$13,4,0)*Fonct_Empl!F1901*((Fonct_Empl!G1901/12)))+(VLOOKUP(E1901,Param!$A$7:$E$13,5,0)*Fonct_Empl!H1901),2),\"\")","v":""}]
[null,null,null,null,null,null,null,null,{"$f":"IF(E1902<>\"\",ROUND((VLOOKUP(E1902,Param!$A$7:$E$13,4,0)*Fonct_Empl!F1902*((Fonct_Empl!G1902/12)))+(VLOOKUP(E1902,Param!$A$7:$E$13,5,0)*Fonct_Empl!H1902),2),\"\")","v":""}]
[null,null,null,null,null,null,null,null,{"$f":"IF(E1903<>\"\",ROUND((VLOOKUP(E1903,Param!$A$7:$E$13,4,0)*Fonct_Empl!F1903*((Fonct_Empl!G1903/12)))+(VLOOKUP(E1903,Param!$A$7:$E$13,5,0)*Fonct_Empl!H1903),2),\"\")","v":""}]
[null,null,null,null,null,null,null,null,{"$f":"IF(E1904<>\"\",ROUND((VLOOKUP(E1904,Param!$A$7:$E$13,4,0)*Fonct_Empl!F1904*((Fonct_Empl!G1904/12)))+(VLOOKUP(E1904,Param!$A$7:$E$13,5,0)*Fonct_Empl!H1904),2),\"\")","v":""}]
[null,null,null,null,null,null,null,null,{"$f":"IF(E1905<>\"\",ROUND((VLOOKUP(E1905,Param!$A$7:$E$13,4,0)*Fonct_Empl!F1905*((Fonct_Empl!G1905/12)))+(VLOOKUP(E1905,Param!$A$7:$E$13,5,0)*Fonct_Empl!H1905),2),\"\")","v":""}]
[null,null,null,null,null,null,null,null,{"$f":"IF(E1906<>\"\",ROUND((VLOOKUP(E1906,Param!$A$7:$E$13,4,0)*Fonct_Empl!F1906*((Fonct_Empl!G1906/12)))+(VLOOKUP(E1906,Param!$A$7:$E$13,5,0)*Fonct_Empl!H1906),2),\"\")","v":""}]
[null,null,null,null,null,null,null,null,{"$f":"IF(E1907<>\"\",ROUND((VLOOKUP(E1907,Param!$A$7:$E$13,4,0)*Fonct_Empl!F1907*((Fonct_Empl!G1907/12)))+(VLOOKUP(E1907,Param!$A$7:$E$13,5,0)*Fonct_Empl!H1907),2),\"\")","v":""}]
[null,null,null,null,null,null,null,null,{"$f":"IF(E1908<>\"\",ROUND((VLOOKUP(E1908,Param!$A$7:$E$13,4,0)*Fonct_Empl!F1908*((Fonct_Empl!G1908/12)))+(VLOOKUP(E1908,Param!$A$7:$E$13,5,0)*Fonct_Empl!H1908),2),\"\")","v":""}]
[null,null,null,null,null,null,null,null,{"$f":"IF(E1909<>\"\",ROUND((VLOOKUP(E1909,Param!$A$7:$E$13,4,0)*Fonct_Empl!F1909*((Fonct_Empl!G1909/12)))+(VLOOKUP(E1909,Param!$A$7:$E$13,5,0)*Fonct_Empl!H1909),2),\"\")","v":""}]
[null,null,null,null,null,null,null,null,{"$f":"IF(E1910<>\"\",ROUND((VLOOKUP(E1910,Param!$A$7:$E$13,4,0)*Fonct_Empl!F1910*((Fonct_Empl!G1910/12)))+(VLOOKUP(E1910,Param!$A$7:$E$13,5,0)*Fonct_Empl!H1910),2),\"\")","v":""}]
[null,null,null,null,null,null,null,null,{"$f":"IF(E1911<>\"\",ROUND((VLOOKUP(E1911,Param!$A$7:$E$13,4,0)*Fonct_Empl!F1911*((Fonct_Empl!G1911/12)))+(VLOOKUP(E1911,Param!$A$7:$E$13,5,0)*Fonct_Empl!H1911),2),\"\")","v":""}]
[null,null,null,null,null,null,null,null,{"$f":"IF(E1912<>\"\",ROUND((VLOOKUP(E1912,Param!$A$7:$E$13,4,0)*Fonct_Empl!F1912*((Fonct_Empl!G1912/12)))+(VLOOKUP(E1912,Param!$A$7:$E$13,5,0)*Fonct_Empl!H1912),2),\"\")","v":""}]
[null,null,null,null,null,null,null,null,{"$f":"IF(E1913<>\"\",ROUND((VLOOKUP(E1913,Param!$A$7:$E$13,4,0)*Fonct_Empl!F1913*((Fonct_Empl!G1913/12)))+(VLOOKUP(E1913,Param!$A$7:$E$13,5,0)*Fonct_Empl!H1913),2),\"\")","v":""}]
[null,null,null,null,null,null,null,null,{"$f":"IF(E1914<>\"\",ROUND((VLOOKUP(E1914,Param!$A$7:$E$13,4,0)*Fonct_Empl!F1914*((Fonct_Empl!G1914/12)))+(VLOOKUP(E1914,Param!$A$7:$E$13,5,0)*Fonct_Empl!H1914),2),\"\")","v":""}]
[null,null,null,null,null,null,null,null,{"$f":"IF(E1915<>\"\",ROUND((VLOOKUP(E1915,Param!$A$7:$E$13,4,0)*Fonct_Empl!F1915*((Fonct_Empl!G1915/12)))+(VLOOKUP(E1915,Param!$A$7:$E$13,5,0)*Fonct_Empl!H1915),2),\"\")","v":""}]
[null,null,null,null,null,null,null,null,{"$f":"IF(E1916<>\"\",ROUND((VLOOKUP(E1916,Param!$A$7:$E$13,4,0)*Fonct_Empl!F1916*((Fonct_Empl!G1916/12)))+(VLOOKUP(E1916,Param!$A$7:$E$13,5,0)*Fonct_Empl!H1916),2),\"\")","v":""}]
[null,null,null,null,null,null,null,null,{"$f":"IF(E1917<>\"\",ROUND((VLOOKUP(E1917,Param!$A$7:$E$13,4,0)*Fonct_Empl!F1917*((Fonct_Empl!G1917/12)))+(VLOOKUP(E1917,Param!$A$7:$E$13,5,0)*Fonct_Empl!H1917),2),\"\")","v":""}]
[null,null,null,null,null,null,null,null,{"$f":"IF(E1918<>\"\",ROUND((VLOOKUP(E1918,Param!$A$7:$E$13,4,0)*Fonct_Empl!F1918*((Fonct_Empl!G1918/12)))+(VLOOKUP(E1918,Param!$A$7:$E$13,5,0)*Fonct_Empl!H1918),2),\"\")","v":""}]
[null,null,null,null,null,null,null,null,{"$f":"IF(E1919<>\"\",ROUND((VLOOKUP(E1919,Param!$A$7:$E$13,4,0)*Fonct_Empl!F1919*((Fonct_Empl!G1919/12)))+(VLOOKUP(E1919,Param!$A$7:$E$13,5,0)*Fonct_Empl!H1919),2),\"\")","v":""}]
[null,null,null,null,null,null,null,null,{"$f":"IF(E1920<>\"\",ROUND((VLOOKUP(E1920,Param!$A$7:$E$13,4,0)*Fonct_Empl!F1920*((Fonct_Empl!G1920/12)))+(VLOOKUP(E1920,Param!$A$7:$E$13,5,0)*Fonct_Empl!H1920),2),\"\")","v":""}]
[null,null,null,null,null,null,null,null,{"$f":"IF(E1921<>\"\",ROUND((VLOOKUP(E1921,Param!$A$7:$E$13,4,0)*Fonct_Empl!F1921*((Fonct_Empl!G1921/12)))+(VLOOKUP(E1921,Param!$A$7:$E$13,5,0)*Fonct_Empl!H1921),2),\"\")","v":""}]
[null,null,null,null,null,null,null,null,{"$f":"IF(E1922<>\"\",ROUND((VLOOKUP(E1922,Param!$A$7:$E$13,4,0)*Fonct_Empl!F1922*((Fonct_Empl!G1922/12)))+(VLOOKUP(E1922,Param!$A$7:$E$13,5,0)*Fonct_Empl!H1922),2),\"\")","v":""}]
[null,null,null,null,null,null,null,null,{"$f":"IF(E1923<>\"\",ROUND((VLOOKUP(E1923,Param!$A$7:$E$13,4,0)*Fonct_Empl!F1923*((Fonct_Empl!G1923/12)))+(VLOOKUP(E1923,Param!$A$7:$E$13,5,0)*Fonct_Empl!H1923),2),\"\")","v":""}]
[null,null,null,null,null,null,null,null,{"$f":"IF(E1924<>\"\",ROUND((VLOOKUP(E1924,Param!$A$7:$E$13,4,0)*Fonct_Empl!F1924*((Fonct_Empl!G1924/12)))+(VLOOKUP(E1924,Param!$A$7:$E$13,5,0)*Fonct_Empl!H1924),2),\"\")","v":""}]
[null,null,null,null,null,null,null,null,{"$f":"IF(E1925<>\"\",ROUND((VLOOKUP(E1925,Param!$A$7:$E$13,4,0)*Fonct_Empl!F1925*((Fonct_Empl!G1925/12)))+(VLOOKUP(E1925,Param!$A$7:$E$13,5,0)*Fonct_Empl!H1925),2),\"\")","v":""}]
[null,null,null,null,null,null,null,null,{"$f":"IF(E1926<>\"\",ROUND((VLOOKUP(E1926,Param!$A$7:$E$13,4,0)*Fonct_Empl!F1926*((Fonct_Empl!G1926/12)))+(VLOOKUP(E1926,Param!$A$7:$E$13,5,0)*Fonct_Empl!H1926),2),\"\")","v":""}]
[null,null,null,null,null,null,null,null,{"$f":"IF(E1927<>\"\",ROUND((VLOOKUP(E1927,Param!$A$7:$E$13,4,0)*Fonct_Empl!F1927*((Fonct_Empl!G1927/12)))+(VLOOKUP(E1927,Param!$A$7:$E$13,5,0)*Fonct_Empl!H1927),2),\"\")","v":""}]
[null,null,null,null,null,null,null,null,{"$f":"IF(E1928<>\"\",ROUND((VLOOKUP(E1928,Param!$A$7:$E$13,4,0)*Fonct_Empl!F1928*((Fonct_Empl!G1928/12)))+(VLOOKUP(E1928,Param!$A$7:$E$13,5,0)*Fonct_Empl!H1928),2),\"\")","v":""}]
[null,null,null,null,null,null,null,null,{"$f":"IF(E1929<>\"\",ROUND((VLOOKUP(E1929,Param!$A$7:$E$13,4,0)*Fonct_Empl!F1929*((Fonct_Empl!G1929/12)))+(VLOOKUP(E1929,Param!$A$7:$E$13,5,0)*Fonct_Empl!H1929),2),\"\")","v":""}]
[null,null,null,null,null,null,null,null,{"$f":"IF(E1930<>\"\",ROUND((VLOOKUP(E1930,Param!$A$7:$E$13,4,0)*Fonct_Empl!F1930*((Fonct_Empl!G1930/12)))+(VLOOKUP(E1930,Param!$A$7:$E$13,5,0)*Fonct_Empl!H1930),2),\"\")","v":""}]
[null,null,null,null,null,null,null,null,{"$f":"IF(E1931<>\"\",ROUND((VLOOKUP(E1931,Param!$A$7:$E$13,4,0)*Fonct_Empl!F1931*((Fonct_Empl!G1931/12)))+(VLOOKUP(E1931,Param!$A$7:$E$13,5,0)*Fonct_Empl!H1931),2),\"\")","v":""}]
[null,null,null,null,null,null,null,null,{"$f":"IF(E1932<>\"\",ROUND((VLOOKUP(E1932,Param!$A$7:$E$13,4,0)*Fonct_Empl!F1932*((Fonct_Empl!G1932/12)))+(VLOOKUP(E1932,Param!$A$7:$E$13,5,0)*Fonct_Empl!H1932),2),\"\")","v":""}]
[null,null,null,null,null,null,null,null,{"$f":"IF(E1933<>\"\",ROUND((VLOOKUP(E1933,Param!$A$7:$E$13,4,0)*Fonct_Empl!F1933*((Fonct_Empl!G1933/12)))+(VLOOKUP(E1933,Param!$A$7:$E$13,5,0)*Fonct_Empl!H1933),2),\"\")","v":""}]
[null,null,null,null,null,null,null,null,{"$f":"IF(E1934<>\"\",ROUND((VLOOKUP(E1934,Param!$A$7:$E$13,4,0)*Fonct_Empl!F1934*((Fonct_Empl!G1934/12)))+(VLOOKUP(E1934,Param!$A$7:$E$13,5,0)*Fonct_Empl!H1934),2),\"\")","v":""}]
[null,null,null,null,null,null,null,null,{"$f":"IF(E1935<>\"\",ROUND((VLOOKUP(E1935,Param!$A$7:$E$13,4,0)*Fonct_Empl!F1935*((Fonct_Empl!G1935/12)))+(VLOOKUP(E1935,Param!$A$7:$E$13,5,0)*Fonct_Empl!H1935),2),\"\")","v":""}]
[null,null,null,null,null,null,null,null,{"$f":"IF(E1936<>\"\",ROUND((VLOOKUP(E1936,Param!$A$7:$E$13,4,0)*Fonct_Empl!F1936*((Fonct_Empl!G1936/12)))+(VLOOKUP(E1936,Param!$A$7:$E$13,5,0)*Fonct_Empl!H1936),2),\"\")","v":""}]
[null,null,null,null,null,null,null,null,{"$f":"IF(E1937<>\"\",ROUND((VLOOKUP(E1937,Param!$A$7:$E$13,4,0)*Fonct_Empl!F1937*((Fonct_Empl!G1937/12)))+(VLOOKUP(E1937,Param!$A$7:$E$13,5,0)*Fonct_Empl!H1937),2),\"\")","v":""}]
[null,null,null,null,null,null,null,null,{"$f":"IF(E1938<>\"\",ROUND((VLOOKUP(E1938,Param!$A$7:$E$13,4,0)*Fonct_Empl!F1938*((Fonct_Empl!G1938/12)))+(VLOOKUP(E1938,Param!$A$7:$E$13,5,0)*Fonct_Empl!H1938),2),\"\")","v":""}]
[null,null,null,null,null,null,null,null,{"$f":"IF(E1939<>\"\",ROUND((VLOOKUP(E1939,Param!$A$7:$E$13,4,0)*Fonct_Empl!F1939*((Fonct_Empl!G1939/12)))+(VLOOKUP(E1939,Param!$A$7:$E$13,5,0)*Fonct_Empl!H1939),2),\"\")","v":""}]
[null,null,null,null,null,null,null,null,{"$f":"IF(E1940<>\"\",ROUND((VLOOKUP(E1940,Param!$A$7:$E$13,4,0)*Fonct_Empl!F1940*((Fonct_Empl!G1940/12)))+(VLOOKUP(E1940,Param!$A$7:$E$13,5,0)*Fonct_Empl!H1940),2),\"\")","v":""}]
[null,null,null,null,null,null,null,null,{"$f":"IF(E1941<>\"\",ROUND((VLOOKUP(E1941,Param!$A$7:$E$13,4,0)*Fonct_Empl!F1941*((Fonct_Empl!G1941/12)))+(VLOOKUP(E1941,Param!$A$7:$E$13,5,0)*Fonct_Empl!H1941),2),\"\")","v":""}]
[null,null,null,null,null,null,null,null,{"$f":"IF(E1942<>\"\",ROUND((VLOOKUP(E1942,Param!$A$7:$E$13,4,0)*Fonct_Empl!F1942*((Fonct_Empl!G1942/12)))+(VLOOKUP(E1942,Param!$A$7:$E$13,5,0)*Fonct_Empl!H1942),2),\"\")","v":""}]
[null,null,null,null,null,null,null,null,{"$f":"IF(E1943<>\"\",ROUND((VLOOKUP(E1943,Param!$A$7:$E$13,4,0)*Fonct_Empl!F1943*((Fonct_Empl!G1943/12)))+(VLOOKUP(E1943,Param!$A$7:$E$13,5,0)*Fonct_Empl!H1943),2),\"\")","v":""}]
[null,null,null,null,null,null,null,null,{"$f":"IF(E1944<>\"\",ROUND((VLOOKUP(E1944,Param!$A$7:$E$13,4,0)*Fonct_Empl!F1944*((Fonct_Empl!G1944/12)))+(VLOOKUP(E1944,Param!$A$7:$E$13,5,0)*Fonct_Empl!H1944),2),\"\")","v":""}]
[null,null,null,null,null,null,null,null,{"$f":"IF(E1945<>\"\",ROUND((VLOOKUP(E1945,Param!$A$7:$E$13,4,0)*Fonct_Empl!F1945*((Fonct_Empl!G1945/12)))+(VLOOKUP(E1945,Param!$A$7:$E$13,5,0)*Fonct_Empl!H1945),2),\"\")","v":""}]
[null,null,null,null,null,null,null,null,{"$f":"IF(E1946<>\"\",ROUND((VLOOKUP(E1946,Param!$A$7:$E$13,4,0)*Fonct_Empl!F1946*((Fonct_Empl!G1946/12)))+(VLOOKUP(E1946,Param!$A$7:$E$13,5,0)*Fonct_Empl!H1946),2),\"\")","v":""}]
[null,null,null,null,null,null,null,null,{"$f":"IF(E1947<>\"\",ROUND((VLOOKUP(E1947,Param!$A$7:$E$13,4,0)*Fonct_Empl!F1947*((Fonct_Empl!G1947/12)))+(VLOOKUP(E1947,Param!$A$7:$E$13,5,0)*Fonct_Empl!H1947),2),\"\")","v":""}]
[null,null,null,null,null,null,null,null,{"$f":"IF(E1948<>\"\",ROUND((VLOOKUP(E1948,Param!$A$7:$E$13,4,0)*Fonct_Empl!F1948*((Fonct_Empl!G1948/12)))+(VLOOKUP(E1948,Param!$A$7:$E$13,5,0)*Fonct_Empl!H1948),2),\"\")","v":""}]
[null,null,null,null,null,null,null,null,{"$f":"IF(E1949<>\"\",ROUND((VLOOKUP(E1949,Param!$A$7:$E$13,4,0)*Fonct_Empl!F1949*((Fonct_Empl!G1949/12)))+(VLOOKUP(E1949,Param!$A$7:$E$13,5,0)*Fonct_Empl!H1949),2),\"\")","v":""}]
[null,null,null,null,null,null,null,null,{"$f":"IF(E1950<>\"\",ROUND((VLOOKUP(E1950,Param!$A$7:$E$13,4,0)*Fonct_Empl!F1950*((Fonct_Empl!G1950/12)))+(VLOOKUP(E1950,Param!$A$7:$E$13,5,0)*Fonct_Empl!H1950),2),\"\")","v":""}]
[null,null,null,null,null,null,null,null,{"$f":"IF(E1951<>\"\",ROUND((VLOOKUP(E1951,Param!$A$7:$E$13,4,0)*Fonct_Empl!F1951*((Fonct_Empl!G1951/12)))+(VLOOKUP(E1951,Param!$A$7:$E$13,5,0)*Fonct_Empl!H1951),2),\"\")","v":""}]
[null,null,null,null,null,null,null,null,{"$f":"IF(E1952<>\"\",ROUND((VLOOKUP(E1952,Param!$A$7:$E$13,4,0)*Fonct_Empl!F1952*((Fonct_Empl!G1952/12)))+(VLOOKUP(E1952,Param!$A$7:$E$13,5,0)*Fonct_Empl!H1952),2),\"\")","v":""}]
[null,null,null,null,null,null,null,null,{"$f":"IF(E1953<>\"\",ROUND((VLOOKUP(E1953,Param!$A$7:$E$13,4,0)*Fonct_Empl!F1953*((Fonct_Empl!G1953/12)))+(VLOOKUP(E1953,Param!$A$7:$E$13,5,0)*Fonct_Empl!H1953),2),\"\")","v":""}]
[null,null,null,null,null,null,null,null,{"$f":"IF(E1954<>\"\",ROUND((VLOOKUP(E1954,Param!$A$7:$E$13,4,0)*Fonct_Empl!F1954*((Fonct_Empl!G1954/12)))+(VLOOKUP(E1954,Param!$A$7:$E$13,5,0)*Fonct_Empl!H1954),2),\"\")","v":""}]
[null,null,null,null,null,null,null,null,{"$f":"IF(E1955<>\"\",ROUND((VLOOKUP(E1955,Param!$A$7:$E$13,4,0)*Fonct_Empl!F1955*((Fonct_Empl!G1955/12)))+(VLOOKUP(E1955,Param!$A$7:$E$13,5,0)*Fonct_Empl!H1955),2),\"\")","v":""}]
[null,null,null,null,null,null,null,null,{"$f":"IF(E1956<>\"\",ROUND((VLOOKUP(E1956,Param!$A$7:$E$13,4,0)*Fonct_Empl!F1956*((Fonct_Empl!G1956/12)))+(VLOOKUP(E1956,Param!$A$7:$E$13,5,0)*Fonct_Empl!H1956),2),\"\")","v":""}]
[null,null,null,null,null,null,null,null,{"$f":"IF(E1957<>\"\",ROUND((VLOOKUP(E1957,Param!$A$7:$E$13,4,0)*Fonct_Empl!F1957*((Fonct_Empl!G1957/12)))+(VLOOKUP(E1957,Param!$A$7:$E$13,5,0)*Fonct_Empl!H1957),2),\"\")","v":""}]
[null,null,null,null,null,null,null,null,{"$f":"IF(E1958<>\"\",ROUND((VLOOKUP(E1958,Param!$A$7:$E$13,4,0)*Fonct_Empl!F1958*((Fonct_Empl!G1958/12)))+(VLOOKUP(E1958,Param!$A$7:$E$13,5,0)*Fonct_Empl!H1958),2),\"\")","v":""}]
[null,null,null,null,null,null,null,null,{"$f":"IF(E1959<>\"\",ROUND((VLOOKUP(E1959,Param!$A$7:$E$13,4,0)*Fonct_Empl!F1959*((Fonct_Empl!G1959/12)))+(VLOOKUP(E1959,Param!$A$7:$E$13,5,0)*Fonct_Empl!H1959),2),\"\")","v":""}]
[null,null,null,null,null,null,null,null,{"$f":"IF(E1960<>\"\",ROUND((VLOOKUP(E1960,Param!$A$7:$E$13,4,0)*Fonct_Empl!F1960*((Fonct_Empl!G1960/12)))+(VLOOKUP(E1960,Param!$A$7:$E$13,5,0)*Fonct_Empl!H1960),2),\"\")","v":""}]
[null,null,null,null,null,null,null,null,{"$f":"IF(E1961<>\"\",ROUND((VLOOKUP(E1961,Param!$A$7:$E$13,4,0)*Fonct_Empl!F1961*((Fonct_Empl!G1961/12)))+(VLOOKUP(E1961,Param!$A$7:$E$13,5,0)*Fonct_Empl!H1961),2),\"\")","v":""}]
[null,null,null,null,null,null,null,null,{"$f":"IF(E1962<>\"\",ROUND((VLOOKUP(E1962,Param!$A$7:$E$13,4,0)*Fonct_Empl!F1962*((Fonct_Empl!G1962/12)))+(VLOOKUP(E1962,Param!$A$7:$E$13,5,0)*Fonct_Empl!H1962),2),\"\")","v":""}]
[null,null,null,null,null,null,null,null,{"$f":"IF(E1963<>\"\",ROUND((VLOOKUP(E1963,Param!$A$7:$E$13,4,0)*Fonct_Empl!F1963*((Fonct_Empl!G1963/12)))+(VLOOKUP(E1963,Param!$A$7:$E$13,5,0)*Fonct_Empl!H1963),2),\"\")","v":""}]
[null,null,null,null,null,null,null,null,{"$f":"IF(E1964<>\"\",ROUND((VLOOKUP(E1964,Param!$A$7:$E$13,4,0)*Fonct_Empl!F1964*((Fonct_Empl!G1964/12)))+(VLOOKUP(E1964,Param!$A$7:$E$13,5,0)*Fonct_Empl!H1964),2),\"\")","v":""}]
[null,null,null,null,null,null,null,null,{"$f":"IF(E1965<>\"\",ROUND((VLOOKUP(E1965,Param!$A$7:$E$13,4,0)*Fonct_Empl!F1965*((Fonct_Empl!G1965/12)))+(VLOOKUP(E1965,Param!$A$7:$E$13,5,0)*Fonct_Empl!H1965),2),\"\")","v":""}]
[null,null,null,null,null,null,null,null,{"$f":"IF(E1966<>\"\",ROUND((VLOOKUP(E1966,Param!$A$7:$E$13,4,0)*Fonct_Empl!F1966*((Fonct_Empl!G1966/12)))+(VLOOKUP(E1966,Param!$A$7:$E$13,5,0)*Fonct_Empl!H1966),2),\"\")","v":""}]
[null,null,null,null,null,null,null,null,{"$f":"IF(E1967<>\"\",ROUND((VLOOKUP(E1967,Param!$A$7:$E$13,4,0)*Fonct_Empl!F1967*((Fonct_Empl!G1967/12)))+(VLOOKUP(E1967,Param!$A$7:$E$13,5,0)*Fonct_Empl!H1967),2),\"\")","v":""}]
[null,null,null,null,null,null,null,null,{"$f":"IF(E1968<>\"\",ROUND((VLOOKUP(E1968,Param!$A$7:$E$13,4,0)*Fonct_Empl!F1968*((Fonct_Empl!G1968/12)))+(VLOOKUP(E1968,Param!$A$7:$E$13,5,0)*Fonct_Empl!H1968),2),\"\")","v":""}]
[null,null,null,null,null,null,null,null,{"$f":"IF(E1969<>\"\",ROUND((VLOOKUP(E1969,Param!$A$7:$E$13,4,0)*Fonct_Empl!F1969*((Fonct_Empl!G1969/12)))+(VLOOKUP(E1969,Param!$A$7:$E$13,5,0)*Fonct_Empl!H1969),2),\"\")","v":""}]
[null,null,null,null,null,null,null,null,{"$f":"IF(E1970<>\"\",ROUND((VLOOKUP(E1970,Param!$A$7:$E$13,4,0)*Fonct_Empl!F1970*((Fonct_Empl!G1970/12)))+(VLOOKUP(E1970,Param!$A$7:$E$13,5,0)*Fonct_Empl!H1970),2),\"\")","v":""}]
[null,null,null,null,null,null,null,null,{"$f":"IF(E1971<>\"\",ROUND((VLOOKUP(E1971,Param!$A$7:$E$13,4,0)*Fonct_Empl!F1971*((Fonct_Empl!G1971/12)))+(VLOOKUP(E1971,Param!$A$7:$E$13,5,0)*Fonct_Empl!H1971),2),\"\")","v":""}]
[null,null,null,null,null,null,null,null,{"$f":"IF(E1972<>\"\",ROUND((VLOOKUP(E1972,Param!$A$7:$E$13,4,0)*Fonct_Empl!F1972*((Fonct_Empl!G1972/12)))+(VLOOKUP(E1972,Param!$A$7:$E$13,5,0)*Fonct_Empl!H1972),2),\"\")","v":""}]
[null,null,null,null,null,null,null,null,{"$f":"IF(E1973<>\"\",ROUND((VLOOKUP(E1973,Param!$A$7:$E$13,4,0)*Fonct_Empl!F1973*((Fonct_Empl!G1973/12)))+(VLOOKUP(E1973,Param!$A$7:$E$13,5,0)*Fonct_Empl!H1973),2),\"\")","v":""}]
[null,null,null,null,null,null,null,null,{"$f":"IF(E1974<>\"\",ROUND((VLOOKUP(E1974,Param!$A$7:$E$13,4,0)*Fonct_Empl!F1974*((Fonct_Empl!G1974/12)))+(VLOOKUP(E1974,Param!$A$7:$E$13,5,0)*Fonct_Empl!H1974),2),\"\")","v":""}]
[null,null,null,null,null,null,null,null,{"$f":"IF(E1975<>\"\",ROUND((VLOOKUP(E1975,Param!$A$7:$E$13,4,0)*Fonct_Empl!F1975*((Fonct_Empl!G1975/12)))+(VLOOKUP(E1975,Param!$A$7:$E$13,5,0)*Fonct_Empl!H1975),2),\"\")","v":""}]
[null,null,null,null,null,null,null,null,{"$f":"IF(E1976<>\"\",ROUND((VLOOKUP(E1976,Param!$A$7:$E$13,4,0)*Fonct_Empl!F1976*((Fonct_Empl!G1976/12)))+(VLOOKUP(E1976,Param!$A$7:$E$13,5,0)*Fonct_Empl!H1976),2),\"\")","v":""}]
[null,null,null,null,null,null,null,null,{"$f":"IF(E1977<>\"\",ROUND((VLOOKUP(E1977,Param!$A$7:$E$13,4,0)*Fonct_Empl!F1977*((Fonct_Empl!G1977/12)))+(VLOOKUP(E1977,Param!$A$7:$E$13,5,0)*Fonct_Empl!H1977),2),\"\")","v":""}]
[null,null,null,null,null,null,null,null,{"$f":"IF(E1978<>\"\",ROUND((VLOOKUP(E1978,Param!$A$7:$E$13,4,0)*Fonct_Empl!F1978*((Fonct_Empl!G1978/12)))+(VLOOKUP(E1978,Param!$A$7:$E$13,5,0)*Fonct_Empl!H1978),2),\"\")","v":""}]
[null,null,null,null,null,null,null,null,{"$f":"IF(E1979<>\"\",ROUND((VLOOKUP(E1979,Param!$A$7:$E$13,4,0)*Fonct_Empl!F1979*((Fonct_Empl!G1979/12)))+(VLOOKUP(E1979,Param!$A$7:$E$13,5,0)*Fonct_Empl!H1979),2),\"\")","v":""}]
[null,null,null,null,null,null,null,null,{"$f":"IF(E1980<>\"\",ROUND((VLOOKUP(E1980,Param!$A$7:$E$13,4,0)*Fonct_Empl!F1980*((Fonct_Empl!G1980/12)))+(VLOOKUP(E1980,Param!$A$7:$E$13,5,0)*Fonct_Empl!H1980),2),\"\")","v":""}]
[null,null,null,null,null,null,null,null,{"$f":"IF(E1981<>\"\",ROUND((VLOOKUP(E1981,Param!$A$7:$E$13,4,0)*Fonct_Empl!F1981*((Fonct_Empl!G1981/12)))+(VLOOKUP(E1981,Param!$A$7:$E$13,5,0)*Fonct_Empl!H1981),2),\"\")","v":""}]
[null,null,null,null,null,null,null,null,{"$f":"IF(E1982<>\"\",ROUND((VLOOKUP(E1982,Param!$A$7:$E$13,4,0)*Fonct_Empl!F1982*((Fonct_Empl!G1982/12)))+(VLOOKUP(E1982,Param!$A$7:$E$13,5,0)*Fonct_Empl!H1982),2),\"\")","v":""}]
[null,null,null,null,null,null,null,null,{"$f":"IF(E1983<>\"\",ROUND((VLOOKUP(E1983,Param!$A$7:$E$13,4,0)*Fonct_Empl!F1983*((Fonct_Empl!G1983/12)))+(VLOOKUP(E1983,Param!$A$7:$E$13,5,0)*Fonct_Empl!H1983),2),\"\")","v":""}]
[null,null,null,null,null,null,null,null,{"$f":"IF(E1984<>\"\",ROUND((VLOOKUP(E1984,Param!$A$7:$E$13,4,0)*Fonct_Empl!F1984*((Fonct_Empl!G1984/12)))+(VLOOKUP(E1984,Param!$A$7:$E$13,5,0)*Fonct_Empl!H1984),2),\"\")","v":""}]
[null,null,null,null,null,null,null,null,{"$f":"IF(E1985<>\"\",ROUND((VLOOKUP(E1985,Param!$A$7:$E$13,4,0)*Fonct_Empl!F1985*((Fonct_Empl!G1985/12)))+(VLOOKUP(E1985,Param!$A$7:$E$13,5,0)*Fonct_Empl!H1985),2),\"\")","v":""}]
[null,null,null,null,null,null,null,null,{"$f":"IF(E1986<>\"\",ROUND((VLOOKUP(E1986,Param!$A$7:$E$13,4,0)*Fonct_Empl!F1986*((Fonct_Empl!G1986/12)))+(VLOOKUP(E1986,Param!$A$7:$E$13,5,0)*Fonct_Empl!H1986),2),\"\")","v":""}]
[null,null,null,null,null,null,null,null,{"$f":"IF(E1987<>\"\",ROUND((VLOOKUP(E1987,Param!$A$7:$E$13,4,0)*Fonct_Empl!F1987*((Fonct_Empl!G1987/12)))+(VLOOKUP(E1987,Param!$A$7:$E$13,5,0)*Fonct_Empl!H1987),2),\"\")","v":""}]
[null,null,null,null,null,null,null,null,{"$f":"IF(E1988<>\"\",ROUND((VLOOKUP(E1988,Param!$A$7:$E$13,4,0)*Fonct_Empl!F1988*((Fonct_Empl!G1988/12)))+(VLOOKUP(E1988,Param!$A$7:$E$13,5,0)*Fonct_Empl!H1988),2),\"\")","v":""}]
[null,null,null,null,null,null,null,null,{"$f":"IF(E1989<>\"\",ROUND((VLOOKUP(E1989,Param!$A$7:$E$13,4,0)*Fonct_Empl!F1989*((Fonct_Empl!G1989/12)))+(VLOOKUP(E1989,Param!$A$7:$E$13,5,0)*Fonct_Empl!H1989),2),\"\")","v":""}]
[null,null,null,null,null,null,null,null,{"$f":"IF(E1990<>\"\",ROUND((VLOOKUP(E1990,Param!$A$7:$E$13,4,0)*Fonct_Empl!F1990*((Fonct_Empl!G1990/12)))+(VLOOKUP(E1990,Param!$A$7:$E$13,5,0)*Fonct_Empl!H1990),2),\"\")","v":""}]
[null,null,null,null,null,null,null,null,{"$f":"IF(E1991<>\"\",ROUND((VLOOKUP(E1991,Param!$A$7:$E$13,4,0)*Fonct_Empl!F1991*((Fonct_Empl!G1991/12)))+(VLOOKUP(E1991,Param!$A$7:$E$13,5,0)*Fonct_Empl!H1991),2),\"\")","v":""}]
[null,null,null,null,null,null,null,null,{"$f":"IF(E1992<>\"\",ROUND((VLOOKUP(E1992,Param!$A$7:$E$13,4,0)*Fonct_Empl!F1992*((Fonct_Empl!G1992/12)))+(VLOOKUP(E1992,Param!$A$7:$E$13,5,0)*Fonct_Empl!H1992),2),\"\")","v":""}]
[null,null,null,null,null,null,null,null,{"$f":"IF(E1993<>\"\",ROUND((VLOOKUP(E1993,Param!$A$7:$E$13,4,0)*Fonct_Empl!F1993*((Fonct_Empl!G1993/12)))+(VLOOKUP(E1993,Param!$A$7:$E$13,5,0)*Fonct_Empl!H1993),2),\"\")","v":""}]
[null,null,null,null,null,null,null,null,{"$f":"IF(E1994<>\"\",ROUND((VLOOKUP(E1994,Param!$A$7:$E$13,4,0)*Fonct_Empl!F1994*((Fonct_Empl!G1994/12)))+(VLOOKUP(E1994,Param!$A$7:$E$13,5,0)*Fonct_Empl!H1994),2),\"\")","v":""}]
[null,null,null,null,null,null,null,null,{"$f":"IF(E1995<>\"\",ROUND((VLOOKUP(E1995,Param!$A$7:$E$13,4,0)*Fonct_Empl!F1995*((Fonct_Empl!G1995/12)))+(VLOOKUP(E1995,Param!$A$7:$E$13,5,0)*Fonct_Empl!H1995),2),\"\")","v":""}]
[null,null,null,null,null,null,null,null,{"$f":"IF(E1996<>\"\",ROUND((VLOOKUP(E1996,Param!$A$7:$E$13,4,0)*Fonct_Empl!F1996*((Fonct_Empl!G1996/12)))+(VLOOKUP(E1996,Param!$A$7:$E$13,5,0)*Fonct_Empl!H1996),2),\"\")","v":""}]
[null,null,null,null,null,null,null,null,{"$f":"IF(E1997<>\"\",ROUND((VLOOKUP(E1997,Param!$A$7:$E$13,4,0)*Fonct_Empl!F1997*((Fonct_Empl!G1997/12)))+(VLOOKUP(E1997,Param!$A$7:$E$13,5,0)*Fonct_Empl!H1997),2),\"\")","v":""}]
[null,null,null,null,null,null,null,null,{"$f":"IF(E1998<>\"\",ROUND((VLOOKUP(E1998,Param!$A$7:$E$13,4,0)*Fonct_Empl!F1998*((Fonct_Empl!G1998/12)))+(VLOOKUP(E1998,Param!$A$7:$E$13,5,0)*Fonct_Empl!H1998),2),\"\")","v":""}]
[null,null,null,null,null,null,null,null,{"$f":"IF(E1999<>\"\",ROUND((VLOOKUP(E1999,Param!$A$7:$E$13,4,0)*Fonct_Empl!F1999*((Fonct_Empl!G1999/12)))+(VLOOKUP(E1999,Param!$A$7:$E$13,5,0)*Fonct_Empl!H1999),2),\"\")","v":""}]
[null,null,null,null,null,null,null,null,{"$f":"IF(E2000<>\"\",ROUND((VLOOKUP(E2000,Param!$A$7:$E$13,4,0)*Fonct_Empl!F2000*((Fonct_Empl!G2000/12)))+(VLOOKUP(E2000,Param!$A$7:$E$13,5,0)*Fonct_Empl!H2000),2),\"\")","v":""}]
[null,null,null,null,null,null,null,null,{"$f":"IF(E2001<>\"\",ROUND((VLOOKUP(E2001,Param!$A$7:$E$13,4,0)*Fonct_Empl!F2001*((Fonct_Empl!G2001/12)))+(VLOOKUP(E2001,Param!$A$7:$E$13,5,0)*Fonct_Empl!H2001),2),\"\")","v":""}]
[null,null,null,null,null,null,null,null,{"$f":"IF(E2002<>\"\",ROUND((VLOOKUP(E2002,Param!$A$7:$E$13,4,0)*Fonct_Empl!F2002*((Fonct_Empl!G2002/12)))+(VLOOKUP(E2002,Param!$A$7:$E$13,5,0)*Fonct_Empl!H2002),2),\"\")","v":""}]
[null,null,null,null,null,null,null,null,{"$f":"IF(E2003<>\"\",ROUND((VLOOKUP(E2003,Param!$A$7:$E$13,4,0)*Fonct_Empl!F2003*((Fonct_Empl!G2003/12)))+(VLOOKUP(E2003,Param!$A$7:$E$13,5,0)*Fonct_Empl!H2003),2),\"\")","v":""}]
[null,null,null,null,null,null,null,null,{"$f":"IF(E2004<>\"\",ROUND((VLOOKUP(E2004,Param!$A$7:$E$13,4,0)*Fonct_Empl!F2004*((Fonct_Empl!G2004/12)))+(VLOOKUP(E2004,Param!$A$7:$E$13,5,0)*Fonct_Empl!H2004),2),\"\")","v":""}]
[null,null,null,null,null,null,null,null,{"$f":"IF(E2005<>\"\",ROUND((VLOOKUP(E2005,Param!$A$7:$E$13,4,0)*Fonct_Empl!F2005*((Fonct_Empl!G2005/12)))+(VLOOKUP(E2005,Param!$A$7:$E$13,5,0)*Fonct_Empl!H2005),2),\"\")","v":""}]
[null,null,null,null,null,null,null,null,{"$f":"IF(E2006<>\"\",ROUND((VLOOKUP(E2006,Param!$A$7:$E$13,4,0)*Fonct_Empl!F2006*((Fonct_Empl!G2006/12)))+(VLOOKUP(E2006,Param!$A$7:$E$13,5,0)*Fonct_Empl!H2006),2),\"\")","v":""}]
[null,null,null,null,null,null,null,null,{"$f":"IF(E2007<>\"\",ROUND((VLOOKUP(E2007,Param!$A$7:$E$13,4,0)*Fonct_Empl!F2007*((Fonct_Empl!G2007/12)))+(VLOOKUP(E2007,Param!$A$7:$E$13,5,0)*Fonct_Empl!H2007),2),\"\")","v":""}]
[null,null,null,null,null,null,null,null,{"$f":"IF(E2008<>\"\",ROUND((VLOOKUP(E2008,Param!$A$7:$E$13,4,0)*Fonct_Empl!F2008*((Fonct_Empl!G2008/12)))+(VLOOKUP(E2008,Param!$A$7:$E$13,5,0)*Fonct_Empl!H2008),2),\"\")","v":""}]
[null,null,null,null,null,null,null,null,{"$f":"IF(E2009<>\"\",ROUND((VLOOKUP(E2009,Param!$A$7:$E$13,4,0)*Fonct_Empl!F2009*((Fonct_Empl!G2009/12)))+(VLOOKUP(E2009,Param!$A$7:$E$13,5,0)*Fonct_Empl!H2009),2),\"\")","v":""}]
[null,null,null,null,null,null,null,null,{"$f":"IF(E2010<>\"\",ROUND((VLOOKUP(E2010,Param!$A$7:$E$13,4,0)*Fonct_Empl!F2010*((Fonct_Empl!G2010/12)))+(VLOOKUP(E2010,Param!$A$7:$E$13,5,0)*Fonct_Empl!H2010),2),\"\")","v":""}]
[null,null,null,null,null,null,null,null,{"$f":"IF(E2011<>\"\",ROUND((VLOOKUP(E2011,Param!$A$7:$E$13,4,0)*Fonct_Empl!F2011*((Fonct_Empl!G2011/12)))+(VLOOKUP(E2011,Param!$A$7:$E$13,5,0)*Fonct_Empl!H2011),2),\"\")","v":""}]
[null,null,null,null,null,null,null,null,{"$f":"IF(E2012<>\"\",ROUND((VLOOKUP(E2012,Param!$A$7:$E$13,4,0)*Fonct_Empl!F2012*((Fonct_Empl!G2012/12)))+(VLOOKUP(E2012,Param!$A$7:$E$13,5,0)*Fonct_Empl!H2012),2),\"\")","v":""}]
[null,null,null,null,null,null,null,null,{"$f":"IF(E2013<>\"\",ROUND((VLOOKUP(E2013,Param!$A$7:$E$13,4,0)*Fonct_Empl!F2013*((Fonct_Empl!G2013/12)))+(VLOOKUP(E2013,Param!$A$7:$E$13,5,0)*Fonct_Empl!H2013),2),\"\")","v":""}]
[null,null,null,null,null,null,null,null,{"$f":"IF(E2014<>\"\",ROUND((VLOOKUP(E2014,Param!$A$7:$E$13,4,0)*Fonct_Empl!F2014*((Fonct_Empl!G2014/12)))+(VLOOKUP(E2014,Param!$A$7:$E$13,5,0)*Fonct_Empl!H2014),2),\"\")","v":""}]
[null,null,null,null,null,null,null,null,{"$f":"IF(E2015<>\"\",ROUND((VLOOKUP(E2015,Param!$A$7:$E$13,4,0)*Fonct_Empl!F2015*((Fonct_Empl!G2015/12)))+(VLOOKUP(E2015,Param!$A$7:$E$13,5,0)*Fonct_Empl!H2015),2),\"\")","v":""}]
[null,null,null,null,null,null,null,null,{"$f":"IF(E2016<>\"\",ROUND((VLOOKUP(E2016,Param!$A$7:$E$13,4,0)*Fonct_Empl!F2016*((Fonct_Empl!G2016/12)))+(VLOOKUP(E2016,Param!$A$7:$E$13,5,0)*Fonct_Empl!H2016),2),\"\")","v":""}]
[null,null,null,null,null,null,null,null,{"$f":"IF(E2017<>\"\",ROUND((VLOOKUP(E2017,Param!$A$7:$E$13,4,0)*Fonct_Empl!F2017*((Fonct_Empl!G2017/12)))+(VLOOKUP(E2017,Param!$A$7:$E$13,5,0)*Fonct_Empl!H2017),2),\"\")","v":""}]
[null,null,null,null,null,null,null,null,{"$f":"IF(E2018<>\"\",ROUND((VLOOKUP(E2018,Param!$A$7:$E$13,4,0)*Fonct_Empl!F2018*((Fonct_Empl!G2018/12)))+(VLOOKUP(E2018,Param!$A$7:$E$13,5,0)*Fonct_Empl!H2018),2),\"\")","v":""}]
[null,null,null,null,null,null,null,null,{"$f":"IF(E2019<>\"\",ROUND((VLOOKUP(E2019,Param!$A$7:$E$13,4,0)*Fonct_Empl!F2019*((Fonct_Empl!G2019/12)))+(VLOOKUP(E2019,Param!$A$7:$E$13,5,0)*Fonct_Empl!H2019),2),\"\")","v":""}]
[null,null,null,null,null,null,null,null,{"$f":"IF(E2020<>\"\",ROUND((VLOOKUP(E2020,Param!$A$7:$E$13,4,0)*Fonct_Empl!F2020*((Fonct_Empl!G2020/12)))+(VLOOKUP(E2020,Param!$A$7:$E$13,5,0)*Fonct_Empl!H2020),2),\"\")","v":""}]
[null,null,null,null,null,null,null,null,{"$f":"IF(E2021<>\"\",ROUND((VLOOKUP(E2021,Param!$A$7:$E$13,4,0)*Fonct_Empl!F2021*((Fonct_Empl!G2021/12)))+(VLOOKUP(E2021,Param!$A$7:$E$13,5,0)*Fonct_Empl!H2021),2),\"\")","v":""}]
[null,null,null,null,null,null,null,null,{"$f":"IF(E2022<>\"\",ROUND((VLOOKUP(E2022,Param!$A$7:$E$13,4,0)*Fonct_Empl!F2022*((Fonct_Empl!G2022/12)))+(VLOOKUP(E2022,Param!$A$7:$E$13,5,0)*Fonct_Empl!H2022),2),\"\")","v":""}]
[null,null,null,null,null,null,null,null,{"$f":"IF(E2023<>\"\",ROUND((VLOOKUP(E2023,Param!$A$7:$E$13,4,0)*Fonct_Empl!F2023*((Fonct_Empl!G2023/12)))+(VLOOKUP(E2023,Param!$A$7:$E$13,5,0)*Fonct_Empl!H2023),2),\"\")","v":""}]
[null,null,null,null,null,null,null,null,{"$f":"IF(E2024<>\"\",ROUND((VLOOKUP(E2024,Param!$A$7:$E$13,4,0)*Fonct_Empl!F2024*((Fonct_Empl!G2024/12)))+(VLOOKUP(E2024,Param!$A$7:$E$13,5,0)*Fonct_Empl!H2024),2),\"\")","v":""}]
[null,null,null,null,null,null,null,null,{"$f":"IF(E2025<>\"\",ROUND((VLOOKUP(E2025,Param!$A$7:$E$13,4,0)*Fonct_Empl!F2025*((Fonct_Empl!G2025/12)))+(VLOOKUP(E2025,Param!$A$7:$E$13,5,0)*Fonct_Empl!H2025),2),\"\")","v":""}]
[null,null,null,null,null,null,null,null,{"$f":"IF(E2026<>\"\",ROUND((VLOOKUP(E2026,Param!$A$7:$E$13,4,0)*Fonct_Empl!F2026*((Fonct_Empl!G2026/12)))+(VLOOKUP(E2026,Param!$A$7:$E$13,5,0)*Fonct_Empl!H2026),2),\"\")","v":""}]
[null,null,null,null,null,null,null,null,{"$f":"IF(E2027<>\"\",ROUND((VLOOKUP(E2027,Param!$A$7:$E$13,4,0)*Fonct_Empl!F2027*((Fonct_Empl!G2027/12)))+(VLOOKUP(E2027,Param!$A$7:$E$13,5,0)*Fonct_Empl!H2027),2),\"\")","v":""}]
[null,null,null,null,null,null,null,null,{"$f":"IF(E2028<>\"\",ROUND((VLOOKUP(E2028,Param!$A$7:$E$13,4,0)*Fonct_Empl!F2028*((Fonct_Empl!G2028/12)))+(VLOOKUP(E2028,Param!$A$7:$E$13,5,0)*Fonct_Empl!H2028),2),\"\")","v":""}]
[null,null,null,null,null,null,null,null,{"$f":"IF(E2029<>\"\",ROUND((VLOOKUP(E2029,Param!$A$7:$E$13,4,0)*Fonct_Empl!F2029*((Fonct_Empl!G2029/12)))+(VLOOKUP(E2029,Param!$A$7:$E$13,5,0)*Fonct_Empl!H2029),2),\"\")","v":""}]
[null,null,null,null,null,null,null,null,{"$f":"IF(E2030<>\"\",ROUND((VLOOKUP(E2030,Param!$A$7:$E$13,4,0)*Fonct_Empl!F2030*((Fonct_Empl!G2030/12)))+(VLOOKUP(E2030,Param!$A$7:$E$13,5,0)*Fonct_Empl!H2030),2),\"\")","v":""}]
[null,null,null,null,null,null,null,null,{"$f":"IF(E2031<>\"\",ROUND((VLOOKUP(E2031,Param!$A$7:$E$13,4,0)*Fonct_Empl!F2031*((Fonct_Empl!G2031/12)))+(VLOOKUP(E2031,Param!$A$7:$E$13,5,0)*Fonct_Empl!H2031),2),\"\")","v":""}]
[null,null,null,null,null,null,null,null,{"$f":"IF(E2032<>\"\",ROUND((VLOOKUP(E2032,Param!$A$7:$E$13,4,0)*Fonct_Empl!F2032*((Fonct_Empl!G2032/12)))+(VLOOKUP(E2032,Param!$A$7:$E$13,5,0)*Fonct_Empl!H2032),2),\"\")","v":""}]
[null,null,null,null,null,null,null,null,{"$f":"IF(E2033<>\"\",ROUND((VLOOKUP(E2033,Param!$A$7:$E$13,4,0)*Fonct_Empl!F2033*((Fonct_Empl!G2033/12)))+(VLOOKUP(E2033,Param!$A$7:$E$13,5,0)*Fonct_Empl!H2033),2),\"\")","v":""}]
[null,null,null,null,null,null,null,null,{"$f":"IF(E2034<>\"\",ROUND((VLOOKUP(E2034,Param!$A$7:$E$13,4,0)*Fonct_Empl!F2034*((Fonct_Empl!G2034/12)))+(VLOOKUP(E2034,Param!$A$7:$E$13,5,0)*Fonct_Empl!H2034),2),\"\")","v":""}]
[null,null,null,null,null,null,null,null,{"$f":"IF(E2035<>\"\",ROUND((VLOOKUP(E2035,Param!$A$7:$E$13,4,0)*Fonct_Empl!F2035*((Fonct_Empl!G2035/12)))+(VLOOKUP(E2035,Param!$A$7:$E$13,5,0)*Fonct_Empl!H2035),2),\"\")","v":""}]
[null,null,null,null,null,null,null,null,{"$f":"IF(E2036<>\"\",ROUND((VLOOKUP(E2036,Param!$A$7:$E$13,4,0)*Fonct_Empl!F2036*((Fonct_Empl!G2036/12)))+(VLOOKUP(E2036,Param!$A$7:$E$13,5,0)*Fonct_Empl!H2036),2),\"\")","v":""}]
[null,null,null,null,null,null,null,null,{"$f":"IF(E2037<>\"\",ROUND((VLOOKUP(E2037,Param!$A$7:$E$13,4,0)*Fonct_Empl!F2037*((Fonct_Empl!G2037/12)))+(VLOOKUP(E2037,Param!$A$7:$E$13,5,0)*Fonct_Empl!H2037),2),\"\")","v":""}]
[null,null,null,null,null,null,null,null,{"$f":"IF(E2038<>\"\",ROUND((VLOOKUP(E2038,Param!$A$7:$E$13,4,0)*Fonct_Empl!F2038*((Fonct_Empl!G2038/12)))+(VLOOKUP(E2038,Param!$A$7:$E$13,5,0)*Fonct_Empl!H2038),2),\"\")","v":""}]
[null,null,null,null,null,null,null,null,{"$f":"IF(E2039<>\"\",ROUND((VLOOKUP(E2039,Param!$A$7:$E$13,4,0)*Fonct_Empl!F2039*((Fonct_Empl!G2039/12)))+(VLOOKUP(E2039,Param!$A$7:$E$13,5,0)*Fonct_Empl!H2039),2),\"\")","v":""}]
[null,null,null,null,null,null,null,null,{"$f":"IF(E2040<>\"\",ROUND((VLOOKUP(E2040,Param!$A$7:$E$13,4,0)*Fonct_Empl!F2040*((Fonct_Empl!G2040/12)))+(VLOOKUP(E2040,Param!$A$7:$E$13,5,0)*Fonct_Empl!H2040),2),\"\")","v":""}]
[null,null,null,null,null,null,null,null,{"$f":"IF(E2041<>\"\",ROUND((VLOOKUP(E2041,Param!$A$7:$E$13,4,0)*Fonct_Empl!F2041*((Fonct_Empl!G2041/12)))+(VLOOKUP(E2041,Param!$A$7:$E$13,5,0)*Fonct_Empl!H2041),2),\"\")","v":""}]
[null,null,null,null,null,null,null,null,{"$f":"IF(E2042<>\"\",ROUND((VLOOKUP(E2042,Param!$A$7:$E$13,4,0)*Fonct_Empl!F2042*((Fonct_Empl!G2042/12)))+(VLOOKUP(E2042,Param!$A$7:$E$13,5,0)*Fonct_Empl!H2042),2),\"\")","v":""}]
[null,null,null,null,null,null,null,null,{"$f":"IF(E2043<>\"\",ROUND((VLOOKUP(E2043,Param!$A$7:$E$13,4,0)*Fonct_Empl!F2043*((Fonct_Empl!G2043/12)))+(VLOOKUP(E2043,Param!$A$7:$E$13,5,0)*Fonct_Empl!H2043),2),\"\")","v":""}]
[null,null,null,null,null,null,null,null,{"$f":"IF(E2044<>\"\",ROUND((VLOOKUP(E2044,Param!$A$7:$E$13,4,0)*Fonct_Empl!F2044*((Fonct_Empl!G2044/12)))+(VLOOKUP(E2044,Param!$A$7:$E$13,5,0)*Fonct_Empl!H2044),2),\"\")","v":""}]
[null,null,null,null,null,null,null,null,{"$f":"IF(E2045<>\"\",ROUND((VLOOKUP(E2045,Param!$A$7:$E$13,4,0)*Fonct_Empl!F2045*((Fonct_Empl!G2045/12)))+(VLOOKUP(E2045,Param!$A$7:$E$13,5,0)*Fonct_Empl!H2045),2),\"\")","v":""}]
[null,null,null,null,null,null,null,null,{"$f":"IF(E2046<>\"\",ROUND((VLOOKUP(E2046,Param!$A$7:$E$13,4,0)*Fonct_Empl!F2046*((Fonct_Empl!G2046/12)))+(VLOOKUP(E2046,Param!$A$7:$E$13,5,0)*Fonct_Empl!H2046),2),\"\")","v":""}]
[null,null,null,null,null,null,null,null,{"$f":"IF(E2047<>\"\",ROUND((VLOOKUP(E2047,Param!$A$7:$E$13,4,0)*Fonct_Empl!F2047*((Fonct_Empl!G2047/12)))+(VLOOKUP(E2047,Param!$A$7:$E$13,5,0)*Fonct_Empl!H2047),2),\"\")","v":""}]
[null,null,null,null,null,null,null,null,{"$f":"IF(E2048<>\"\",ROUND((VLOOKUP(E2048,Param!$A$7:$E$13,4,0)*Fonct_Empl!F2048*((Fonct_Empl!G2048/12)))+(VLOOKUP(E2048,Param!$A$7:$E$13,5,0)*Fonct_Empl!H2048),2),\"\")","v":""}]
[null,null,null,null,null,null,null,null,{"$f":"IF(E2049<>\"\",ROUND((VLOOKUP(E2049,Param!$A$7:$E$13,4,0)*Fonct_Empl!F2049*((Fonct_Empl!G2049/12)))+(VLOOKUP(E2049,Param!$A$7:$E$13,5,0)*Fonct_Empl!H2049),2),\"\")","v":""}]
[null,null,null,null,null,null,null,null,{"$f":"IF(E2050<>\"\",ROUND((VLOOKUP(E2050,Param!$A$7:$E$13,4,0)*Fonct_Empl!F2050*((Fonct_Empl!G2050/12)))+(VLOOKUP(E2050,Param!$A$7:$E$13,5,0)*Fonct_Empl!H2050),2),\"\")","v":""}]
[null,null,null,null,null,null,null,null,{"$f":"IF(E2051<>\"\",ROUND((VLOOKUP(E2051,Param!$A$7:$E$13,4,0)*Fonct_Empl!F2051*((Fonct_Empl!G2051/12)))+(VLOOKUP(E2051,Param!$A$7:$E$13,5,0)*Fonct_Empl!H2051),2),\"\")","v":""}]
[null,null,null,null,null,null,null,null,{"$f":"IF(E2052<>\"\",ROUND((VLOOKUP(E2052,Param!$A$7:$E$13,4,0)*Fonct_Empl!F2052*((Fonct_Empl!G2052/12)))+(VLOOKUP(E2052,Param!$A$7:$E$13,5,0)*Fonct_Empl!H2052),2),\"\")","v":""}]
[null,null,null,null,null,null,null,null,{"$f":"IF(E2053<>\"\",ROUND((VLOOKUP(E2053,Param!$A$7:$E$13,4,0)*Fonct_Empl!F2053*((Fonct_Empl!G2053/12)))+(VLOOKUP(E2053,Param!$A$7:$E$13,5,0)*Fonct_Empl!H2053),2),\"\")","v":""}]
[null,null,null,null,null,null,null,null,{"$f":"IF(E2054<>\"\",ROUND((VLOOKUP(E2054,Param!$A$7:$E$13,4,0)*Fonct_Empl!F2054*((Fonct_Empl!G2054/12)))+(VLOOKUP(E2054,Param!$A$7:$E$13,5,0)*Fonct_Empl!H2054),2),\"\")","v":""}]
[null,null,null,null,null,null,null,null,{"$f":"IF(E2055<>\"\",ROUND((VLOOKUP(E2055,Param!$A$7:$E$13,4,0)*Fonct_Empl!F2055*((Fonct_Empl!G2055/12)))+(VLOOKUP(E2055,Param!$A$7:$E$13,5,0)*Fonct_Empl!H2055),2),\"\")","v":""}]
[null,null,null,null,null,null,null,null,{"$f":"IF(E2056<>\"\",ROUND((VLOOKUP(E2056,Param!$A$7:$E$13,4,0)*Fonct_Empl!F2056*((Fonct_Empl!G2056/12)))+(VLOOKUP(E2056,Param!$A$7:$E$13,5,0)*Fonct_Empl!H2056),2),\"\")","v":""}]
[null,null,null,null,null,null,null,null,{"$f":"IF(E2057<>\"\",ROUND((VLOOKUP(E2057,Param!$A$7:$E$13,4,0)*Fonct_Empl!F2057*((Fonct_Empl!G2057/12)))+(VLOOKUP(E2057,Param!$A$7:$E$13,5,0)*Fonct_Empl!H2057),2),\"\")","v":""}]
[null,null,null,null,null,null,null,null,{"$f":"IF(E2058<>\"\",ROUND((VLOOKUP(E2058,Param!$A$7:$E$13,4,0)*Fonct_Empl!F2058*((Fonct_Empl!G2058/12)))+(VLOOKUP(E2058,Param!$A$7:$E$13,5,0)*Fonct_Empl!H2058),2),\"\")","v":""}]
[null,null,null,null,null,null,null,null,{"$f":"IF(E2059<>\"\",ROUND((VLOOKUP(E2059,Param!$A$7:$E$13,4,0)*Fonct_Empl!F2059*((Fonct_Empl!G2059/12)))+(VLOOKUP(E2059,Param!$A$7:$E$13,5,0)*Fonct_Empl!H2059),2),\"\")","v":""}]
[null,null,null,null,null,null,null,null,{"$f":"IF(E2060<>\"\",ROUND((VLOOKUP(E2060,Param!$A$7:$E$13,4,0)*Fonct_Empl!F2060*((Fonct_Empl!G2060/12)))+(VLOOKUP(E2060,Param!$A$7:$E$13,5,0)*Fonct_Empl!H2060),2),\"\")","v":""}]
[null,null,null,null,null,null,null,null,{"$f":"IF(E2061<>\"\",ROUND((VLOOKUP(E2061,Param!$A$7:$E$13,4,0)*Fonct_Empl!F2061*((Fonct_Empl!G2061/12)))+(VLOOKUP(E2061,Param!$A$7:$E$13,5,0)*Fonct_Empl!H2061),2),\"\")","v":""}]
[null,null,null,null,null,null,null,null,{"$f":"IF(E2062<>\"\",ROUND((VLOOKUP(E2062,Param!$A$7:$E$13,4,0)*Fonct_Empl!F2062*((Fonct_Empl!G2062/12)))+(VLOOKUP(E2062,Param!$A$7:$E$13,5,0)*Fonct_Empl!H2062),2),\"\")","v":""}]
[null,null,null,null,null,null,null,null,{"$f":"IF(E2063<>\"\",ROUND((VLOOKUP(E2063,Param!$A$7:$E$13,4,0)*Fonct_Empl!F2063*((Fonct_Empl!G2063/12)))+(VLOOKUP(E2063,Param!$A$7:$E$13,5,0)*Fonct_Empl!H2063),2),\"\")","v":""}]
[null,null,null,null,null,null,null,null,{"$f":"IF(E2064<>\"\",ROUND((VLOOKUP(E2064,Param!$A$7:$E$13,4,0)*Fonct_Empl!F2064*((Fonct_Empl!G2064/12)))+(VLOOKUP(E2064,Param!$A$7:$E$13,5,0)*Fonct_Empl!H2064),2),\"\")","v":""}]
[null,null,null,null,null,null,null,null,{"$f":"IF(E2065<>\"\",ROUND((VLOOKUP(E2065,Param!$A$7:$E$13,4,0)*Fonct_Empl!F2065*((Fonct_Empl!G2065/12)))+(VLOOKUP(E2065,Param!$A$7:$E$13,5,0)*Fonct_Empl!H2065),2),\"\")","v":""}]
[null,null,null,null,null,null,null,null,{"$f":"IF(E2066<>\"\",ROUND((VLOOKUP(E2066,Param!$A$7:$E$13,4,0)*Fonct_Empl!F2066*((Fonct_Empl!G2066/12)))+(VLOOKUP(E2066,Param!$A$7:$E$13,5,0)*Fonct_Empl!H2066),2),\"\")","v":""}]
[null,null,null,null,null,null,null,null,{"$f":"IF(E2067<>\"\",ROUND((VLOOKUP(E2067,Param!$A$7:$E$13,4,0)*Fonct_Empl!F2067*((Fonct_Empl!G2067/12)))+(VLOOKUP(E2067,Param!$A$7:$E$13,5,0)*Fonct_Empl!H2067),2),\"\")","v":""}]
[null,null,null,null,null,null,null,null,{"$f":"IF(E2068<>\"\",ROUND((VLOOKUP(E2068,Param!$A$7:$E$13,4,0)*Fonct_Empl!F2068*((Fonct_Empl!G2068/12)))+(VLOOKUP(E2068,Param!$A$7:$E$13,5,0)*Fonct_Empl!H2068),2),\"\")","v":""}]
[null,null,null,null,null,null,null,null,{"$f":"IF(E2069<>\"\",ROUND((VLOOKUP(E2069,Param!$A$7:$E$13,4,0)*Fonct_Empl!F2069*((Fonct_Empl!G2069/12)))+(VLOOKUP(E2069,Param!$A$7:$E$13,5,0)*Fonct_Empl!H2069),2),\"\")","v":""}]
[null,null,null,null,null,null,null,null,{"$f":"IF(E2070<>\"\",ROUND((VLOOKUP(E2070,Param!$A$7:$E$13,4,0)*Fonct_Empl!F2070*((Fonct_Empl!G2070/12)))+(VLOOKUP(E2070,Param!$A$7:$E$13,5,0)*Fonct_Empl!H2070),2),\"\")","v":""}]
[null,null,null,null,null,null,null,null,{"$f":"IF(E2071<>\"\",ROUND((VLOOKUP(E2071,Param!$A$7:$E$13,4,0)*Fonct_Empl!F2071*((Fonct_Empl!G2071/12)))+(VLOOKUP(E2071,Param!$A$7:$E$13,5,0)*Fonct_Empl!H2071),2),\"\")","v":""}]
[null,null,null,null,null,null,null,null,{"$f":"IF(E2072<>\"\",ROUND((VLOOKUP(E2072,Param!$A$7:$E$13,4,0)*Fonct_Empl!F2072*((Fonct_Empl!G2072/12)))+(VLOOKUP(E2072,Param!$A$7:$E$13,5,0)*Fonct_Empl!H2072),2),\"\")","v":""}]
[null,null,null,null,null,null,null,null,{"$f":"IF(E2073<>\"\",ROUND((VLOOKUP(E2073,Param!$A$7:$E$13,4,0)*Fonct_Empl!F2073*((Fonct_Empl!G2073/12)))+(VLOOKUP(E2073,Param!$A$7:$E$13,5,0)*Fonct_Empl!H2073),2),\"\")","v":""}]
[null,null,null,null,null,null,null,null,{"$f":"IF(E2074<>\"\",ROUND((VLOOKUP(E2074,Param!$A$7:$E$13,4,0)*Fonct_Empl!F2074*((Fonct_Empl!G2074/12)))+(VLOOKUP(E2074,Param!$A$7:$E$13,5,0)*Fonct_Empl!H2074),2),\"\")","v":""}]
[null,null,null,null,null,null,null,null,{"$f":"IF(E2075<>\"\",ROUND((VLOOKUP(E2075,Param!$A$7:$E$13,4,0)*Fonct_Empl!F2075*((Fonct_Empl!G2075/12)))+(VLOOKUP(E2075,Param!$A$7:$E$13,5,0)*Fonct_Empl!H2075),2),\"\")","v":""}]
[null,null,null,null,null,null,null,null,{"$f":"IF(E2076<>\"\",ROUND((VLOOKUP(E2076,Param!$A$7:$E$13,4,0)*Fonct_Empl!F2076*((Fonct_Empl!G2076/12)))+(VLOOKUP(E2076,Param!$A$7:$E$13,5,0)*Fonct_Empl!H2076),2),\"\")","v":""}]
[null,null,null,null,null,null,null,null,{"$f":"IF(E2077<>\"\",ROUND((VLOOKUP(E2077,Param!$A$7:$E$13,4,0)*Fonct_Empl!F2077*((Fonct_Empl!G2077/12)))+(VLOOKUP(E2077,Param!$A$7:$E$13,5,0)*Fonct_Empl!H2077),2),\"\")","v":""}]
[null,null,null,null,null,null,null,null,{"$f":"IF(E2078<>\"\",ROUND((VLOOKUP(E2078,Param!$A$7:$E$13,4,0)*Fonct_Empl!F2078*((Fonct_Empl!G2078/12)))+(VLOOKUP(E2078,Param!$A$7:$E$13,5,0)*Fonct_Empl!H2078),2),\"\")","v":""}]
[null,null,null,null,null,null,null,null,{"$f":"IF(E2079<>\"\",ROUND((VLOOKUP(E2079,Param!$A$7:$E$13,4,0)*Fonct_Empl!F2079*((Fonct_Empl!G2079/12)))+(VLOOKUP(E2079,Param!$A$7:$E$13,5,0)*Fonct_Empl!H2079),2),\"\")","v":""}]
[null,null,null,null,null,null,null,null,{"$f":"IF(E2080<>\"\",ROUND((VLOOKUP(E2080,Param!$A$7:$E$13,4,0)*Fonct_Empl!F2080*((Fonct_Empl!G2080/12)))+(VLOOKUP(E2080,Param!$A$7:$E$13,5,0)*Fonct_Empl!H2080),2),\"\")","v":""}]
[null,null,null,null,null,null,null,null,{"$f":"IF(E2081<>\"\",ROUND((VLOOKUP(E2081,Param!$A$7:$E$13,4,0)*Fonct_Empl!F2081*((Fonct_Empl!G2081/12)))+(VLOOKUP(E2081,Param!$A$7:$E$13,5,0)*Fonct_Empl!H2081),2),\"\")","v":""}]
[null,null,null,null,null,null,null,null,{"$f":"IF(E2082<>\"\",ROUND((VLOOKUP(E2082,Param!$A$7:$E$13,4,0)*Fonct_Empl!F2082*((Fonct_Empl!G2082/12)))+(VLOOKUP(E2082,Param!$A$7:$E$13,5,0)*Fonct_Empl!H2082),2),\"\")","v":""}]
[null,null,null,null,null,null,null,null,{"$f":"IF(E2083<>\"\",ROUND((VLOOKUP(E2083,Param!$A$7:$E$13,4,0)*Fonct_Empl!F2083*((Fonct_Empl!G2083/12)))+(VLOOKUP(E2083,Param!$A$7:$E$13,5,0)*Fonct_Empl!H2083),2),\"\")","v":""}]
[null,null,null,null,null,null,null,null,{"$f":"IF(E2084<>\"\",ROUND((VLOOKUP(E2084,Param!$A$7:$E$13,4,0)*Fonct_Empl!F2084*((Fonct_Empl!G2084/12)))+(VLOOKUP(E2084,Param!$A$7:$E$13,5,0)*Fonct_Empl!H2084),2),\"\")","v":""}]
[null,null,null,null,null,null,null,null,{"$f":"IF(E2085<>\"\",ROUND((VLOOKUP(E2085,Param!$A$7:$E$13,4,0)*Fonct_Empl!F2085*((Fonct_Empl!G2085/12)))+(VLOOKUP(E2085,Param!$A$7:$E$13,5,0)*Fonct_Empl!H2085),2),\"\")","v":""}]
[null,null,null,null,null,null,null,null,{"$f":"IF(E2086<>\"\",ROUND((VLOOKUP(E2086,Param!$A$7:$E$13,4,0)*Fonct_Empl!F2086*((Fonct_Empl!G2086/12)))+(VLOOKUP(E2086,Param!$A$7:$E$13,5,0)*Fonct_Empl!H2086),2),\"\")","v":""}]
[null,null,null,null,null,null,null,null,{"$f":"IF(E2087<>\"\",ROUND((VLOOKUP(E2087,Param!$A$7:$E$13,4,0)*Fonct_Empl!F2087*((Fonct_Empl!G2087/12)))+(VLOOKUP(E2087,Param!$A$7:$E$13,5,0)*Fonct_Empl!H2087),2),\"\")","v":""}]
[null,null,null,null,null,null,null,null,{"$f":"IF(E2088<>\"\",ROUND((VLOOKUP(E2088,Param!$A$7:$E$13,4,0)*Fonct_Empl!F2088*((Fonct_Empl!G2088/12)))+(VLOOKUP(E2088,Param!$A$7:$E$13,5,0)*Fonct_Empl!H2088),2),\"\")","v":""}]
[null,null,null,null,null,null,null,null,{"$f":"IF(E2089<>\"\",ROUND((VLOOKUP(E2089,Param!$A$7:$E$13,4,0)*Fonct_Empl!F2089*((Fonct_Empl!G2089/12)))+(VLOOKUP(E2089,Param!$A$7:$E$13,5,0)*Fonct_Empl!H2089),2),\"\")","v":""}]
[null,null,null,null,null,null,null,null,{"$f":"IF(E2090<>\"\",ROUND((VLOOKUP(E2090,Param!$A$7:$E$13,4,0)*Fonct_Empl!F2090*((Fonct_Empl!G2090/12)))+(VLOOKUP(E2090,Param!$A$7:$E$13,5,0)*Fonct_Empl!H2090),2),\"\")","v":""}]
[null,null,null,null,null,null,null,null,{"$f":"IF(E2091<>\"\",ROUND((VLOOKUP(E2091,Param!$A$7:$E$13,4,0)*Fonct_Empl!F2091*((Fonct_Empl!G2091/12)))+(VLOOKUP(E2091,Param!$A$7:$E$13,5,0)*Fonct_Empl!H2091),2),\"\")","v":""}]
[null,null,null,null,null,null,null,null,{"$f":"IF(E2092<>\"\",ROUND((VLOOKUP(E2092,Param!$A$7:$E$13,4,0)*Fonct_Empl!F2092*((Fonct_Empl!G2092/12)))+(VLOOKUP(E2092,Param!$A$7:$E$13,5,0)*Fonct_Empl!H2092),2),\"\")","v":""}]
[null,null,null,null,null,null,null,null,{"$f":"IF(E2093<>\"\",ROUND((VLOOKUP(E2093,Param!$A$7:$E$13,4,0)*Fonct_Empl!F2093*((Fonct_Empl!G2093/12)))+(VLOOKUP(E2093,Param!$A$7:$E$13,5,0)*Fonct_Empl!H2093),2),\"\")","v":""}]
[null,null,null,null,null,null,null,null,{"$f":"IF(E2094<>\"\",ROUND((VLOOKUP(E2094,Param!$A$7:$E$13,4,0)*Fonct_Empl!F2094*((Fonct_Empl!G2094/12)))+(VLOOKUP(E2094,Param!$A$7:$E$13,5,0)*Fonct_Empl!H2094),2),\"\")","v":""}]
[null,null,null,null,null,null,null,null,{"$f":"IF(E2095<>\"\",ROUND((VLOOKUP(E2095,Param!$A$7:$E$13,4,0)*Fonct_Empl!F2095*((Fonct_Empl!G2095/12)))+(VLOOKUP(E2095,Param!$A$7:$E$13,5,0)*Fonct_Empl!H2095),2),\"\")","v":""}]
[null,null,null,null,null,null,null,null,{"$f":"IF(E2096<>\"\",ROUND((VLOOKUP(E2096,Param!$A$7:$E$13,4,0)*Fonct_Empl!F2096*((Fonct_Empl!G2096/12)))+(VLOOKUP(E2096,Param!$A$7:$E$13,5,0)*Fonct_Empl!H2096),2),\"\")","v":""}]
[null,null,null,null,null,null,null,null,{"$f":"IF(E2097<>\"\",ROUND((VLOOKUP(E2097,Param!$A$7:$E$13,4,0)*Fonct_Empl!F2097*((Fonct_Empl!G2097/12)))+(VLOOKUP(E2097,Param!$A$7:$E$13,5,0)*Fonct_Empl!H2097),2),\"\")","v":""}]
[null,null,null,null,null,null,null,null,{"$f":"IF(E2098<>\"\",ROUND((VLOOKUP(E2098,Param!$A$7:$E$13,4,0)*Fonct_Empl!F2098*((Fonct_Empl!G2098/12)))+(VLOOKUP(E2098,Param!$A$7:$E$13,5,0)*Fonct_Empl!H2098),2),\"\")","v":""}]
[null,null,null,null,null,null,null,null,{"$f":"IF(E2099<>\"\",ROUND((VLOOKUP(E2099,Param!$A$7:$E$13,4,0)*Fonct_Empl!F2099*((Fonct_Empl!G2099/12)))+(VLOOKUP(E2099,Param!$A$7:$E$13,5,0)*Fonct_Empl!H2099),2),\"\")","v":""}]
[null,null,null,null,null,null,null,null,{"$f":"IF(E2100<>\"\",ROUND((VLOOKUP(E2100,Param!$A$7:$E$13,4,0)*Fonct_Empl!F2100*((Fonct_Empl!G2100/12)))+(VLOOKUP(E2100,Param!$A$7:$E$13,5,0)*Fonct_Empl!H2100),2),\"\")","v":""}]
[null,null,null,null,null,null,null,null,{"$f":"IF(E2101<>\"\",ROUND((VLOOKUP(E2101,Param!$A$7:$E$13,4,0)*Fonct_Empl!F2101*((Fonct_Empl!G2101/12)))+(VLOOKUP(E2101,Param!$A$7:$E$13,5,0)*Fonct_Empl!H2101),2),\"\")","v":""}]
[null,null,null,null,null,null,null,null,{"$f":"IF(E2102<>\"\",ROUND((VLOOKUP(E2102,Param!$A$7:$E$13,4,0)*Fonct_Empl!F2102*((Fonct_Empl!G2102/12)))+(VLOOKUP(E2102,Param!$A$7:$E$13,5,0)*Fonct_Empl!H2102),2),\"\")","v":""}]
[null,null,null,null,null,null,null,null,{"$f":"IF(E2103<>\"\",ROUND((VLOOKUP(E2103,Param!$A$7:$E$13,4,0)*Fonct_Empl!F2103*((Fonct_Empl!G2103/12)))+(VLOOKUP(E2103,Param!$A$7:$E$13,5,0)*Fonct_Empl!H2103),2),\"\")","v":""}]
[null,null,null,null,null,null,null,null,{"$f":"IF(E2104<>\"\",ROUND((VLOOKUP(E2104,Param!$A$7:$E$13,4,0)*Fonct_Empl!F2104*((Fonct_Empl!G2104/12)))+(VLOOKUP(E2104,Param!$A$7:$E$13,5,0)*Fonct_Empl!H2104),2),\"\")","v":""}]
[null,null,null,null,null,null,null,null,{"$f":"IF(E2105<>\"\",ROUND((VLOOKUP(E2105,Param!$A$7:$E$13,4,0)*Fonct_Empl!F2105*((Fonct_Empl!G2105/12)))+(VLOOKUP(E2105,Param!$A$7:$E$13,5,0)*Fonct_Empl!H2105),2),\"\")","v":""}]
[null,null,null,null,null,null,null,null,{"$f":"IF(E2106<>\"\",ROUND((VLOOKUP(E2106,Param!$A$7:$E$13,4,0)*Fonct_Empl!F2106*((Fonct_Empl!G2106/12)))+(VLOOKUP(E2106,Param!$A$7:$E$13,5,0)*Fonct_Empl!H2106),2),\"\")","v":""}]
[null,null,null,null,null,null,null,null,{"$f":"IF(E2107<>\"\",ROUND((VLOOKUP(E2107,Param!$A$7:$E$13,4,0)*Fonct_Empl!F2107*((Fonct_Empl!G2107/12)))+(VLOOKUP(E2107,Param!$A$7:$E$13,5,0)*Fonct_Empl!H2107),2),\"\")","v":""}]
[null,null,null,null,null,null,null,null,{"$f":"IF(E2108<>\"\",ROUND((VLOOKUP(E2108,Param!$A$7:$E$13,4,0)*Fonct_Empl!F2108*((Fonct_Empl!G2108/12)))+(VLOOKUP(E2108,Param!$A$7:$E$13,5,0)*Fonct_Empl!H2108),2),\"\")","v":""}]
[null,null,null,null,null,null,null,null,{"$f":"IF(E2109<>\"\",ROUND((VLOOKUP(E2109,Param!$A$7:$E$13,4,0)*Fonct_Empl!F2109*((Fonct_Empl!G2109/12)))+(VLOOKUP(E2109,Param!$A$7:$E$13,5,0)*Fonct_Empl!H2109),2),\"\")","v":""}]
[null,null,null,null,null,null,null,null,{"$f":"IF(E2110<>\"\",ROUND((VLOOKUP(E2110,Param!$A$7:$E$13,4,0)*Fonct_Empl!F2110*((Fonct_Empl!G2110/12)))+(VLOOKUP(E2110,Param!$A$7:$E$13,5,0)*Fonct_Empl!H2110),2),\"\")","v":""}]
[null,null,null,null,null,null,null,null,{"$f":"IF(E2111<>\"\",ROUND((VLOOKUP(E2111,Param!$A$7:$E$13,4,0)*Fonct_Empl!F2111*((Fonct_Empl!G2111/12)))+(VLOOKUP(E2111,Param!$A$7:$E$13,5,0)*Fonct_Empl!H2111),2),\"\")","v":""}]
[null,null,null,null,null,null,null,null,{"$f":"IF(E2112<>\"\",ROUND((VLOOKUP(E2112,Param!$A$7:$E$13,4,0)*Fonct_Empl!F2112*((Fonct_Empl!G2112/12)))+(VLOOKUP(E2112,Param!$A$7:$E$13,5,0)*Fonct_Empl!H2112),2),\"\")","v":""}]
[null,null,null,null,null,null,null,null,{"$f":"IF(E2113<>\"\",ROUND((VLOOKUP(E2113,Param!$A$7:$E$13,4,0)*Fonct_Empl!F2113*((Fonct_Empl!G2113/12)))+(VLOOKUP(E2113,Param!$A$7:$E$13,5,0)*Fonct_Empl!H2113),2),\"\")","v":""}]
[null,null,null,null,null,null,null,null,{"$f":"IF(E2114<>\"\",ROUND((VLOOKUP(E2114,Param!$A$7:$E$13,4,0)*Fonct_Empl!F2114*((Fonct_Empl!G2114/12)))+(VLOOKUP(E2114,Param!$A$7:$E$13,5,0)*Fonct_Empl!H2114),2),\"\")","v":""}]
[null,null,null,null,null,null,null,null,{"$f":"IF(E2115<>\"\",ROUND((VLOOKUP(E2115,Param!$A$7:$E$13,4,0)*Fonct_Empl!F2115*((Fonct_Empl!G2115/12)))+(VLOOKUP(E2115,Param!$A$7:$E$13,5,0)*Fonct_Empl!H2115),2),\"\")","v":""}]
[null,null,null,null,null,null,null,null,{"$f":"IF(E2116<>\"\",ROUND((VLOOKUP(E2116,Param!$A$7:$E$13,4,0)*Fonct_Empl!F2116*((Fonct_Empl!G2116/12)))+(VLOOKUP(E2116,Param!$A$7:$E$13,5,0)*Fonct_Empl!H2116),2),\"\")","v":""}]
[null,null,null,null,null,null,null,null,{"$f":"IF(E2117<>\"\",ROUND((VLOOKUP(E2117,Param!$A$7:$E$13,4,0)*Fonct_Empl!F2117*((Fonct_Empl!G2117/12)))+(VLOOKUP(E2117,Param!$A$7:$E$13,5,0)*Fonct_Empl!H2117),2),\"\")","v":""}]
[null,null,null,null,null,null,null,null,{"$f":"IF(E2118<>\"\",ROUND((VLOOKUP(E2118,Param!$A$7:$E$13,4,0)*Fonct_Empl!F2118*((Fonct_Empl!G2118/12)))+(VLOOKUP(E2118,Param!$A$7:$E$13,5,0)*Fonct_Empl!H2118),2),\"\")","v":""}]
[null,null,null,null,null,null,null,null,{"$f":"IF(E2119<>\"\",ROUND((VLOOKUP(E2119,Param!$A$7:$E$13,4,0)*Fonct_Empl!F2119*((Fonct_Empl!G2119/12)))+(VLOOKUP(E2119,Param!$A$7:$E$13,5,0)*Fonct_Empl!H2119),2),\"\")","v":""}]
[null,null,null,null,null,null,null,null,{"$f":"IF(E2120<>\"\",ROUND((VLOOKUP(E2120,Param!$A$7:$E$13,4,0)*Fonct_Empl!F2120*((Fonct_Empl!G2120/12)))+(VLOOKUP(E2120,Param!$A$7:$E$13,5,0)*Fonct_Empl!H2120),2),\"\")","v":""}]
[null,null,null,null,null,null,null,null,{"$f":"IF(E2121<>\"\",ROUND((VLOOKUP(E2121,Param!$A$7:$E$13,4,0)*Fonct_Empl!F2121*((Fonct_Empl!G2121/12)))+(VLOOKUP(E2121,Param!$A$7:$E$13,5,0)*Fonct_Empl!H2121),2),\"\")","v":""}]
[null,null,null,null,null,null,null,null,{"$f":"IF(E2122<>\"\",ROUND((VLOOKUP(E2122,Param!$A$7:$E$13,4,0)*Fonct_Empl!F2122*((Fonct_Empl!G2122/12)))+(VLOOKUP(E2122,Param!$A$7:$E$13,5,0)*Fonct_Empl!H2122),2),\"\")","v":""}]
[null,null,null,null,null,null,null,null,{"$f":"IF(E2123<>\"\",ROUND((VLOOKUP(E2123,Param!$A$7:$E$13,4,0)*Fonct_Empl!F2123*((Fonct_Empl!G2123/12)))+(VLOOKUP(E2123,Param!$A$7:$E$13,5,0)*Fonct_Empl!H2123),2),\"\")","v":""}]
[null,null,null,null,null,null,null,null,{"$f":"IF(E2124<>\"\",ROUND((VLOOKUP(E2124,Param!$A$7:$E$13,4,0)*Fonct_Empl!F2124*((Fonct_Empl!G2124/12)))+(VLOOKUP(E2124,Param!$A$7:$E$13,5,0)*Fonct_Empl!H2124),2),\"\")","v":""}]
[null,null,null,null,null,null,null,null,{"$f":"IF(E2125<>\"\",ROUND((VLOOKUP(E2125,Param!$A$7:$E$13,4,0)*Fonct_Empl!F2125*((Fonct_Empl!G2125/12)))+(VLOOKUP(E2125,Param!$A$7:$E$13,5,0)*Fonct_Empl!H2125),2),\"\")","v":""}]
[null,null,null,null,null,null,null,null,{"$f":"IF(E2126<>\"\",ROUND((VLOOKUP(E2126,Param!$A$7:$E$13,4,0)*Fonct_Empl!F2126*((Fonct_Empl!G2126/12)))+(VLOOKUP(E2126,Param!$A$7:$E$13,5,0)*Fonct_Empl!H2126),2),\"\")","v":""}]
[null,null,null,null,null,null,null,null,{"$f":"IF(E2127<>\"\",ROUND((VLOOKUP(E2127,Param!$A$7:$E$13,4,0)*Fonct_Empl!F2127*((Fonct_Empl!G2127/12)))+(VLOOKUP(E2127,Param!$A$7:$E$13,5,0)*Fonct_Empl!H2127),2),\"\")","v":""}]
[null,null,null,null,null,null,null,null,{"$f":"IF(E2128<>\"\",ROUND((VLOOKUP(E2128,Param!$A$7:$E$13,4,0)*Fonct_Empl!F2128*((Fonct_Empl!G2128/12)))+(VLOOKUP(E2128,Param!$A$7:$E$13,5,0)*Fonct_Empl!H2128),2),\"\")","v":""}]
[null,null,null,null,null,null,null,null,{"$f":"IF(E2129<>\"\",ROUND((VLOOKUP(E2129,Param!$A$7:$E$13,4,0)*Fonct_Empl!F2129*((Fonct_Empl!G2129/12)))+(VLOOKUP(E2129,Param!$A$7:$E$13,5,0)*Fonct_Empl!H2129),2),\"\")","v":""}]
[null,null,null,null,null,null,null,null,{"$f":"IF(E2130<>\"\",ROUND((VLOOKUP(E2130,Param!$A$7:$E$13,4,0)*Fonct_Empl!F2130*((Fonct_Empl!G2130/12)))+(VLOOKUP(E2130,Param!$A$7:$E$13,5,0)*Fonct_Empl!H2130),2),\"\")","v":""}]
[null,null,null,null,null,null,null,null,{"$f":"IF(E2131<>\"\",ROUND((VLOOKUP(E2131,Param!$A$7:$E$13,4,0)*Fonct_Empl!F2131*((Fonct_Empl!G2131/12)))+(VLOOKUP(E2131,Param!$A$7:$E$13,5,0)*Fonct_Empl!H2131),2),\"\")","v":""}]
[null,null,null,null,null,null,null,null,{"$f":"IF(E2132<>\"\",ROUND((VLOOKUP(E2132,Param!$A$7:$E$13,4,0)*Fonct_Empl!F2132*((Fonct_Empl!G2132/12)))+(VLOOKUP(E2132,Param!$A$7:$E$13,5,0)*Fonct_Empl!H2132),2),\"\")","v":""}]
[null,null,null,null,null,null,null,null,{"$f":"IF(E2133<>\"\",ROUND((VLOOKUP(E2133,Param!$A$7:$E$13,4,0)*Fonct_Empl!F2133*((Fonct_Empl!G2133/12)))+(VLOOKUP(E2133,Param!$A$7:$E$13,5,0)*Fonct_Empl!H2133),2),\"\")","v":""}]
[null,null,null,null,null,null,null,null,{"$f":"IF(E2134<>\"\",ROUND((VLOOKUP(E2134,Param!$A$7:$E$13,4,0)*Fonct_Empl!F2134*((Fonct_Empl!G2134/12)))+(VLOOKUP(E2134,Param!$A$7:$E$13,5,0)*Fonct_Empl!H2134),2),\"\")","v":""}]
[null,null,null,null,null,null,null,null,{"$f":"IF(E2135<>\"\",ROUND((VLOOKUP(E2135,Param!$A$7:$E$13,4,0)*Fonct_Empl!F2135*((Fonct_Empl!G2135/12)))+(VLOOKUP(E2135,Param!$A$7:$E$13,5,0)*Fonct_Empl!H2135),2),\"\")","v":""}]
[null,null,null,null,null,null,null,null,{"$f":"IF(E2136<>\"\",ROUND((VLOOKUP(E2136,Param!$A$7:$E$13,4,0)*Fonct_Empl!F2136*((Fonct_Empl!G2136/12)))+(VLOOKUP(E2136,Param!$A$7:$E$13,5,0)*Fonct_Empl!H2136),2),\"\")","v":""}]
[null,null,null,null,null,null,null,null,{"$f":"IF(E2137<>\"\",ROUND((VLOOKUP(E2137,Param!$A$7:$E$13,4,0)*Fonct_Empl!F2137*((Fonct_Empl!G2137/12)))+(VLOOKUP(E2137,Param!$A$7:$E$13,5,0)*Fonct_Empl!H2137),2),\"\")","v":""}]
[null,null,null,null,null,null,null,null,{"$f":"IF(E2138<>\"\",ROUND((VLOOKUP(E2138,Param!$A$7:$E$13,4,0)*Fonct_Empl!F2138*((Fonct_Empl!G2138/12)))+(VLOOKUP(E2138,Param!$A$7:$E$13,5,0)*Fonct_Empl!H2138),2),\"\")","v":""}]
[null,null,null,null,null,null,null,null,{"$f":"IF(E2139<>\"\",ROUND((VLOOKUP(E2139,Param!$A$7:$E$13,4,0)*Fonct_Empl!F2139*((Fonct_Empl!G2139/12)))+(VLOOKUP(E2139,Param!$A$7:$E$13,5,0)*Fonct_Empl!H2139),2),\"\")","v":""}]
[null,null,null,null,null,null,null,null,{"$f":"IF(E2140<>\"\",ROUND((VLOOKUP(E2140,Param!$A$7:$E$13,4,0)*Fonct_Empl!F2140*((Fonct_Empl!G2140/12)))+(VLOOKUP(E2140,Param!$A$7:$E$13,5,0)*Fonct_Empl!H2140),2),\"\")","v":""}]
[null,null,null,null,null,null,null,null,{"$f":"IF(E2141<>\"\",ROUND((VLOOKUP(E2141,Param!$A$7:$E$13,4,0)*Fonct_Empl!F2141*((Fonct_Empl!G2141/12)))+(VLOOKUP(E2141,Param!$A$7:$E$13,5,0)*Fonct_Empl!H2141),2),\"\")","v":""}]
[null,null,null,null,null,null,null,null,{"$f":"IF(E2142<>\"\",ROUND((VLOOKUP(E2142,Param!$A$7:$E$13,4,0)*Fonct_Empl!F2142*((Fonct_Empl!G2142/12)))+(VLOOKUP(E2142,Param!$A$7:$E$13,5,0)*Fonct_Empl!H2142),2),\"\")","v":""}]
[null,null,null,null,null,null,null,null,{"$f":"IF(E2143<>\"\",ROUND((VLOOKUP(E2143,Param!$A$7:$E$13,4,0)*Fonct_Empl!F2143*((Fonct_Empl!G2143/12)))+(VLOOKUP(E2143,Param!$A$7:$E$13,5,0)*Fonct_Empl!H2143),2),\"\")","v":""}]
[null,null,null,null,null,null,null,null,{"$f":"IF(E2144<>\"\",ROUND((VLOOKUP(E2144,Param!$A$7:$E$13,4,0)*Fonct_Empl!F2144*((Fonct_Empl!G2144/12)))+(VLOOKUP(E2144,Param!$A$7:$E$13,5,0)*Fonct_Empl!H2144),2),\"\")","v":""}]
[null,null,null,null,null,null,null,null,{"$f":"IF(E2145<>\"\",ROUND((VLOOKUP(E2145,Param!$A$7:$E$13,4,0)*Fonct_Empl!F2145*((Fonct_Empl!G2145/12)))+(VLOOKUP(E2145,Param!$A$7:$E$13,5,0)*Fonct_Empl!H2145),2),\"\")","v":""}]
[null,null,null,null,null,null,null,null,{"$f":"IF(E2146<>\"\",ROUND((VLOOKUP(E2146,Param!$A$7:$E$13,4,0)*Fonct_Empl!F2146*((Fonct_Empl!G2146/12)))+(VLOOKUP(E2146,Param!$A$7:$E$13,5,0)*Fonct_Empl!H2146),2),\"\")","v":""}]
[null,null,null,null,null,null,null,null,{"$f":"IF(E2147<>\"\",ROUND((VLOOKUP(E2147,Param!$A$7:$E$13,4,0)*Fonct_Empl!F2147*((Fonct_Empl!G2147/12)))+(VLOOKUP(E2147,Param!$A$7:$E$13,5,0)*Fonct_Empl!H2147),2),\"\")","v":""}]
[null,null,null,null,null,null,null,null,{"$f":"IF(E2148<>\"\",ROUND((VLOOKUP(E2148,Param!$A$7:$E$13,4,0)*Fonct_Empl!F2148*((Fonct_Empl!G2148/12)))+(VLOOKUP(E2148,Param!$A$7:$E$13,5,0)*Fonct_Empl!H2148),2),\"\")","v":""}]
[null,null,null,null,null,null,null,null,{"$f":"IF(E2149<>\"\",ROUND((VLOOKUP(E2149,Param!$A$7:$E$13,4,0)*Fonct_Empl!F2149*((Fonct_Empl!G2149/12)))+(VLOOKUP(E2149,Param!$A$7:$E$13,5,0)*Fonct_Empl!H2149),2),\"\")","v":""}]
[null,null,null,null,null,null,null,null,{"$f":"IF(E2150<>\"\",ROUND((VLOOKUP(E2150,Param!$A$7:$E$13,4,0)*Fonct_Empl!F2150*((Fonct_Empl!G2150/12)))+(VLOOKUP(E2150,Param!$A$7:$E$13,5,0)*Fonct_Empl!H2150),2),\"\")","v":""}]
[null,null,null,null,null,null,null,null,{"$f":"IF(E2151<>\"\",ROUND((VLOOKUP(E2151,Param!$A$7:$E$13,4,0)*Fonct_Empl!F2151*((Fonct_Empl!G2151/12)))+(VLOOKUP(E2151,Param!$A$7:$E$13,5,0)*Fonct_Empl!H2151),2),\"\")","v":""}]
[null,null,null,null,null,null,null,null,{"$f":"IF(E2152<>\"\",ROUND((VLOOKUP(E2152,Param!$A$7:$E$13,4,0)*Fonct_Empl!F2152*((Fonct_Empl!G2152/12)))+(VLOOKUP(E2152,Param!$A$7:$E$13,5,0)*Fonct_Empl!H2152),2),\"\")","v":""}]
[null,null,null,null,null,null,null,null,{"$f":"IF(E2153<>\"\",ROUND((VLOOKUP(E2153,Param!$A$7:$E$13,4,0)*Fonct_Empl!F2153*((Fonct_Empl!G2153/12)))+(VLOOKUP(E2153,Param!$A$7:$E$13,5,0)*Fonct_Empl!H2153),2),\"\")","v":""}]
[null,null,null,null,null,null,null,null,{"$f":"IF(E2154<>\"\",ROUND((VLOOKUP(E2154,Param!$A$7:$E$13,4,0)*Fonct_Empl!F2154*((Fonct_Empl!G2154/12)))+(VLOOKUP(E2154,Param!$A$7:$E$13,5,0)*Fonct_Empl!H2154),2),\"\")","v":""}]
[null,null,null,null,null,null,null,null,{"$f":"IF(E2155<>\"\",ROUND((VLOOKUP(E2155,Param!$A$7:$E$13,4,0)*Fonct_Empl!F2155*((Fonct_Empl!G2155/12)))+(VLOOKUP(E2155,Param!$A$7:$E$13,5,0)*Fonct_Empl!H2155),2),\"\")","v":""}]
[null,null,null,null,null,null,null,null,{"$f":"IF(E2156<>\"\",ROUND((VLOOKUP(E2156,Param!$A$7:$E$13,4,0)*Fonct_Empl!F2156*((Fonct_Empl!G2156/12)))+(VLOOKUP(E2156,Param!$A$7:$E$13,5,0)*Fonct_Empl!H2156),2),\"\")","v":""}]
[null,null,null,null,null,null,null,null,{"$f":"IF(E2157<>\"\",ROUND((VLOOKUP(E2157,Param!$A$7:$E$13,4,0)*Fonct_Empl!F2157*((Fonct_Empl!G2157/12)))+(VLOOKUP(E2157,Param!$A$7:$E$13,5,0)*Fonct_Empl!H2157),2),\"\")","v":""}]
[null,null,null,null,null,null,null,null,{"$f":"IF(E2158<>\"\",ROUND((VLOOKUP(E2158,Param!$A$7:$E$13,4,0)*Fonct_Empl!F2158*((Fonct_Empl!G2158/12)))+(VLOOKUP(E2158,Param!$A$7:$E$13,5,0)*Fonct_Empl!H2158),2),\"\")","v":""}]
[null,null,null,null,null,null,null,null,{"$f":"IF(E2159<>\"\",ROUND((VLOOKUP(E2159,Param!$A$7:$E$13,4,0)*Fonct_Empl!F2159*((Fonct_Empl!G2159/12)))+(VLOOKUP(E2159,Param!$A$7:$E$13,5,0)*Fonct_Empl!H2159),2),\"\")","v":""}]
[null,null,null,null,null,null,null,null,{"$f":"IF(E2160<>\"\",ROUND((VLOOKUP(E2160,Param!$A$7:$E$13,4,0)*Fonct_Empl!F2160*((Fonct_Empl!G2160/12)))+(VLOOKUP(E2160,Param!$A$7:$E$13,5,0)*Fonct_Empl!H2160),2),\"\")","v":""}]
[null,null,null,null,null,null,null,null,{"$f":"IF(E2161<>\"\",ROUND((VLOOKUP(E2161,Param!$A$7:$E$13,4,0)*Fonct_Empl!F2161*((Fonct_Empl!G2161/12)))+(VLOOKUP(E2161,Param!$A$7:$E$13,5,0)*Fonct_Empl!H2161),2),\"\")","v":""}]
[null,null,null,null,null,null,null,null,{"$f":"IF(E2162<>\"\",ROUND((VLOOKUP(E2162,Param!$A$7:$E$13,4,0)*Fonct_Empl!F2162*((Fonct_Empl!G2162/12)))+(VLOOKUP(E2162,Param!$A$7:$E$13,5,0)*Fonct_Empl!H2162),2),\"\")","v":""}]
[null,null,null,null,null,null,null,null,{"$f":"IF(E2163<>\"\",ROUND((VLOOKUP(E2163,Param!$A$7:$E$13,4,0)*Fonct_Empl!F2163*((Fonct_Empl!G2163/12)))+(VLOOKUP(E2163,Param!$A$7:$E$13,5,0)*Fonct_Empl!H2163),2),\"\")","v":""}]
[null,null,null,null,null,null,null,null,{"$f":"IF(E2164<>\"\",ROUND((VLOOKUP(E2164,Param!$A$7:$E$13,4,0)*Fonct_Empl!F2164*((Fonct_Empl!G2164/12)))+(VLOOKUP(E2164,Param!$A$7:$E$13,5,0)*Fonct_Empl!H2164),2),\"\")","v":""}]
[null,null,null,null,null,null,null,null,{"$f":"IF(E2165<>\"\",ROUND((VLOOKUP(E2165,Param!$A$7:$E$13,4,0)*Fonct_Empl!F2165*((Fonct_Empl!G2165/12)))+(VLOOKUP(E2165,Param!$A$7:$E$13,5,0)*Fonct_Empl!H2165),2),\"\")","v":""}]
[null,null,null,null,null,null,null,null,{"$f":"IF(E2166<>\"\",ROUND((VLOOKUP(E2166,Param!$A$7:$E$13,4,0)*Fonct_Empl!F2166*((Fonct_Empl!G2166/12)))+(VLOOKUP(E2166,Param!$A$7:$E$13,5,0)*Fonct_Empl!H2166),2),\"\")","v":""}]
[null,null,null,null,null,null,null,null,{"$f":"IF(E2167<>\"\",ROUND((VLOOKUP(E2167,Param!$A$7:$E$13,4,0)*Fonct_Empl!F2167*((Fonct_Empl!G2167/12)))+(VLOOKUP(E2167,Param!$A$7:$E$13,5,0)*Fonct_Empl!H2167),2),\"\")","v":""}]
[null,null,null,null,null,null,null,null,{"$f":"IF(E2168<>\"\",ROUND((VLOOKUP(E2168,Param!$A$7:$E$13,4,0)*Fonct_Empl!F2168*((Fonct_Empl!G2168/12)))+(VLOOKUP(E2168,Param!$A$7:$E$13,5,0)*Fonct_Empl!H2168),2),\"\")","v":""}]
[null,null,null,null,null,null,null,null,{"$f":"IF(E2169<>\"\",ROUND((VLOOKUP(E2169,Param!$A$7:$E$13,4,0)*Fonct_Empl!F2169*((Fonct_Empl!G2169/12)))+(VLOOKUP(E2169,Param!$A$7:$E$13,5,0)*Fonct_Empl!H2169),2),\"\")","v":""}]
[null,null,null,null,null,null,null,null,{"$f":"IF(E2170<>\"\",ROUND((VLOOKUP(E2170,Param!$A$7:$E$13,4,0)*Fonct_Empl!F2170*((Fonct_Empl!G2170/12)))+(VLOOKUP(E2170,Param!$A$7:$E$13,5,0)*Fonct_Empl!H2170),2),\"\")","v":""}]
[null,null,null,null,null,null,null,null,{"$f":"IF(E2171<>\"\",ROUND((VLOOKUP(E2171,Param!$A$7:$E$13,4,0)*Fonct_Empl!F2171*((Fonct_Empl!G2171/12)))+(VLOOKUP(E2171,Param!$A$7:$E$13,5,0)*Fonct_Empl!H2171),2),\"\")","v":""}]
[null,null,null,null,null,null,null,null,{"$f":"IF(E2172<>\"\",ROUND((VLOOKUP(E2172,Param!$A$7:$E$13,4,0)*Fonct_Empl!F2172*((Fonct_Empl!G2172/12)))+(VLOOKUP(E2172,Param!$A$7:$E$13,5,0)*Fonct_Empl!H2172),2),\"\")","v":""}]
[null,null,null,null,null,null,null,null,{"$f":"IF(E2173<>\"\",ROUND((VLOOKUP(E2173,Param!$A$7:$E$13,4,0)*Fonct_Empl!F2173*((Fonct_Empl!G2173/12)))+(VLOOKUP(E2173,Param!$A$7:$E$13,5,0)*Fonct_Empl!H2173),2),\"\")","v":""}]
[null,null,null,null,null,null,null,null,{"$f":"IF(E2174<>\"\",ROUND((VLOOKUP(E2174,Param!$A$7:$E$13,4,0)*Fonct_Empl!F2174*((Fonct_Empl!G2174/12)))+(VLOOKUP(E2174,Param!$A$7:$E$13,5,0)*Fonct_Empl!H2174),2),\"\")","v":""}]
[null,null,null,null,null,null,null,null,{"$f":"IF(E2175<>\"\",ROUND((VLOOKUP(E2175,Param!$A$7:$E$13,4,0)*Fonct_Empl!F2175*((Fonct_Empl!G2175/12)))+(VLOOKUP(E2175,Param!$A$7:$E$13,5,0)*Fonct_Empl!H2175),2),\"\")","v":""}]
[null,null,null,null,null,null,null,null,{"$f":"IF(E2176<>\"\",ROUND((VLOOKUP(E2176,Param!$A$7:$E$13,4,0)*Fonct_Empl!F2176*((Fonct_Empl!G2176/12)))+(VLOOKUP(E2176,Param!$A$7:$E$13,5,0)*Fonct_Empl!H2176),2),\"\")","v":""}]
[null,null,null,null,null,null,null,null,{"$f":"IF(E2177<>\"\",ROUND((VLOOKUP(E2177,Param!$A$7:$E$13,4,0)*Fonct_Empl!F2177*((Fonct_Empl!G2177/12)))+(VLOOKUP(E2177,Param!$A$7:$E$13,5,0)*Fonct_Empl!H2177),2),\"\")","v":""}]
[null,null,null,null,null,null,null,null,{"$f":"IF(E2178<>\"\",ROUND((VLOOKUP(E2178,Param!$A$7:$E$13,4,0)*Fonct_Empl!F2178*((Fonct_Empl!G2178/12)))+(VLOOKUP(E2178,Param!$A$7:$E$13,5,0)*Fonct_Empl!H2178),2),\"\")","v":""}]
[null,null,null,null,null,null,null,null,{"$f":"IF(E2179<>\"\",ROUND((VLOOKUP(E2179,Param!$A$7:$E$13,4,0)*Fonct_Empl!F2179*((Fonct_Empl!G2179/12)))+(VLOOKUP(E2179,Param!$A$7:$E$13,5,0)*Fonct_Empl!H2179),2),\"\")","v":""}]
[null,null,null,null,null,null,null,null,{"$f":"IF(E2180<>\"\",ROUND((VLOOKUP(E2180,Param!$A$7:$E$13,4,0)*Fonct_Empl!F2180*((Fonct_Empl!G2180/12)))+(VLOOKUP(E2180,Param!$A$7:$E$13,5,0)*Fonct_Empl!H2180),2),\"\")","v":""}]
[null,null,null,null,null,null,null,null,{"$f":"IF(E2181<>\"\",ROUND((VLOOKUP(E2181,Param!$A$7:$E$13,4,0)*Fonct_Empl!F2181*((Fonct_Empl!G2181/12)))+(VLOOKUP(E2181,Param!$A$7:$E$13,5,0)*Fonct_Empl!H2181),2),\"\")","v":""}]
[null,null,null,null,null,null,null,null,{"$f":"IF(E2182<>\"\",ROUND((VLOOKUP(E2182,Param!$A$7:$E$13,4,0)*Fonct_Empl!F2182*((Fonct_Empl!G2182/12)))+(VLOOKUP(E2182,Param!$A$7:$E$13,5,0)*Fonct_Empl!H2182),2),\"\")","v":""}]
[null,null,null,null,null,null,null,null,{"$f":"IF(E2183<>\"\",ROUND((VLOOKUP(E2183,Param!$A$7:$E$13,4,0)*Fonct_Empl!F2183*((Fonct_Empl!G2183/12)))+(VLOOKUP(E2183,Param!$A$7:$E$13,5,0)*Fonct_Empl!H2183),2),\"\")","v":""}]
[null,null,null,null,null,null,null,null,{"$f":"IF(E2184<>\"\",ROUND((VLOOKUP(E2184,Param!$A$7:$E$13,4,0)*Fonct_Empl!F2184*((Fonct_Empl!G2184/12)))+(VLOOKUP(E2184,Param!$A$7:$E$13,5,0)*Fonct_Empl!H2184),2),\"\")","v":""}]
[null,null,null,null,null,null,null,null,{"$f":"IF(E2185<>\"\",ROUND((VLOOKUP(E2185,Param!$A$7:$E$13,4,0)*Fonct_Empl!F2185*((Fonct_Empl!G2185/12)))+(VLOOKUP(E2185,Param!$A$7:$E$13,5,0)*Fonct_Empl!H2185),2),\"\")","v":""}]
[null,null,null,null,null,null,null,null,{"$f":"IF(E2186<>\"\",ROUND((VLOOKUP(E2186,Param!$A$7:$E$13,4,0)*Fonct_Empl!F2186*((Fonct_Empl!G2186/12)))+(VLOOKUP(E2186,Param!$A$7:$E$13,5,0)*Fonct_Empl!H2186),2),\"\")","v":""}]
[null,null,null,null,null,null,null,null,{"$f":"IF(E2187<>\"\",ROUND((VLOOKUP(E2187,Param!$A$7:$E$13,4,0)*Fonct_Empl!F2187*((Fonct_Empl!G2187/12)))+(VLOOKUP(E2187,Param!$A$7:$E$13,5,0)*Fonct_Empl!H2187),2),\"\")","v":""}]
[null,null,null,null,null,null,null,null,{"$f":"IF(E2188<>\"\",ROUND((VLOOKUP(E2188,Param!$A$7:$E$13,4,0)*Fonct_Empl!F2188*((Fonct_Empl!G2188/12)))+(VLOOKUP(E2188,Param!$A$7:$E$13,5,0)*Fonct_Empl!H2188),2),\"\")","v":""}]
[null,null,null,null,null,null,null,null,{"$f":"IF(E2189<>\"\",ROUND((VLOOKUP(E2189,Param!$A$7:$E$13,4,0)*Fonct_Empl!F2189*((Fonct_Empl!G2189/12)))+(VLOOKUP(E2189,Param!$A$7:$E$13,5,0)*Fonct_Empl!H2189),2),\"\")","v":""}]
[null,null,null,null,null,null,null,null,{"$f":"IF(E2190<>\"\",ROUND((VLOOKUP(E2190,Param!$A$7:$E$13,4,0)*Fonct_Empl!F2190*((Fonct_Empl!G2190/12)))+(VLOOKUP(E2190,Param!$A$7:$E$13,5,0)*Fonct_Empl!H2190),2),\"\")","v":""}]
[null,null,null,null,null,null,null,null,{"$f":"IF(E2191<>\"\",ROUND((VLOOKUP(E2191,Param!$A$7:$E$13,4,0)*Fonct_Empl!F2191*((Fonct_Empl!G2191/12)))+(VLOOKUP(E2191,Param!$A$7:$E$13,5,0)*Fonct_Empl!H2191),2),\"\")","v":""}]
[null,null,null,null,null,null,null,null,{"$f":"IF(E2192<>\"\",ROUND((VLOOKUP(E2192,Param!$A$7:$E$13,4,0)*Fonct_Empl!F2192*((Fonct_Empl!G2192/12)))+(VLOOKUP(E2192,Param!$A$7:$E$13,5,0)*Fonct_Empl!H2192),2),\"\")","v":""}]
[null,null,null,null,null,null,null,null,{"$f":"IF(E2193<>\"\",ROUND((VLOOKUP(E2193,Param!$A$7:$E$13,4,0)*Fonct_Empl!F2193*((Fonct_Empl!G2193/12)))+(VLOOKUP(E2193,Param!$A$7:$E$13,5,0)*Fonct_Empl!H2193),2),\"\")","v":""}]
[null,null,null,null,null,null,null,null,{"$f":"IF(E2194<>\"\",ROUND((VLOOKUP(E2194,Param!$A$7:$E$13,4,0)*Fonct_Empl!F2194*((Fonct_Empl!G2194/12)))+(VLOOKUP(E2194,Param!$A$7:$E$13,5,0)*Fonct_Empl!H2194),2),\"\")","v":""}]
[null,null,null,null,null,null,null,null,{"$f":"IF(E2195<>\"\",ROUND((VLOOKUP(E2195,Param!$A$7:$E$13,4,0)*Fonct_Empl!F2195*((Fonct_Empl!G2195/12)))+(VLOOKUP(E2195,Param!$A$7:$E$13,5,0)*Fonct_Empl!H2195),2),\"\")","v":""}]
[null,null,null,null,null,null,null,null,{"$f":"IF(E2196<>\"\",ROUND((VLOOKUP(E2196,Param!$A$7:$E$13,4,0)*Fonct_Empl!F2196*((Fonct_Empl!G2196/12)))+(VLOOKUP(E2196,Param!$A$7:$E$13,5,0)*Fonct_Empl!H2196),2),\"\")","v":""}]
[null,null,null,null,null,null,null,null,{"$f":"IF(E2197<>\"\",ROUND((VLOOKUP(E2197,Param!$A$7:$E$13,4,0)*Fonct_Empl!F2197*((Fonct_Empl!G2197/12)))+(VLOOKUP(E2197,Param!$A$7:$E$13,5,0)*Fonct_Empl!H2197),2),\"\")","v":""}]
[null,null,null,null,null,null,null,null,{"$f":"IF(E2198<>\"\",ROUND((VLOOKUP(E2198,Param!$A$7:$E$13,4,0)*Fonct_Empl!F2198*((Fonct_Empl!G2198/12)))+(VLOOKUP(E2198,Param!$A$7:$E$13,5,0)*Fonct_Empl!H2198),2),\"\")","v":""}]
[null,null,null,null,null,null,null,null,{"$f":"IF(E2199<>\"\",ROUND((VLOOKUP(E2199,Param!$A$7:$E$13,4,0)*Fonct_Empl!F2199*((Fonct_Empl!G2199/12)))+(VLOOKUP(E2199,Param!$A$7:$E$13,5,0)*Fonct_Empl!H2199),2),\"\")","v":""}]
[null,null,null,null,null,null,null,null,{"$f":"IF(E2200<>\"\",ROUND((VLOOKUP(E2200,Param!$A$7:$E$13,4,0)*Fonct_Empl!F2200*((Fonct_Empl!G2200/12)))+(VLOOKUP(E2200,Param!$A$7:$E$13,5,0)*Fonct_Empl!H2200),2),\"\")","v":""}]
[null,null,null,null,null,null,null,null,{"$f":"IF(E2201<>\"\",ROUND((VLOOKUP(E2201,Param!$A$7:$E$13,4,0)*Fonct_Empl!F2201*((Fonct_Empl!G2201/12)))+(VLOOKUP(E2201,Param!$A$7:$E$13,5,0)*Fonct_Empl!H2201),2),\"\")","v":""}]
[null,null,null,null,null,null,null,null,{"$f":"IF(E2202<>\"\",ROUND((VLOOKUP(E2202,Param!$A$7:$E$13,4,0)*Fonct_Empl!F2202*((Fonct_Empl!G2202/12)))+(VLOOKUP(E2202,Param!$A$7:$E$13,5,0)*Fonct_Empl!H2202),2),\"\")","v":""}]
[null,null,null,null,null,null,null,null,{"$f":"IF(E2203<>\"\",ROUND((VLOOKUP(E2203,Param!$A$7:$E$13,4,0)*Fonct_Empl!F2203*((Fonct_Empl!G2203/12)))+(VLOOKUP(E2203,Param!$A$7:$E$13,5,0)*Fonct_Empl!H2203),2),\"\")","v":""}]
[null,null,null,null,null,null,null,null,{"$f":"IF(E2204<>\"\",ROUND((VLOOKUP(E2204,Param!$A$7:$E$13,4,0)*Fonct_Empl!F2204*((Fonct_Empl!G2204/12)))+(VLOOKUP(E2204,Param!$A$7:$E$13,5,0)*Fonct_Empl!H2204),2),\"\")","v":""}]
[null,null,null,null,null,null,null,null,{"$f":"IF(E2205<>\"\",ROUND((VLOOKUP(E2205,Param!$A$7:$E$13,4,0)*Fonct_Empl!F2205*((Fonct_Empl!G2205/12)))+(VLOOKUP(E2205,Param!$A$7:$E$13,5,0)*Fonct_Empl!H2205),2),\"\")","v":""}]
[null,null,null,null,null,null,null,null,{"$f":"IF(E2206<>\"\",ROUND((VLOOKUP(E2206,Param!$A$7:$E$13,4,0)*Fonct_Empl!F2206*((Fonct_Empl!G2206/12)))+(VLOOKUP(E2206,Param!$A$7:$E$13,5,0)*Fonct_Empl!H2206),2),\"\")","v":""}]
[null,null,null,null,null,null,null,null,{"$f":"IF(E2207<>\"\",ROUND((VLOOKUP(E2207,Param!$A$7:$E$13,4,0)*Fonct_Empl!F2207*((Fonct_Empl!G2207/12)))+(VLOOKUP(E2207,Param!$A$7:$E$13,5,0)*Fonct_Empl!H2207),2),\"\")","v":""}]
[null,null,null,null,null,null,null,null,{"$f":"IF(E2208<>\"\",ROUND((VLOOKUP(E2208,Param!$A$7:$E$13,4,0)*Fonct_Empl!F2208*((Fonct_Empl!G2208/12)))+(VLOOKUP(E2208,Param!$A$7:$E$13,5,0)*Fonct_Empl!H2208),2),\"\")","v":""}]
[null,null,null,null,null,null,null,null,{"$f":"IF(E2209<>\"\",ROUND((VLOOKUP(E2209,Param!$A$7:$E$13,4,0)*Fonct_Empl!F2209*((Fonct_Empl!G2209/12)))+(VLOOKUP(E2209,Param!$A$7:$E$13,5,0)*Fonct_Empl!H2209),2),\"\")","v":""}]
[null,null,null,null,null,null,null,null,{"$f":"IF(E2210<>\"\",ROUND((VLOOKUP(E2210,Param!$A$7:$E$13,4,0)*Fonct_Empl!F2210*((Fonct_Empl!G2210/12)))+(VLOOKUP(E2210,Param!$A$7:$E$13,5,0)*Fonct_Empl!H2210),2),\"\")","v":""}]
[null,null,null,null,null,null,null,null,{"$f":"IF(E2211<>\"\",ROUND((VLOOKUP(E2211,Param!$A$7:$E$13,4,0)*Fonct_Empl!F2211*((Fonct_Empl!G2211/12)))+(VLOOKUP(E2211,Param!$A$7:$E$13,5,0)*Fonct_Empl!H2211),2),\"\")","v":""}]
[null,null,null,null,null,null,null,null,{"$f":"IF(E2212<>\"\",ROUND((VLOOKUP(E2212,Param!$A$7:$E$13,4,0)*Fonct_Empl!F2212*((Fonct_Empl!G2212/12)))+(VLOOKUP(E2212,Param!$A$7:$E$13,5,0)*Fonct_Empl!H2212),2),\"\")","v":""}]
[null,null,null,null,null,null,null,null,{"$f":"IF(E2213<>\"\",ROUND((VLOOKUP(E2213,Param!$A$7:$E$13,4,0)*Fonct_Empl!F2213*((Fonct_Empl!G2213/12)))+(VLOOKUP(E2213,Param!$A$7:$E$13,5,0)*Fonct_Empl!H2213),2),\"\")","v":""}]
[null,null,null,null,null,null,null,null,{"$f":"IF(E2214<>\"\",ROUND((VLOOKUP(E2214,Param!$A$7:$E$13,4,0)*Fonct_Empl!F2214*((Fonct_Empl!G2214/12)))+(VLOOKUP(E2214,Param!$A$7:$E$13,5,0)*Fonct_Empl!H2214),2),\"\")","v":""}]
[null,null,null,null,null,null,null,null,{"$f":"IF(E2215<>\"\",ROUND((VLOOKUP(E2215,Param!$A$7:$E$13,4,0)*Fonct_Empl!F2215*((Fonct_Empl!G2215/12)))+(VLOOKUP(E2215,Param!$A$7:$E$13,5,0)*Fonct_Empl!H2215),2),\"\")","v":""}]
[null,null,null,null,null,null,null,null,{"$f":"IF(E2216<>\"\",ROUND((VLOOKUP(E2216,Param!$A$7:$E$13,4,0)*Fonct_Empl!F2216*((Fonct_Empl!G2216/12)))+(VLOOKUP(E2216,Param!$A$7:$E$13,5,0)*Fonct_Empl!H2216),2),\"\")","v":""}]
[null,null,null,null,null,null,null,null,{"$f":"IF(E2217<>\"\",ROUND((VLOOKUP(E2217,Param!$A$7:$E$13,4,0)*Fonct_Empl!F2217*((Fonct_Empl!G2217/12)))+(VLOOKUP(E2217,Param!$A$7:$E$13,5,0)*Fonct_Empl!H2217),2),\"\")","v":""}]
[null,null,null,null,null,null,null,null,{"$f":"IF(E2218<>\"\",ROUND((VLOOKUP(E2218,Param!$A$7:$E$13,4,0)*Fonct_Empl!F2218*((Fonct_Empl!G2218/12)))+(VLOOKUP(E2218,Param!$A$7:$E$13,5,0)*Fonct_Empl!H2218),2),\"\")","v":""}]
[null,null,null,null,null,null,null,null,{"$f":"IF(E2219<>\"\",ROUND((VLOOKUP(E2219,Param!$A$7:$E$13,4,0)*Fonct_Empl!F2219*((Fonct_Empl!G2219/12)))+(VLOOKUP(E2219,Param!$A$7:$E$13,5,0)*Fonct_Empl!H2219),2),\"\")","v":""}]
[null,null,null,null,null,null,null,null,{"$f":"IF(E2220<>\"\",ROUND((VLOOKUP(E2220,Param!$A$7:$E$13,4,0)*Fonct_Empl!F2220*((Fonct_Empl!G2220/12)))+(VLOOKUP(E2220,Param!$A$7:$E$13,5,0)*Fonct_Empl!H2220),2),\"\")","v":""}]
[null,null,null,null,null,null,null,null,{"$f":"IF(E2221<>\"\",ROUND((VLOOKUP(E2221,Param!$A$7:$E$13,4,0)*Fonct_Empl!F2221*((Fonct_Empl!G2221/12)))+(VLOOKUP(E2221,Param!$A$7:$E$13,5,0)*Fonct_Empl!H2221),2),\"\")","v":""}]
[null,null,null,null,null,null,null,null,{"$f":"IF(E2222<>\"\",ROUND((VLOOKUP(E2222,Param!$A$7:$E$13,4,0)*Fonct_Empl!F2222*((Fonct_Empl!G2222/12)))+(VLOOKUP(E2222,Param!$A$7:$E$13,5,0)*Fonct_Empl!H2222),2),\"\")","v":""}]
[null,null,null,null,null,null,null,null,{"$f":"IF(E2223<>\"\",ROUND((VLOOKUP(E2223,Param!$A$7:$E$13,4,0)*Fonct_Empl!F2223*((Fonct_Empl!G2223/12)))+(VLOOKUP(E2223,Param!$A$7:$E$13,5,0)*Fonct_Empl!H2223),2),\"\")","v":""}]
[null,null,null,null,null,null,null,null,{"$f":"IF(E2224<>\"\",ROUND((VLOOKUP(E2224,Param!$A$7:$E$13,4,0)*Fonct_Empl!F2224*((Fonct_Empl!G2224/12)))+(VLOOKUP(E2224,Param!$A$7:$E$13,5,0)*Fonct_Empl!H2224),2),\"\")","v":""}]
[null,null,null,null,null,null,null,null,{"$f":"IF(E2225<>\"\",ROUND((VLOOKUP(E2225,Param!$A$7:$E$13,4,0)*Fonct_Empl!F2225*((Fonct_Empl!G2225/12)))+(VLOOKUP(E2225,Param!$A$7:$E$13,5,0)*Fonct_Empl!H2225),2),\"\")","v":""}]
[null,null,null,null,null,null,null,null,{"$f":"IF(E2226<>\"\",ROUND((VLOOKUP(E2226,Param!$A$7:$E$13,4,0)*Fonct_Empl!F2226*((Fonct_Empl!G2226/12)))+(VLOOKUP(E2226,Param!$A$7:$E$13,5,0)*Fonct_Empl!H2226),2),\"\")","v":""}]
[null,null,null,null,null,null,null,null,{"$f":"IF(E2227<>\"\",ROUND((VLOOKUP(E2227,Param!$A$7:$E$13,4,0)*Fonct_Empl!F2227*((Fonct_Empl!G2227/12)))+(VLOOKUP(E2227,Param!$A$7:$E$13,5,0)*Fonct_Empl!H2227),2),\"\")","v":""}]
[null,null,null,null,null,null,null,null,{"$f":"IF(E2228<>\"\",ROUND((VLOOKUP(E2228,Param!$A$7:$E$13,4,0)*Fonct_Empl!F2228*((Fonct_Empl!G2228/12)))+(VLOOKUP(E2228,Param!$A$7:$E$13,5,0)*Fonct_Empl!H2228),2),\"\")","v":""}]
[null,null,null,null,null,null,null,null,{"$f":"IF(E2229<>\"\",ROUND((VLOOKUP(E2229,Param!$A$7:$E$13,4,0)*Fonct_Empl!F2229*((Fonct_Empl!G2229/12)))+(VLOOKUP(E2229,Param!$A$7:$E$13,5,0)*Fonct_Empl!H2229),2),\"\")","v":""}]
[null,null,null,null,null,null,null,null,{"$f":"IF(E2230<>\"\",ROUND((VLOOKUP(E2230,Param!$A$7:$E$13,4,0)*Fonct_Empl!F2230*((Fonct_Empl!G2230/12)))+(VLOOKUP(E2230,Param!$A$7:$E$13,5,0)*Fonct_Empl!H2230),2),\"\")","v":""}]
[null,null,null,null,null,null,null,null,{"$f":"IF(E2231<>\"\",ROUND((VLOOKUP(E2231,Param!$A$7:$E$13,4,0)*Fonct_Empl!F2231*((Fonct_Empl!G2231/12)))+(VLOOKUP(E2231,Param!$A$7:$E$13,5,0)*Fonct_Empl!H2231),2),\"\")","v":""}]
[null,null,null,null,null,null,null,null,{"$f":"IF(E2232<>\"\",ROUND((VLOOKUP(E2232,Param!$A$7:$E$13,4,0)*Fonct_Empl!F2232*((Fonct_Empl!G2232/12)))+(VLOOKUP(E2232,Param!$A$7:$E$13,5,0)*Fonct_Empl!H2232),2),\"\")","v":""}]
[null,null,null,null,null,null,null,null,{"$f":"IF(E2233<>\"\",ROUND((VLOOKUP(E2233,Param!$A$7:$E$13,4,0)*Fonct_Empl!F2233*((Fonct_Empl!G2233/12)))+(VLOOKUP(E2233,Param!$A$7:$E$13,5,0)*Fonct_Empl!H2233),2),\"\")","v":""}]
[null,null,null,null,null,null,null,null,{"$f":"IF(E2234<>\"\",ROUND((VLOOKUP(E2234,Param!$A$7:$E$13,4,0)*Fonct_Empl!F2234*((Fonct_Empl!G2234/12)))+(VLOOKUP(E2234,Param!$A$7:$E$13,5,0)*Fonct_Empl!H2234),2),\"\")","v":""}]
[null,null,null,null,null,null,null,null,{"$f":"IF(E2235<>\"\",ROUND((VLOOKUP(E2235,Param!$A$7:$E$13,4,0)*Fonct_Empl!F2235*((Fonct_Empl!G2235/12)))+(VLOOKUP(E2235,Param!$A$7:$E$13,5,0)*Fonct_Empl!H2235),2),\"\")","v":""}]
[null,null,null,null,null,null,null,null,{"$f":"IF(E2236<>\"\",ROUND((VLOOKUP(E2236,Param!$A$7:$E$13,4,0)*Fonct_Empl!F2236*((Fonct_Empl!G2236/12)))+(VLOOKUP(E2236,Param!$A$7:$E$13,5,0)*Fonct_Empl!H2236),2),\"\")","v":""}]
[null,null,null,null,null,null,null,null,{"$f":"IF(E2237<>\"\",ROUND((VLOOKUP(E2237,Param!$A$7:$E$13,4,0)*Fonct_Empl!F2237*((Fonct_Empl!G2237/12)))+(VLOOKUP(E2237,Param!$A$7:$E$13,5,0)*Fonct_Empl!H2237),2),\"\")","v":""}]
[null,null,null,null,null,null,null,null,{"$f":"IF(E2238<>\"\",ROUND((VLOOKUP(E2238,Param!$A$7:$E$13,4,0)*Fonct_Empl!F2238*((Fonct_Empl!G2238/12)))+(VLOOKUP(E2238,Param!$A$7:$E$13,5,0)*Fonct_Empl!H2238),2),\"\")","v":""}]
[null,null,null,null,null,null,null,null,{"$f":"IF(E2239<>\"\",ROUND((VLOOKUP(E2239,Param!$A$7:$E$13,4,0)*Fonct_Empl!F2239*((Fonct_Empl!G2239/12)))+(VLOOKUP(E2239,Param!$A$7:$E$13,5,0)*Fonct_Empl!H2239),2),\"\")","v":""}]
[null,null,null,null,null,null,null,null,{"$f":"IF(E2240<>\"\",ROUND((VLOOKUP(E2240,Param!$A$7:$E$13,4,0)*Fonct_Empl!F2240*((Fonct_Empl!G2240/12)))+(VLOOKUP(E2240,Param!$A$7:$E$13,5,0)*Fonct_Empl!H2240),2),\"\")","v":""}]
[null,null,null,null,null,null,null,null,{"$f":"IF(E2241<>\"\",ROUND((VLOOKUP(E2241,Param!$A$7:$E$13,4,0)*Fonct_Empl!F2241*((Fonct_Empl!G2241/12)))+(VLOOKUP(E2241,Param!$A$7:$E$13,5,0)*Fonct_Empl!H2241),2),\"\")","v":""}]
[null,null,null,null,null,null,null,null,{"$f":"IF(E2242<>\"\",ROUND((VLOOKUP(E2242,Param!$A$7:$E$13,4,0)*Fonct_Empl!F2242*((Fonct_Empl!G2242/12)))+(VLOOKUP(E2242,Param!$A$7:$E$13,5,0)*Fonct_Empl!H2242),2),\"\")","v":""}]
[null,null,null,null,null,null,null,null,{"$f":"IF(E2243<>\"\",ROUND((VLOOKUP(E2243,Param!$A$7:$E$13,4,0)*Fonct_Empl!F2243*((Fonct_Empl!G2243/12)))+(VLOOKUP(E2243,Param!$A$7:$E$13,5,0)*Fonct_Empl!H2243),2),\"\")","v":""}]
[null,null,null,null,null,null,null,null,{"$f":"IF(E2244<>\"\",ROUND((VLOOKUP(E2244,Param!$A$7:$E$13,4,0)*Fonct_Empl!F2244*((Fonct_Empl!G2244/12)))+(VLOOKUP(E2244,Param!$A$7:$E$13,5,0)*Fonct_Empl!H2244),2),\"\")","v":""}]
[null,null,null,null,null,null,null,null,{"$f":"IF(E2245<>\"\",ROUND((VLOOKUP(E2245,Param!$A$7:$E$13,4,0)*Fonct_Empl!F2245*((Fonct_Empl!G2245/12)))+(VLOOKUP(E2245,Param!$A$7:$E$13,5,0)*Fonct_Empl!H2245),2),\"\")","v":""}]
[null,null,null,null,null,null,null,null,{"$f":"IF(E2246<>\"\",ROUND((VLOOKUP(E2246,Param!$A$7:$E$13,4,0)*Fonct_Empl!F2246*((Fonct_Empl!G2246/12)))+(VLOOKUP(E2246,Param!$A$7:$E$13,5,0)*Fonct_Empl!H2246),2),\"\")","v":""}]
[null,null,null,null,null,null,null,null,{"$f":"IF(E2247<>\"\",ROUND((VLOOKUP(E2247,Param!$A$7:$E$13,4,0)*Fonct_Empl!F2247*((Fonct_Empl!G2247/12)))+(VLOOKUP(E2247,Param!$A$7:$E$13,5,0)*Fonct_Empl!H2247),2),\"\")","v":""}]
[null,null,null,null,null,null,null,null,{"$f":"IF(E2248<>\"\",ROUND((VLOOKUP(E2248,Param!$A$7:$E$13,4,0)*Fonct_Empl!F2248*((Fonct_Empl!G2248/12)))+(VLOOKUP(E2248,Param!$A$7:$E$13,5,0)*Fonct_Empl!H2248),2),\"\")","v":""}]
[null,null,null,null,null,null,null,null,{"$f":"IF(E2249<>\"\",ROUND((VLOOKUP(E2249,Param!$A$7:$E$13,4,0)*Fonct_Empl!F2249*((Fonct_Empl!G2249/12)))+(VLOOKUP(E2249,Param!$A$7:$E$13,5,0)*Fonct_Empl!H2249),2),\"\")","v":""}]
[null,null,null,null,null,null,null,null,{"$f":"IF(E2250<>\"\",ROUND((VLOOKUP(E2250,Param!$A$7:$E$13,4,0)*Fonct_Empl!F2250*((Fonct_Empl!G2250/12)))+(VLOOKUP(E2250,Param!$A$7:$E$13,5,0)*Fonct_Empl!H2250),2),\"\")","v":""}]
[null,null,null,null,null,null,null,null,{"$f":"IF(E2251<>\"\",ROUND((VLOOKUP(E2251,Param!$A$7:$E$13,4,0)*Fonct_Empl!F2251*((Fonct_Empl!G2251/12)))+(VLOOKUP(E2251,Param!$A$7:$E$13,5,0)*Fonct_Empl!H2251),2),\"\")","v":""}]
[null,null,null,null,null,null,null,null,{"$f":"IF(E2252<>\"\",ROUND((VLOOKUP(E2252,Param!$A$7:$E$13,4,0)*Fonct_Empl!F2252*((Fonct_Empl!G2252/12)))+(VLOOKUP(E2252,Param!$A$7:$E$13,5,0)*Fonct_Empl!H2252),2),\"\")","v":""}]
[null,null,null,null,null,null,null,null,{"$f":"IF(E2253<>\"\",ROUND((VLOOKUP(E2253,Param!$A$7:$E$13,4,0)*Fonct_Empl!F2253*((Fonct_Empl!G2253/12)))+(VLOOKUP(E2253,Param!$A$7:$E$13,5,0)*Fonct_Empl!H2253),2),\"\")","v":""}]
[null,null,null,null,null,null,null,null,{"$f":"IF(E2254<>\"\",ROUND((VLOOKUP(E2254,Param!$A$7:$E$13,4,0)*Fonct_Empl!F2254*((Fonct_Empl!G2254/12)))+(VLOOKUP(E2254,Param!$A$7:$E$13,5,0)*Fonct_Empl!H2254),2),\"\")","v":""}]
[null,null,null,null,null,null,null,null,{"$f":"IF(E2255<>\"\",ROUND((VLOOKUP(E2255,Param!$A$7:$E$13,4,0)*Fonct_Empl!F2255*((Fonct_Empl!G2255/12)))+(VLOOKUP(E2255,Param!$A$7:$E$13,5,0)*Fonct_Empl!H2255),2),\"\")","v":""}]
[null,null,null,null,null,null,null,null,{"$f":"IF(E2256<>\"\",ROUND((VLOOKUP(E2256,Param!$A$7:$E$13,4,0)*Fonct_Empl!F2256*((Fonct_Empl!G2256/12)))+(VLOOKUP(E2256,Param!$A$7:$E$13,5,0)*Fonct_Empl!H2256),2),\"\")","v":""}]
[null,null,null,null,null,null,null,null,{"$f":"IF(E2257<>\"\",ROUND((VLOOKUP(E2257,Param!$A$7:$E$13,4,0)*Fonct_Empl!F2257*((Fonct_Empl!G2257/12)))+(VLOOKUP(E2257,Param!$A$7:$E$13,5,0)*Fonct_Empl!H2257),2),\"\")","v":""}]
[null,null,null,null,null,null,null,null,{"$f":"IF(E2258<>\"\",ROUND((VLOOKUP(E2258,Param!$A$7:$E$13,4,0)*Fonct_Empl!F2258*((Fonct_Empl!G2258/12)))+(VLOOKUP(E2258,Param!$A$7:$E$13,5,0)*Fonct_Empl!H2258),2),\"\")","v":""}]
[null,null,null,null,null,null,null,null,{"$f":"IF(E2259<>\"\",ROUND((VLOOKUP(E2259,Param!$A$7:$E$13,4,0)*Fonct_Empl!F2259*((Fonct_Empl!G2259/12)))+(VLOOKUP(E2259,Param!$A$7:$E$13,5,0)*Fonct_Empl!H2259),2),\"\")","v":""}]
[null,null,null,null,null,null,null,null,{"$f":"IF(E2260<>\"\",ROUND((VLOOKUP(E2260,Param!$A$7:$E$13,4,0)*Fonct_Empl!F2260*((Fonct_Empl!G2260/12)))+(VLOOKUP(E2260,Param!$A$7:$E$13,5,0)*Fonct_Empl!H2260),2),\"\")","v":""}]
[null,null,null,null,null,null,null,null,{"$f":"IF(E2261<>\"\",ROUND((VLOOKUP(E2261,Param!$A$7:$E$13,4,0)*Fonct_Empl!F2261*((Fonct_Empl!G2261/12)))+(VLOOKUP(E2261,Param!$A$7:$E$13,5,0)*Fonct_Empl!H2261),2),\"\")","v":""}]
[null,null,null,null,null,null,null,null,{"$f":"IF(E2262<>\"\",ROUND((VLOOKUP(E2262,Param!$A$7:$E$13,4,0)*Fonct_Empl!F2262*((Fonct_Empl!G2262/12)))+(VLOOKUP(E2262,Param!$A$7:$E$13,5,0)*Fonct_Empl!H2262),2),\"\")","v":""}]
[null,null,null,null,null,null,null,null,{"$f":"IF(E2263<>\"\",ROUND((VLOOKUP(E2263,Param!$A$7:$E$13,4,0)*Fonct_Empl!F2263*((Fonct_Empl!G2263/12)))+(VLOOKUP(E2263,Param!$A$7:$E$13,5,0)*Fonct_Empl!H2263),2),\"\")","v":""}]
[null,null,null,null,null,null,null,null,{"$f":"IF(E2264<>\"\",ROUND((VLOOKUP(E2264,Param!$A$7:$E$13,4,0)*Fonct_Empl!F2264*((Fonct_Empl!G2264/12)))+(VLOOKUP(E2264,Param!$A$7:$E$13,5,0)*Fonct_Empl!H2264),2),\"\")","v":""}]
[null,null,null,null,null,null,null,null,{"$f":"IF(E2265<>\"\",ROUND((VLOOKUP(E2265,Param!$A$7:$E$13,4,0)*Fonct_Empl!F2265*((Fonct_Empl!G2265/12)))+(VLOOKUP(E2265,Param!$A$7:$E$13,5,0)*Fonct_Empl!H2265),2),\"\")","v":""}]
[null,null,null,null,null,null,null,null,{"$f":"IF(E2266<>\"\",ROUND((VLOOKUP(E2266,Param!$A$7:$E$13,4,0)*Fonct_Empl!F2266*((Fonct_Empl!G2266/12)))+(VLOOKUP(E2266,Param!$A$7:$E$13,5,0)*Fonct_Empl!H2266),2),\"\")","v":""}]
[null,null,null,null,null,null,null,null,{"$f":"IF(E2267<>\"\",ROUND((VLOOKUP(E2267,Param!$A$7:$E$13,4,0)*Fonct_Empl!F2267*((Fonct_Empl!G2267/12)))+(VLOOKUP(E2267,Param!$A$7:$E$13,5,0)*Fonct_Empl!H2267),2),\"\")","v":""}]
[null,null,null,null,null,null,null,null,{"$f":"IF(E2268<>\"\",ROUND((VLOOKUP(E2268,Param!$A$7:$E$13,4,0)*Fonct_Empl!F2268*((Fonct_Empl!G2268/12)))+(VLOOKUP(E2268,Param!$A$7:$E$13,5,0)*Fonct_Empl!H2268),2),\"\")","v":""}]
[null,null,null,null,null,null,null,null,{"$f":"IF(E2269<>\"\",ROUND((VLOOKUP(E2269,Param!$A$7:$E$13,4,0)*Fonct_Empl!F2269*((Fonct_Empl!G2269/12)))+(VLOOKUP(E2269,Param!$A$7:$E$13,5,0)*Fonct_Empl!H2269),2),\"\")","v":""}]
[null,null,null,null,null,null,null,null,{"$f":"IF(E2270<>\"\",ROUND((VLOOKUP(E2270,Param!$A$7:$E$13,4,0)*Fonct_Empl!F2270*((Fonct_Empl!G2270/12)))+(VLOOKUP(E2270,Param!$A$7:$E$13,5,0)*Fonct_Empl!H2270),2),\"\")","v":""}]
[null,null,null,null,null,null,null,null,{"$f":"IF(E2271<>\"\",ROUND((VLOOKUP(E2271,Param!$A$7:$E$13,4,0)*Fonct_Empl!F2271*((Fonct_Empl!G2271/12)))+(VLOOKUP(E2271,Param!$A$7:$E$13,5,0)*Fonct_Empl!H2271),2),\"\")","v":""}]
[null,null,null,null,null,null,null,null,{"$f":"IF(E2272<>\"\",ROUND((VLOOKUP(E2272,Param!$A$7:$E$13,4,0)*Fonct_Empl!F2272*((Fonct_Empl!G2272/12)))+(VLOOKUP(E2272,Param!$A$7:$E$13,5,0)*Fonct_Empl!H2272),2),\"\")","v":""}]
[null,null,null,null,null,null,null,null,{"$f":"IF(E2273<>\"\",ROUND((VLOOKUP(E2273,Param!$A$7:$E$13,4,0)*Fonct_Empl!F2273*((Fonct_Empl!G2273/12)))+(VLOOKUP(E2273,Param!$A$7:$E$13,5,0)*Fonct_Empl!H2273),2),\"\")","v":""}]
[null,null,null,null,null,null,null,null,{"$f":"IF(E2274<>\"\",ROUND((VLOOKUP(E2274,Param!$A$7:$E$13,4,0)*Fonct_Empl!F2274*((Fonct_Empl!G2274/12)))+(VLOOKUP(E2274,Param!$A$7:$E$13,5,0)*Fonct_Empl!H2274),2),\"\")","v":""}]
[null,null,null,null,null,null,null,null,{"$f":"IF(E2275<>\"\",ROUND((VLOOKUP(E2275,Param!$A$7:$E$13,4,0)*Fonct_Empl!F2275*((Fonct_Empl!G2275/12)))+(VLOOKUP(E2275,Param!$A$7:$E$13,5,0)*Fonct_Empl!H2275),2),\"\")","v":""}]
[null,null,null,null,null,null,null,null,{"$f":"IF(E2276<>\"\",ROUND((VLOOKUP(E2276,Param!$A$7:$E$13,4,0)*Fonct_Empl!F2276*((Fonct_Empl!G2276/12)))+(VLOOKUP(E2276,Param!$A$7:$E$13,5,0)*Fonct_Empl!H2276),2),\"\")","v":""}]
[null,null,null,null,null,null,null,null,{"$f":"IF(E2277<>\"\",ROUND((VLOOKUP(E2277,Param!$A$7:$E$13,4,0)*Fonct_Empl!F2277*((Fonct_Empl!G2277/12)))+(VLOOKUP(E2277,Param!$A$7:$E$13,5,0)*Fonct_Empl!H2277),2),\"\")","v":""}]
[null,null,null,null,null,null,null,null,{"$f":"IF(E2278<>\"\",ROUND((VLOOKUP(E2278,Param!$A$7:$E$13,4,0)*Fonct_Empl!F2278*((Fonct_Empl!G2278/12)))+(VLOOKUP(E2278,Param!$A$7:$E$13,5,0)*Fonct_Empl!H2278),2),\"\")","v":""}]
[null,null,null,null,null,null,null,null,{"$f":"IF(E2279<>\"\",ROUND((VLOOKUP(E2279,Param!$A$7:$E$13,4,0)*Fonct_Empl!F2279*((Fonct_Empl!G2279/12)))+(VLOOKUP(E2279,Param!$A$7:$E$13,5,0)*Fonct_Empl!H2279),2),\"\")","v":""}]
[null,null,null,null,null,null,null,null,{"$f":"IF(E2280<>\"\",ROUND((VLOOKUP(E2280,Param!$A$7:$E$13,4,0)*Fonct_Empl!F2280*((Fonct_Empl!G2280/12)))+(VLOOKUP(E2280,Param!$A$7:$E$13,5,0)*Fonct_Empl!H2280),2),\"\")","v":""}]
[null,null,null,null,null,null,null,null,{"$f":"IF(E2281<>\"\",ROUND((VLOOKUP(E2281,Param!$A$7:$E$13,4,0)*Fonct_Empl!F2281*((Fonct_Empl!G2281/12)))+(VLOOKUP(E2281,Param!$A$7:$E$13,5,0)*Fonct_Empl!H2281),2),\"\")","v":""}]
[null,null,null,null,null,null,null,null,{"$f":"IF(E2282<>\"\",ROUND((VLOOKUP(E2282,Param!$A$7:$E$13,4,0)*Fonct_Empl!F2282*((Fonct_Empl!G2282/12)))+(VLOOKUP(E2282,Param!$A$7:$E$13,5,0)*Fonct_Empl!H2282),2),\"\")","v":""}]
[null,null,null,null,null,null,null,null,{"$f":"IF(E2283<>\"\",ROUND((VLOOKUP(E2283,Param!$A$7:$E$13,4,0)*Fonct_Empl!F2283*((Fonct_Empl!G2283/12)))+(VLOOKUP(E2283,Param!$A$7:$E$13,5,0)*Fonct_Empl!H2283),2),\"\")","v":""}]
[null,null,null,null,null,null,null,null,{"$f":"IF(E2284<>\"\",ROUND((VLOOKUP(E2284,Param!$A$7:$E$13,4,0)*Fonct_Empl!F2284*((Fonct_Empl!G2284/12)))+(VLOOKUP(E2284,Param!$A$7:$E$13,5,0)*Fonct_Empl!H2284),2),\"\")","v":""}]
[null,null,null,null,null,null,null,null,{"$f":"IF(E2285<>\"\",ROUND((VLOOKUP(E2285,Param!$A$7:$E$13,4,0)*Fonct_Empl!F2285*((Fonct_Empl!G2285/12)))+(VLOOKUP(E2285,Param!$A$7:$E$13,5,0)*Fonct_Empl!H2285),2),\"\")","v":""}]
[null,null,null,null,null,null,null,null,{"$f":"IF(E2286<>\"\",ROUND((VLOOKUP(E2286,Param!$A$7:$E$13,4,0)*Fonct_Empl!F2286*((Fonct_Empl!G2286/12)))+(VLOOKUP(E2286,Param!$A$7:$E$13,5,0)*Fonct_Empl!H2286),2),\"\")","v":""}]
[null,null,null,null,null,null,null,null,{"$f":"IF(E2287<>\"\",ROUND((VLOOKUP(E2287,Param!$A$7:$E$13,4,0)*Fonct_Empl!F2287*((Fonct_Empl!G2287/12)))+(VLOOKUP(E2287,Param!$A$7:$E$13,5,0)*Fonct_Empl!H2287),2),\"\")","v":""}]
[null,null,null,null,null,null,null,null,{"$f":"IF(E2288<>\"\",ROUND((VLOOKUP(E2288,Param!$A$7:$E$13,4,0)*Fonct_Empl!F2288*((Fonct_Empl!G2288/12)))+(VLOOKUP(E2288,Param!$A$7:$E$13,5,0)*Fonct_Empl!H2288),2),\"\")","v":""}]
[null,null,null,null,null,null,null,null,{"$f":"IF(E2289<>\"\",ROUND((VLOOKUP(E2289,Param!$A$7:$E$13,4,0)*Fonct_Empl!F2289*((Fonct_Empl!G2289/12)))+(VLOOKUP(E2289,Param!$A$7:$E$13,5,0)*Fonct_Empl!H2289),2),\"\")","v":""}]
[null,null,null,null,null,null,null,null,{"$f":"IF(E2290<>\"\",ROUND((VLOOKUP(E2290,Param!$A$7:$E$13,4,0)*Fonct_Empl!F2290*((Fonct_Empl!G2290/12)))+(VLOOKUP(E2290,Param!$A$7:$E$13,5,0)*Fonct_Empl!H2290),2),\"\")","v":""}]
[null,null,null,null,null,null,null,null,{"$f":"IF(E2291<>\"\",ROUND((VLOOKUP(E2291,Param!$A$7:$E$13,4,0)*Fonct_Empl!F2291*((Fonct_Empl!G2291/12)))+(VLOOKUP(E2291,Param!$A$7:$E$13,5,0)*Fonct_Empl!H2291),2),\"\")","v":""}]
[null,null,null,null,null,null,null,null,{"$f":"IF(E2292<>\"\",ROUND((VLOOKUP(E2292,Param!$A$7:$E$13,4,0)*Fonct_Empl!F2292*((Fonct_Empl!G2292/12)))+(VLOOKUP(E2292,Param!$A$7:$E$13,5,0)*Fonct_Empl!H2292),2),\"\")","v":""}]
[null,null,null,null,null,null,null,null,{"$f":"IF(E2293<>\"\",ROUND((VLOOKUP(E2293,Param!$A$7:$E$13,4,0)*Fonct_Empl!F2293*((Fonct_Empl!G2293/12)))+(VLOOKUP(E2293,Param!$A$7:$E$13,5,0)*Fonct_Empl!H2293),2),\"\")","v":""}]
[null,null,null,null,null,null,null,null,{"$f":"IF(E2294<>\"\",ROUND((VLOOKUP(E2294,Param!$A$7:$E$13,4,0)*Fonct_Empl!F2294*((Fonct_Empl!G2294/12)))+(VLOOKUP(E2294,Param!$A$7:$E$13,5,0)*Fonct_Empl!H2294),2),\"\")","v":""}]
[null,null,null,null,null,null,null,null,{"$f":"IF(E2295<>\"\",ROUND((VLOOKUP(E2295,Param!$A$7:$E$13,4,0)*Fonct_Empl!F2295*((Fonct_Empl!G2295/12)))+(VLOOKUP(E2295,Param!$A$7:$E$13,5,0)*Fonct_Empl!H2295),2),\"\")","v":""}]
[null,null,null,null,null,null,null,null,{"$f":"IF(E2296<>\"\",ROUND((VLOOKUP(E2296,Param!$A$7:$E$13,4,0)*Fonct_Empl!F2296*((Fonct_Empl!G2296/12)))+(VLOOKUP(E2296,Param!$A$7:$E$13,5,0)*Fonct_Empl!H2296),2),\"\")","v":""}]
[null,null,null,null,null,null,null,null,{"$f":"IF(E2297<>\"\",ROUND((VLOOKUP(E2297,Param!$A$7:$E$13,4,0)*Fonct_Empl!F2297*((Fonct_Empl!G2297/12)))+(VLOOKUP(E2297,Param!$A$7:$E$13,5,0)*Fonct_Empl!H2297),2),\"\")","v":""}]
[null,null,null,null,null,null,null,null,{"$f":"IF(E2298<>\"\",ROUND((VLOOKUP(E2298,Param!$A$7:$E$13,4,0)*Fonct_Empl!F2298*((Fonct_Empl!G2298/12)))+(VLOOKUP(E2298,Param!$A$7:$E$13,5,0)*Fonct_Empl!H2298),2),\"\")","v":""}]
[null,null,null,null,null,null,null,null,{"$f":"IF(E2299<>\"\",ROUND((VLOOKUP(E2299,Param!$A$7:$E$13,4,0)*Fonct_Empl!F2299*((Fonct_Empl!G2299/12)))+(VLOOKUP(E2299,Param!$A$7:$E$13,5,0)*Fonct_Empl!H2299),2),\"\")","v":""}]
[null,null,null,null,null,null,null,null,{"$f":"IF(E2300<>\"\",ROUND((VLOOKUP(E2300,Param!$A$7:$E$13,4,0)*Fonct_Empl!F2300*((Fonct_Empl!G2300/12)))+(VLOOKUP(E2300,Param!$A$7:$E$13,5,0)*Fonct_Empl!H2300),2),\"\")","v":""}]
[null,null,null,null,null,null,null,null,{"$f":"IF(E2301<>\"\",ROUND((VLOOKUP(E2301,Param!$A$7:$E$13,4,0)*Fonct_Empl!F2301*((Fonct_Empl!G2301/12)))+(VLOOKUP(E2301,Param!$A$7:$E$13,5,0)*Fonct_Empl!H2301),2),\"\")","v":""}]
[null,null,null,null,null,null,null,null,{"$f":"IF(E2302<>\"\",ROUND((VLOOKUP(E2302,Param!$A$7:$E$13,4,0)*Fonct_Empl!F2302*((Fonct_Empl!G2302/12)))+(VLOOKUP(E2302,Param!$A$7:$E$13,5,0)*Fonct_Empl!H2302),2),\"\")","v":""}]
[null,null,null,null,null,null,null,null,{"$f":"IF(E2303<>\"\",ROUND((VLOOKUP(E2303,Param!$A$7:$E$13,4,0)*Fonct_Empl!F2303*((Fonct_Empl!G2303/12)))+(VLOOKUP(E2303,Param!$A$7:$E$13,5,0)*Fonct_Empl!H2303),2),\"\")","v":""}]
[null,null,null,null,null,null,null,null,{"$f":"IF(E2304<>\"\",ROUND((VLOOKUP(E2304,Param!$A$7:$E$13,4,0)*Fonct_Empl!F2304*((Fonct_Empl!G2304/12)))+(VLOOKUP(E2304,Param!$A$7:$E$13,5,0)*Fonct_Empl!H2304),2),\"\")","v":""}]
[null,null,null,null,null,null,null,null,{"$f":"IF(E2305<>\"\",ROUND((VLOOKUP(E2305,Param!$A$7:$E$13,4,0)*Fonct_Empl!F2305*((Fonct_Empl!G2305/12)))+(VLOOKUP(E2305,Param!$A$7:$E$13,5,0)*Fonct_Empl!H2305),2),\"\")","v":""}]
[null,null,null,null,null,null,null,null,{"$f":"IF(E2306<>\"\",ROUND((VLOOKUP(E2306,Param!$A$7:$E$13,4,0)*Fonct_Empl!F2306*((Fonct_Empl!G2306/12)))+(VLOOKUP(E2306,Param!$A$7:$E$13,5,0)*Fonct_Empl!H2306),2),\"\")","v":""}]
[null,null,null,null,null,null,null,null,{"$f":"IF(E2307<>\"\",ROUND((VLOOKUP(E2307,Param!$A$7:$E$13,4,0)*Fonct_Empl!F2307*((Fonct_Empl!G2307/12)))+(VLOOKUP(E2307,Param!$A$7:$E$13,5,0)*Fonct_Empl!H2307),2),\"\")","v":""}]
[null,null,null,null,null,null,null,null,{"$f":"IF(E2308<>\"\",ROUND((VLOOKUP(E2308,Param!$A$7:$E$13,4,0)*Fonct_Empl!F2308*((Fonct_Empl!G2308/12)))+(VLOOKUP(E2308,Param!$A$7:$E$13,5,0)*Fonct_Empl!H2308),2),\"\")","v":""}]
[null,null,null,null,null,null,null,null,{"$f":"IF(E2309<>\"\",ROUND((VLOOKUP(E2309,Param!$A$7:$E$13,4,0)*Fonct_Empl!F2309*((Fonct_Empl!G2309/12)))+(VLOOKUP(E2309,Param!$A$7:$E$13,5,0)*Fonct_Empl!H2309),2),\"\")","v":""}]
[null,null,null,null,null,null,null,null,{"$f":"IF(E2310<>\"\",ROUND((VLOOKUP(E2310,Param!$A$7:$E$13,4,0)*Fonct_Empl!F2310*((Fonct_Empl!G2310/12)))+(VLOOKUP(E2310,Param!$A$7:$E$13,5,0)*Fonct_Empl!H2310),2),\"\")","v":""}]
[null,null,null,null,null,null,null,null,{"$f":"IF(E2311<>\"\",ROUND((VLOOKUP(E2311,Param!$A$7:$E$13,4,0)*Fonct_Empl!F2311*((Fonct_Empl!G2311/12)))+(VLOOKUP(E2311,Param!$A$7:$E$13,5,0)*Fonct_Empl!H2311),2),\"\")","v":""}]
[null,null,null,null,null,null,null,null,{"$f":"IF(E2312<>\"\",ROUND((VLOOKUP(E2312,Param!$A$7:$E$13,4,0)*Fonct_Empl!F2312*((Fonct_Empl!G2312/12)))+(VLOOKUP(E2312,Param!$A$7:$E$13,5,0)*Fonct_Empl!H2312),2),\"\")","v":""}]
[null,null,null,null,null,null,null,null,{"$f":"IF(E2313<>\"\",ROUND((VLOOKUP(E2313,Param!$A$7:$E$13,4,0)*Fonct_Empl!F2313*((Fonct_Empl!G2313/12)))+(VLOOKUP(E2313,Param!$A$7:$E$13,5,0)*Fonct_Empl!H2313),2),\"\")","v":""}]
[null,null,null,null,null,null,null,null,{"$f":"IF(E2314<>\"\",ROUND((VLOOKUP(E2314,Param!$A$7:$E$13,4,0)*Fonct_Empl!F2314*((Fonct_Empl!G2314/12)))+(VLOOKUP(E2314,Param!$A$7:$E$13,5,0)*Fonct_Empl!H2314),2),\"\")","v":""}]
[null,null,null,null,null,null,null,null,{"$f":"IF(E2315<>\"\",ROUND((VLOOKUP(E2315,Param!$A$7:$E$13,4,0)*Fonct_Empl!F2315*((Fonct_Empl!G2315/12)))+(VLOOKUP(E2315,Param!$A$7:$E$13,5,0)*Fonct_Empl!H2315),2),\"\")","v":""}]
[null,null,null,null,null,null,null,null,{"$f":"IF(E2316<>\"\",ROUND((VLOOKUP(E2316,Param!$A$7:$E$13,4,0)*Fonct_Empl!F2316*((Fonct_Empl!G2316/12)))+(VLOOKUP(E2316,Param!$A$7:$E$13,5,0)*Fonct_Empl!H2316),2),\"\")","v":""}]
[null,null,null,null,null,null,null,null,{"$f":"IF(E2317<>\"\",ROUND((VLOOKUP(E2317,Param!$A$7:$E$13,4,0)*Fonct_Empl!F2317*((Fonct_Empl!G2317/12)))+(VLOOKUP(E2317,Param!$A$7:$E$13,5,0)*Fonct_Empl!H2317),2),\"\")","v":""}]
[null,null,null,null,null,null,null,null,{"$f":"IF(E2318<>\"\",ROUND((VLOOKUP(E2318,Param!$A$7:$E$13,4,0)*Fonct_Empl!F2318*((Fonct_Empl!G2318/12)))+(VLOOKUP(E2318,Param!$A$7:$E$13,5,0)*Fonct_Empl!H2318),2),\"\")","v":""}]
[null,null,null,null,null,null,null,null,{"$f":"IF(E2319<>\"\",ROUND((VLOOKUP(E2319,Param!$A$7:$E$13,4,0)*Fonct_Empl!F2319*((Fonct_Empl!G2319/12)))+(VLOOKUP(E2319,Param!$A$7:$E$13,5,0)*Fonct_Empl!H2319),2),\"\")","v":""}]
[null,null,null,null,null,null,null,null,{"$f":"IF(E2320<>\"\",ROUND((VLOOKUP(E2320,Param!$A$7:$E$13,4,0)*Fonct_Empl!F2320*((Fonct_Empl!G2320/12)))+(VLOOKUP(E2320,Param!$A$7:$E$13,5,0)*Fonct_Empl!H2320),2),\"\")","v":""}]
[null,null,null,null,null,null,null,null,{"$f":"IF(E2321<>\"\",ROUND((VLOOKUP(E2321,Param!$A$7:$E$13,4,0)*Fonct_Empl!F2321*((Fonct_Empl!G2321/12)))+(VLOOKUP(E2321,Param!$A$7:$E$13,5,0)*Fonct_Empl!H2321),2),\"\")","v":""}]
[null,null,null,null,null,null,null,null,{"$f":"IF(E2322<>\"\",ROUND((VLOOKUP(E2322,Param!$A$7:$E$13,4,0)*Fonct_Empl!F2322*((Fonct_Empl!G2322/12)))+(VLOOKUP(E2322,Param!$A$7:$E$13,5,0)*Fonct_Empl!H2322),2),\"\")","v":""}]
[null,null,null,null,null,null,null,null,{"$f":"IF(E2323<>\"\",ROUND((VLOOKUP(E2323,Param!$A$7:$E$13,4,0)*Fonct_Empl!F2323*((Fonct_Empl!G2323/12)))+(VLOOKUP(E2323,Param!$A$7:$E$13,5,0)*Fonct_Empl!H2323),2),\"\")","v":""}]
[null,null,null,null,null,null,null,null,{"$f":"IF(E2324<>\"\",ROUND((VLOOKUP(E2324,Param!$A$7:$E$13,4,0)*Fonct_Empl!F2324*((Fonct_Empl!G2324/12)))+(VLOOKUP(E2324,Param!$A$7:$E$13,5,0)*Fonct_Empl!H2324),2),\"\")","v":""}]
[null,null,null,null,null,null,null,null,{"$f":"IF(E2325<>\"\",ROUND((VLOOKUP(E2325,Param!$A$7:$E$13,4,0)*Fonct_Empl!F2325*((Fonct_Empl!G2325/12)))+(VLOOKUP(E2325,Param!$A$7:$E$13,5,0)*Fonct_Empl!H2325),2),\"\")","v":""}]
[null,null,null,null,null,null,null,null,{"$f":"IF(E2326<>\"\",ROUND((VLOOKUP(E2326,Param!$A$7:$E$13,4,0)*Fonct_Empl!F2326*((Fonct_Empl!G2326/12)))+(VLOOKUP(E2326,Param!$A$7:$E$13,5,0)*Fonct_Empl!H2326),2),\"\")","v":""}]
[null,null,null,null,null,null,null,null,{"$f":"IF(E2327<>\"\",ROUND((VLOOKUP(E2327,Param!$A$7:$E$13,4,0)*Fonct_Empl!F2327*((Fonct_Empl!G2327/12)))+(VLOOKUP(E2327,Param!$A$7:$E$13,5,0)*Fonct_Empl!H2327),2),\"\")","v":""}]
[null,null,null,null,null,null,null,null,{"$f":"IF(E2328<>\"\",ROUND((VLOOKUP(E2328,Param!$A$7:$E$13,4,0)*Fonct_Empl!F2328*((Fonct_Empl!G2328/12)))+(VLOOKUP(E2328,Param!$A$7:$E$13,5,0)*Fonct_Empl!H2328),2),\"\")","v":""}]
[null,null,null,null,null,null,null,null,{"$f":"IF(E2329<>\"\",ROUND((VLOOKUP(E2329,Param!$A$7:$E$13,4,0)*Fonct_Empl!F2329*((Fonct_Empl!G2329/12)))+(VLOOKUP(E2329,Param!$A$7:$E$13,5,0)*Fonct_Empl!H2329),2),\"\")","v":""}]
[null,null,null,null,null,null,null,null,{"$f":"IF(E2330<>\"\",ROUND((VLOOKUP(E2330,Param!$A$7:$E$13,4,0)*Fonct_Empl!F2330*((Fonct_Empl!G2330/12)))+(VLOOKUP(E2330,Param!$A$7:$E$13,5,0)*Fonct_Empl!H2330),2),\"\")","v":""}]
[null,null,null,null,null,null,null,null,{"$f":"IF(E2331<>\"\",ROUND((VLOOKUP(E2331,Param!$A$7:$E$13,4,0)*Fonct_Empl!F2331*((Fonct_Empl!G2331/12)))+(VLOOKUP(E2331,Param!$A$7:$E$13,5,0)*Fonct_Empl!H2331),2),\"\")","v":""}]
[null,null,null,null,null,null,null,null,{"$f":"IF(E2332<>\"\",ROUND((VLOOKUP(E2332,Param!$A$7:$E$13,4,0)*Fonct_Empl!F2332*((Fonct_Empl!G2332/12)))+(VLOOKUP(E2332,Param!$A$7:$E$13,5,0)*Fonct_Empl!H2332),2),\"\")","v":""}]
[null,null,null,null,null,null,null,null,{"$f":"IF(E2333<>\"\",ROUND((VLOOKUP(E2333,Param!$A$7:$E$13,4,0)*Fonct_Empl!F2333*((Fonct_Empl!G2333/12)))+(VLOOKUP(E2333,Param!$A$7:$E$13,5,0)*Fonct_Empl!H2333),2),\"\")","v":""}]
[null,null,null,null,null,null,null,null,{"$f":"IF(E2334<>\"\",ROUND((VLOOKUP(E2334,Param!$A$7:$E$13,4,0)*Fonct_Empl!F2334*((Fonct_Empl!G2334/12)))+(VLOOKUP(E2334,Param!$A$7:$E$13,5,0)*Fonct_Empl!H2334),2),\"\")","v":""}]
[null,null,null,null,null,null,null,null,{"$f":"IF(E2335<>\"\",ROUND((VLOOKUP(E2335,Param!$A$7:$E$13,4,0)*Fonct_Empl!F2335*((Fonct_Empl!G2335/12)))+(VLOOKUP(E2335,Param!$A$7:$E$13,5,0)*Fonct_Empl!H2335),2),\"\")","v":""}]
[null,null,null,null,null,null,null,null,{"$f":"IF(E2336<>\"\",ROUND((VLOOKUP(E2336,Param!$A$7:$E$13,4,0)*Fonct_Empl!F2336*((Fonct_Empl!G2336/12)))+(VLOOKUP(E2336,Param!$A$7:$E$13,5,0)*Fonct_Empl!H2336),2),\"\")","v":""}]
[null,null,null,null,null,null,null,null,{"$f":"IF(E2337<>\"\",ROUND((VLOOKUP(E2337,Param!$A$7:$E$13,4,0)*Fonct_Empl!F2337*((Fonct_Empl!G2337/12)))+(VLOOKUP(E2337,Param!$A$7:$E$13,5,0)*Fonct_Empl!H2337),2),\"\")","v":""}]
[null,null,null,null,null,null,null,null,{"$f":"IF(E2338<>\"\",ROUND((VLOOKUP(E2338,Param!$A$7:$E$13,4,0)*Fonct_Empl!F2338*((Fonct_Empl!G2338/12)))+(VLOOKUP(E2338,Param!$A$7:$E$13,5,0)*Fonct_Empl!H2338),2),\"\")","v":""}]
[null,null,null,null,null,null,null,null,{"$f":"IF(E2339<>\"\",ROUND((VLOOKUP(E2339,Param!$A$7:$E$13,4,0)*Fonct_Empl!F2339*((Fonct_Empl!G2339/12)))+(VLOOKUP(E2339,Param!$A$7:$E$13,5,0)*Fonct_Empl!H2339),2),\"\")","v":""}]
[null,null,null,null,null,null,null,null,{"$f":"IF(E2340<>\"\",ROUND((VLOOKUP(E2340,Param!$A$7:$E$13,4,0)*Fonct_Empl!F2340*((Fonct_Empl!G2340/12)))+(VLOOKUP(E2340,Param!$A$7:$E$13,5,0)*Fonct_Empl!H2340),2),\"\")","v":""}]
[null,null,null,null,null,null,null,null,{"$f":"IF(E2341<>\"\",ROUND((VLOOKUP(E2341,Param!$A$7:$E$13,4,0)*Fonct_Empl!F2341*((Fonct_Empl!G2341/12)))+(VLOOKUP(E2341,Param!$A$7:$E$13,5,0)*Fonct_Empl!H2341),2),\"\")","v":""}]
[null,null,null,null,null,null,null,null,{"$f":"IF(E2342<>\"\",ROUND((VLOOKUP(E2342,Param!$A$7:$E$13,4,0)*Fonct_Empl!F2342*((Fonct_Empl!G2342/12)))+(VLOOKUP(E2342,Param!$A$7:$E$13,5,0)*Fonct_Empl!H2342),2),\"\")","v":""}]
[null,null,null,null,null,null,null,null,{"$f":"IF(E2343<>\"\",ROUND((VLOOKUP(E2343,Param!$A$7:$E$13,4,0)*Fonct_Empl!F2343*((Fonct_Empl!G2343/12)))+(VLOOKUP(E2343,Param!$A$7:$E$13,5,0)*Fonct_Empl!H2343),2),\"\")","v":""}]
[null,null,null,null,null,null,null,null,{"$f":"IF(E2344<>\"\",ROUND((VLOOKUP(E2344,Param!$A$7:$E$13,4,0)*Fonct_Empl!F2344*((Fonct_Empl!G2344/12)))+(VLOOKUP(E2344,Param!$A$7:$E$13,5,0)*Fonct_Empl!H2344),2),\"\")","v":""}]
[null,null,null,null,null,null,null,null,{"$f":"IF(E2345<>\"\",ROUND((VLOOKUP(E2345,Param!$A$7:$E$13,4,0)*Fonct_Empl!F2345*((Fonct_Empl!G2345/12)))+(VLOOKUP(E2345,Param!$A$7:$E$13,5,0)*Fonct_Empl!H2345),2),\"\")","v":""}]
[null,null,null,null,null,null,null,null,{"$f":"IF(E2346<>\"\",ROUND((VLOOKUP(E2346,Param!$A$7:$E$13,4,0)*Fonct_Empl!F2346*((Fonct_Empl!G2346/12)))+(VLOOKUP(E2346,Param!$A$7:$E$13,5,0)*Fonct_Empl!H2346),2),\"\")","v":""}]
[null,null,null,null,null,null,null,null,{"$f":"IF(E2347<>\"\",ROUND((VLOOKUP(E2347,Param!$A$7:$E$13,4,0)*Fonct_Empl!F2347*((Fonct_Empl!G2347/12)))+(VLOOKUP(E2347,Param!$A$7:$E$13,5,0)*Fonct_Empl!H2347),2),\"\")","v":""}]
[null,null,null,null,null,null,null,null,{"$f":"IF(E2348<>\"\",ROUND((VLOOKUP(E2348,Param!$A$7:$E$13,4,0)*Fonct_Empl!F2348*((Fonct_Empl!G2348/12)))+(VLOOKUP(E2348,Param!$A$7:$E$13,5,0)*Fonct_Empl!H2348),2),\"\")","v":""}]
[null,null,null,null,null,null,null,null,{"$f":"IF(E2349<>\"\",ROUND((VLOOKUP(E2349,Param!$A$7:$E$13,4,0)*Fonct_Empl!F2349*((Fonct_Empl!G2349/12)))+(VLOOKUP(E2349,Param!$A$7:$E$13,5,0)*Fonct_Empl!H2349),2),\"\")","v":""}]
[null,null,null,null,null,null,null,null,{"$f":"IF(E2350<>\"\",ROUND((VLOOKUP(E2350,Param!$A$7:$E$13,4,0)*Fonct_Empl!F2350*((Fonct_Empl!G2350/12)))+(VLOOKUP(E2350,Param!$A$7:$E$13,5,0)*Fonct_Empl!H2350),2),\"\")","v":""}]
[null,null,null,null,null,null,null,null,{"$f":"IF(E2351<>\"\",ROUND((VLOOKUP(E2351,Param!$A$7:$E$13,4,0)*Fonct_Empl!F2351*((Fonct_Empl!G2351/12)))+(VLOOKUP(E2351,Param!$A$7:$E$13,5,0)*Fonct_Empl!H2351),2),\"\")","v":""}]
[null,null,null,null,null,null,null,null,{"$f":"IF(E2352<>\"\",ROUND((VLOOKUP(E2352,Param!$A$7:$E$13,4,0)*Fonct_Empl!F2352*((Fonct_Empl!G2352/12)))+(VLOOKUP(E2352,Param!$A$7:$E$13,5,0)*Fonct_Empl!H2352),2),\"\")","v":""}]
[null,null,null,null,null,null,null,null,{"$f":"IF(E2353<>\"\",ROUND((VLOOKUP(E2353,Param!$A$7:$E$13,4,0)*Fonct_Empl!F2353*((Fonct_Empl!G2353/12)))+(VLOOKUP(E2353,Param!$A$7:$E$13,5,0)*Fonct_Empl!H2353),2),\"\")","v":""}]
[null,null,null,null,null,null,null,null,{"$f":"IF(E2354<>\"\",ROUND((VLOOKUP(E2354,Param!$A$7:$E$13,4,0)*Fonct_Empl!F2354*((Fonct_Empl!G2354/12)))+(VLOOKUP(E2354,Param!$A$7:$E$13,5,0)*Fonct_Empl!H2354),2),\"\")","v":""}]
[null,null,null,null,null,null,null,null,{"$f":"IF(E2355<>\"\",ROUND((VLOOKUP(E2355,Param!$A$7:$E$13,4,0)*Fonct_Empl!F2355*((Fonct_Empl!G2355/12)))+(VLOOKUP(E2355,Param!$A$7:$E$13,5,0)*Fonct_Empl!H2355),2),\"\")","v":""}]
[null,null,null,null,null,null,null,null,{"$f":"IF(E2356<>\"\",ROUND((VLOOKUP(E2356,Param!$A$7:$E$13,4,0)*Fonct_Empl!F2356*((Fonct_Empl!G2356/12)))+(VLOOKUP(E2356,Param!$A$7:$E$13,5,0)*Fonct_Empl!H2356),2),\"\")","v":""}]
[null,null,null,null,null,null,null,null,{"$f":"IF(E2357<>\"\",ROUND((VLOOKUP(E2357,Param!$A$7:$E$13,4,0)*Fonct_Empl!F2357*((Fonct_Empl!G2357/12)))+(VLOOKUP(E2357,Param!$A$7:$E$13,5,0)*Fonct_Empl!H2357),2),\"\")","v":""}]
[null,null,null,null,null,null,null,null,{"$f":"IF(E2358<>\"\",ROUND((VLOOKUP(E2358,Param!$A$7:$E$13,4,0)*Fonct_Empl!F2358*((Fonct_Empl!G2358/12)))+(VLOOKUP(E2358,Param!$A$7:$E$13,5,0)*Fonct_Empl!H2358),2),\"\")","v":""}]
[null,null,null,null,null,null,null,null,{"$f":"IF(E2359<>\"\",ROUND((VLOOKUP(E2359,Param!$A$7:$E$13,4,0)*Fonct_Empl!F2359*((Fonct_Empl!G2359/12)))+(VLOOKUP(E2359,Param!$A$7:$E$13,5,0)*Fonct_Empl!H2359),2),\"\")","v":""}]
[null,null,null,null,null,null,null,null,{"$f":"IF(E2360<>\"\",ROUND((VLOOKUP(E2360,Param!$A$7:$E$13,4,0)*Fonct_Empl!F2360*((Fonct_Empl!G2360/12)))+(VLOOKUP(E2360,Param!$A$7:$E$13,5,0)*Fonct_Empl!H2360),2),\"\")","v":""}]
[null,null,null,null,null,null,null,null,{"$f":"IF(E2361<>\"\",ROUND((VLOOKUP(E2361,Param!$A$7:$E$13,4,0)*Fonct_Empl!F2361*((Fonct_Empl!G2361/12)))+(VLOOKUP(E2361,Param!$A$7:$E$13,5,0)*Fonct_Empl!H2361),2),\"\")","v":""}]
[null,null,null,null,null,null,null,null,{"$f":"IF(E2362<>\"\",ROUND((VLOOKUP(E2362,Param!$A$7:$E$13,4,0)*Fonct_Empl!F2362*((Fonct_Empl!G2362/12)))+(VLOOKUP(E2362,Param!$A$7:$E$13,5,0)*Fonct_Empl!H2362),2),\"\")","v":""}]
[null,null,null,null,null,null,null,null,{"$f":"IF(E2363<>\"\",ROUND((VLOOKUP(E2363,Param!$A$7:$E$13,4,0)*Fonct_Empl!F2363*((Fonct_Empl!G2363/12)))+(VLOOKUP(E2363,Param!$A$7:$E$13,5,0)*Fonct_Empl!H2363),2),\"\")","v":""}]
[null,null,null,null,null,null,null,null,{"$f":"IF(E2364<>\"\",ROUND((VLOOKUP(E2364,Param!$A$7:$E$13,4,0)*Fonct_Empl!F2364*((Fonct_Empl!G2364/12)))+(VLOOKUP(E2364,Param!$A$7:$E$13,5,0)*Fonct_Empl!H2364),2),\"\")","v":""}]
[null,null,null,null,null,null,null,null,{"$f":"IF(E2365<>\"\",ROUND((VLOOKUP(E2365,Param!$A$7:$E$13,4,0)*Fonct_Empl!F2365*((Fonct_Empl!G2365/12)))+(VLOOKUP(E2365,Param!$A$7:$E$13,5,0)*Fonct_Empl!H2365),2),\"\")","v":""}]
[null,null,null,null,null,null,null,null,{"$f":"IF(E2366<>\"\",ROUND((VLOOKUP(E2366,Param!$A$7:$E$13,4,0)*Fonct_Empl!F2366*((Fonct_Empl!G2366/12)))+(VLOOKUP(E2366,Param!$A$7:$E$13,5,0)*Fonct_Empl!H2366),2),\"\")","v":""}]
[null,null,null,null,null,null,null,null,{"$f":"IF(E2367<>\"\",ROUND((VLOOKUP(E2367,Param!$A$7:$E$13,4,0)*Fonct_Empl!F2367*((Fonct_Empl!G2367/12)))+(VLOOKUP(E2367,Param!$A$7:$E$13,5,0)*Fonct_Empl!H2367),2),\"\")","v":""}]
[null,null,null,null,null,null,null,null,{"$f":"IF(E2368<>\"\",ROUND((VLOOKUP(E2368,Param!$A$7:$E$13,4,0)*Fonct_Empl!F2368*((Fonct_Empl!G2368/12)))+(VLOOKUP(E2368,Param!$A$7:$E$13,5,0)*Fonct_Empl!H2368),2),\"\")","v":""}]
[null,null,null,null,null,null,null,null,{"$f":"IF(E2369<>\"\",ROUND((VLOOKUP(E2369,Param!$A$7:$E$13,4,0)*Fonct_Empl!F2369*((Fonct_Empl!G2369/12)))+(VLOOKUP(E2369,Param!$A$7:$E$13,5,0)*Fonct_Empl!H2369),2),\"\")","v":""}]
[null,null,null,null,null,null,null,null,{"$f":"IF(E2370<>\"\",ROUND((VLOOKUP(E2370,Param!$A$7:$E$13,4,0)*Fonct_Empl!F2370*((Fonct_Empl!G2370/12)))+(VLOOKUP(E2370,Param!$A$7:$E$13,5,0)*Fonct_Empl!H2370),2),\"\")","v":""}]
[null,null,null,null,null,null,null,null,{"$f":"IF(E2371<>\"\",ROUND((VLOOKUP(E2371,Param!$A$7:$E$13,4,0)*Fonct_Empl!F2371*((Fonct_Empl!G2371/12)))+(VLOOKUP(E2371,Param!$A$7:$E$13,5,0)*Fonct_Empl!H2371),2),\"\")","v":""}]
[null,null,null,null,null,null,null,null,{"$f":"IF(E2372<>\"\",ROUND((VLOOKUP(E2372,Param!$A$7:$E$13,4,0)*Fonct_Empl!F2372*((Fonct_Empl!G2372/12)))+(VLOOKUP(E2372,Param!$A$7:$E$13,5,0)*Fonct_Empl!H2372),2),\"\")","v":""}]
[null,null,null,null,null,null,null,null,{"$f":"IF(E2373<>\"\",ROUND((VLOOKUP(E2373,Param!$A$7:$E$13,4,0)*Fonct_Empl!F2373*((Fonct_Empl!G2373/12)))+(VLOOKUP(E2373,Param!$A$7:$E$13,5,0)*Fonct_Empl!H2373),2),\"\")","v":""}]
[null,null,null,null,null,null,null,null,{"$f":"IF(E2374<>\"\",ROUND((VLOOKUP(E2374,Param!$A$7:$E$13,4,0)*Fonct_Empl!F2374*((Fonct_Empl!G2374/12)))+(VLOOKUP(E2374,Param!$A$7:$E$13,5,0)*Fonct_Empl!H2374),2),\"\")","v":""}]
[null,null,null,null,null,null,null,null,{"$f":"IF(E2375<>\"\",ROUND((VLOOKUP(E2375,Param!$A$7:$E$13,4,0)*Fonct_Empl!F2375*((Fonct_Empl!G2375/12)))+(VLOOKUP(E2375,Param!$A$7:$E$13,5,0)*Fonct_Empl!H2375),2),\"\")","v":""}]
[null,null,null,null,null,null,null,null,{"$f":"IF(E2376<>\"\",ROUND((VLOOKUP(E2376,Param!$A$7:$E$13,4,0)*Fonct_Empl!F2376*((Fonct_Empl!G2376/12)))+(VLOOKUP(E2376,Param!$A$7:$E$13,5,0)*Fonct_Empl!H2376),2),\"\")","v":""}]
[null,null,null,null,null,null,null,null,{"$f":"IF(E2377<>\"\",ROUND((VLOOKUP(E2377,Param!$A$7:$E$13,4,0)*Fonct_Empl!F2377*((Fonct_Empl!G2377/12)))+(VLOOKUP(E2377,Param!$A$7:$E$13,5,0)*Fonct_Empl!H2377),2),\"\")","v":""}]
[null,null,null,null,null,null,null,null,{"$f":"IF(E2378<>\"\",ROUND((VLOOKUP(E2378,Param!$A$7:$E$13,4,0)*Fonct_Empl!F2378*((Fonct_Empl!G2378/12)))+(VLOOKUP(E2378,Param!$A$7:$E$13,5,0)*Fonct_Empl!H2378),2),\"\")","v":""}]
[null,null,null,null,null,null,null,null,{"$f":"IF(E2379<>\"\",ROUND((VLOOKUP(E2379,Param!$A$7:$E$13,4,0)*Fonct_Empl!F2379*((Fonct_Empl!G2379/12)))+(VLOOKUP(E2379,Param!$A$7:$E$13,5,0)*Fonct_Empl!H2379),2),\"\")","v":""}]
[null,null,null,null,null,null,null,null,{"$f":"IF(E2380<>\"\",ROUND((VLOOKUP(E2380,Param!$A$7:$E$13,4,0)*Fonct_Empl!F2380*((Fonct_Empl!G2380/12)))+(VLOOKUP(E2380,Param!$A$7:$E$13,5,0)*Fonct_Empl!H2380),2),\"\")","v":""}]
[null,null,null,null,null,null,null,null,{"$f":"IF(E2381<>\"\",ROUND((VLOOKUP(E2381,Param!$A$7:$E$13,4,0)*Fonct_Empl!F2381*((Fonct_Empl!G2381/12)))+(VLOOKUP(E2381,Param!$A$7:$E$13,5,0)*Fonct_Empl!H2381),2),\"\")","v":""}]
[null,null,null,null,null,null,null,null,{"$f":"IF(E2382<>\"\",ROUND((VLOOKUP(E2382,Param!$A$7:$E$13,4,0)*Fonct_Empl!F2382*((Fonct_Empl!G2382/12)))+(VLOOKUP(E2382,Param!$A$7:$E$13,5,0)*Fonct_Empl!H2382),2),\"\")","v":""}]
[null,null,null,null,null,null,null,null,{"$f":"IF(E2383<>\"\",ROUND((VLOOKUP(E2383,Param!$A$7:$E$13,4,0)*Fonct_Empl!F2383*((Fonct_Empl!G2383/12)))+(VLOOKUP(E2383,Param!$A$7:$E$13,5,0)*Fonct_Empl!H2383),2),\"\")","v":""}]
[null,null,null,null,null,null,null,null,{"$f":"IF(E2384<>\"\",ROUND((VLOOKUP(E2384,Param!$A$7:$E$13,4,0)*Fonct_Empl!F2384*((Fonct_Empl!G2384/12)))+(VLOOKUP(E2384,Param!$A$7:$E$13,5,0)*Fonct_Empl!H2384),2),\"\")","v":""}]
[null,null,null,null,null,null,null,null,{"$f":"IF(E2385<>\"\",ROUND((VLOOKUP(E2385,Param!$A$7:$E$13,4,0)*Fonct_Empl!F2385*((Fonct_Empl!G2385/12)))+(VLOOKUP(E2385,Param!$A$7:$E$13,5,0)*Fonct_Empl!H2385),2),\"\")","v":""}]
[null,null,null,null,null,null,null,null,{"$f":"IF(E2386<>\"\",ROUND((VLOOKUP(E2386,Param!$A$7:$E$13,4,0)*Fonct_Empl!F2386*((Fonct_Empl!G2386/12)))+(VLOOKUP(E2386,Param!$A$7:$E$13,5,0)*Fonct_Empl!H2386),2),\"\")","v":""}]
[null,null,null,null,null,null,null,null,{"$f":"IF(E2387<>\"\",ROUND((VLOOKUP(E2387,Param!$A$7:$E$13,4,0)*Fonct_Empl!F2387*((Fonct_Empl!G2387/12)))+(VLOOKUP(E2387,Param!$A$7:$E$13,5,0)*Fonct_Empl!H2387),2),\"\")","v":""}]
[null,null,null,null,null,null,null,null,{"$f":"IF(E2388<>\"\",ROUND((VLOOKUP(E2388,Param!$A$7:$E$13,4,0)*Fonct_Empl!F2388*((Fonct_Empl!G2388/12)))+(VLOOKUP(E2388,Param!$A$7:$E$13,5,0)*Fonct_Empl!H2388),2),\"\")","v":""}]
[null,null,null,null,null,null,null,null,{"$f":"IF(E2389<>\"\",ROUND((VLOOKUP(E2389,Param!$A$7:$E$13,4,0)*Fonct_Empl!F2389*((Fonct_Empl!G2389/12)))+(VLOOKUP(E2389,Param!$A$7:$E$13,5,0)*Fonct_Empl!H2389),2),\"\")","v":""}]
[null,null,null,null,null,null,null,null,{"$f":"IF(E2390<>\"\",ROUND((VLOOKUP(E2390,Param!$A$7:$E$13,4,0)*Fonct_Empl!F2390*((Fonct_Empl!G2390/12)))+(VLOOKUP(E2390,Param!$A$7:$E$13,5,0)*Fonct_Empl!H2390),2),\"\")","v":""}]
[null,null,null,null,null,null,null,null,{"$f":"IF(E2391<>\"\",ROUND((VLOOKUP(E2391,Param!$A$7:$E$13,4,0)*Fonct_Empl!F2391*((Fonct_Empl!G2391/12)))+(VLOOKUP(E2391,Param!$A$7:$E$13,5,0)*Fonct_Empl!H2391),2),\"\")","v":""}]
[null,null,null,null,null,null,null,null,{"$f":"IF(E2392<>\"\",ROUND((VLOOKUP(E2392,Param!$A$7:$E$13,4,0)*Fonct_Empl!F2392*((Fonct_Empl!G2392/12)))+(VLOOKUP(E2392,Param!$A$7:$E$13,5,0)*Fonct_Empl!H2392),2),\"\")","v":""}]
[null,null,null,null,null,null,null,null,{"$f":"IF(E2393<>\"\",ROUND((VLOOKUP(E2393,Param!$A$7:$E$13,4,0)*Fonct_Empl!F2393*((Fonct_Empl!G2393/12)))+(VLOOKUP(E2393,Param!$A$7:$E$13,5,0)*Fonct_Empl!H2393),2),\"\")","v":""}]
[null,null,null,null,null,null,null,null,{"$f":"IF(E2394<>\"\",ROUND((VLOOKUP(E2394,Param!$A$7:$E$13,4,0)*Fonct_Empl!F2394*((Fonct_Empl!G2394/12)))+(VLOOKUP(E2394,Param!$A$7:$E$13,5,0)*Fonct_Empl!H2394),2),\"\")","v":""}]
[null,null,null,null,null,null,null,null,{"$f":"IF(E2395<>\"\",ROUND((VLOOKUP(E2395,Param!$A$7:$E$13,4,0)*Fonct_Empl!F2395*((Fonct_Empl!G2395/12)))+(VLOOKUP(E2395,Param!$A$7:$E$13,5,0)*Fonct_Empl!H2395),2),\"\")","v":""}]
[null,null,null,null,null,null,null,null,{"$f":"IF(E2396<>\"\",ROUND((VLOOKUP(E2396,Param!$A$7:$E$13,4,0)*Fonct_Empl!F2396*((Fonct_Empl!G2396/12)))+(VLOOKUP(E2396,Param!$A$7:$E$13,5,0)*Fonct_Empl!H2396),2),\"\")","v":""}]
[null,null,null,null,null,null,null,null,{"$f":"IF(E2397<>\"\",ROUND((VLOOKUP(E2397,Param!$A$7:$E$13,4,0)*Fonct_Empl!F2397*((Fonct_Empl!G2397/12)))+(VLOOKUP(E2397,Param!$A$7:$E$13,5,0)*Fonct_Empl!H2397),2),\"\")","v":""}]
[null,null,null,null,null,null,null,null,{"$f":"IF(E2398<>\"\",ROUND((VLOOKUP(E2398,Param!$A$7:$E$13,4,0)*Fonct_Empl!F2398*((Fonct_Empl!G2398/12)))+(VLOOKUP(E2398,Param!$A$7:$E$13,5,0)*Fonct_Empl!H2398),2),\"\")","v":""}]
[null,null,null,null,null,null,null,null,{"$f":"IF(E2399<>\"\",ROUND((VLOOKUP(E2399,Param!$A$7:$E$13,4,0)*Fonct_Empl!F2399*((Fonct_Empl!G2399/12)))+(VLOOKUP(E2399,Param!$A$7:$E$13,5,0)*Fonct_Empl!H2399),2),\"\")","v":""}]
[null,null,null,null,null,null,null,null,{"$f":"IF(E2400<>\"\",ROUND((VLOOKUP(E2400,Param!$A$7:$E$13,4,0)*Fonct_Empl!F2400*((Fonct_Empl!G2400/12)))+(VLOOKUP(E2400,Param!$A$7:$E$13,5,0)*Fonct_Empl!H2400),2),\"\")","v":""}]
[null,null,null,null,null,null,null,null,{"$f":"IF(E2401<>\"\",ROUND((VLOOKUP(E2401,Param!$A$7:$E$13,4,0)*Fonct_Empl!F2401*((Fonct_Empl!G2401/12)))+(VLOOKUP(E2401,Param!$A$7:$E$13,5,0)*Fonct_Empl!H2401),2),\"\")","v":""}]
[null,null,null,null,null,null,null,null,{"$f":"IF(E2402<>\"\",ROUND((VLOOKUP(E2402,Param!$A$7:$E$13,4,0)*Fonct_Empl!F2402*((Fonct_Empl!G2402/12)))+(VLOOKUP(E2402,Param!$A$7:$E$13,5,0)*Fonct_Empl!H2402),2),\"\")","v":""}]
[null,null,null,null,null,null,null,null,{"$f":"IF(E2403<>\"\",ROUND((VLOOKUP(E2403,Param!$A$7:$E$13,4,0)*Fonct_Empl!F2403*((Fonct_Empl!G2403/12)))+(VLOOKUP(E2403,Param!$A$7:$E$13,5,0)*Fonct_Empl!H2403),2),\"\")","v":""}]
[null,null,null,null,null,null,null,null,{"$f":"IF(E2404<>\"\",ROUND((VLOOKUP(E2404,Param!$A$7:$E$13,4,0)*Fonct_Empl!F2404*((Fonct_Empl!G2404/12)))+(VLOOKUP(E2404,Param!$A$7:$E$13,5,0)*Fonct_Empl!H2404),2),\"\")","v":""}]
[null,null,null,null,null,null,null,null,{"$f":"IF(E2405<>\"\",ROUND((VLOOKUP(E2405,Param!$A$7:$E$13,4,0)*Fonct_Empl!F2405*((Fonct_Empl!G2405/12)))+(VLOOKUP(E2405,Param!$A$7:$E$13,5,0)*Fonct_Empl!H2405),2),\"\")","v":""}]
[null,null,null,null,null,null,null,null,{"$f":"IF(E2406<>\"\",ROUND((VLOOKUP(E2406,Param!$A$7:$E$13,4,0)*Fonct_Empl!F2406*((Fonct_Empl!G2406/12)))+(VLOOKUP(E2406,Param!$A$7:$E$13,5,0)*Fonct_Empl!H2406),2),\"\")","v":""}]
[null,null,null,null,null,null,null,null,{"$f":"IF(E2407<>\"\",ROUND((VLOOKUP(E2407,Param!$A$7:$E$13,4,0)*Fonct_Empl!F2407*((Fonct_Empl!G2407/12)))+(VLOOKUP(E2407,Param!$A$7:$E$13,5,0)*Fonct_Empl!H2407),2),\"\")","v":""}]
[null,null,null,null,null,null,null,null,{"$f":"IF(E2408<>\"\",ROUND((VLOOKUP(E2408,Param!$A$7:$E$13,4,0)*Fonct_Empl!F2408*((Fonct_Empl!G2408/12)))+(VLOOKUP(E2408,Param!$A$7:$E$13,5,0)*Fonct_Empl!H2408),2),\"\")","v":""}]
[null,null,null,null,null,null,null,null,{"$f":"IF(E2409<>\"\",ROUND((VLOOKUP(E2409,Param!$A$7:$E$13,4,0)*Fonct_Empl!F2409*((Fonct_Empl!G2409/12)))+(VLOOKUP(E2409,Param!$A$7:$E$13,5,0)*Fonct_Empl!H2409),2),\"\")","v":""}]
[null,null,null,null,null,null,null,null,{"$f":"IF(E2410<>\"\",ROUND((VLOOKUP(E2410,Param!$A$7:$E$13,4,0)*Fonct_Empl!F2410*((Fonct_Empl!G2410/12)))+(VLOOKUP(E2410,Param!$A$7:$E$13,5,0)*Fonct_Empl!H2410),2),\"\")","v":""}]
[null,null,null,null,null,null,null,null,{"$f":"IF(E2411<>\"\",ROUND((VLOOKUP(E2411,Param!$A$7:$E$13,4,0)*Fonct_Empl!F2411*((Fonct_Empl!G2411/12)))+(VLOOKUP(E2411,Param!$A$7:$E$13,5,0)*Fonct_Empl!H2411),2),\"\")","v":""}]
[null,null,null,null,null,null,null,null,{"$f":"IF(E2412<>\"\",ROUND((VLOOKUP(E2412,Param!$A$7:$E$13,4,0)*Fonct_Empl!F2412*((Fonct_Empl!G2412/12)))+(VLOOKUP(E2412,Param!$A$7:$E$13,5,0)*Fonct_Empl!H2412),2),\"\")","v":""}]
[null,null,null,null,null,null,null,null,{"$f":"IF(E2413<>\"\",ROUND((VLOOKUP(E2413,Param!$A$7:$E$13,4,0)*Fonct_Empl!F2413*((Fonct_Empl!G2413/12)))+(VLOOKUP(E2413,Param!$A$7:$E$13,5,0)*Fonct_Empl!H2413),2),\"\")","v":""}]
[null,null,null,null,null,null,null,null,{"$f":"IF(E2414<>\"\",ROUND((VLOOKUP(E2414,Param!$A$7:$E$13,4,0)*Fonct_Empl!F2414*((Fonct_Empl!G2414/12)))+(VLOOKUP(E2414,Param!$A$7:$E$13,5,0)*Fonct_Empl!H2414),2),\"\")","v":""}]
[null,null,null,null,null,null,null,null,{"$f":"IF(E2415<>\"\",ROUND((VLOOKUP(E2415,Param!$A$7:$E$13,4,0)*Fonct_Empl!F2415*((Fonct_Empl!G2415/12)))+(VLOOKUP(E2415,Param!$A$7:$E$13,5,0)*Fonct_Empl!H2415),2),\"\")","v":""}]
[null,null,null,null,null,null,null,null,{"$f":"IF(E2416<>\"\",ROUND((VLOOKUP(E2416,Param!$A$7:$E$13,4,0)*Fonct_Empl!F2416*((Fonct_Empl!G2416/12)))+(VLOOKUP(E2416,Param!$A$7:$E$13,5,0)*Fonct_Empl!H2416),2),\"\")","v":""}]
[null,null,null,null,null,null,null,null,{"$f":"IF(E2417<>\"\",ROUND((VLOOKUP(E2417,Param!$A$7:$E$13,4,0)*Fonct_Empl!F2417*((Fonct_Empl!G2417/12)))+(VLOOKUP(E2417,Param!$A$7:$E$13,5,0)*Fonct_Empl!H2417),2),\"\")","v":""}]
[null,null,null,null,null,null,null,null,{"$f":"IF(E2418<>\"\",ROUND((VLOOKUP(E2418,Param!$A$7:$E$13,4,0)*Fonct_Empl!F2418*((Fonct_Empl!G2418/12)))+(VLOOKUP(E2418,Param!$A$7:$E$13,5,0)*Fonct_Empl!H2418),2),\"\")","v":""}]
[null,null,null,null,null,null,null,null,{"$f":"IF(E2419<>\"\",ROUND((VLOOKUP(E2419,Param!$A$7:$E$13,4,0)*Fonct_Empl!F2419*((Fonct_Empl!G2419/12)))+(VLOOKUP(E2419,Param!$A$7:$E$13,5,0)*Fonct_Empl!H2419),2),\"\")","v":""}]
[null,null,null,null,null,null,null,null,{"$f":"IF(E2420<>\"\",ROUND((VLOOKUP(E2420,Param!$A$7:$E$13,4,0)*Fonct_Empl!F2420*((Fonct_Empl!G2420/12)))+(VLOOKUP(E2420,Param!$A$7:$E$13,5,0)*Fonct_Empl!H2420),2),\"\")","v":""}]
[null,null,null,null,null,null,null,null,{"$f":"IF(E2421<>\"\",ROUND((VLOOKUP(E2421,Param!$A$7:$E$13,4,0)*Fonct_Empl!F2421*((Fonct_Empl!G2421/12)))+(VLOOKUP(E2421,Param!$A$7:$E$13,5,0)*Fonct_Empl!H2421),2),\"\")","v":""}]
[null,null,null,null,null,null,null,null,{"$f":"IF(E2422<>\"\",ROUND((VLOOKUP(E2422,Param!$A$7:$E$13,4,0)*Fonct_Empl!F2422*((Fonct_Empl!G2422/12)))+(VLOOKUP(E2422,Param!$A$7:$E$13,5,0)*Fonct_Empl!H2422),2),\"\")","v":""}]
[null,null,null,null,null,null,null,null,{"$f":"IF(E2423<>\"\",ROUND((VLOOKUP(E2423,Param!$A$7:$E$13,4,0)*Fonct_Empl!F2423*((Fonct_Empl!G2423/12)))+(VLOOKUP(E2423,Param!$A$7:$E$13,5,0)*Fonct_Empl!H2423),2),\"\")","v":""}]
[null,null,null,null,null,null,null,null,{"$f":"IF(E2424<>\"\",ROUND((VLOOKUP(E2424,Param!$A$7:$E$13,4,0)*Fonct_Empl!F2424*((Fonct_Empl!G2424/12)))+(VLOOKUP(E2424,Param!$A$7:$E$13,5,0)*Fonct_Empl!H2424),2),\"\")","v":""}]
[null,null,null,null,null,null,null,null,{"$f":"IF(E2425<>\"\",ROUND((VLOOKUP(E2425,Param!$A$7:$E$13,4,0)*Fonct_Empl!F2425*((Fonct_Empl!G2425/12)))+(VLOOKUP(E2425,Param!$A$7:$E$13,5,0)*Fonct_Empl!H2425),2),\"\")","v":""}]
[null,null,null,null,null,null,null,null,{"$f":"IF(E2426<>\"\",ROUND((VLOOKUP(E2426,Param!$A$7:$E$13,4,0)*Fonct_Empl!F2426*((Fonct_Empl!G2426/12)))+(VLOOKUP(E2426,Param!$A$7:$E$13,5,0)*Fonct_Empl!H2426),2),\"\")","v":""}]
[null,null,null,null,null,null,null,null,{"$f":"IF(E2427<>\"\",ROUND((VLOOKUP(E2427,Param!$A$7:$E$13,4,0)*Fonct_Empl!F2427*((Fonct_Empl!G2427/12)))+(VLOOKUP(E2427,Param!$A$7:$E$13,5,0)*Fonct_Empl!H2427),2),\"\")","v":""}]
[null,null,null,null,null,null,null,null,{"$f":"IF(E2428<>\"\",ROUND((VLOOKUP(E2428,Param!$A$7:$E$13,4,0)*Fonct_Empl!F2428*((Fonct_Empl!G2428/12)))+(VLOOKUP(E2428,Param!$A$7:$E$13,5,0)*Fonct_Empl!H2428),2),\"\")","v":""}]
[null,null,null,null,null,null,null,null,{"$f":"IF(E2429<>\"\",ROUND((VLOOKUP(E2429,Param!$A$7:$E$13,4,0)*Fonct_Empl!F2429*((Fonct_Empl!G2429/12)))+(VLOOKUP(E2429,Param!$A$7:$E$13,5,0)*Fonct_Empl!H2429),2),\"\")","v":""}]
[null,null,null,null,null,null,null,null,{"$f":"IF(E2430<>\"\",ROUND((VLOOKUP(E2430,Param!$A$7:$E$13,4,0)*Fonct_Empl!F2430*((Fonct_Empl!G2430/12)))+(VLOOKUP(E2430,Param!$A$7:$E$13,5,0)*Fonct_Empl!H2430),2),\"\")","v":""}]
[null,null,null,null,null,null,null,null,{"$f":"IF(E2431<>\"\",ROUND((VLOOKUP(E2431,Param!$A$7:$E$13,4,0)*Fonct_Empl!F2431*((Fonct_Empl!G2431/12)))+(VLOOKUP(E2431,Param!$A$7:$E$13,5,0)*Fonct_Empl!H2431),2),\"\")","v":""}]
[null,null,null,null,null,null,null,null,{"$f":"IF(E2432<>\"\",ROUND((VLOOKUP(E2432,Param!$A$7:$E$13,4,0)*Fonct_Empl!F2432*((Fonct_Empl!G2432/12)))+(VLOOKUP(E2432,Param!$A$7:$E$13,5,0)*Fonct_Empl!H2432),2),\"\")","v":""}]
[null,null,null,null,null,null,null,null,{"$f":"IF(E2433<>\"\",ROUND((VLOOKUP(E2433,Param!$A$7:$E$13,4,0)*Fonct_Empl!F2433*((Fonct_Empl!G2433/12)))+(VLOOKUP(E2433,Param!$A$7:$E$13,5,0)*Fonct_Empl!H2433),2),\"\")","v":""}]
[null,null,null,null,null,null,null,null,{"$f":"IF(E2434<>\"\",ROUND((VLOOKUP(E2434,Param!$A$7:$E$13,4,0)*Fonct_Empl!F2434*((Fonct_Empl!G2434/12)))+(VLOOKUP(E2434,Param!$A$7:$E$13,5,0)*Fonct_Empl!H2434),2),\"\")","v":""}]
[null,null,null,null,null,null,null,null,{"$f":"IF(E2435<>\"\",ROUND((VLOOKUP(E2435,Param!$A$7:$E$13,4,0)*Fonct_Empl!F2435*((Fonct_Empl!G2435/12)))+(VLOOKUP(E2435,Param!$A$7:$E$13,5,0)*Fonct_Empl!H2435),2),\"\")","v":""}]
[null,null,null,null,null,null,null,null,{"$f":"IF(E2436<>\"\",ROUND((VLOOKUP(E2436,Param!$A$7:$E$13,4,0)*Fonct_Empl!F2436*((Fonct_Empl!G2436/12)))+(VLOOKUP(E2436,Param!$A$7:$E$13,5,0)*Fonct_Empl!H2436),2),\"\")","v":""}]
[null,null,null,null,null,null,null,null,{"$f":"IF(E2437<>\"\",ROUND((VLOOKUP(E2437,Param!$A$7:$E$13,4,0)*Fonct_Empl!F2437*((Fonct_Empl!G2437/12)))+(VLOOKUP(E2437,Param!$A$7:$E$13,5,0)*Fonct_Empl!H2437),2),\"\")","v":""}]
[null,null,null,null,null,null,null,null,{"$f":"IF(E2438<>\"\",ROUND((VLOOKUP(E2438,Param!$A$7:$E$13,4,0)*Fonct_Empl!F2438*((Fonct_Empl!G2438/12)))+(VLOOKUP(E2438,Param!$A$7:$E$13,5,0)*Fonct_Empl!H2438),2),\"\")","v":""}]
[null,null,null,null,null,null,null,null,{"$f":"IF(E2439<>\"\",ROUND((VLOOKUP(E2439,Param!$A$7:$E$13,4,0)*Fonct_Empl!F2439*((Fonct_Empl!G2439/12)))+(VLOOKUP(E2439,Param!$A$7:$E$13,5,0)*Fonct_Empl!H2439),2),\"\")","v":""}]
[null,null,null,null,null,null,null,null,{"$f":"IF(E2440<>\"\",ROUND((VLOOKUP(E2440,Param!$A$7:$E$13,4,0)*Fonct_Empl!F2440*((Fonct_Empl!G2440/12)))+(VLOOKUP(E2440,Param!$A$7:$E$13,5,0)*Fonct_Empl!H2440),2),\"\")","v":""}]
[null,null,null,null,null,null,null,null,{"$f":"IF(E2441<>\"\",ROUND((VLOOKUP(E2441,Param!$A$7:$E$13,4,0)*Fonct_Empl!F2441*((Fonct_Empl!G2441/12)))+(VLOOKUP(E2441,Param!$A$7:$E$13,5,0)*Fonct_Empl!H2441),2),\"\")","v":""}]
[null,null,null,null,null,null,null,null,{"$f":"IF(E2442<>\"\",ROUND((VLOOKUP(E2442,Param!$A$7:$E$13,4,0)*Fonct_Empl!F2442*((Fonct_Empl!G2442/12)))+(VLOOKUP(E2442,Param!$A$7:$E$13,5,0)*Fonct_Empl!H2442),2),\"\")","v":""}]
[null,null,null,null,null,null,null,null,{"$f":"IF(E2443<>\"\",ROUND((VLOOKUP(E2443,Param!$A$7:$E$13,4,0)*Fonct_Empl!F2443*((Fonct_Empl!G2443/12)))+(VLOOKUP(E2443,Param!$A$7:$E$13,5,0)*Fonct_Empl!H2443),2),\"\")","v":""}]
[null,null,null,null,null,null,null,null,{"$f":"IF(E2444<>\"\",ROUND((VLOOKUP(E2444,Param!$A$7:$E$13,4,0)*Fonct_Empl!F2444*((Fonct_Empl!G2444/12)))+(VLOOKUP(E2444,Param!$A$7:$E$13,5,0)*Fonct_Empl!H2444),2),\"\")","v":""}]
[null,null,null,null,null,null,null,null,{"$f":"IF(E2445<>\"\",ROUND((VLOOKUP(E2445,Param!$A$7:$E$13,4,0)*Fonct_Empl!F2445*((Fonct_Empl!G2445/12)))+(VLOOKUP(E2445,Param!$A$7:$E$13,5,0)*Fonct_Empl!H2445),2),\"\")","v":""}]
[null,null,null,null,null,null,null,null,{"$f":"IF(E2446<>\"\",ROUND((VLOOKUP(E2446,Param!$A$7:$E$13,4,0)*Fonct_Empl!F2446*((Fonct_Empl!G2446/12)))+(VLOOKUP(E2446,Param!$A$7:$E$13,5,0)*Fonct_Empl!H2446),2),\"\")","v":""}]
[null,null,null,null,null,null,null,null,{"$f":"IF(E2447<>\"\",ROUND((VLOOKUP(E2447,Param!$A$7:$E$13,4,0)*Fonct_Empl!F2447*((Fonct_Empl!G2447/12)))+(VLOOKUP(E2447,Param!$A$7:$E$13,5,0)*Fonct_Empl!H2447),2),\"\")","v":""}]
[null,null,null,null,null,null,null,null,{"$f":"IF(E2448<>\"\",ROUND((VLOOKUP(E2448,Param!$A$7:$E$13,4,0)*Fonct_Empl!F2448*((Fonct_Empl!G2448/12)))+(VLOOKUP(E2448,Param!$A$7:$E$13,5,0)*Fonct_Empl!H2448),2),\"\")","v":""}]
[null,null,null,null,null,null,null,null,{"$f":"IF(E2449<>\"\",ROUND((VLOOKUP(E2449,Param!$A$7:$E$13,4,0)*Fonct_Empl!F2449*((Fonct_Empl!G2449/12)))+(VLOOKUP(E2449,Param!$A$7:$E$13,5,0)*Fonct_Empl!H2449),2),\"\")","v":""}]
[null,null,null,null,null,null,null,null,{"$f":"IF(E2450<>\"\",ROUND((VLOOKUP(E2450,Param!$A$7:$E$13,4,0)*Fonct_Empl!F2450*((Fonct_Empl!G2450/12)))+(VLOOKUP(E2450,Param!$A$7:$E$13,5,0)*Fonct_Empl!H2450),2),\"\")","v":""}]
[null,null,null,null,null,null,null,null,{"$f":"IF(E2451<>\"\",ROUND((VLOOKUP(E2451,Param!$A$7:$E$13,4,0)*Fonct_Empl!F2451*((Fonct_Empl!G2451/12)))+(VLOOKUP(E2451,Param!$A$7:$E$13,5,0)*Fonct_Empl!H2451),2),\"\")","v":""}]
[null,null,null,null,null,null,null,null,{"$f":"IF(E2452<>\"\",ROUND((VLOOKUP(E2452,Param!$A$7:$E$13,4,0)*Fonct_Empl!F2452*((Fonct_Empl!G2452/12)))+(VLOOKUP(E2452,Param!$A$7:$E$13,5,0)*Fonct_Empl!H2452),2),\"\")","v":""}]
[null,null,null,null,null,null,null,null,{"$f":"IF(E2453<>\"\",ROUND((VLOOKUP(E2453,Param!$A$7:$E$13,4,0)*Fonct_Empl!F2453*((Fonct_Empl!G2453/12)))+(VLOOKUP(E2453,Param!$A$7:$E$13,5,0)*Fonct_Empl!H2453),2),\"\")","v":""}]
[null,null,null,null,null,null,null,null,{"$f":"IF(E2454<>\"\",ROUND((VLOOKUP(E2454,Param!$A$7:$E$13,4,0)*Fonct_Empl!F2454*((Fonct_Empl!G2454/12)))+(VLOOKUP(E2454,Param!$A$7:$E$13,5,0)*Fonct_Empl!H2454),2),\"\")","v":""}]
[null,null,null,null,null,null,null,null,{"$f":"IF(E2455<>\"\",ROUND((VLOOKUP(E2455,Param!$A$7:$E$13,4,0)*Fonct_Empl!F2455*((Fonct_Empl!G2455/12)))+(VLOOKUP(E2455,Param!$A$7:$E$13,5,0)*Fonct_Empl!H2455),2),\"\")","v":""}]
[null,null,null,null,null,null,null,null,{"$f":"IF(E2456<>\"\",ROUND((VLOOKUP(E2456,Param!$A$7:$E$13,4,0)*Fonct_Empl!F2456*((Fonct_Empl!G2456/12)))+(VLOOKUP(E2456,Param!$A$7:$E$13,5,0)*Fonct_Empl!H2456),2),\"\")","v":""}]
[null,null,null,null,null,null,null,null,{"$f":"IF(E2457<>\"\",ROUND((VLOOKUP(E2457,Param!$A$7:$E$13,4,0)*Fonct_Empl!F2457*((Fonct_Empl!G2457/12)))+(VLOOKUP(E2457,Param!$A$7:$E$13,5,0)*Fonct_Empl!H2457),2),\"\")","v":""}]
[null,null,null,null,null,null,null,null,{"$f":"IF(E2458<>\"\",ROUND((VLOOKUP(E2458,Param!$A$7:$E$13,4,0)*Fonct_Empl!F2458*((Fonct_Empl!G2458/12)))+(VLOOKUP(E2458,Param!$A$7:$E$13,5,0)*Fonct_Empl!H2458),2),\"\")","v":""}]
[null,null,null,null,null,null,null,null,{"$f":"IF(E2459<>\"\",ROUND((VLOOKUP(E2459,Param!$A$7:$E$13,4,0)*Fonct_Empl!F2459*((Fonct_Empl!G2459/12)))+(VLOOKUP(E2459,Param!$A$7:$E$13,5,0)*Fonct_Empl!H2459),2),\"\")","v":""}]
[null,null,null,null,null,null,null,null,{"$f":"IF(E2460<>\"\",ROUND((VLOOKUP(E2460,Param!$A$7:$E$13,4,0)*Fonct_Empl!F2460*((Fonct_Empl!G2460/12)))+(VLOOKUP(E2460,Param!$A$7:$E$13,5,0)*Fonct_Empl!H2460),2),\"\")","v":""}]
[null,null,null,null,null,null,null,null,{"$f":"IF(E2461<>\"\",ROUND((VLOOKUP(E2461,Param!$A$7:$E$13,4,0)*Fonct_Empl!F2461*((Fonct_Empl!G2461/12)))+(VLOOKUP(E2461,Param!$A$7:$E$13,5,0)*Fonct_Empl!H2461),2),\"\")","v":""}]
[null,null,null,null,null,null,null,null,{"$f":"IF(E2462<>\"\",ROUND((VLOOKUP(E2462,Param!$A$7:$E$13,4,0)*Fonct_Empl!F2462*((Fonct_Empl!G2462/12)))+(VLOOKUP(E2462,Param!$A$7:$E$13,5,0)*Fonct_Empl!H2462),2),\"\")","v":""}]
[null,null,null,null,null,null,null,null,{"$f":"IF(E2463<>\"\",ROUND((VLOOKUP(E2463,Param!$A$7:$E$13,4,0)*Fonct_Empl!F2463*((Fonct_Empl!G2463/12)))+(VLOOKUP(E2463,Param!$A$7:$E$13,5,0)*Fonct_Empl!H2463),2),\"\")","v":""}]
[null,null,null,null,null,null,null,null,{"$f":"IF(E2464<>\"\",ROUND((VLOOKUP(E2464,Param!$A$7:$E$13,4,0)*Fonct_Empl!F2464*((Fonct_Empl!G2464/12)))+(VLOOKUP(E2464,Param!$A$7:$E$13,5,0)*Fonct_Empl!H2464),2),\"\")","v":""}]
[null,null,null,null,null,null,null,null,{"$f":"IF(E2465<>\"\",ROUND((VLOOKUP(E2465,Param!$A$7:$E$13,4,0)*Fonct_Empl!F2465*((Fonct_Empl!G2465/12)))+(VLOOKUP(E2465,Param!$A$7:$E$13,5,0)*Fonct_Empl!H2465),2),\"\")","v":""}]
[null,null,null,null,null,null,null,null,{"$f":"IF(E2466<>\"\",ROUND((VLOOKUP(E2466,Param!$A$7:$E$13,4,0)*Fonct_Empl!F2466*((Fonct_Empl!G2466/12)))+(VLOOKUP(E2466,Param!$A$7:$E$13,5,0)*Fonct_Empl!H2466),2),\"\")","v":""}]
[null,null,null,null,null,null,null,null,{"$f":"IF(E2467<>\"\",ROUND((VLOOKUP(E2467,Param!$A$7:$E$13,4,0)*Fonct_Empl!F2467*((Fonct_Empl!G2467/12)))+(VLOOKUP(E2467,Param!$A$7:$E$13,5,0)*Fonct_Empl!H2467),2),\"\")","v":""}]
[null,null,null,null,null,null,null,null,{"$f":"IF(E2468<>\"\",ROUND((VLOOKUP(E2468,Param!$A$7:$E$13,4,0)*Fonct_Empl!F2468*((Fonct_Empl!G2468/12)))+(VLOOKUP(E2468,Param!$A$7:$E$13,5,0)*Fonct_Empl!H2468),2),\"\")","v":""}]
[null,null,null,null,null,null,null,null,{"$f":"IF(E2469<>\"\",ROUND((VLOOKUP(E2469,Param!$A$7:$E$13,4,0)*Fonct_Empl!F2469*((Fonct_Empl!G2469/12)))+(VLOOKUP(E2469,Param!$A$7:$E$13,5,0)*Fonct_Empl!H2469),2),\"\")","v":""}]
[null,null,null,null,null,null,null,null,{"$f":"IF(E2470<>\"\",ROUND((VLOOKUP(E2470,Param!$A$7:$E$13,4,0)*Fonct_Empl!F2470*((Fonct_Empl!G2470/12)))+(VLOOKUP(E2470,Param!$A$7:$E$13,5,0)*Fonct_Empl!H2470),2),\"\")","v":""}]
[null,null,null,null,null,null,null,null,{"$f":"IF(E2471<>\"\",ROUND((VLOOKUP(E2471,Param!$A$7:$E$13,4,0)*Fonct_Empl!F2471*((Fonct_Empl!G2471/12)))+(VLOOKUP(E2471,Param!$A$7:$E$13,5,0)*Fonct_Empl!H2471),2),\"\")","v":""}]
[null,null,null,null,null,null,null,null,{"$f":"IF(E2472<>\"\",ROUND((VLOOKUP(E2472,Param!$A$7:$E$13,4,0)*Fonct_Empl!F2472*((Fonct_Empl!G2472/12)))+(VLOOKUP(E2472,Param!$A$7:$E$13,5,0)*Fonct_Empl!H2472),2),\"\")","v":""}]
[null,null,null,null,null,null,null,null,{"$f":"IF(E2473<>\"\",ROUND((VLOOKUP(E2473,Param!$A$7:$E$13,4,0)*Fonct_Empl!F2473*((Fonct_Empl!G2473/12)))+(VLOOKUP(E2473,Param!$A$7:$E$13,5,0)*Fonct_Empl!H2473),2),\"\")","v":""}]
[null,null,null,null,null,null,null,null,{"$f":"IF(E2474<>\"\",ROUND((VLOOKUP(E2474,Param!$A$7:$E$13,4,0)*Fonct_Empl!F2474*((Fonct_Empl!G2474/12)))+(VLOOKUP(E2474,Param!$A$7:$E$13,5,0)*Fonct_Empl!H2474),2),\"\")","v":""}]
[null,null,null,null,null,null,null,null,{"$f":"IF(E2475<>\"\",ROUND((VLOOKUP(E2475,Param!$A$7:$E$13,4,0)*Fonct_Empl!F2475*((Fonct_Empl!G2475/12)))+(VLOOKUP(E2475,Param!$A$7:$E$13,5,0)*Fonct_Empl!H2475),2),\"\")","v":""}]
[null,null,null,null,null,null,null,null,{"$f":"IF(E2476<>\"\",ROUND((VLOOKUP(E2476,Param!$A$7:$E$13,4,0)*Fonct_Empl!F2476*((Fonct_Empl!G2476/12)))+(VLOOKUP(E2476,Param!$A$7:$E$13,5,0)*Fonct_Empl!H2476),2),\"\")","v":""}]
[null,null,null,null,null,null,null,null,{"$f":"IF(E2477<>\"\",ROUND((VLOOKUP(E2477,Param!$A$7:$E$13,4,0)*Fonct_Empl!F2477*((Fonct_Empl!G2477/12)))+(VLOOKUP(E2477,Param!$A$7:$E$13,5,0)*Fonct_Empl!H2477),2),\"\")","v":""}]
[null,null,null,null,null,null,null,null,{"$f":"IF(E2478<>\"\",ROUND((VLOOKUP(E2478,Param!$A$7:$E$13,4,0)*Fonct_Empl!F2478*((Fonct_Empl!G2478/12)))+(VLOOKUP(E2478,Param!$A$7:$E$13,5,0)*Fonct_Empl!H2478),2),\"\")","v":""}]
[null,null,null,null,null,null,null,null,{"$f":"IF(E2479<>\"\",ROUND((VLOOKUP(E2479,Param!$A$7:$E$13,4,0)*Fonct_Empl!F2479*((Fonct_Empl!G2479/12)))+(VLOOKUP(E2479,Param!$A$7:$E$13,5,0)*Fonct_Empl!H2479),2),\"\")","v":""}]
[null,null,null,null,null,null,null,null,{"$f":"IF(E2480<>\"\",ROUND((VLOOKUP(E2480,Param!$A$7:$E$13,4,0)*Fonct_Empl!F2480*((Fonct_Empl!G2480/12)))+(VLOOKUP(E2480,Param!$A$7:$E$13,5,0)*Fonct_Empl!H2480),2),\"\")","v":""}]
[null,null,null,null,null,null,null,null,{"$f":"IF(E2481<>\"\",ROUND((VLOOKUP(E2481,Param!$A$7:$E$13,4,0)*Fonct_Empl!F2481*((Fonct_Empl!G2481/12)))+(VLOOKUP(E2481,Param!$A$7:$E$13,5,0)*Fonct_Empl!H2481),2),\"\")","v":""}]
[null,null,null,null,null,null,null,null,{"$f":"IF(E2482<>\"\",ROUND((VLOOKUP(E2482,Param!$A$7:$E$13,4,0)*Fonct_Empl!F2482*((Fonct_Empl!G2482/12)))+(VLOOKUP(E2482,Param!$A$7:$E$13,5,0)*Fonct_Empl!H2482),2),\"\")","v":""}]
[null,null,null,null,null,null,null,null,{"$f":"IF(E2483<>\"\",ROUND((VLOOKUP(E2483,Param!$A$7:$E$13,4,0)*Fonct_Empl!F2483*((Fonct_Empl!G2483/12)))+(VLOOKUP(E2483,Param!$A$7:$E$13,5,0)*Fonct_Empl!H2483),2),\"\")","v":""}]
[null,null,null,null,null,null,null,null,{"$f":"IF(E2484<>\"\",ROUND((VLOOKUP(E2484,Param!$A$7:$E$13,4,0)*Fonct_Empl!F2484*((Fonct_Empl!G2484/12)))+(VLOOKUP(E2484,Param!$A$7:$E$13,5,0)*Fonct_Empl!H2484),2),\"\")","v":""}]
[null,null,null,null,null,null,null,null,{"$f":"IF(E2485<>\"\",ROUND((VLOOKUP(E2485,Param!$A$7:$E$13,4,0)*Fonct_Empl!F2485*((Fonct_Empl!G2485/12)))+(VLOOKUP(E2485,Param!$A$7:$E$13,5,0)*Fonct_Empl!H2485),2),\"\")","v":""}]
[null,null,null,null,null,null,null,null,{"$f":"IF(E2486<>\"\",ROUND((VLOOKUP(E2486,Param!$A$7:$E$13,4,0)*Fonct_Empl!F2486*((Fonct_Empl!G2486/12)))+(VLOOKUP(E2486,Param!$A$7:$E$13,5,0)*Fonct_Empl!H2486),2),\"\")","v":""}]
[null,null,null,null,null,null,null,null,{"$f":"IF(E2487<>\"\",ROUND((VLOOKUP(E2487,Param!$A$7:$E$13,4,0)*Fonct_Empl!F2487*((Fonct_Empl!G2487/12)))+(VLOOKUP(E2487,Param!$A$7:$E$13,5,0)*Fonct_Empl!H2487),2),\"\")","v":""}]
[null,null,null,null,null,null,null,null,{"$f":"IF(E2488<>\"\",ROUND((VLOOKUP(E2488,Param!$A$7:$E$13,4,0)*Fonct_Empl!F2488*((Fonct_Empl!G2488/12)))+(VLOOKUP(E2488,Param!$A$7:$E$13,5,0)*Fonct_Empl!H2488),2),\"\")","v":""}]
[null,null,null,null,null,null,null,null,{"$f":"IF(E2489<>\"\",ROUND((VLOOKUP(E2489,Param!$A$7:$E$13,4,0)*Fonct_Empl!F2489*((Fonct_Empl!G2489/12)))+(VLOOKUP(E2489,Param!$A$7:$E$13,5,0)*Fonct_Empl!H2489),2),\"\")","v":""}]
[null,null,null,null,null,null,null,null,{"$f":"IF(E2490<>\"\",ROUND((VLOOKUP(E2490,Param!$A$7:$E$13,4,0)*Fonct_Empl!F2490*((Fonct_Empl!G2490/12)))+(VLOOKUP(E2490,Param!$A$7:$E$13,5,0)*Fonct_Empl!H2490),2),\"\")","v":""}]
[null,null,null,null,null,null,null,null,{"$f":"IF(E2491<>\"\",ROUND((VLOOKUP(E2491,Param!$A$7:$E$13,4,0)*Fonct_Empl!F2491*((Fonct_Empl!G2491/12)))+(VLOOKUP(E2491,Param!$A$7:$E$13,5,0)*Fonct_Empl!H2491),2),\"\")","v":""}]
[null,null,null,null,null,null,null,null,{"$f":"IF(E2492<>\"\",ROUND((VLOOKUP(E2492,Param!$A$7:$E$13,4,0)*Fonct_Empl!F2492*((Fonct_Empl!G2492/12)))+(VLOOKUP(E2492,Param!$A$7:$E$13,5,0)*Fonct_Empl!H2492),2),\"\")","v":""}]
[null,null,null,null,null,null,null,null,{"$f":"IF(E2493<>\"\",ROUND((VLOOKUP(E2493,Param!$A$7:$E$13,4,0)*Fonct_Empl!F2493*((Fonct_Empl!G2493/12)))+(VLOOKUP(E2493,Param!$A$7:$E$13,5,0)*Fonct_Empl!H2493),2),\"\")","v":""}]
[null,null,null,null,null,null,null,null,{"$f":"IF(E2494<>\"\",ROUND((VLOOKUP(E2494,Param!$A$7:$E$13,4,0)*Fonct_Empl!F2494*((Fonct_Empl!G2494/12)))+(VLOOKUP(E2494,Param!$A$7:$E$13,5,0)*Fonct_Empl!H2494),2),\"\")","v":""}]
[null,null,null,null,null,null,null,null,{"$f":"IF(E2495<>\"\",ROUND((VLOOKUP(E2495,Param!$A$7:$E$13,4,0)*Fonct_Empl!F2495*((Fonct_Empl!G2495/12)))+(VLOOKUP(E2495,Param!$A$7:$E$13,5,0)*Fonct_Empl!H2495),2),\"\")","v":""}]
[null,null,null,null,null,null,null,null,{"$f":"IF(E2496<>\"\",ROUND((VLOOKUP(E2496,Param!$A$7:$E$13,4,0)*Fonct_Empl!F2496*((Fonct_Empl!G2496/12)))+(VLOOKUP(E2496,Param!$A$7:$E$13,5,0)*Fonct_Empl!H2496),2),\"\")","v":""}]
[null,null,null,null,null,null,null,null,{"$f":"IF(E2497<>\"\",ROUND((VLOOKUP(E2497,Param!$A$7:$E$13,4,0)*Fonct_Empl!F2497*((Fonct_Empl!G2497/12)))+(VLOOKUP(E2497,Param!$A$7:$E$13,5,0)*Fonct_Empl!H2497),2),\"\")","v":""}]
[null,null,null,null,null,null,null,null,{"$f":"IF(E2498<>\"\",ROUND((VLOOKUP(E2498,Param!$A$7:$E$13,4,0)*Fonct_Empl!F2498*((Fonct_Empl!G2498/12)))+(VLOOKUP(E2498,Param!$A$7:$E$13,5,0)*Fonct_Empl!H2498),2),\"\")","v":""}]
[null,null,null,null,null,null,null,null,{"$f":"IF(E2499<>\"\",ROUND((VLOOKUP(E2499,Param!$A$7:$E$13,4,0)*Fonct_Empl!F2499*((Fonct_Empl!G2499/12)))+(VLOOKUP(E2499,Param!$A$7:$E$13,5,0)*Fonct_Empl!H2499),2),\"\")","v":""}]
[null,null,null,null,null,null,null,null,{"$f":"IF(E2500<>\"\",ROUND((VLOOKUP(E2500,Param!$A$7:$E$13,4,0)*Fonct_Empl!F2500*((Fonct_Empl!G2500/12)))+(VLOOKUP(E2500,Param!$A$7:$E$13,5,0)*Fonct_Empl!H2500),2),\"\")","v":""}]
[null,null,null,null,null,null,null,null,{"$f":"IF(E2501<>\"\",ROUND((VLOOKUP(E2501,Param!$A$7:$E$13,4,0)*Fonct_Empl!F2501*((Fonct_Empl!G2501/12)))+(VLOOKUP(E2501,Param!$A$7:$E$13,5,0)*Fonct_Empl!H2501),2),\"\")","v":""}]
[null,null,null,null,null,null,null,null,{"$f":"IF(E2502<>\"\",ROUND((VLOOKUP(E2502,Param!$A$7:$E$13,4,0)*Fonct_Empl!F2502*((Fonct_Empl!G2502/12)))+(VLOOKUP(E2502,Param!$A$7:$E$13,5,0)*Fonct_Empl!H2502),2),\"\")","v":""}]
[null,null,null,null,null,null,null,null,{"$f":"IF(E2503<>\"\",ROUND((VLOOKUP(E2503,Param!$A$7:$E$13,4,0)*Fonct_Empl!F2503*((Fonct_Empl!G2503/12)))+(VLOOKUP(E2503,Param!$A$7:$E$13,5,0)*Fonct_Empl!H2503),2),\"\")","v":""}]
[null,null,null,null,null,null,null,null,{"$f":"IF(E2504<>\"\",ROUND((VLOOKUP(E2504,Param!$A$7:$E$13,4,0)*Fonct_Empl!F2504*((Fonct_Empl!G2504/12)))+(VLOOKUP(E2504,Param!$A$7:$E$13,5,0)*Fonct_Empl!H2504),2),\"\")","v":""}]
[null,null,null,null,null,null,null,null,{"$f":"IF(E2505<>\"\",ROUND((VLOOKUP(E2505,Param!$A$7:$E$13,4,0)*Fonct_Empl!F2505*((Fonct_Empl!G2505/12)))+(VLOOKUP(E2505,Param!$A$7:$E$13,5,0)*Fonct_Empl!H2505),2),\"\")","v":""}]
[null,null,null,null,null,null,null,null,{"$f":"IF(E2506<>\"\",ROUND((VLOOKUP(E2506,Param!$A$7:$E$13,4,0)*Fonct_Empl!F2506*((Fonct_Empl!G2506/12)))+(VLOOKUP(E2506,Param!$A$7:$E$13,5,0)*Fonct_Empl!H2506),2),\"\")","v":""}]
[null,null,null,null,null,null,null,null,{"$f":"IF(E2507<>\"\",ROUND((VLOOKUP(E2507,Param!$A$7:$E$13,4,0)*Fonct_Empl!F2507*((Fonct_Empl!G2507/12)))+(VLOOKUP(E2507,Param!$A$7:$E$13,5,0)*Fonct_Empl!H2507),2),\"\")","v":""}]
[null,null,null,null,null,null,null,null,{"$f":"IF(E2508<>\"\",ROUND((VLOOKUP(E2508,Param!$A$7:$E$13,4,0)*Fonct_Empl!F2508*((Fonct_Empl!G2508/12)))+(VLOOKUP(E2508,Param!$A$7:$E$13,5,0)*Fonct_Empl!H2508),2),\"\")","v":""}]
[null,null,null,null,null,null,null,null,{"$f":"IF(E2509<>\"\",ROUND((VLOOKUP(E2509,Param!$A$7:$E$13,4,0)*Fonct_Empl!F2509*((Fonct_Empl!G2509/12)))+(VLOOKUP(E2509,Param!$A$7:$E$13,5,0)*Fonct_Empl!H2509),2),\"\")","v":""}]
[null,null,null,null,null,null,null,null,{"$f":"IF(E2510<>\"\",ROUND((VLOOKUP(E2510,Param!$A$7:$E$13,4,0)*Fonct_Empl!F2510*((Fonct_Empl!G2510/12)))+(VLOOKUP(E2510,Param!$A$7:$E$13,5,0)*Fonct_Empl!H2510),2),\"\")","v":""}]
[null,null,null,null,null,null,null,null,{"$f":"IF(E2511<>\"\",ROUND((VLOOKUP(E2511,Param!$A$7:$E$13,4,0)*Fonct_Empl!F2511*((Fonct_Empl!G2511/12)))+(VLOOKUP(E2511,Param!$A$7:$E$13,5,0)*Fonct_Empl!H2511),2),\"\")","v":""}]
[null,null,null,null,null,null,null,null,{"$f":"IF(E2512<>\"\",ROUND((VLOOKUP(E2512,Param!$A$7:$E$13,4,0)*Fonct_Empl!F2512*((Fonct_Empl!G2512/12)))+(VLOOKUP(E2512,Param!$A$7:$E$13,5,0)*Fonct_Empl!H2512),2),\"\")","v":""}]
[null,null,null,null,null,null,null,null,{"$f":"IF(E2513<>\"\",ROUND((VLOOKUP(E2513,Param!$A$7:$E$13,4,0)*Fonct_Empl!F2513*((Fonct_Empl!G2513/12)))+(VLOOKUP(E2513,Param!$A$7:$E$13,5,0)*Fonct_Empl!H2513),2),\"\")","v":""}]
[null,null,null,null,null,null,null,null,{"$f":"IF(E2514<>\"\",ROUND((VLOOKUP(E2514,Param!$A$7:$E$13,4,0)*Fonct_Empl!F2514*((Fonct_Empl!G2514/12)))+(VLOOKUP(E2514,Param!$A$7:$E$13,5,0)*Fonct_Empl!H2514),2),\"\")","v":""}]
[null,null,null,null,null,null,null,null,{"$f":"IF(E2515<>\"\",ROUND((VLOOKUP(E2515,Param!$A$7:$E$13,4,0)*Fonct_Empl!F2515*((Fonct_Empl!G2515/12)))+(VLOOKUP(E2515,Param!$A$7:$E$13,5,0)*Fonct_Empl!H2515),2),\"\")","v":""}]
[null,null,null,null,null,null,null,null,{"$f":"IF(E2516<>\"\",ROUND((VLOOKUP(E2516,Param!$A$7:$E$13,4,0)*Fonct_Empl!F2516*((Fonct_Empl!G2516/12)))+(VLOOKUP(E2516,Param!$A$7:$E$13,5,0)*Fonct_Empl!H2516),2),\"\")","v":""}]
[null,null,null,null,null,null,null,null,{"$f":"IF(E2517<>\"\",ROUND((VLOOKUP(E2517,Param!$A$7:$E$13,4,0)*Fonct_Empl!F2517*((Fonct_Empl!G2517/12)))+(VLOOKUP(E2517,Param!$A$7:$E$13,5,0)*Fonct_Empl!H2517),2),\"\")","v":""}]
[null,null,null,null,null,null,null,null,{"$f":"IF(E2518<>\"\",ROUND((VLOOKUP(E2518,Param!$A$7:$E$13,4,0)*Fonct_Empl!F2518*((Fonct_Empl!G2518/12)))+(VLOOKUP(E2518,Param!$A$7:$E$13,5,0)*Fonct_Empl!H2518),2),\"\")","v":""}]
[null,null,null,null,null,null,null,null,{"$f":"IF(E2519<>\"\",ROUND((VLOOKUP(E2519,Param!$A$7:$E$13,4,0)*Fonct_Empl!F2519*((Fonct_Empl!G2519/12)))+(VLOOKUP(E2519,Param!$A$7:$E$13,5,0)*Fonct_Empl!H2519),2),\"\")","v":""}]
[null,null,null,null,null,null,null,null,{"$f":"IF(E2520<>\"\",ROUND((VLOOKUP(E2520,Param!$A$7:$E$13,4,0)*Fonct_Empl!F2520*((Fonct_Empl!G2520/12)))+(VLOOKUP(E2520,Param!$A$7:$E$13,5,0)*Fonct_Empl!H2520),2),\"\")","v":""}]
[null,null,null,null,null,null,null,null,{"$f":"IF(E2521<>\"\",ROUND((VLOOKUP(E2521,Param!$A$7:$E$13,4,0)*Fonct_Empl!F2521*((Fonct_Empl!G2521/12)))+(VLOOKUP(E2521,Param!$A$7:$E$13,5,0)*Fonct_Empl!H2521),2),\"\")","v":""}]
[null,null,null,null,null,null,null,null,{"$f":"IF(E2522<>\"\",ROUND((VLOOKUP(E2522,Param!$A$7:$E$13,4,0)*Fonct_Empl!F2522*((Fonct_Empl!G2522/12)))+(VLOOKUP(E2522,Param!$A$7:$E$13,5,0)*Fonct_Empl!H2522),2),\"\")","v":""}]
[null,null,null,null,null,null,null,null,{"$f":"IF(E2523<>\"\",ROUND((VLOOKUP(E2523,Param!$A$7:$E$13,4,0)*Fonct_Empl!F2523*((Fonct_Empl!G2523/12)))+(VLOOKUP(E2523,Param!$A$7:$E$13,5,0)*Fonct_Empl!H2523),2),\"\")","v":""}]
[null,null,null,null,null,null,null,null,{"$f":"IF(E2524<>\"\",ROUND((VLOOKUP(E2524,Param!$A$7:$E$13,4,0)*Fonct_Empl!F2524*((Fonct_Empl!G2524/12)))+(VLOOKUP(E2524,Param!$A$7:$E$13,5,0)*Fonct_Empl!H2524),2),\"\")","v":""}]
[null,null,null,null,null,null,null,null,{"$f":"IF(E2525<>\"\",ROUND((VLOOKUP(E2525,Param!$A$7:$E$13,4,0)*Fonct_Empl!F2525*((Fonct_Empl!G2525/12)))+(VLOOKUP(E2525,Param!$A$7:$E$13,5,0)*Fonct_Empl!H2525),2),\"\")","v":""}]
[null,null,null,null,null,null,null,null,{"$f":"IF(E2526<>\"\",ROUND((VLOOKUP(E2526,Param!$A$7:$E$13,4,0)*Fonct_Empl!F2526*((Fonct_Empl!G2526/12)))+(VLOOKUP(E2526,Param!$A$7:$E$13,5,0)*Fonct_Empl!H2526),2),\"\")","v":""}]
[null,null,null,null,null,null,null,null,{"$f":"IF(E2527<>\"\",ROUND((VLOOKUP(E2527,Param!$A$7:$E$13,4,0)*Fonct_Empl!F2527*((Fonct_Empl!G2527/12)))+(VLOOKUP(E2527,Param!$A$7:$E$13,5,0)*Fonct_Empl!H2527),2),\"\")","v":""}]
[null,null,null,null,null,null,null,null,{"$f":"IF(E2528<>\"\",ROUND((VLOOKUP(E2528,Param!$A$7:$E$13,4,0)*Fonct_Empl!F2528*((Fonct_Empl!G2528/12)))+(VLOOKUP(E2528,Param!$A$7:$E$13,5,0)*Fonct_Empl!H2528),2),\"\")","v":""}]
[null,null,null,null,null,null,null,null,{"$f":"IF(E2529<>\"\",ROUND((VLOOKUP(E2529,Param!$A$7:$E$13,4,0)*Fonct_Empl!F2529*((Fonct_Empl!G2529/12)))+(VLOOKUP(E2529,Param!$A$7:$E$13,5,0)*Fonct_Empl!H2529),2),\"\")","v":""}]
[null,null,null,null,null,null,null,null,{"$f":"IF(E2530<>\"\",ROUND((VLOOKUP(E2530,Param!$A$7:$E$13,4,0)*Fonct_Empl!F2530*((Fonct_Empl!G2530/12)))+(VLOOKUP(E2530,Param!$A$7:$E$13,5,0)*Fonct_Empl!H2530),2),\"\")","v":""}]
[null,null,null,null,null,null,null,null,{"$f":"IF(E2531<>\"\",ROUND((VLOOKUP(E2531,Param!$A$7:$E$13,4,0)*Fonct_Empl!F2531*((Fonct_Empl!G2531/12)))+(VLOOKUP(E2531,Param!$A$7:$E$13,5,0)*Fonct_Empl!H2531),2),\"\")","v":""}]
[null,null,null,null,null,null,null,null,{"$f":"IF(E2532<>\"\",ROUND((VLOOKUP(E2532,Param!$A$7:$E$13,4,0)*Fonct_Empl!F2532*((Fonct_Empl!G2532/12)))+(VLOOKUP(E2532,Param!$A$7:$E$13,5,0)*Fonct_Empl!H2532),2),\"\")","v":""}]
[null,null,null,null,null,null,null,null,{"$f":"IF(E2533<>\"\",ROUND((VLOOKUP(E2533,Param!$A$7:$E$13,4,0)*Fonct_Empl!F2533*((Fonct_Empl!G2533/12)))+(VLOOKUP(E2533,Param!$A$7:$E$13,5,0)*Fonct_Empl!H2533),2),\"\")","v":""}]
[null,null,null,null,null,null,null,null,{"$f":"IF(E2534<>\"\",ROUND((VLOOKUP(E2534,Param!$A$7:$E$13,4,0)*Fonct_Empl!F2534*((Fonct_Empl!G2534/12)))+(VLOOKUP(E2534,Param!$A$7:$E$13,5,0)*Fonct_Empl!H2534),2),\"\")","v":""}]
[null,null,null,null,null,null,null,null,{"$f":"IF(E2535<>\"\",ROUND((VLOOKUP(E2535,Param!$A$7:$E$13,4,0)*Fonct_Empl!F2535*((Fonct_Empl!G2535/12)))+(VLOOKUP(E2535,Param!$A$7:$E$13,5,0)*Fonct_Empl!H2535),2),\"\")","v":""}]
[null,null,null,null,null,null,null,null,{"$f":"IF(E2536<>\"\",ROUND((VLOOKUP(E2536,Param!$A$7:$E$13,4,0)*Fonct_Empl!F2536*((Fonct_Empl!G2536/12)))+(VLOOKUP(E2536,Param!$A$7:$E$13,5,0)*Fonct_Empl!H2536),2),\"\")","v":""}]
[null,null,null,null,null,null,null,null,{"$f":"IF(E2537<>\"\",ROUND((VLOOKUP(E2537,Param!$A$7:$E$13,4,0)*Fonct_Empl!F2537*((Fonct_Empl!G2537/12)))+(VLOOKUP(E2537,Param!$A$7:$E$13,5,0)*Fonct_Empl!H2537),2),\"\")","v":""}]
[null,null,null,null,null,null,null,null,{"$f":"IF(E2538<>\"\",ROUND((VLOOKUP(E2538,Param!$A$7:$E$13,4,0)*Fonct_Empl!F2538*((Fonct_Empl!G2538/12)))+(VLOOKUP(E2538,Param!$A$7:$E$13,5,0)*Fonct_Empl!H2538),2),\"\")","v":""}]
[null,null,null,null,null,null,null,null,{"$f":"IF(E2539<>\"\",ROUND((VLOOKUP(E2539,Param!$A$7:$E$13,4,0)*Fonct_Empl!F2539*((Fonct_Empl!G2539/12)))+(VLOOKUP(E2539,Param!$A$7:$E$13,5,0)*Fonct_Empl!H2539),2),\"\")","v":""}]
[null,null,null,null,null,null,null,null,{"$f":"IF(E2540<>\"\",ROUND((VLOOKUP(E2540,Param!$A$7:$E$13,4,0)*Fonct_Empl!F2540*((Fonct_Empl!G2540/12)))+(VLOOKUP(E2540,Param!$A$7:$E$13,5,0)*Fonct_Empl!H2540),2),\"\")","v":""}]
[null,null,null,null,null,null,null,null,{"$f":"IF(E2541<>\"\",ROUND((VLOOKUP(E2541,Param!$A$7:$E$13,4,0)*Fonct_Empl!F2541*((Fonct_Empl!G2541/12)))+(VLOOKUP(E2541,Param!$A$7:$E$13,5,0)*Fonct_Empl!H2541),2),\"\")","v":""}]
[null,null,null,null,null,null,null,null,{"$f":"IF(E2542<>\"\",ROUND((VLOOKUP(E2542,Param!$A$7:$E$13,4,0)*Fonct_Empl!F2542*((Fonct_Empl!G2542/12)))+(VLOOKUP(E2542,Param!$A$7:$E$13,5,0)*Fonct_Empl!H2542),2),\"\")","v":""}]
[null,null,null,null,null,null,null,null,{"$f":"IF(E2543<>\"\",ROUND((VLOOKUP(E2543,Param!$A$7:$E$13,4,0)*Fonct_Empl!F2543*((Fonct_Empl!G2543/12)))+(VLOOKUP(E2543,Param!$A$7:$E$13,5,0)*Fonct_Empl!H2543),2),\"\")","v":""}]
[null,null,null,null,null,null,null,null,{"$f":"IF(E2544<>\"\",ROUND((VLOOKUP(E2544,Param!$A$7:$E$13,4,0)*Fonct_Empl!F2544*((Fonct_Empl!G2544/12)))+(VLOOKUP(E2544,Param!$A$7:$E$13,5,0)*Fonct_Empl!H2544),2),\"\")","v":""}]
[null,null,null,null,null,null,null,null,{"$f":"IF(E2545<>\"\",ROUND((VLOOKUP(E2545,Param!$A$7:$E$13,4,0)*Fonct_Empl!F2545*((Fonct_Empl!G2545/12)))+(VLOOKUP(E2545,Param!$A$7:$E$13,5,0)*Fonct_Empl!H2545),2),\"\")","v":""}]
[null,null,null,null,null,null,null,null,{"$f":"IF(E2546<>\"\",ROUND((VLOOKUP(E2546,Param!$A$7:$E$13,4,0)*Fonct_Empl!F2546*((Fonct_Empl!G2546/12)))+(VLOOKUP(E2546,Param!$A$7:$E$13,5,0)*Fonct_Empl!H2546),2),\"\")","v":""}]
[null,null,null,null,null,null,null,null,{"$f":"IF(E2547<>\"\",ROUND((VLOOKUP(E2547,Param!$A$7:$E$13,4,0)*Fonct_Empl!F2547*((Fonct_Empl!G2547/12)))+(VLOOKUP(E2547,Param!$A$7:$E$13,5,0)*Fonct_Empl!H2547),2),\"\")","v":""}]
[null,null,null,null,null,null,null,null,{"$f":"IF(E2548<>\"\",ROUND((VLOOKUP(E2548,Param!$A$7:$E$13,4,0)*Fonct_Empl!F2548*((Fonct_Empl!G2548/12)))+(VLOOKUP(E2548,Param!$A$7:$E$13,5,0)*Fonct_Empl!H2548),2),\"\")","v":""}]
[null,null,null,null,null,null,null,null,{"$f":"IF(E2549<>\"\",ROUND((VLOOKUP(E2549,Param!$A$7:$E$13,4,0)*Fonct_Empl!F2549*((Fonct_Empl!G2549/12)))+(VLOOKUP(E2549,Param!$A$7:$E$13,5,0)*Fonct_Empl!H2549),2),\"\")","v":""}]
[null,null,null,null,null,null,null,null,{"$f":"IF(E2550<>\"\",ROUND((VLOOKUP(E2550,Param!$A$7:$E$13,4,0)*Fonct_Empl!F2550*((Fonct_Empl!G2550/12)))+(VLOOKUP(E2550,Param!$A$7:$E$13,5,0)*Fonct_Empl!H2550),2),\"\")","v":""}]
[null,null,null,null,null,null,null,null,{"$f":"IF(E2551<>\"\",ROUND((VLOOKUP(E2551,Param!$A$7:$E$13,4,0)*Fonct_Empl!F2551*((Fonct_Empl!G2551/12)))+(VLOOKUP(E2551,Param!$A$7:$E$13,5,0)*Fonct_Empl!H2551),2),\"\")","v":""}]
[null,null,null,null,null,null,null,null,{"$f":"IF(E2552<>\"\",ROUND((VLOOKUP(E2552,Param!$A$7:$E$13,4,0)*Fonct_Empl!F2552*((Fonct_Empl!G2552/12)))+(VLOOKUP(E2552,Param!$A$7:$E$13,5,0)*Fonct_Empl!H2552),2),\"\")","v":""}]
[null,null,null,null,null,null,null,null,{"$f":"IF(E2553<>\"\",ROUND((VLOOKUP(E2553,Param!$A$7:$E$13,4,0)*Fonct_Empl!F2553*((Fonct_Empl!G2553/12)))+(VLOOKUP(E2553,Param!$A$7:$E$13,5,0)*Fonct_Empl!H2553),2),\"\")","v":""}]
[null,null,null,null,null,null,null,null,{"$f":"IF(E2554<>\"\",ROUND((VLOOKUP(E2554,Param!$A$7:$E$13,4,0)*Fonct_Empl!F2554*((Fonct_Empl!G2554/12)))+(VLOOKUP(E2554,Param!$A$7:$E$13,5,0)*Fonct_Empl!H2554),2),\"\")","v":""}]
[null,null,null,null,null,null,null,null,{"$f":"IF(E2555<>\"\",ROUND((VLOOKUP(E2555,Param!$A$7:$E$13,4,0)*Fonct_Empl!F2555*((Fonct_Empl!G2555/12)))+(VLOOKUP(E2555,Param!$A$7:$E$13,5,0)*Fonct_Empl!H2555),2),\"\")","v":""}]
[null,null,null,null,null,null,null,null,{"$f":"IF(E2556<>\"\",ROUND((VLOOKUP(E2556,Param!$A$7:$E$13,4,0)*Fonct_Empl!F2556*((Fonct_Empl!G2556/12)))+(VLOOKUP(E2556,Param!$A$7:$E$13,5,0)*Fonct_Empl!H2556),2),\"\")","v":""}]
[null,null,null,null,null,null,null,null,{"$f":"IF(E2557<>\"\",ROUND((VLOOKUP(E2557,Param!$A$7:$E$13,4,0)*Fonct_Empl!F2557*((Fonct_Empl!G2557/12)))+(VLOOKUP(E2557,Param!$A$7:$E$13,5,0)*Fonct_Empl!H2557),2),\"\")","v":""}]
[null,null,null,null,null,null,null,null,{"$f":"IF(E2558<>\"\",ROUND((VLOOKUP(E2558,Param!$A$7:$E$13,4,0)*Fonct_Empl!F2558*((Fonct_Empl!G2558/12)))+(VLOOKUP(E2558,Param!$A$7:$E$13,5,0)*Fonct_Empl!H2558),2),\"\")","v":""}]
[null,null,null,null,null,null,null,null,{"$f":"IF(E2559<>\"\",ROUND((VLOOKUP(E2559,Param!$A$7:$E$13,4,0)*Fonct_Empl!F2559*((Fonct_Empl!G2559/12)))+(VLOOKUP(E2559,Param!$A$7:$E$13,5,0)*Fonct_Empl!H2559),2),\"\")","v":""}]
[null,null,null,null,null,null,null,null,{"$f":"IF(E2560<>\"\",ROUND((VLOOKUP(E2560,Param!$A$7:$E$13,4,0)*Fonct_Empl!F2560*((Fonct_Empl!G2560/12)))+(VLOOKUP(E2560,Param!$A$7:$E$13,5,0)*Fonct_Empl!H2560),2),\"\")","v":""}]
[null,null,null,null,null,null,null,null,{"$f":"IF(E2561<>\"\",ROUND((VLOOKUP(E2561,Param!$A$7:$E$13,4,0)*Fonct_Empl!F2561*((Fonct_Empl!G2561/12)))+(VLOOKUP(E2561,Param!$A$7:$E$13,5,0)*Fonct_Empl!H2561),2),\"\")","v":""}]
[null,null,null,null,null,null,null,null,{"$f":"IF(E2562<>\"\",ROUND((VLOOKUP(E2562,Param!$A$7:$E$13,4,0)*Fonct_Empl!F2562*((Fonct_Empl!G2562/12)))+(VLOOKUP(E2562,Param!$A$7:$E$13,5,0)*Fonct_Empl!H2562),2),\"\")","v":""}]
[null,null,null,null,null,null,null,null,{"$f":"IF(E2563<>\"\",ROUND((VLOOKUP(E2563,Param!$A$7:$E$13,4,0)*Fonct_Empl!F2563*((Fonct_Empl!G2563/12)))+(VLOOKUP(E2563,Param!$A$7:$E$13,5,0)*Fonct_Empl!H2563),2),\"\")","v":""}]
[null,null,null,null,null,null,null,null,{"$f":"IF(E2564<>\"\",ROUND((VLOOKUP(E2564,Param!$A$7:$E$13,4,0)*Fonct_Empl!F2564*((Fonct_Empl!G2564/12)))+(VLOOKUP(E2564,Param!$A$7:$E$13,5,0)*Fonct_Empl!H2564),2),\"\")","v":""}]
[null,null,null,null,null,null,null,null,{"$f":"IF(E2565<>\"\",ROUND((VLOOKUP(E2565,Param!$A$7:$E$13,4,0)*Fonct_Empl!F2565*((Fonct_Empl!G2565/12)))+(VLOOKUP(E2565,Param!$A$7:$E$13,5,0)*Fonct_Empl!H2565),2),\"\")","v":""}]
[null,null,null,null,null,null,null,null,{"$f":"IF(E2566<>\"\",ROUND((VLOOKUP(E2566,Param!$A$7:$E$13,4,0)*Fonct_Empl!F2566*((Fonct_Empl!G2566/12)))+(VLOOKUP(E2566,Param!$A$7:$E$13,5,0)*Fonct_Empl!H2566),2),\"\")","v":""}]
[null,null,null,null,null,null,null,null,{"$f":"IF(E2567<>\"\",ROUND((VLOOKUP(E2567,Param!$A$7:$E$13,4,0)*Fonct_Empl!F2567*((Fonct_Empl!G2567/12)))+(VLOOKUP(E2567,Param!$A$7:$E$13,5,0)*Fonct_Empl!H2567),2),\"\")","v":""}]
[null,null,null,null,null,null,null,null,{"$f":"IF(E2568<>\"\",ROUND((VLOOKUP(E2568,Param!$A$7:$E$13,4,0)*Fonct_Empl!F2568*((Fonct_Empl!G2568/12)))+(VLOOKUP(E2568,Param!$A$7:$E$13,5,0)*Fonct_Empl!H2568),2),\"\")","v":""}]
[null,null,null,null,null,null,null,null,{"$f":"IF(E2569<>\"\",ROUND((VLOOKUP(E2569,Param!$A$7:$E$13,4,0)*Fonct_Empl!F2569*((Fonct_Empl!G2569/12)))+(VLOOKUP(E2569,Param!$A$7:$E$13,5,0)*Fonct_Empl!H2569),2),\"\")","v":""}]
[null,null,null,null,null,null,null,null,{"$f":"IF(E2570<>\"\",ROUND((VLOOKUP(E2570,Param!$A$7:$E$13,4,0)*Fonct_Empl!F2570*((Fonct_Empl!G2570/12)))+(VLOOKUP(E2570,Param!$A$7:$E$13,5,0)*Fonct_Empl!H2570),2),\"\")","v":""}]
[null,null,null,null,null,null,null,null,{"$f":"IF(E2571<>\"\",ROUND((VLOOKUP(E2571,Param!$A$7:$E$13,4,0)*Fonct_Empl!F2571*((Fonct_Empl!G2571/12)))+(VLOOKUP(E2571,Param!$A$7:$E$13,5,0)*Fonct_Empl!H2571),2),\"\")","v":""}]
[null,null,null,null,null,null,null,null,{"$f":"IF(E2572<>\"\",ROUND((VLOOKUP(E2572,Param!$A$7:$E$13,4,0)*Fonct_Empl!F2572*((Fonct_Empl!G2572/12)))+(VLOOKUP(E2572,Param!$A$7:$E$13,5,0)*Fonct_Empl!H2572),2),\"\")","v":""}]
[null,null,null,null,null,null,null,null,{"$f":"IF(E2573<>\"\",ROUND((VLOOKUP(E2573,Param!$A$7:$E$13,4,0)*Fonct_Empl!F2573*((Fonct_Empl!G2573/12)))+(VLOOKUP(E2573,Param!$A$7:$E$13,5,0)*Fonct_Empl!H2573),2),\"\")","v":""}]
[null,null,null,null,null,null,null,null,{"$f":"IF(E2574<>\"\",ROUND((VLOOKUP(E2574,Param!$A$7:$E$13,4,0)*Fonct_Empl!F2574*((Fonct_Empl!G2574/12)))+(VLOOKUP(E2574,Param!$A$7:$E$13,5,0)*Fonct_Empl!H2574),2),\"\")","v":""}]
[null,null,null,null,null,null,null,null,{"$f":"IF(E2575<>\"\",ROUND((VLOOKUP(E2575,Param!$A$7:$E$13,4,0)*Fonct_Empl!F2575*((Fonct_Empl!G2575/12)))+(VLOOKUP(E2575,Param!$A$7:$E$13,5,0)*Fonct_Empl!H2575),2),\"\")","v":""}]
[null,null,null,null,null,null,null,null,{"$f":"IF(E2576<>\"\",ROUND((VLOOKUP(E2576,Param!$A$7:$E$13,4,0)*Fonct_Empl!F2576*((Fonct_Empl!G2576/12)))+(VLOOKUP(E2576,Param!$A$7:$E$13,5,0)*Fonct_Empl!H2576),2),\"\")","v":""}]
[null,null,null,null,null,null,null,null,{"$f":"IF(E2577<>\"\",ROUND((VLOOKUP(E2577,Param!$A$7:$E$13,4,0)*Fonct_Empl!F2577*((Fonct_Empl!G2577/12)))+(VLOOKUP(E2577,Param!$A$7:$E$13,5,0)*Fonct_Empl!H2577),2),\"\")","v":""}]
[null,null,null,null,null,null,null,null,{"$f":"IF(E2578<>\"\",ROUND((VLOOKUP(E2578,Param!$A$7:$E$13,4,0)*Fonct_Empl!F2578*((Fonct_Empl!G2578/12)))+(VLOOKUP(E2578,Param!$A$7:$E$13,5,0)*Fonct_Empl!H2578),2),\"\")","v":""}]
[null,null,null,null,null,null,null,null,{"$f":"IF(E2579<>\"\",ROUND((VLOOKUP(E2579,Param!$A$7:$E$13,4,0)*Fonct_Empl!F2579*((Fonct_Empl!G2579/12)))+(VLOOKUP(E2579,Param!$A$7:$E$13,5,0)*Fonct_Empl!H2579),2),\"\")","v":""}]
[null,null,null,null,null,null,null,null,{"$f":"IF(E2580<>\"\",ROUND((VLOOKUP(E2580,Param!$A$7:$E$13,4,0)*Fonct_Empl!F2580*((Fonct_Empl!G2580/12)))+(VLOOKUP(E2580,Param!$A$7:$E$13,5,0)*Fonct_Empl!H2580),2),\"\")","v":""}]
[null,null,null,null,null,null,null,null,{"$f":"IF(E2581<>\"\",ROUND((VLOOKUP(E2581,Param!$A$7:$E$13,4,0)*Fonct_Empl!F2581*((Fonct_Empl!G2581/12)))+(VLOOKUP(E2581,Param!$A$7:$E$13,5,0)*Fonct_Empl!H2581),2),\"\")","v":""}]
[null,null,null,null,null,null,null,null,{"$f":"IF(E2582<>\"\",ROUND((VLOOKUP(E2582,Param!$A$7:$E$13,4,0)*Fonct_Empl!F2582*((Fonct_Empl!G2582/12)))+(VLOOKUP(E2582,Param!$A$7:$E$13,5,0)*Fonct_Empl!H2582),2),\"\")","v":""}]
[null,null,null,null,null,null,null,null,{"$f":"IF(E2583<>\"\",ROUND((VLOOKUP(E2583,Param!$A$7:$E$13,4,0)*Fonct_Empl!F2583*((Fonct_Empl!G2583/12)))+(VLOOKUP(E2583,Param!$A$7:$E$13,5,0)*Fonct_Empl!H2583),2),\"\")","v":""}]
[null,null,null,null,null,null,null,null,{"$f":"IF(E2584<>\"\",ROUND((VLOOKUP(E2584,Param!$A$7:$E$13,4,0)*Fonct_Empl!F2584*((Fonct_Empl!G2584/12)))+(VLOOKUP(E2584,Param!$A$7:$E$13,5,0)*Fonct_Empl!H2584),2),\"\")","v":""}]
[null,null,null,null,null,null,null,null,{"$f":"IF(E2585<>\"\",ROUND((VLOOKUP(E2585,Param!$A$7:$E$13,4,0)*Fonct_Empl!F2585*((Fonct_Empl!G2585/12)))+(VLOOKUP(E2585,Param!$A$7:$E$13,5,0)*Fonct_Empl!H2585),2),\"\")","v":""}]
[null,null,null,null,null,null,null,null,{"$f":"IF(E2586<>\"\",ROUND((VLOOKUP(E2586,Param!$A$7:$E$13,4,0)*Fonct_Empl!F2586*((Fonct_Empl!G2586/12)))+(VLOOKUP(E2586,Param!$A$7:$E$13,5,0)*Fonct_Empl!H2586),2),\"\")","v":""}]
[null,null,null,null,null,null,null,null,{"$f":"IF(E2587<>\"\",ROUND((VLOOKUP(E2587,Param!$A$7:$E$13,4,0)*Fonct_Empl!F2587*((Fonct_Empl!G2587/12)))+(VLOOKUP(E2587,Param!$A$7:$E$13,5,0)*Fonct_Empl!H2587),2),\"\")","v":""}]
[null,null,null,null,null,null,null,null,{"$f":"IF(E2588<>\"\",ROUND((VLOOKUP(E2588,Param!$A$7:$E$13,4,0)*Fonct_Empl!F2588*((Fonct_Empl!G2588/12)))+(VLOOKUP(E2588,Param!$A$7:$E$13,5,0)*Fonct_Empl!H2588),2),\"\")","v":""}]
[null,null,null,null,null,null,null,null,{"$f":"IF(E2589<>\"\",ROUND((VLOOKUP(E2589,Param!$A$7:$E$13,4,0)*Fonct_Empl!F2589*((Fonct_Empl!G2589/12)))+(VLOOKUP(E2589,Param!$A$7:$E$13,5,0)*Fonct_Empl!H2589),2),\"\")","v":""}]
[null,null,null,null,null,null,null,null,{"$f":"IF(E2590<>\"\",ROUND((VLOOKUP(E2590,Param!$A$7:$E$13,4,0)*Fonct_Empl!F2590*((Fonct_Empl!G2590/12)))+(VLOOKUP(E2590,Param!$A$7:$E$13,5,0)*Fonct_Empl!H2590),2),\"\")","v":""}]
[null,null,null,null,null,null,null,null,{"$f":"IF(E2591<>\"\",ROUND((VLOOKUP(E2591,Param!$A$7:$E$13,4,0)*Fonct_Empl!F2591*((Fonct_Empl!G2591/12)))+(VLOOKUP(E2591,Param!$A$7:$E$13,5,0)*Fonct_Empl!H2591),2),\"\")","v":""}]
[null,null,null,null,null,null,null,null,{"$f":"IF(E2592<>\"\",ROUND((VLOOKUP(E2592,Param!$A$7:$E$13,4,0)*Fonct_Empl!F2592*((Fonct_Empl!G2592/12)))+(VLOOKUP(E2592,Param!$A$7:$E$13,5,0)*Fonct_Empl!H2592),2),\"\")","v":""}]
[null,null,null,null,null,null,null,null,{"$f":"IF(E2593<>\"\",ROUND((VLOOKUP(E2593,Param!$A$7:$E$13,4,0)*Fonct_Empl!F2593*((Fonct_Empl!G2593/12)))+(VLOOKUP(E2593,Param!$A$7:$E$13,5,0)*Fonct_Empl!H2593),2),\"\")","v":""}]
[null,null,null,null,null,null,null,null,{"$f":"IF(E2594<>\"\",ROUND((VLOOKUP(E2594,Param!$A$7:$E$13,4,0)*Fonct_Empl!F2594*((Fonct_Empl!G2594/12)))+(VLOOKUP(E2594,Param!$A$7:$E$13,5,0)*Fonct_Empl!H2594),2),\"\")","v":""}]
[null,null,null,null,null,null,null,null,{"$f":"IF(E2595<>\"\",ROUND((VLOOKUP(E2595,Param!$A$7:$E$13,4,0)*Fonct_Empl!F2595*((Fonct_Empl!G2595/12)))+(VLOOKUP(E2595,Param!$A$7:$E$13,5,0)*Fonct_Empl!H2595),2),\"\")","v":""}]
[null,null,null,null,null,null,null,null,{"$f":"IF(E2596<>\"\",ROUND((VLOOKUP(E2596,Param!$A$7:$E$13,4,0)*Fonct_Empl!F2596*((Fonct_Empl!G2596/12)))+(VLOOKUP(E2596,Param!$A$7:$E$13,5,0)*Fonct_Empl!H2596),2),\"\")","v":""}]
[null,null,null,null,null,null,null,null,{"$f":"IF(E2597<>\"\",ROUND((VLOOKUP(E2597,Param!$A$7:$E$13,4,0)*Fonct_Empl!F2597*((Fonct_Empl!G2597/12)))+(VLOOKUP(E2597,Param!$A$7:$E$13,5,0)*Fonct_Empl!H2597),2),\"\")","v":""}]
[null,null,null,null,null,null,null,null,{"$f":"IF(E2598<>\"\",ROUND((VLOOKUP(E2598,Param!$A$7:$E$13,4,0)*Fonct_Empl!F2598*((Fonct_Empl!G2598/12)))+(VLOOKUP(E2598,Param!$A$7:$E$13,5,0)*Fonct_Empl!H2598),2),\"\")","v":""}]
[null,null,null,null,null,null,null,null,{"$f":"IF(E2599<>\"\",ROUND((VLOOKUP(E2599,Param!$A$7:$E$13,4,0)*Fonct_Empl!F2599*((Fonct_Empl!G2599/12)))+(VLOOKUP(E2599,Param!$A$7:$E$13,5,0)*Fonct_Empl!H2599),2),\"\")","v":""}]
[null,null,null,null,null,null,null,null,{"$f":"IF(E2600<>\"\",ROUND((VLOOKUP(E2600,Param!$A$7:$E$13,4,0)*Fonct_Empl!F2600*((Fonct_Empl!G2600/12)))+(VLOOKUP(E2600,Param!$A$7:$E$13,5,0)*Fonct_Empl!H2600),2),\"\")","v":""}]
[null,null,null,null,null,null,null,null,{"$f":"IF(E2601<>\"\",ROUND((VLOOKUP(E2601,Param!$A$7:$E$13,4,0)*Fonct_Empl!F2601*((Fonct_Empl!G2601/12)))+(VLOOKUP(E2601,Param!$A$7:$E$13,5,0)*Fonct_Empl!H2601),2),\"\")","v":""}]
[null,null,null,null,null,null,null,null,{"$f":"IF(E2602<>\"\",ROUND((VLOOKUP(E2602,Param!$A$7:$E$13,4,0)*Fonct_Empl!F2602*((Fonct_Empl!G2602/12)))+(VLOOKUP(E2602,Param!$A$7:$E$13,5,0)*Fonct_Empl!H2602),2),\"\")","v":""}]
[null,null,null,null,null,null,null,null,{"$f":"IF(E2603<>\"\",ROUND((VLOOKUP(E2603,Param!$A$7:$E$13,4,0)*Fonct_Empl!F2603*((Fonct_Empl!G2603/12)))+(VLOOKUP(E2603,Param!$A$7:$E$13,5,0)*Fonct_Empl!H2603),2),\"\")","v":""}]
[null,null,null,null,null,null,null,null,{"$f":"IF(E2604<>\"\",ROUND((VLOOKUP(E2604,Param!$A$7:$E$13,4,0)*Fonct_Empl!F2604*((Fonct_Empl!G2604/12)))+(VLOOKUP(E2604,Param!$A$7:$E$13,5,0)*Fonct_Empl!H2604),2),\"\")","v":""}]
[null,null,null,null,null,null,null,null,{"$f":"IF(E2605<>\"\",ROUND((VLOOKUP(E2605,Param!$A$7:$E$13,4,0)*Fonct_Empl!F2605*((Fonct_Empl!G2605/12)))+(VLOOKUP(E2605,Param!$A$7:$E$13,5,0)*Fonct_Empl!H2605),2),\"\")","v":""}]
[null,null,null,null,null,null,null,null,{"$f":"IF(E2606<>\"\",ROUND((VLOOKUP(E2606,Param!$A$7:$E$13,4,0)*Fonct_Empl!F2606*((Fonct_Empl!G2606/12)))+(VLOOKUP(E2606,Param!$A$7:$E$13,5,0)*Fonct_Empl!H2606),2),\"\")","v":""}]
[null,null,null,null,null,null,null,null,{"$f":"IF(E2607<>\"\",ROUND((VLOOKUP(E2607,Param!$A$7:$E$13,4,0)*Fonct_Empl!F2607*((Fonct_Empl!G2607/12)))+(VLOOKUP(E2607,Param!$A$7:$E$13,5,0)*Fonct_Empl!H2607),2),\"\")","v":""}]
[null,null,null,null,null,null,null,null,{"$f":"IF(E2608<>\"\",ROUND((VLOOKUP(E2608,Param!$A$7:$E$13,4,0)*Fonct_Empl!F2608*((Fonct_Empl!G2608/12)))+(VLOOKUP(E2608,Param!$A$7:$E$13,5,0)*Fonct_Empl!H2608),2),\"\")","v":""}]
[null,null,null,null,null,null,null,null,{"$f":"IF(E2609<>\"\",ROUND((VLOOKUP(E2609,Param!$A$7:$E$13,4,0)*Fonct_Empl!F2609*((Fonct_Empl!G2609/12)))+(VLOOKUP(E2609,Param!$A$7:$E$13,5,0)*Fonct_Empl!H2609),2),\"\")","v":""}]
[null,null,null,null,null,null,null,null,{"$f":"IF(E2610<>\"\",ROUND((VLOOKUP(E2610,Param!$A$7:$E$13,4,0)*Fonct_Empl!F2610*((Fonct_Empl!G2610/12)))+(VLOOKUP(E2610,Param!$A$7:$E$13,5,0)*Fonct_Empl!H2610),2),\"\")","v":""}]
[null,null,null,null,null,null,null,null,{"$f":"IF(E2611<>\"\",ROUND((VLOOKUP(E2611,Param!$A$7:$E$13,4,0)*Fonct_Empl!F2611*((Fonct_Empl!G2611/12)))+(VLOOKUP(E2611,Param!$A$7:$E$13,5,0)*Fonct_Empl!H2611),2),\"\")","v":""}]
[null,null,null,null,null,null,null,null,{"$f":"IF(E2612<>\"\",ROUND((VLOOKUP(E2612,Param!$A$7:$E$13,4,0)*Fonct_Empl!F2612*((Fonct_Empl!G2612/12)))+(VLOOKUP(E2612,Param!$A$7:$E$13,5,0)*Fonct_Empl!H2612),2),\"\")","v":""}]
[null,null,null,null,null,null,null,null,{"$f":"IF(E2613<>\"\",ROUND((VLOOKUP(E2613,Param!$A$7:$E$13,4,0)*Fonct_Empl!F2613*((Fonct_Empl!G2613/12)))+(VLOOKUP(E2613,Param!$A$7:$E$13,5,0)*Fonct_Empl!H2613),2),\"\")","v":""}]
[null,null,null,null,null,null,null,null,{"$f":"IF(E2614<>\"\",ROUND((VLOOKUP(E2614,Param!$A$7:$E$13,4,0)*Fonct_Empl!F2614*((Fonct_Empl!G2614/12)))+(VLOOKUP(E2614,Param!$A$7:$E$13,5,0)*Fonct_Empl!H2614),2),\"\")","v":""}]
[null,null,null,null,null,null,null,null,{"$f":"IF(E2615<>\"\",ROUND((VLOOKUP(E2615,Param!$A$7:$E$13,4,0)*Fonct_Empl!F2615*((Fonct_Empl!G2615/12)))+(VLOOKUP(E2615,Param!$A$7:$E$13,5,0)*Fonct_Empl!H2615),2),\"\")","v":""}]
[null,null,null,null,null,null,null,null,{"$f":"IF(E2616<>\"\",ROUND((VLOOKUP(E2616,Param!$A$7:$E$13,4,0)*Fonct_Empl!F2616*((Fonct_Empl!G2616/12)))+(VLOOKUP(E2616,Param!$A$7:$E$13,5,0)*Fonct_Empl!H2616),2),\"\")","v":""}]
[null,null,null,null,null,null,null,null,{"$f":"IF(E2617<>\"\",ROUND((VLOOKUP(E2617,Param!$A$7:$E$13,4,0)*Fonct_Empl!F2617*((Fonct_Empl!G2617/12)))+(VLOOKUP(E2617,Param!$A$7:$E$13,5,0)*Fonct_Empl!H2617),2),\"\")","v":""}]
[null,null,null,null,null,null,null,null,{"$f":"IF(E2618<>\"\",ROUND((VLOOKUP(E2618,Param!$A$7:$E$13,4,0)*Fonct_Empl!F2618*((Fonct_Empl!G2618/12)))+(VLOOKUP(E2618,Param!$A$7:$E$13,5,0)*Fonct_Empl!H2618),2),\"\")","v":""}]
[null,null,null,null,null,null,null,null,{"$f":"IF(E2619<>\"\",ROUND((VLOOKUP(E2619,Param!$A$7:$E$13,4,0)*Fonct_Empl!F2619*((Fonct_Empl!G2619/12)))+(VLOOKUP(E2619,Param!$A$7:$E$13,5,0)*Fonct_Empl!H2619),2),\"\")","v":""}]
[null,null,null,null,null,null,null,null,{"$f":"IF(E2620<>\"\",ROUND((VLOOKUP(E2620,Param!$A$7:$E$13,4,0)*Fonct_Empl!F2620*((Fonct_Empl!G2620/12)))+(VLOOKUP(E2620,Param!$A$7:$E$13,5,0)*Fonct_Empl!H2620),2),\"\")","v":""}]
[null,null,null,null,null,null,null,null,{"$f":"IF(E2621<>\"\",ROUND((VLOOKUP(E2621,Param!$A$7:$E$13,4,0)*Fonct_Empl!F2621*((Fonct_Empl!G2621/12)))+(VLOOKUP(E2621,Param!$A$7:$E$13,5,0)*Fonct_Empl!H2621),2),\"\")","v":""}]
[null,null,null,null,null,null,null,null,{"$f":"IF(E2622<>\"\",ROUND((VLOOKUP(E2622,Param!$A$7:$E$13,4,0)*Fonct_Empl!F2622*((Fonct_Empl!G2622/12)))+(VLOOKUP(E2622,Param!$A$7:$E$13,5,0)*Fonct_Empl!H2622),2),\"\")","v":""}]
[null,null,null,null,null,null,null,null,{"$f":"IF(E2623<>\"\",ROUND((VLOOKUP(E2623,Param!$A$7:$E$13,4,0)*Fonct_Empl!F2623*((Fonct_Empl!G2623/12)))+(VLOOKUP(E2623,Param!$A$7:$E$13,5,0)*Fonct_Empl!H2623),2),\"\")","v":""}]
[null,null,null,null,null,null,null,null,{"$f":"IF(E2624<>\"\",ROUND((VLOOKUP(E2624,Param!$A$7:$E$13,4,0)*Fonct_Empl!F2624*((Fonct_Empl!G2624/12)))+(VLOOKUP(E2624,Param!$A$7:$E$13,5,0)*Fonct_Empl!H2624),2),\"\")","v":""}]
[null,null,null,null,null,null,null,null,{"$f":"IF(E2625<>\"\",ROUND((VLOOKUP(E2625,Param!$A$7:$E$13,4,0)*Fonct_Empl!F2625*((Fonct_Empl!G2625/12)))+(VLOOKUP(E2625,Param!$A$7:$E$13,5,0)*Fonct_Empl!H2625),2),\"\")","v":""}]
[null,null,null,null,null,null,null,null,{"$f":"IF(E2626<>\"\",ROUND((VLOOKUP(E2626,Param!$A$7:$E$13,4,0)*Fonct_Empl!F2626*((Fonct_Empl!G2626/12)))+(VLOOKUP(E2626,Param!$A$7:$E$13,5,0)*Fonct_Empl!H2626),2),\"\")","v":""}]
[null,null,null,null,null,null,null,null,{"$f":"IF(E2627<>\"\",ROUND((VLOOKUP(E2627,Param!$A$7:$E$13,4,0)*Fonct_Empl!F2627*((Fonct_Empl!G2627/12)))+(VLOOKUP(E2627,Param!$A$7:$E$13,5,0)*Fonct_Empl!H2627),2),\"\")","v":""}]
[null,null,null,null,null,null,null,null,{"$f":"IF(E2628<>\"\",ROUND((VLOOKUP(E2628,Param!$A$7:$E$13,4,0)*Fonct_Empl!F2628*((Fonct_Empl!G2628/12)))+(VLOOKUP(E2628,Param!$A$7:$E$13,5,0)*Fonct_Empl!H2628),2),\"\")","v":""}]
[null,null,null,null,null,null,null,null,{"$f":"IF(E2629<>\"\",ROUND((VLOOKUP(E2629,Param!$A$7:$E$13,4,0)*Fonct_Empl!F2629*((Fonct_Empl!G2629/12)))+(VLOOKUP(E2629,Param!$A$7:$E$13,5,0)*Fonct_Empl!H2629),2),\"\")","v":""}]
[null,null,null,null,null,null,null,null,{"$f":"IF(E2630<>\"\",ROUND((VLOOKUP(E2630,Param!$A$7:$E$13,4,0)*Fonct_Empl!F2630*((Fonct_Empl!G2630/12)))+(VLOOKUP(E2630,Param!$A$7:$E$13,5,0)*Fonct_Empl!H2630),2),\"\")","v":""}]
[null,null,null,null,null,null,null,null,{"$f":"IF(E2631<>\"\",ROUND((VLOOKUP(E2631,Param!$A$7:$E$13,4,0)*Fonct_Empl!F2631*((Fonct_Empl!G2631/12)))+(VLOOKUP(E2631,Param!$A$7:$E$13,5,0)*Fonct_Empl!H2631),2),\"\")","v":""}]
[null,null,null,null,null,null,null,null,{"$f":"IF(E2632<>\"\",ROUND((VLOOKUP(E2632,Param!$A$7:$E$13,4,0)*Fonct_Empl!F2632*((Fonct_Empl!G2632/12)))+(VLOOKUP(E2632,Param!$A$7:$E$13,5,0)*Fonct_Empl!H2632),2),\"\")","v":""}]
[null,null,null,null,null,null,null,null,{"$f":"IF(E2633<>\"\",ROUND((VLOOKUP(E2633,Param!$A$7:$E$13,4,0)*Fonct_Empl!F2633*((Fonct_Empl!G2633/12)))+(VLOOKUP(E2633,Param!$A$7:$E$13,5,0)*Fonct_Empl!H2633),2),\"\")","v":""}]
[null,null,null,null,null,null,null,null,{"$f":"IF(E2634<>\"\",ROUND((VLOOKUP(E2634,Param!$A$7:$E$13,4,0)*Fonct_Empl!F2634*((Fonct_Empl!G2634/12)))+(VLOOKUP(E2634,Param!$A$7:$E$13,5,0)*Fonct_Empl!H2634),2),\"\")","v":""}]
[null,null,null,null,null,null,null,null,{"$f":"IF(E2635<>\"\",ROUND((VLOOKUP(E2635,Param!$A$7:$E$13,4,0)*Fonct_Empl!F2635*((Fonct_Empl!G2635/12)))+(VLOOKUP(E2635,Param!$A$7:$E$13,5,0)*Fonct_Empl!H2635),2),\"\")","v":""}]
[null,null,null,null,null,null,null,null,{"$f":"IF(E2636<>\"\",ROUND((VLOOKUP(E2636,Param!$A$7:$E$13,4,0)*Fonct_Empl!F2636*((Fonct_Empl!G2636/12)))+(VLOOKUP(E2636,Param!$A$7:$E$13,5,0)*Fonct_Empl!H2636),2),\"\")","v":""}]
[null,null,null,null,null,null,null,null,{"$f":"IF(E2637<>\"\",ROUND((VLOOKUP(E2637,Param!$A$7:$E$13,4,0)*Fonct_Empl!F2637*((Fonct_Empl!G2637/12)))+(VLOOKUP(E2637,Param!$A$7:$E$13,5,0)*Fonct_Empl!H2637),2),\"\")","v":""}]
[null,null,null,null,null,null,null,null,{"$f":"IF(E2638<>\"\",ROUND((VLOOKUP(E2638,Param!$A$7:$E$13,4,0)*Fonct_Empl!F2638*((Fonct_Empl!G2638/12)))+(VLOOKUP(E2638,Param!$A$7:$E$13,5,0)*Fonct_Empl!H2638),2),\"\")","v":""}]
[null,null,null,null,null,null,null,null,{"$f":"IF(E2639<>\"\",ROUND((VLOOKUP(E2639,Param!$A$7:$E$13,4,0)*Fonct_Empl!F2639*((Fonct_Empl!G2639/12)))+(VLOOKUP(E2639,Param!$A$7:$E$13,5,0)*Fonct_Empl!H2639),2),\"\")","v":""}]
[null,null,null,null,null,null,null,null,{"$f":"IF(E2640<>\"\",ROUND((VLOOKUP(E2640,Param!$A$7:$E$13,4,0)*Fonct_Empl!F2640*((Fonct_Empl!G2640/12)))+(VLOOKUP(E2640,Param!$A$7:$E$13,5,0)*Fonct_Empl!H2640),2),\"\")","v":""}]
[null,null,null,null,null,null,null,null,{"$f":"IF(E2641<>\"\",ROUND((VLOOKUP(E2641,Param!$A$7:$E$13,4,0)*Fonct_Empl!F2641*((Fonct_Empl!G2641/12)))+(VLOOKUP(E2641,Param!$A$7:$E$13,5,0)*Fonct_Empl!H2641),2),\"\")","v":""}]
[null,null,null,null,null,null,null,null,{"$f":"IF(E2642<>\"\",ROUND((VLOOKUP(E2642,Param!$A$7:$E$13,4,0)*Fonct_Empl!F2642*((Fonct_Empl!G2642/12)))+(VLOOKUP(E2642,Param!$A$7:$E$13,5,0)*Fonct_Empl!H2642),2),\"\")","v":""}]
[null,null,null,null,null,null,null,null,{"$f":"IF(E2643<>\"\",ROUND((VLOOKUP(E2643,Param!$A$7:$E$13,4,0)*Fonct_Empl!F2643*((Fonct_Empl!G2643/12)))+(VLOOKUP(E2643,Param!$A$7:$E$13,5,0)*Fonct_Empl!H2643),2),\"\")","v":""}]
[null,null,null,null,null,null,null,null,{"$f":"IF(E2644<>\"\",ROUND((VLOOKUP(E2644,Param!$A$7:$E$13,4,0)*Fonct_Empl!F2644*((Fonct_Empl!G2644/12)))+(VLOOKUP(E2644,Param!$A$7:$E$13,5,0)*Fonct_Empl!H2644),2),\"\")","v":""}]
[null,null,null,null,null,null,null,null,{"$f":"IF(E2645<>\"\",ROUND((VLOOKUP(E2645,Param!$A$7:$E$13,4,0)*Fonct_Empl!F2645*((Fonct_Empl!G2645/12)))+(VLOOKUP(E2645,Param!$A$7:$E$13,5,0)*Fonct_Empl!H2645),2),\"\")","v":""}]
[null,null,null,null,null,null,null,null,{"$f":"IF(E2646<>\"\",ROUND((VLOOKUP(E2646,Param!$A$7:$E$13,4,0)*Fonct_Empl!F2646*((Fonct_Empl!G2646/12)))+(VLOOKUP(E2646,Param!$A$7:$E$13,5,0)*Fonct_Empl!H2646),2),\"\")","v":""}]
[null,null,null,null,null,null,null,null,{"$f":"IF(E2647<>\"\",ROUND((VLOOKUP(E2647,Param!$A$7:$E$13,4,0)*Fonct_Empl!F2647*((Fonct_Empl!G2647/12)))+(VLOOKUP(E2647,Param!$A$7:$E$13,5,0)*Fonct_Empl!H2647),2),\"\")","v":""}]
[null,null,null,null,null,null,null,null,{"$f":"IF(E2648<>\"\",ROUND((VLOOKUP(E2648,Param!$A$7:$E$13,4,0)*Fonct_Empl!F2648*((Fonct_Empl!G2648/12)))+(VLOOKUP(E2648,Param!$A$7:$E$13,5,0)*Fonct_Empl!H2648),2),\"\")","v":""}]
[null,null,null,null,null,null,null,null,{"$f":"IF(E2649<>\"\",ROUND((VLOOKUP(E2649,Param!$A$7:$E$13,4,0)*Fonct_Empl!F2649*((Fonct_Empl!G2649/12)))+(VLOOKUP(E2649,Param!$A$7:$E$13,5,0)*Fonct_Empl!H2649),2),\"\")","v":""}]
[null,null,null,null,null,null,null,null,{"$f":"IF(E2650<>\"\",ROUND((VLOOKUP(E2650,Param!$A$7:$E$13,4,0)*Fonct_Empl!F2650*((Fonct_Empl!G2650/12)))+(VLOOKUP(E2650,Param!$A$7:$E$13,5,0)*Fonct_Empl!H2650),2),\"\")","v":""}]
[null,null,null,null,null,null,null,null,{"$f":"IF(E2651<>\"\",ROUND((VLOOKUP(E2651,Param!$A$7:$E$13,4,0)*Fonct_Empl!F2651*((Fonct_Empl!G2651/12)))+(VLOOKUP(E2651,Param!$A$7:$E$13,5,0)*Fonct_Empl!H2651),2),\"\")","v":""}]
[null,null,null,null,null,null,null,null,{"$f":"IF(E2652<>\"\",ROUND((VLOOKUP(E2652,Param!$A$7:$E$13,4,0)*Fonct_Empl!F2652*((Fonct_Empl!G2652/12)))+(VLOOKUP(E2652,Param!$A$7:$E$13,5,0)*Fonct_Empl!H2652),2),\"\")","v":""}]
[null,null,null,null,null,null,null,null,{"$f":"IF(E2653<>\"\",ROUND((VLOOKUP(E2653,Param!$A$7:$E$13,4,0)*Fonct_Empl!F2653*((Fonct_Empl!G2653/12)))+(VLOOKUP(E2653,Param!$A$7:$E$13,5,0)*Fonct_Empl!H2653),2),\"\")","v":""}]
[null,null,null,null,null,null,null,null,{"$f":"IF(E2654<>\"\",ROUND((VLOOKUP(E2654,Param!$A$7:$E$13,4,0)*Fonct_Empl!F2654*((Fonct_Empl!G2654/12)))+(VLOOKUP(E2654,Param!$A$7:$E$13,5,0)*Fonct_Empl!H2654),2),\"\")","v":""}]
[null,null,null,null,null,null,null,null,{"$f":"IF(E2655<>\"\",ROUND((VLOOKUP(E2655,Param!$A$7:$E$13,4,0)*Fonct_Empl!F2655*((Fonct_Empl!G2655/12)))+(VLOOKUP(E2655,Param!$A$7:$E$13,5,0)*Fonct_Empl!H2655),2),\"\")","v":""}]
[null,null,null,null,null,null,null,null,{"$f":"IF(E2656<>\"\",ROUND((VLOOKUP(E2656,Param!$A$7:$E$13,4,0)*Fonct_Empl!F2656*((Fonct_Empl!G2656/12)))+(VLOOKUP(E2656,Param!$A$7:$E$13,5,0)*Fonct_Empl!H2656),2),\"\")","v":""}]
[null,null,null,null,null,null,null,null,{"$f":"IF(E2657<>\"\",ROUND((VLOOKUP(E2657,Param!$A$7:$E$13,4,0)*Fonct_Empl!F2657*((Fonct_Empl!G2657/12)))+(VLOOKUP(E2657,Param!$A$7:$E$13,5,0)*Fonct_Empl!H2657),2),\"\")","v":""}]
[null,null,null,null,null,null,null,null,{"$f":"IF(E2658<>\"\",ROUND((VLOOKUP(E2658,Param!$A$7:$E$13,4,0)*Fonct_Empl!F2658*((Fonct_Empl!G2658/12)))+(VLOOKUP(E2658,Param!$A$7:$E$13,5,0)*Fonct_Empl!H2658),2),\"\")","v":""}]
[null,null,null,null,null,null,null,null,{"$f":"IF(E2659<>\"\",ROUND((VLOOKUP(E2659,Param!$A$7:$E$13,4,0)*Fonct_Empl!F2659*((Fonct_Empl!G2659/12)))+(VLOOKUP(E2659,Param!$A$7:$E$13,5,0)*Fonct_Empl!H2659),2),\"\")","v":""}]
[null,null,null,null,null,null,null,null,{"$f":"IF(E2660<>\"\",ROUND((VLOOKUP(E2660,Param!$A$7:$E$13,4,0)*Fonct_Empl!F2660*((Fonct_Empl!G2660/12)))+(VLOOKUP(E2660,Param!$A$7:$E$13,5,0)*Fonct_Empl!H2660),2),\"\")","v":""}]
[null,null,null,null,null,null,null,null,{"$f":"IF(E2661<>\"\",ROUND((VLOOKUP(E2661,Param!$A$7:$E$13,4,0)*Fonct_Empl!F2661*((Fonct_Empl!G2661/12)))+(VLOOKUP(E2661,Param!$A$7:$E$13,5,0)*Fonct_Empl!H2661),2),\"\")","v":""}]
[null,null,null,null,null,null,null,null,{"$f":"IF(E2662<>\"\",ROUND((VLOOKUP(E2662,Param!$A$7:$E$13,4,0)*Fonct_Empl!F2662*((Fonct_Empl!G2662/12)))+(VLOOKUP(E2662,Param!$A$7:$E$13,5,0)*Fonct_Empl!H2662),2),\"\")","v":""}]
[null,null,null,null,null,null,null,null,{"$f":"IF(E2663<>\"\",ROUND((VLOOKUP(E2663,Param!$A$7:$E$13,4,0)*Fonct_Empl!F2663*((Fonct_Empl!G2663/12)))+(VLOOKUP(E2663,Param!$A$7:$E$13,5,0)*Fonct_Empl!H2663),2),\"\")","v":""}]
[null,null,null,null,null,null,null,null,{"$f":"IF(E2664<>\"\",ROUND((VLOOKUP(E2664,Param!$A$7:$E$13,4,0)*Fonct_Empl!F2664*((Fonct_Empl!G2664/12)))+(VLOOKUP(E2664,Param!$A$7:$E$13,5,0)*Fonct_Empl!H2664),2),\"\")","v":""}]
[null,null,null,null,null,null,null,null,{"$f":"IF(E2665<>\"\",ROUND((VLOOKUP(E2665,Param!$A$7:$E$13,4,0)*Fonct_Empl!F2665*((Fonct_Empl!G2665/12)))+(VLOOKUP(E2665,Param!$A$7:$E$13,5,0)*Fonct_Empl!H2665),2),\"\")","v":""}]
[null,null,null,null,null,null,null,null,{"$f":"IF(E2666<>\"\",ROUND((VLOOKUP(E2666,Param!$A$7:$E$13,4,0)*Fonct_Empl!F2666*((Fonct_Empl!G2666/12)))+(VLOOKUP(E2666,Param!$A$7:$E$13,5,0)*Fonct_Empl!H2666),2),\"\")","v":""}]
[null,null,null,null,null,null,null,null,{"$f":"IF(E2667<>\"\",ROUND((VLOOKUP(E2667,Param!$A$7:$E$13,4,0)*Fonct_Empl!F2667*((Fonct_Empl!G2667/12)))+(VLOOKUP(E2667,Param!$A$7:$E$13,5,0)*Fonct_Empl!H2667),2),\"\")","v":""}]
[null,null,null,null,null,null,null,null,{"$f":"IF(E2668<>\"\",ROUND((VLOOKUP(E2668,Param!$A$7:$E$13,4,0)*Fonct_Empl!F2668*((Fonct_Empl!G2668/12)))+(VLOOKUP(E2668,Param!$A$7:$E$13,5,0)*Fonct_Empl!H2668),2),\"\")","v":""}]
[null,null,null,null,null,null,null,null,{"$f":"IF(E2669<>\"\",ROUND((VLOOKUP(E2669,Param!$A$7:$E$13,4,0)*Fonct_Empl!F2669*((Fonct_Empl!G2669/12)))+(VLOOKUP(E2669,Param!$A$7:$E$13,5,0)*Fonct_Empl!H2669),2),\"\")","v":""}]
[null,null,null,null,null,null,null,null,{"$f":"IF(E2670<>\"\",ROUND((VLOOKUP(E2670,Param!$A$7:$E$13,4,0)*Fonct_Empl!F2670*((Fonct_Empl!G2670/12)))+(VLOOKUP(E2670,Param!$A$7:$E$13,5,0)*Fonct_Empl!H2670),2),\"\")","v":""}]
[null,null,null,null,null,null,null,null,{"$f":"IF(E2671<>\"\",ROUND((VLOOKUP(E2671,Param!$A$7:$E$13,4,0)*Fonct_Empl!F2671*((Fonct_Empl!G2671/12)))+(VLOOKUP(E2671,Param!$A$7:$E$13,5,0)*Fonct_Empl!H2671),2),\"\")","v":""}]
[null,null,null,null,null,null,null,null,{"$f":"IF(E2672<>\"\",ROUND((VLOOKUP(E2672,Param!$A$7:$E$13,4,0)*Fonct_Empl!F2672*((Fonct_Empl!G2672/12)))+(VLOOKUP(E2672,Param!$A$7:$E$13,5,0)*Fonct_Empl!H2672),2),\"\")","v":""}]
[null,null,null,null,null,null,null,null,{"$f":"IF(E2673<>\"\",ROUND((VLOOKUP(E2673,Param!$A$7:$E$13,4,0)*Fonct_Empl!F2673*((Fonct_Empl!G2673/12)))+(VLOOKUP(E2673,Param!$A$7:$E$13,5,0)*Fonct_Empl!H2673),2),\"\")","v":""}]
[null,null,null,null,null,null,null,null,{"$f":"IF(E2674<>\"\",ROUND((VLOOKUP(E2674,Param!$A$7:$E$13,4,0)*Fonct_Empl!F2674*((Fonct_Empl!G2674/12)))+(VLOOKUP(E2674,Param!$A$7:$E$13,5,0)*Fonct_Empl!H2674),2),\"\")","v":""}]
[null,null,null,null,null,null,null,null,{"$f":"IF(E2675<>\"\",ROUND((VLOOKUP(E2675,Param!$A$7:$E$13,4,0)*Fonct_Empl!F2675*((Fonct_Empl!G2675/12)))+(VLOOKUP(E2675,Param!$A$7:$E$13,5,0)*Fonct_Empl!H2675),2),\"\")","v":""}]
[null,null,null,null,null,null,null,null,{"$f":"IF(E2676<>\"\",ROUND((VLOOKUP(E2676,Param!$A$7:$E$13,4,0)*Fonct_Empl!F2676*((Fonct_Empl!G2676/12)))+(VLOOKUP(E2676,Param!$A$7:$E$13,5,0)*Fonct_Empl!H2676),2),\"\")","v":""}]
[null,null,null,null,null,null,null,null,{"$f":"IF(E2677<>\"\",ROUND((VLOOKUP(E2677,Param!$A$7:$E$13,4,0)*Fonct_Empl!F2677*((Fonct_Empl!G2677/12)))+(VLOOKUP(E2677,Param!$A$7:$E$13,5,0)*Fonct_Empl!H2677),2),\"\")","v":""}]
[null,null,null,null,null,null,null,null,{"$f":"IF(E2678<>\"\",ROUND((VLOOKUP(E2678,Param!$A$7:$E$13,4,0)*Fonct_Empl!F2678*((Fonct_Empl!G2678/12)))+(VLOOKUP(E2678,Param!$A$7:$E$13,5,0)*Fonct_Empl!H2678),2),\"\")","v":""}]
[null,null,null,null,null,null,null,null,{"$f":"IF(E2679<>\"\",ROUND((VLOOKUP(E2679,Param!$A$7:$E$13,4,0)*Fonct_Empl!F2679*((Fonct_Empl!G2679/12)))+(VLOOKUP(E2679,Param!$A$7:$E$13,5,0)*Fonct_Empl!H2679),2),\"\")","v":""}]
[null,null,null,null,null,null,null,null,{"$f":"IF(E2680<>\"\",ROUND((VLOOKUP(E2680,Param!$A$7:$E$13,4,0)*Fonct_Empl!F2680*((Fonct_Empl!G2680/12)))+(VLOOKUP(E2680,Param!$A$7:$E$13,5,0)*Fonct_Empl!H2680),2),\"\")","v":""}]
[null,null,null,null,null,null,null,null,{"$f":"IF(E2681<>\"\",ROUND((VLOOKUP(E2681,Param!$A$7:$E$13,4,0)*Fonct_Empl!F2681*((Fonct_Empl!G2681/12)))+(VLOOKUP(E2681,Param!$A$7:$E$13,5,0)*Fonct_Empl!H2681),2),\"\")","v":""}]
[null,null,null,null,null,null,null,null,{"$f":"IF(E2682<>\"\",ROUND((VLOOKUP(E2682,Param!$A$7:$E$13,4,0)*Fonct_Empl!F2682*((Fonct_Empl!G2682/12)))+(VLOOKUP(E2682,Param!$A$7:$E$13,5,0)*Fonct_Empl!H2682),2),\"\")","v":""}]
[null,null,null,null,null,null,null,null,{"$f":"IF(E2683<>\"\",ROUND((VLOOKUP(E2683,Param!$A$7:$E$13,4,0)*Fonct_Empl!F2683*((Fonct_Empl!G2683/12)))+(VLOOKUP(E2683,Param!$A$7:$E$13,5,0)*Fonct_Empl!H2683),2),\"\")","v":""}]
[null,null,null,null,null,null,null,null,{"$f":"IF(E2684<>\"\",ROUND((VLOOKUP(E2684,Param!$A$7:$E$13,4,0)*Fonct_Empl!F2684*((Fonct_Empl!G2684/12)))+(VLOOKUP(E2684,Param!$A$7:$E$13,5,0)*Fonct_Empl!H2684),2),\"\")","v":""}]
[null,null,null,null,null,null,null,null,{"$f":"IF(E2685<>\"\",ROUND((VLOOKUP(E2685,Param!$A$7:$E$13,4,0)*Fonct_Empl!F2685*((Fonct_Empl!G2685/12)))+(VLOOKUP(E2685,Param!$A$7:$E$13,5,0)*Fonct_Empl!H2685),2),\"\")","v":""}]
[null,null,null,null,null,null,null,null,{"$f":"IF(E2686<>\"\",ROUND((VLOOKUP(E2686,Param!$A$7:$E$13,4,0)*Fonct_Empl!F2686*((Fonct_Empl!G2686/12)))+(VLOOKUP(E2686,Param!$A$7:$E$13,5,0)*Fonct_Empl!H2686),2),\"\")","v":""}]
[null,null,null,null,null,null,null,null,{"$f":"IF(E2687<>\"\",ROUND((VLOOKUP(E2687,Param!$A$7:$E$13,4,0)*Fonct_Empl!F2687*((Fonct_Empl!G2687/12)))+(VLOOKUP(E2687,Param!$A$7:$E$13,5,0)*Fonct_Empl!H2687),2),\"\")","v":""}]
[null,null,null,null,null,null,null,null,{"$f":"IF(E2688<>\"\",ROUND((VLOOKUP(E2688,Param!$A$7:$E$13,4,0)*Fonct_Empl!F2688*((Fonct_Empl!G2688/12)))+(VLOOKUP(E2688,Param!$A$7:$E$13,5,0)*Fonct_Empl!H2688),2),\"\")","v":""}]
[null,null,null,null,null,null,null,null,{"$f":"IF(E2689<>\"\",ROUND((VLOOKUP(E2689,Param!$A$7:$E$13,4,0)*Fonct_Empl!F2689*((Fonct_Empl!G2689/12)))+(VLOOKUP(E2689,Param!$A$7:$E$13,5,0)*Fonct_Empl!H2689),2),\"\")","v":""}]
[null,null,null,null,null,null,null,null,{"$f":"IF(E2690<>\"\",ROUND((VLOOKUP(E2690,Param!$A$7:$E$13,4,0)*Fonct_Empl!F2690*((Fonct_Empl!G2690/12)))+(VLOOKUP(E2690,Param!$A$7:$E$13,5,0)*Fonct_Empl!H2690),2),\"\")","v":""}]
[null,null,null,null,null,null,null,null,{"$f":"IF(E2691<>\"\",ROUND((VLOOKUP(E2691,Param!$A$7:$E$13,4,0)*Fonct_Empl!F2691*((Fonct_Empl!G2691/12)))+(VLOOKUP(E2691,Param!$A$7:$E$13,5,0)*Fonct_Empl!H2691),2),\"\")","v":""}]
[null,null,null,null,null,null,null,null,{"$f":"IF(E2692<>\"\",ROUND((VLOOKUP(E2692,Param!$A$7:$E$13,4,0)*Fonct_Empl!F2692*((Fonct_Empl!G2692/12)))+(VLOOKUP(E2692,Param!$A$7:$E$13,5,0)*Fonct_Empl!H2692),2),\"\")","v":""}]
[null,null,null,null,null,null,null,null,{"$f":"IF(E2693<>\"\",ROUND((VLOOKUP(E2693,Param!$A$7:$E$13,4,0)*Fonct_Empl!F2693*((Fonct_Empl!G2693/12)))+(VLOOKUP(E2693,Param!$A$7:$E$13,5,0)*Fonct_Empl!H2693),2),\"\")","v":""}]
[null,null,null,null,null,null,null,null,{"$f":"IF(E2694<>\"\",ROUND((VLOOKUP(E2694,Param!$A$7:$E$13,4,0)*Fonct_Empl!F2694*((Fonct_Empl!G2694/12)))+(VLOOKUP(E2694,Param!$A$7:$E$13,5,0)*Fonct_Empl!H2694),2),\"\")","v":""}]
[null,null,null,null,null,null,null,null,{"$f":"IF(E2695<>\"\",ROUND((VLOOKUP(E2695,Param!$A$7:$E$13,4,0)*Fonct_Empl!F2695*((Fonct_Empl!G2695/12)))+(VLOOKUP(E2695,Param!$A$7:$E$13,5,0)*Fonct_Empl!H2695),2),\"\")","v":""}]
[null,null,null,null,null,null,null,null,{"$f":"IF(E2696<>\"\",ROUND((VLOOKUP(E2696,Param!$A$7:$E$13,4,0)*Fonct_Empl!F2696*((Fonct_Empl!G2696/12)))+(VLOOKUP(E2696,Param!$A$7:$E$13,5,0)*Fonct_Empl!H2696),2),\"\")","v":""}]
[null,null,null,null,null,null,null,null,{"$f":"IF(E2697<>\"\",ROUND((VLOOKUP(E2697,Param!$A$7:$E$13,4,0)*Fonct_Empl!F2697*((Fonct_Empl!G2697/12)))+(VLOOKUP(E2697,Param!$A$7:$E$13,5,0)*Fonct_Empl!H2697),2),\"\")","v":""}]
[null,null,null,null,null,null,null,null,{"$f":"IF(E2698<>\"\",ROUND((VLOOKUP(E2698,Param!$A$7:$E$13,4,0)*Fonct_Empl!F2698*((Fonct_Empl!G2698/12)))+(VLOOKUP(E2698,Param!$A$7:$E$13,5,0)*Fonct_Empl!H2698),2),\"\")","v":""}]
[null,null,null,null,null,null,null,null,{"$f":"IF(E2699<>\"\",ROUND((VLOOKUP(E2699,Param!$A$7:$E$13,4,0)*Fonct_Empl!F2699*((Fonct_Empl!G2699/12)))+(VLOOKUP(E2699,Param!$A$7:$E$13,5,0)*Fonct_Empl!H2699),2),\"\")","v":""}]
[null,null,null,null,null,null,null,null,{"$f":"IF(E2700<>\"\",ROUND((VLOOKUP(E2700,Param!$A$7:$E$13,4,0)*Fonct_Empl!F2700*((Fonct_Empl!G2700/12)))+(VLOOKUP(E2700,Param!$A$7:$E$13,5,0)*Fonct_Empl!H2700),2),\"\")","v":""}]
[null,null,null,null,null,null,null,null,{"$f":"IF(E2701<>\"\",ROUND((VLOOKUP(E2701,Param!$A$7:$E$13,4,0)*Fonct_Empl!F2701*((Fonct_Empl!G2701/12)))+(VLOOKUP(E2701,Param!$A$7:$E$13,5,0)*Fonct_Empl!H2701),2),\"\")","v":""}]
[null,null,null,null,null,null,null,null,{"$f":"IF(E2702<>\"\",ROUND((VLOOKUP(E2702,Param!$A$7:$E$13,4,0)*Fonct_Empl!F2702*((Fonct_Empl!G2702/12)))+(VLOOKUP(E2702,Param!$A$7:$E$13,5,0)*Fonct_Empl!H2702),2),\"\")","v":""}]
[null,null,null,null,null,null,null,null,{"$f":"IF(E2703<>\"\",ROUND((VLOOKUP(E2703,Param!$A$7:$E$13,4,0)*Fonct_Empl!F2703*((Fonct_Empl!G2703/12)))+(VLOOKUP(E2703,Param!$A$7:$E$13,5,0)*Fonct_Empl!H2703),2),\"\")","v":""}]
[null,null,null,null,null,null,null,null,{"$f":"IF(E2704<>\"\",ROUND((VLOOKUP(E2704,Param!$A$7:$E$13,4,0)*Fonct_Empl!F2704*((Fonct_Empl!G2704/12)))+(VLOOKUP(E2704,Param!$A$7:$E$13,5,0)*Fonct_Empl!H2704),2),\"\")","v":""}]
[null,null,null,null,null,null,null,null,{"$f":"IF(E2705<>\"\",ROUND((VLOOKUP(E2705,Param!$A$7:$E$13,4,0)*Fonct_Empl!F2705*((Fonct_Empl!G2705/12)))+(VLOOKUP(E2705,Param!$A$7:$E$13,5,0)*Fonct_Empl!H2705),2),\"\")","v":""}]
[null,null,null,null,null,null,null,null,{"$f":"IF(E2706<>\"\",ROUND((VLOOKUP(E2706,Param!$A$7:$E$13,4,0)*Fonct_Empl!F2706*((Fonct_Empl!G2706/12)))+(VLOOKUP(E2706,Param!$A$7:$E$13,5,0)*Fonct_Empl!H2706),2),\"\")","v":""}]
[null,null,null,null,null,null,null,null,{"$f":"IF(E2707<>\"\",ROUND((VLOOKUP(E2707,Param!$A$7:$E$13,4,0)*Fonct_Empl!F2707*((Fonct_Empl!G2707/12)))+(VLOOKUP(E2707,Param!$A$7:$E$13,5,0)*Fonct_Empl!H2707),2),\"\")","v":""}]
[null,null,null,null,null,null,null,null,{"$f":"IF(E2708<>\"\",ROUND((VLOOKUP(E2708,Param!$A$7:$E$13,4,0)*Fonct_Empl!F2708*((Fonct_Empl!G2708/12)))+(VLOOKUP(E2708,Param!$A$7:$E$13,5,0)*Fonct_Empl!H2708),2),\"\")","v":""}]
[null,null,null,null,null,null,null,null,{"$f":"IF(E2709<>\"\",ROUND((VLOOKUP(E2709,Param!$A$7:$E$13,4,0)*Fonct_Empl!F2709*((Fonct_Empl!G2709/12)))+(VLOOKUP(E2709,Param!$A$7:$E$13,5,0)*Fonct_Empl!H2709),2),\"\")","v":""}]
[null,null,null,null,null,null,null,null,{"$f":"IF(E2710<>\"\",ROUND((VLOOKUP(E2710,Param!$A$7:$E$13,4,0)*Fonct_Empl!F2710*((Fonct_Empl!G2710/12)))+(VLOOKUP(E2710,Param!$A$7:$E$13,5,0)*Fonct_Empl!H2710),2),\"\")","v":""}]
[null,null,null,null,null,null,null,null,{"$f":"IF(E2711<>\"\",ROUND((VLOOKUP(E2711,Param!$A$7:$E$13,4,0)*Fonct_Empl!F2711*((Fonct_Empl!G2711/12)))+(VLOOKUP(E2711,Param!$A$7:$E$13,5,0)*Fonct_Empl!H2711),2),\"\")","v":""}]
[null,null,null,null,null,null,null,null,{"$f":"IF(E2712<>\"\",ROUND((VLOOKUP(E2712,Param!$A$7:$E$13,4,0)*Fonct_Empl!F2712*((Fonct_Empl!G2712/12)))+(VLOOKUP(E2712,Param!$A$7:$E$13,5,0)*Fonct_Empl!H2712),2),\"\")","v":""}]
[null,null,null,null,null,null,null,null,{"$f":"IF(E2713<>\"\",ROUND((VLOOKUP(E2713,Param!$A$7:$E$13,4,0)*Fonct_Empl!F2713*((Fonct_Empl!G2713/12)))+(VLOOKUP(E2713,Param!$A$7:$E$13,5,0)*Fonct_Empl!H2713),2),\"\")","v":""}]
[null,null,null,null,null,null,null,null,{"$f":"IF(E2714<>\"\",ROUND((VLOOKUP(E2714,Param!$A$7:$E$13,4,0)*Fonct_Empl!F2714*((Fonct_Empl!G2714/12)))+(VLOOKUP(E2714,Param!$A$7:$E$13,5,0)*Fonct_Empl!H2714),2),\"\")","v":""}]
[null,null,null,null,null,null,null,null,{"$f":"IF(E2715<>\"\",ROUND((VLOOKUP(E2715,Param!$A$7:$E$13,4,0)*Fonct_Empl!F2715*((Fonct_Empl!G2715/12)))+(VLOOKUP(E2715,Param!$A$7:$E$13,5,0)*Fonct_Empl!H2715),2),\"\")","v":""}]
[null,null,null,null,null,null,null,null,{"$f":"IF(E2716<>\"\",ROUND((VLOOKUP(E2716,Param!$A$7:$E$13,4,0)*Fonct_Empl!F2716*((Fonct_Empl!G2716/12)))+(VLOOKUP(E2716,Param!$A$7:$E$13,5,0)*Fonct_Empl!H2716),2),\"\")","v":""}]
[null,null,null,null,null,null,null,null,{"$f":"IF(E2717<>\"\",ROUND((VLOOKUP(E2717,Param!$A$7:$E$13,4,0)*Fonct_Empl!F2717*((Fonct_Empl!G2717/12)))+(VLOOKUP(E2717,Param!$A$7:$E$13,5,0)*Fonct_Empl!H2717),2),\"\")","v":""}]
[null,null,null,null,null,null,null,null,{"$f":"IF(E2718<>\"\",ROUND((VLOOKUP(E2718,Param!$A$7:$E$13,4,0)*Fonct_Empl!F2718*((Fonct_Empl!G2718/12)))+(VLOOKUP(E2718,Param!$A$7:$E$13,5,0)*Fonct_Empl!H2718),2),\"\")","v":""}]
[null,null,null,null,null,null,null,null,{"$f":"IF(E2719<>\"\",ROUND((VLOOKUP(E2719,Param!$A$7:$E$13,4,0)*Fonct_Empl!F2719*((Fonct_Empl!G2719/12)))+(VLOOKUP(E2719,Param!$A$7:$E$13,5,0)*Fonct_Empl!H2719),2),\"\")","v":""}]
[null,null,null,null,null,null,null,null,{"$f":"IF(E2720<>\"\",ROUND((VLOOKUP(E2720,Param!$A$7:$E$13,4,0)*Fonct_Empl!F2720*((Fonct_Empl!G2720/12)))+(VLOOKUP(E2720,Param!$A$7:$E$13,5,0)*Fonct_Empl!H2720),2),\"\")","v":""}]
[null,null,null,null,null,null,null,null,{"$f":"IF(E2721<>\"\",ROUND((VLOOKUP(E2721,Param!$A$7:$E$13,4,0)*Fonct_Empl!F2721*((Fonct_Empl!G2721/12)))+(VLOOKUP(E2721,Param!$A$7:$E$13,5,0)*Fonct_Empl!H2721),2),\"\")","v":""}]
[null,null,null,null,null,null,null,null,{"$f":"IF(E2722<>\"\",ROUND((VLOOKUP(E2722,Param!$A$7:$E$13,4,0)*Fonct_Empl!F2722*((Fonct_Empl!G2722/12)))+(VLOOKUP(E2722,Param!$A$7:$E$13,5,0)*Fonct_Empl!H2722),2),\"\")","v":""}]
[null,null,null,null,null,null,null,null,{"$f":"IF(E2723<>\"\",ROUND((VLOOKUP(E2723,Param!$A$7:$E$13,4,0)*Fonct_Empl!F2723*((Fonct_Empl!G2723/12)))+(VLOOKUP(E2723,Param!$A$7:$E$13,5,0)*Fonct_Empl!H2723),2),\"\")","v":""}]
[null,null,null,null,null,null,null,null,{"$f":"IF(E2724<>\"\",ROUND((VLOOKUP(E2724,Param!$A$7:$E$13,4,0)*Fonct_Empl!F2724*((Fonct_Empl!G2724/12)))+(VLOOKUP(E2724,Param!$A$7:$E$13,5,0)*Fonct_Empl!H2724),2),\"\")","v":""}]
[null,null,null,null,null,null,null,null,{"$f":"IF(E2725<>\"\",ROUND((VLOOKUP(E2725,Param!$A$7:$E$13,4,0)*Fonct_Empl!F2725*((Fonct_Empl!G2725/12)))+(VLOOKUP(E2725,Param!$A$7:$E$13,5,0)*Fonct_Empl!H2725),2),\"\")","v":""}]
[null,null,null,null,null,null,null,null,{"$f":"IF(E2726<>\"\",ROUND((VLOOKUP(E2726,Param!$A$7:$E$13,4,0)*Fonct_Empl!F2726*((Fonct_Empl!G2726/12)))+(VLOOKUP(E2726,Param!$A$7:$E$13,5,0)*Fonct_Empl!H2726),2),\"\")","v":""}]
[null,null,null,null,null,null,null,null,{"$f":"IF(E2727<>\"\",ROUND((VLOOKUP(E2727,Param!$A$7:$E$13,4,0)*Fonct_Empl!F2727*((Fonct_Empl!G2727/12)))+(VLOOKUP(E2727,Param!$A$7:$E$13,5,0)*Fonct_Empl!H2727),2),\"\")","v":""}]
[null,null,null,null,null,null,null,null,{"$f":"IF(E2728<>\"\",ROUND((VLOOKUP(E2728,Param!$A$7:$E$13,4,0)*Fonct_Empl!F2728*((Fonct_Empl!G2728/12)))+(VLOOKUP(E2728,Param!$A$7:$E$13,5,0)*Fonct_Empl!H2728),2),\"\")","v":""}]
[null,null,null,null,null,null,null,null,{"$f":"IF(E2729<>\"\",ROUND((VLOOKUP(E2729,Param!$A$7:$E$13,4,0)*Fonct_Empl!F2729*((Fonct_Empl!G2729/12)))+(VLOOKUP(E2729,Param!$A$7:$E$13,5,0)*Fonct_Empl!H2729),2),\"\")","v":""}]
[null,null,null,null,null,null,null,null,{"$f":"IF(E2730<>\"\",ROUND((VLOOKUP(E2730,Param!$A$7:$E$13,4,0)*Fonct_Empl!F2730*((Fonct_Empl!G2730/12)))+(VLOOKUP(E2730,Param!$A$7:$E$13,5,0)*Fonct_Empl!H2730),2),\"\")","v":""}]
[null,null,null,null,null,null,null,null,{"$f":"IF(E2731<>\"\",ROUND((VLOOKUP(E2731,Param!$A$7:$E$13,4,0)*Fonct_Empl!F2731*((Fonct_Empl!G2731/12)))+(VLOOKUP(E2731,Param!$A$7:$E$13,5,0)*Fonct_Empl!H2731),2),\"\")","v":""}]
[null,null,null,null,null,null,null,null,{"$f":"IF(E2732<>\"\",ROUND((VLOOKUP(E2732,Param!$A$7:$E$13,4,0)*Fonct_Empl!F2732*((Fonct_Empl!G2732/12)))+(VLOOKUP(E2732,Param!$A$7:$E$13,5,0)*Fonct_Empl!H2732),2),\"\")","v":""}]
[null,null,null,null,null,null,null,null,{"$f":"IF(E2733<>\"\",ROUND((VLOOKUP(E2733,Param!$A$7:$E$13,4,0)*Fonct_Empl!F2733*((Fonct_Empl!G2733/12)))+(VLOOKUP(E2733,Param!$A$7:$E$13,5,0)*Fonct_Empl!H2733),2),\"\")","v":""}]
[null,null,null,null,null,null,null,null,{"$f":"IF(E2734<>\"\",ROUND((VLOOKUP(E2734,Param!$A$7:$E$13,4,0)*Fonct_Empl!F2734*((Fonct_Empl!G2734/12)))+(VLOOKUP(E2734,Param!$A$7:$E$13,5,0)*Fonct_Empl!H2734),2),\"\")","v":""}]
[null,null,null,null,null,null,null,null,{"$f":"IF(E2735<>\"\",ROUND((VLOOKUP(E2735,Param!$A$7:$E$13,4,0)*Fonct_Empl!F2735*((Fonct_Empl!G2735/12)))+(VLOOKUP(E2735,Param!$A$7:$E$13,5,0)*Fonct_Empl!H2735),2),\"\")","v":""}]
[null,null,null,null,null,null,null,null,{"$f":"IF(E2736<>\"\",ROUND((VLOOKUP(E2736,Param!$A$7:$E$13,4,0)*Fonct_Empl!F2736*((Fonct_Empl!G2736/12)))+(VLOOKUP(E2736,Param!$A$7:$E$13,5,0)*Fonct_Empl!H2736),2),\"\")","v":""}]
[null,null,null,null,null,null,null,null,{"$f":"IF(E2737<>\"\",ROUND((VLOOKUP(E2737,Param!$A$7:$E$13,4,0)*Fonct_Empl!F2737*((Fonct_Empl!G2737/12)))+(VLOOKUP(E2737,Param!$A$7:$E$13,5,0)*Fonct_Empl!H2737),2),\"\")","v":""}]
[null,null,null,null,null,null,null,null,{"$f":"IF(E2738<>\"\",ROUND((VLOOKUP(E2738,Param!$A$7:$E$13,4,0)*Fonct_Empl!F2738*((Fonct_Empl!G2738/12)))+(VLOOKUP(E2738,Param!$A$7:$E$13,5,0)*Fonct_Empl!H2738),2),\"\")","v":""}]
[null,null,null,null,null,null,null,null,{"$f":"IF(E2739<>\"\",ROUND((VLOOKUP(E2739,Param!$A$7:$E$13,4,0)*Fonct_Empl!F2739*((Fonct_Empl!G2739/12)))+(VLOOKUP(E2739,Param!$A$7:$E$13,5,0)*Fonct_Empl!H2739),2),\"\")","v":""}]
[null,null,null,null,null,null,null,null,{"$f":"IF(E2740<>\"\",ROUND((VLOOKUP(E2740,Param!$A$7:$E$13,4,0)*Fonct_Empl!F2740*((Fonct_Empl!G2740/12)))+(VLOOKUP(E2740,Param!$A$7:$E$13,5,0)*Fonct_Empl!H2740),2),\"\")","v":""}]
[null,null,null,null,null,null,null,null,{"$f":"IF(E2741<>\"\",ROUND((VLOOKUP(E2741,Param!$A$7:$E$13,4,0)*Fonct_Empl!F2741*((Fonct_Empl!G2741/12)))+(VLOOKUP(E2741,Param!$A$7:$E$13,5,0)*Fonct_Empl!H2741),2),\"\")","v":""}]
[null,null,null,null,null,null,null,null,{"$f":"IF(E2742<>\"\",ROUND((VLOOKUP(E2742,Param!$A$7:$E$13,4,0)*Fonct_Empl!F2742*((Fonct_Empl!G2742/12)))+(VLOOKUP(E2742,Param!$A$7:$E$13,5,0)*Fonct_Empl!H2742),2),\"\")","v":""}]
[null,null,null,null,null,null,null,null,{"$f":"IF(E2743<>\"\",ROUND((VLOOKUP(E2743,Param!$A$7:$E$13,4,0)*Fonct_Empl!F2743*((Fonct_Empl!G2743/12)))+(VLOOKUP(E2743,Param!$A$7:$E$13,5,0)*Fonct_Empl!H2743),2),\"\")","v":""}]
[null,null,null,null,null,null,null,null,{"$f":"IF(E2744<>\"\",ROUND((VLOOKUP(E2744,Param!$A$7:$E$13,4,0)*Fonct_Empl!F2744*((Fonct_Empl!G2744/12)))+(VLOOKUP(E2744,Param!$A$7:$E$13,5,0)*Fonct_Empl!H2744),2),\"\")","v":""}]
[null,null,null,null,null,null,null,null,{"$f":"IF(E2745<>\"\",ROUND((VLOOKUP(E2745,Param!$A$7:$E$13,4,0)*Fonct_Empl!F2745*((Fonct_Empl!G2745/12)))+(VLOOKUP(E2745,Param!$A$7:$E$13,5,0)*Fonct_Empl!H2745),2),\"\")","v":""}]
[null,null,null,null,null,null,null,null,{"$f":"IF(E2746<>\"\",ROUND((VLOOKUP(E2746,Param!$A$7:$E$13,4,0)*Fonct_Empl!F2746*((Fonct_Empl!G2746/12)))+(VLOOKUP(E2746,Param!$A$7:$E$13,5,0)*Fonct_Empl!H2746),2),\"\")","v":""}]
[null,null,null,null,null,null,null,null,{"$f":"IF(E2747<>\"\",ROUND((VLOOKUP(E2747,Param!$A$7:$E$13,4,0)*Fonct_Empl!F2747*((Fonct_Empl!G2747/12)))+(VLOOKUP(E2747,Param!$A$7:$E$13,5,0)*Fonct_Empl!H2747),2),\"\")","v":""}]
[null,null,null,null,null,null,null,null,{"$f":"IF(E2748<>\"\",ROUND((VLOOKUP(E2748,Param!$A$7:$E$13,4,0)*Fonct_Empl!F2748*((Fonct_Empl!G2748/12)))+(VLOOKUP(E2748,Param!$A$7:$E$13,5,0)*Fonct_Empl!H2748),2),\"\")","v":""}]
[null,null,null,null,null,null,null,null,{"$f":"IF(E2749<>\"\",ROUND((VLOOKUP(E2749,Param!$A$7:$E$13,4,0)*Fonct_Empl!F2749*((Fonct_Empl!G2749/12)))+(VLOOKUP(E2749,Param!$A$7:$E$13,5,0)*Fonct_Empl!H2749),2),\"\")","v":""}]
[null,null,null,null,null,null,null,null,{"$f":"IF(E2750<>\"\",ROUND((VLOOKUP(E2750,Param!$A$7:$E$13,4,0)*Fonct_Empl!F2750*((Fonct_Empl!G2750/12)))+(VLOOKUP(E2750,Param!$A$7:$E$13,5,0)*Fonct_Empl!H2750),2),\"\")","v":""}]
[null,null,null,null,null,null,null,null,{"$f":"IF(E2751<>\"\",ROUND((VLOOKUP(E2751,Param!$A$7:$E$13,4,0)*Fonct_Empl!F2751*((Fonct_Empl!G2751/12)))+(VLOOKUP(E2751,Param!$A$7:$E$13,5,0)*Fonct_Empl!H2751),2),\"\")","v":""}]
[null,null,null,null,null,null,null,null,{"$f":"IF(E2752<>\"\",ROUND((VLOOKUP(E2752,Param!$A$7:$E$13,4,0)*Fonct_Empl!F2752*((Fonct_Empl!G2752/12)))+(VLOOKUP(E2752,Param!$A$7:$E$13,5,0)*Fonct_Empl!H2752),2),\"\")","v":""}]
[null,null,null,null,null,null,null,null,{"$f":"IF(E2753<>\"\",ROUND((VLOOKUP(E2753,Param!$A$7:$E$13,4,0)*Fonct_Empl!F2753*((Fonct_Empl!G2753/12)))+(VLOOKUP(E2753,Param!$A$7:$E$13,5,0)*Fonct_Empl!H2753),2),\"\")","v":""}]
[null,null,null,null,null,null,null,null,{"$f":"IF(E2754<>\"\",ROUND((VLOOKUP(E2754,Param!$A$7:$E$13,4,0)*Fonct_Empl!F2754*((Fonct_Empl!G2754/12)))+(VLOOKUP(E2754,Param!$A$7:$E$13,5,0)*Fonct_Empl!H2754),2),\"\")","v":""}]
[null,null,null,null,null,null,null,null,{"$f":"IF(E2755<>\"\",ROUND((VLOOKUP(E2755,Param!$A$7:$E$13,4,0)*Fonct_Empl!F2755*((Fonct_Empl!G2755/12)))+(VLOOKUP(E2755,Param!$A$7:$E$13,5,0)*Fonct_Empl!H2755),2),\"\")","v":""}]
[null,null,null,null,null,null,null,null,{"$f":"IF(E2756<>\"\",ROUND((VLOOKUP(E2756,Param!$A$7:$E$13,4,0)*Fonct_Empl!F2756*((Fonct_Empl!G2756/12)))+(VLOOKUP(E2756,Param!$A$7:$E$13,5,0)*Fonct_Empl!H2756),2),\"\")","v":""}]
[null,null,null,null,null,null,null,null,{"$f":"IF(E2757<>\"\",ROUND((VLOOKUP(E2757,Param!$A$7:$E$13,4,0)*Fonct_Empl!F2757*((Fonct_Empl!G2757/12)))+(VLOOKUP(E2757,Param!$A$7:$E$13,5,0)*Fonct_Empl!H2757),2),\"\")","v":""}]
[null,null,null,null,null,null,null,null,{"$f":"IF(E2758<>\"\",ROUND((VLOOKUP(E2758,Param!$A$7:$E$13,4,0)*Fonct_Empl!F2758*((Fonct_Empl!G2758/12)))+(VLOOKUP(E2758,Param!$A$7:$E$13,5,0)*Fonct_Empl!H2758),2),\"\")","v":""}]
[null,null,null,null,null,null,null,null,{"$f":"IF(E2759<>\"\",ROUND((VLOOKUP(E2759,Param!$A$7:$E$13,4,0)*Fonct_Empl!F2759*((Fonct_Empl!G2759/12)))+(VLOOKUP(E2759,Param!$A$7:$E$13,5,0)*Fonct_Empl!H2759),2),\"\")","v":""}]
[null,null,null,null,null,null,null,null,{"$f":"IF(E2760<>\"\",ROUND((VLOOKUP(E2760,Param!$A$7:$E$13,4,0)*Fonct_Empl!F2760*((Fonct_Empl!G2760/12)))+(VLOOKUP(E2760,Param!$A$7:$E$13,5,0)*Fonct_Empl!H2760),2),\"\")","v":""}]
[null,null,null,null,null,null,null,null,{"$f":"IF(E2761<>\"\",ROUND((VLOOKUP(E2761,Param!$A$7:$E$13,4,0)*Fonct_Empl!F2761*((Fonct_Empl!G2761/12)))+(VLOOKUP(E2761,Param!$A$7:$E$13,5,0)*Fonct_Empl!H2761),2),\"\")","v":""}]
[null,null,null,null,null,null,null,null,{"$f":"IF(E2762<>\"\",ROUND((VLOOKUP(E2762,Param!$A$7:$E$13,4,0)*Fonct_Empl!F2762*((Fonct_Empl!G2762/12)))+(VLOOKUP(E2762,Param!$A$7:$E$13,5,0)*Fonct_Empl!H2762),2),\"\")","v":""}]
[null,null,null,null,null,null,null,null,{"$f":"IF(E2763<>\"\",ROUND((VLOOKUP(E2763,Param!$A$7:$E$13,4,0)*Fonct_Empl!F2763*((Fonct_Empl!G2763/12)))+(VLOOKUP(E2763,Param!$A$7:$E$13,5,0)*Fonct_Empl!H2763),2),\"\")","v":""}]
[null,null,null,null,null,null,null,null,{"$f":"IF(E2764<>\"\",ROUND((VLOOKUP(E2764,Param!$A$7:$E$13,4,0)*Fonct_Empl!F2764*((Fonct_Empl!G2764/12)))+(VLOOKUP(E2764,Param!$A$7:$E$13,5,0)*Fonct_Empl!H2764),2),\"\")","v":""}]
[null,null,null,null,null,null,null,null,{"$f":"IF(E2765<>\"\",ROUND((VLOOKUP(E2765,Param!$A$7:$E$13,4,0)*Fonct_Empl!F2765*((Fonct_Empl!G2765/12)))+(VLOOKUP(E2765,Param!$A$7:$E$13,5,0)*Fonct_Empl!H2765),2),\"\")","v":""}]
[null,null,null,null,null,null,null,null,{"$f":"IF(E2766<>\"\",ROUND((VLOOKUP(E2766,Param!$A$7:$E$13,4,0)*Fonct_Empl!F2766*((Fonct_Empl!G2766/12)))+(VLOOKUP(E2766,Param!$A$7:$E$13,5,0)*Fonct_Empl!H2766),2),\"\")","v":""}]
[null,null,null,null,null,null,null,null,{"$f":"IF(E2767<>\"\",ROUND((VLOOKUP(E2767,Param!$A$7:$E$13,4,0)*Fonct_Empl!F2767*((Fonct_Empl!G2767/12)))+(VLOOKUP(E2767,Param!$A$7:$E$13,5,0)*Fonct_Empl!H2767),2),\"\")","v":""}]
[null,null,null,null,null,null,null,null,{"$f":"IF(E2768<>\"\",ROUND((VLOOKUP(E2768,Param!$A$7:$E$13,4,0)*Fonct_Empl!F2768*((Fonct_Empl!G2768/12)))+(VLOOKUP(E2768,Param!$A$7:$E$13,5,0)*Fonct_Empl!H2768),2),\"\")","v":""}]
[null,null,null,null,null,null,null,null,{"$f":"IF(E2769<>\"\",ROUND((VLOOKUP(E2769,Param!$A$7:$E$13,4,0)*Fonct_Empl!F2769*((Fonct_Empl!G2769/12)))+(VLOOKUP(E2769,Param!$A$7:$E$13,5,0)*Fonct_Empl!H2769),2),\"\")","v":""}]
[null,null,null,null,null,null,null,null,{"$f":"IF(E2770<>\"\",ROUND((VLOOKUP(E2770,Param!$A$7:$E$13,4,0)*Fonct_Empl!F2770*((Fonct_Empl!G2770/12)))+(VLOOKUP(E2770,Param!$A$7:$E$13,5,0)*Fonct_Empl!H2770),2),\"\")","v":""}]
[null,null,null,null,null,null,null,null,{"$f":"IF(E2771<>\"\",ROUND((VLOOKUP(E2771,Param!$A$7:$E$13,4,0)*Fonct_Empl!F2771*((Fonct_Empl!G2771/12)))+(VLOOKUP(E2771,Param!$A$7:$E$13,5,0)*Fonct_Empl!H2771),2),\"\")","v":""}]
[null,null,null,null,null,null,null,null,{"$f":"IF(E2772<>\"\",ROUND((VLOOKUP(E2772,Param!$A$7:$E$13,4,0)*Fonct_Empl!F2772*((Fonct_Empl!G2772/12)))+(VLOOKUP(E2772,Param!$A$7:$E$13,5,0)*Fonct_Empl!H2772),2),\"\")","v":""}]
[null,null,null,null,null,null,null,null,{"$f":"IF(E2773<>\"\",ROUND((VLOOKUP(E2773,Param!$A$7:$E$13,4,0)*Fonct_Empl!F2773*((Fonct_Empl!G2773/12)))+(VLOOKUP(E2773,Param!$A$7:$E$13,5,0)*Fonct_Empl!H2773),2),\"\")","v":""}]
[null,null,null,null,null,null,null,null,{"$f":"IF(E2774<>\"\",ROUND((VLOOKUP(E2774,Param!$A$7:$E$13,4,0)*Fonct_Empl!F2774*((Fonct_Empl!G2774/12)))+(VLOOKUP(E2774,Param!$A$7:$E$13,5,0)*Fonct_Empl!H2774),2),\"\")","v":""}]
[null,null,null,null,null,null,null,null,{"$f":"IF(E2775<>\"\",ROUND((VLOOKUP(E2775,Param!$A$7:$E$13,4,0)*Fonct_Empl!F2775*((Fonct_Empl!G2775/12)))+(VLOOKUP(E2775,Param!$A$7:$E$13,5,0)*Fonct_Empl!H2775),2),\"\")","v":""}]
[null,null,null,null,null,null,null,null,{"$f":"IF(E2776<>\"\",ROUND((VLOOKUP(E2776,Param!$A$7:$E$13,4,0)*Fonct_Empl!F2776*((Fonct_Empl!G2776/12)))+(VLOOKUP(E2776,Param!$A$7:$E$13,5,0)*Fonct_Empl!H2776),2),\"\")","v":""}]
[null,null,null,null,null,null,null,null,{"$f":"IF(E2777<>\"\",ROUND((VLOOKUP(E2777,Param!$A$7:$E$13,4,0)*Fonct_Empl!F2777*((Fonct_Empl!G2777/12)))+(VLOOKUP(E2777,Param!$A$7:$E$13,5,0)*Fonct_Empl!H2777),2),\"\")","v":""}]
[null,null,null,null,null,null,null,null,{"$f":"IF(E2778<>\"\",ROUND((VLOOKUP(E2778,Param!$A$7:$E$13,4,0)*Fonct_Empl!F2778*((Fonct_Empl!G2778/12)))+(VLOOKUP(E2778,Param!$A$7:$E$13,5,0)*Fonct_Empl!H2778),2),\"\")","v":""}]
[null,null,null,null,null,null,null,null,{"$f":"IF(E2779<>\"\",ROUND((VLOOKUP(E2779,Param!$A$7:$E$13,4,0)*Fonct_Empl!F2779*((Fonct_Empl!G2779/12)))+(VLOOKUP(E2779,Param!$A$7:$E$13,5,0)*Fonct_Empl!H2779),2),\"\")","v":""}]
[null,null,null,null,null,null,null,null,{"$f":"IF(E2780<>\"\",ROUND((VLOOKUP(E2780,Param!$A$7:$E$13,4,0)*Fonct_Empl!F2780*((Fonct_Empl!G2780/12)))+(VLOOKUP(E2780,Param!$A$7:$E$13,5,0)*Fonct_Empl!H2780),2),\"\")","v":""}]
[null,null,null,null,null,null,null,null,{"$f":"IF(E2781<>\"\",ROUND((VLOOKUP(E2781,Param!$A$7:$E$13,4,0)*Fonct_Empl!F2781*((Fonct_Empl!G2781/12)))+(VLOOKUP(E2781,Param!$A$7:$E$13,5,0)*Fonct_Empl!H2781),2),\"\")","v":""}]
[null,null,null,null,null,null,null,null,{"$f":"IF(E2782<>\"\",ROUND((VLOOKUP(E2782,Param!$A$7:$E$13,4,0)*Fonct_Empl!F2782*((Fonct_Empl!G2782/12)))+(VLOOKUP(E2782,Param!$A$7:$E$13,5,0)*Fonct_Empl!H2782),2),\"\")","v":""}]
[null,null,null,null,null,null,null,null,{"$f":"IF(E2783<>\"\",ROUND((VLOOKUP(E2783,Param!$A$7:$E$13,4,0)*Fonct_Empl!F2783*((Fonct_Empl!G2783/12)))+(VLOOKUP(E2783,Param!$A$7:$E$13,5,0)*Fonct_Empl!H2783),2),\"\")","v":""}]
[null,null,null,null,null,null,null,null,{"$f":"IF(E2784<>\"\",ROUND((VLOOKUP(E2784,Param!$A$7:$E$13,4,0)*Fonct_Empl!F2784*((Fonct_Empl!G2784/12)))+(VLOOKUP(E2784,Param!$A$7:$E$13,5,0)*Fonct_Empl!H2784),2),\"\")","v":""}]
[null,null,null,null,null,null,null,null,{"$f":"IF(E2785<>\"\",ROUND((VLOOKUP(E2785,Param!$A$7:$E$13,4,0)*Fonct_Empl!F2785*((Fonct_Empl!G2785/12)))+(VLOOKUP(E2785,Param!$A$7:$E$13,5,0)*Fonct_Empl!H2785),2),\"\")","v":""}]
[null,null,null,null,null,null,null,null,{"$f":"IF(E2786<>\"\",ROUND((VLOOKUP(E2786,Param!$A$7:$E$13,4,0)*Fonct_Empl!F2786*((Fonct_Empl!G2786/12)))+(VLOOKUP(E2786,Param!$A$7:$E$13,5,0)*Fonct_Empl!H2786),2),\"\")","v":""}]
[null,null,null,null,null,null,null,null,{"$f":"IF(E2787<>\"\",ROUND((VLOOKUP(E2787,Param!$A$7:$E$13,4,0)*Fonct_Empl!F2787*((Fonct_Empl!G2787/12)))+(VLOOKUP(E2787,Param!$A$7:$E$13,5,0)*Fonct_Empl!H2787),2),\"\")","v":""}]
[null,null,null,null,null,null,null,null,{"$f":"IF(E2788<>\"\",ROUND((VLOOKUP(E2788,Param!$A$7:$E$13,4,0)*Fonct_Empl!F2788*((Fonct_Empl!G2788/12)))+(VLOOKUP(E2788,Param!$A$7:$E$13,5,0)*Fonct_Empl!H2788),2),\"\")","v":""}]
[null,null,null,null,null,null,null,null,{"$f":"IF(E2789<>\"\",ROUND((VLOOKUP(E2789,Param!$A$7:$E$13,4,0)*Fonct_Empl!F2789*((Fonct_Empl!G2789/12)))+(VLOOKUP(E2789,Param!$A$7:$E$13,5,0)*Fonct_Empl!H2789),2),\"\")","v":""}]
[null,null,null,null,null,null,null,null,{"$f":"IF(E2790<>\"\",ROUND((VLOOKUP(E2790,Param!$A$7:$E$13,4,0)*Fonct_Empl!F2790*((Fonct_Empl!G2790/12)))+(VLOOKUP(E2790,Param!$A$7:$E$13,5,0)*Fonct_Empl!H2790),2),\"\")","v":""}]
[null,null,null,null,null,null,null,null,{"$f":"IF(E2791<>\"\",ROUND((VLOOKUP(E2791,Param!$A$7:$E$13,4,0)*Fonct_Empl!F2791*((Fonct_Empl!G2791/12)))+(VLOOKUP(E2791,Param!$A$7:$E$13,5,0)*Fonct_Empl!H2791),2),\"\")","v":""}]
[null,null,null,null,null,null,null,null,{"$f":"IF(E2792<>\"\",ROUND((VLOOKUP(E2792,Param!$A$7:$E$13,4,0)*Fonct_Empl!F2792*((Fonct_Empl!G2792/12)))+(VLOOKUP(E2792,Param!$A$7:$E$13,5,0)*Fonct_Empl!H2792),2),\"\")","v":""}]
[null,null,null,null,null,null,null,null,{"$f":"IF(E2793<>\"\",ROUND((VLOOKUP(E2793,Param!$A$7:$E$13,4,0)*Fonct_Empl!F2793*((Fonct_Empl!G2793/12)))+(VLOOKUP(E2793,Param!$A$7:$E$13,5,0)*Fonct_Empl!H2793),2),\"\")","v":""}]
[null,null,null,null,null,null,null,null,{"$f":"IF(E2794<>\"\",ROUND((VLOOKUP(E2794,Param!$A$7:$E$13,4,0)*Fonct_Empl!F2794*((Fonct_Empl!G2794/12)))+(VLOOKUP(E2794,Param!$A$7:$E$13,5,0)*Fonct_Empl!H2794),2),\"\")","v":""}]
[null,null,null,null,null,null,null,null,{"$f":"IF(E2795<>\"\",ROUND((VLOOKUP(E2795,Param!$A$7:$E$13,4,0)*Fonct_Empl!F2795*((Fonct_Empl!G2795/12)))+(VLOOKUP(E2795,Param!$A$7:$E$13,5,0)*Fonct_Empl!H2795),2),\"\")","v":""}]
[null,null,null,null,null,null,null,null,{"$f":"IF(E2796<>\"\",ROUND((VLOOKUP(E2796,Param!$A$7:$E$13,4,0)*Fonct_Empl!F2796*((Fonct_Empl!G2796/12)))+(VLOOKUP(E2796,Param!$A$7:$E$13,5,0)*Fonct_Empl!H2796),2),\"\")","v":""}]
[null,null,null,null,null,null,null,null,{"$f":"IF(E2797<>\"\",ROUND((VLOOKUP(E2797,Param!$A$7:$E$13,4,0)*Fonct_Empl!F2797*((Fonct_Empl!G2797/12)))+(VLOOKUP(E2797,Param!$A$7:$E$13,5,0)*Fonct_Empl!H2797),2),\"\")","v":""}]
[null,null,null,null,null,null,null,null,{"$f":"IF(E2798<>\"\",ROUND((VLOOKUP(E2798,Param!$A$7:$E$13,4,0)*Fonct_Empl!F2798*((Fonct_Empl!G2798/12)))+(VLOOKUP(E2798,Param!$A$7:$E$13,5,0)*Fonct_Empl!H2798),2),\"\")","v":""}]
[null,null,null,null,null,null,null,null,{"$f":"IF(E2799<>\"\",ROUND((VLOOKUP(E2799,Param!$A$7:$E$13,4,0)*Fonct_Empl!F2799*((Fonct_Empl!G2799/12)))+(VLOOKUP(E2799,Param!$A$7:$E$13,5,0)*Fonct_Empl!H2799),2),\"\")","v":""}]
[null,null,null,null,null,null,null,null,{"$f":"IF(E2800<>\"\",ROUND((VLOOKUP(E2800,Param!$A$7:$E$13,4,0)*Fonct_Empl!F2800*((Fonct_Empl!G2800/12)))+(VLOOKUP(E2800,Param!$A$7:$E$13,5,0)*Fonct_Empl!H2800),2),\"\")","v":""}]
[null,null,null,null,null,null,null,null,{"$f":"IF(E2801<>\"\",ROUND((VLOOKUP(E2801,Param!$A$7:$E$13,4,0)*Fonct_Empl!F2801*((Fonct_Empl!G2801/12)))+(VLOOKUP(E2801,Param!$A$7:$E$13,5,0)*Fonct_Empl!H2801),2),\"\")","v":""}]
[null,null,null,null,null,null,null,null,{"$f":"IF(E2802<>\"\",ROUND((VLOOKUP(E2802,Param!$A$7:$E$13,4,0)*Fonct_Empl!F2802*((Fonct_Empl!G2802/12)))+(VLOOKUP(E2802,Param!$A$7:$E$13,5,0)*Fonct_Empl!H2802),2),\"\")","v":""}]
[null,null,null,null,null,null,null,null,{"$f":"IF(E2803<>\"\",ROUND((VLOOKUP(E2803,Param!$A$7:$E$13,4,0)*Fonct_Empl!F2803*((Fonct_Empl!G2803/12)))+(VLOOKUP(E2803,Param!$A$7:$E$13,5,0)*Fonct_Empl!H2803),2),\"\")","v":""}]
[null,null,null,null,null,null,null,null,{"$f":"IF(E2804<>\"\",ROUND((VLOOKUP(E2804,Param!$A$7:$E$13,4,0)*Fonct_Empl!F2804*((Fonct_Empl!G2804/12)))+(VLOOKUP(E2804,Param!$A$7:$E$13,5,0)*Fonct_Empl!H2804),2),\"\")","v":""}]
[null,null,null,null,null,null,null,null,{"$f":"IF(E2805<>\"\",ROUND((VLOOKUP(E2805,Param!$A$7:$E$13,4,0)*Fonct_Empl!F2805*((Fonct_Empl!G2805/12)))+(VLOOKUP(E2805,Param!$A$7:$E$13,5,0)*Fonct_Empl!H2805),2),\"\")","v":""}]
[null,null,null,null,null,null,null,null,{"$f":"IF(E2806<>\"\",ROUND((VLOOKUP(E2806,Param!$A$7:$E$13,4,0)*Fonct_Empl!F2806*((Fonct_Empl!G2806/12)))+(VLOOKUP(E2806,Param!$A$7:$E$13,5,0)*Fonct_Empl!H2806),2),\"\")","v":""}]
[null,null,null,null,null,null,null,null,{"$f":"IF(E2807<>\"\",ROUND((VLOOKUP(E2807,Param!$A$7:$E$13,4,0)*Fonct_Empl!F2807*((Fonct_Empl!G2807/12)))+(VLOOKUP(E2807,Param!$A$7:$E$13,5,0)*Fonct_Empl!H2807),2),\"\")","v":""}]
[null,null,null,null,null,null,null,null,{"$f":"IF(E2808<>\"\",ROUND((VLOOKUP(E2808,Param!$A$7:$E$13,4,0)*Fonct_Empl!F2808*((Fonct_Empl!G2808/12)))+(VLOOKUP(E2808,Param!$A$7:$E$13,5,0)*Fonct_Empl!H2808),2),\"\")","v":""}]
[null,null,null,null,null,null,null,null,{"$f":"IF(E2809<>\"\",ROUND((VLOOKUP(E2809,Param!$A$7:$E$13,4,0)*Fonct_Empl!F2809*((Fonct_Empl!G2809/12)))+(VLOOKUP(E2809,Param!$A$7:$E$13,5,0)*Fonct_Empl!H2809),2),\"\")","v":""}]
[null,null,null,null,null,null,null,null,{"$f":"IF(E2810<>\"\",ROUND((VLOOKUP(E2810,Param!$A$7:$E$13,4,0)*Fonct_Empl!F2810*((Fonct_Empl!G2810/12)))+(VLOOKUP(E2810,Param!$A$7:$E$13,5,0)*Fonct_Empl!H2810),2),\"\")","v":""}]
[null,null,null,null,null,null,null,null,{"$f":"IF(E2811<>\"\",ROUND((VLOOKUP(E2811,Param!$A$7:$E$13,4,0)*Fonct_Empl!F2811*((Fonct_Empl!G2811/12)))+(VLOOKUP(E2811,Param!$A$7:$E$13,5,0)*Fonct_Empl!H2811),2),\"\")","v":""}]
[null,null,null,null,null,null,null,null,{"$f":"IF(E2812<>\"\",ROUND((VLOOKUP(E2812,Param!$A$7:$E$13,4,0)*Fonct_Empl!F2812*((Fonct_Empl!G2812/12)))+(VLOOKUP(E2812,Param!$A$7:$E$13,5,0)*Fonct_Empl!H2812),2),\"\")","v":""}]
[null,null,null,null,null,null,null,null,{"$f":"IF(E2813<>\"\",ROUND((VLOOKUP(E2813,Param!$A$7:$E$13,4,0)*Fonct_Empl!F2813*((Fonct_Empl!G2813/12)))+(VLOOKUP(E2813,Param!$A$7:$E$13,5,0)*Fonct_Empl!H2813),2),\"\")","v":""}]
[null,null,null,null,null,null,null,null,{"$f":"IF(E2814<>\"\",ROUND((VLOOKUP(E2814,Param!$A$7:$E$13,4,0)*Fonct_Empl!F2814*((Fonct_Empl!G2814/12)))+(VLOOKUP(E2814,Param!$A$7:$E$13,5,0)*Fonct_Empl!H2814),2),\"\")","v":""}]
[null,null,null,null,null,null,null,null,{"$f":"IF(E2815<>\"\",ROUND((VLOOKUP(E2815,Param!$A$7:$E$13,4,0)*Fonct_Empl!F2815*((Fonct_Empl!G2815/12)))+(VLOOKUP(E2815,Param!$A$7:$E$13,5,0)*Fonct_Empl!H2815),2),\"\")","v":""}]
[null,null,null,null,null,null,null,null,{"$f":"IF(E2816<>\"\",ROUND((VLOOKUP(E2816,Param!$A$7:$E$13,4,0)*Fonct_Empl!F2816*((Fonct_Empl!G2816/12)))+(VLOOKUP(E2816,Param!$A$7:$E$13,5,0)*Fonct_Empl!H2816),2),\"\")","v":""}]
[null,null,null,null,null,null,null,null,{"$f":"IF(E2817<>\"\",ROUND((VLOOKUP(E2817,Param!$A$7:$E$13,4,0)*Fonct_Empl!F2817*((Fonct_Empl!G2817/12)))+(VLOOKUP(E2817,Param!$A$7:$E$13,5,0)*Fonct_Empl!H2817),2),\"\")","v":""}]
[null,null,null,null,null,null,null,null,{"$f":"IF(E2818<>\"\",ROUND((VLOOKUP(E2818,Param!$A$7:$E$13,4,0)*Fonct_Empl!F2818*((Fonct_Empl!G2818/12)))+(VLOOKUP(E2818,Param!$A$7:$E$13,5,0)*Fonct_Empl!H2818),2),\"\")","v":""}]
[null,null,null,null,null,null,null,null,{"$f":"IF(E2819<>\"\",ROUND((VLOOKUP(E2819,Param!$A$7:$E$13,4,0)*Fonct_Empl!F2819*((Fonct_Empl!G2819/12)))+(VLOOKUP(E2819,Param!$A$7:$E$13,5,0)*Fonct_Empl!H2819),2),\"\")","v":""}]
[null,null,null,null,null,null,null,null,{"$f":"IF(E2820<>\"\",ROUND((VLOOKUP(E2820,Param!$A$7:$E$13,4,0)*Fonct_Empl!F2820*((Fonct_Empl!G2820/12)))+(VLOOKUP(E2820,Param!$A$7:$E$13,5,0)*Fonct_Empl!H2820),2),\"\")","v":""}]
[null,null,null,null,null,null,null,null,{"$f":"IF(E2821<>\"\",ROUND((VLOOKUP(E2821,Param!$A$7:$E$13,4,0)*Fonct_Empl!F2821*((Fonct_Empl!G2821/12)))+(VLOOKUP(E2821,Param!$A$7:$E$13,5,0)*Fonct_Empl!H2821),2),\"\")","v":""}]
[null,null,null,null,null,null,null,null,{"$f":"IF(E2822<>\"\",ROUND((VLOOKUP(E2822,Param!$A$7:$E$13,4,0)*Fonct_Empl!F2822*((Fonct_Empl!G2822/12)))+(VLOOKUP(E2822,Param!$A$7:$E$13,5,0)*Fonct_Empl!H2822),2),\"\")","v":""}]
[null,null,null,null,null,null,null,null,{"$f":"IF(E2823<>\"\",ROUND((VLOOKUP(E2823,Param!$A$7:$E$13,4,0)*Fonct_Empl!F2823*((Fonct_Empl!G2823/12)))+(VLOOKUP(E2823,Param!$A$7:$E$13,5,0)*Fonct_Empl!H2823),2),\"\")","v":""}]
[null,null,null,null,null,null,null,null,{"$f":"IF(E2824<>\"\",ROUND((VLOOKUP(E2824,Param!$A$7:$E$13,4,0)*Fonct_Empl!F2824*((Fonct_Empl!G2824/12)))+(VLOOKUP(E2824,Param!$A$7:$E$13,5,0)*Fonct_Empl!H2824),2),\"\")","v":""}]
[null,null,null,null,null,null,null,null,{"$f":"IF(E2825<>\"\",ROUND((VLOOKUP(E2825,Param!$A$7:$E$13,4,0)*Fonct_Empl!F2825*((Fonct_Empl!G2825/12)))+(VLOOKUP(E2825,Param!$A$7:$E$13,5,0)*Fonct_Empl!H2825),2),\"\")","v":""}]
[null,null,null,null,null,null,null,null,{"$f":"IF(E2826<>\"\",ROUND((VLOOKUP(E2826,Param!$A$7:$E$13,4,0)*Fonct_Empl!F2826*((Fonct_Empl!G2826/12)))+(VLOOKUP(E2826,Param!$A$7:$E$13,5,0)*Fonct_Empl!H2826),2),\"\")","v":""}]
[null,null,null,null,null,null,null,null,{"$f":"IF(E2827<>\"\",ROUND((VLOOKUP(E2827,Param!$A$7:$E$13,4,0)*Fonct_Empl!F2827*((Fonct_Empl!G2827/12)))+(VLOOKUP(E2827,Param!$A$7:$E$13,5,0)*Fonct_Empl!H2827),2),\"\")","v":""}]
[null,null,null,null,null,null,null,null,{"$f":"IF(E2828<>\"\",ROUND((VLOOKUP(E2828,Param!$A$7:$E$13,4,0)*Fonct_Empl!F2828*((Fonct_Empl!G2828/12)))+(VLOOKUP(E2828,Param!$A$7:$E$13,5,0)*Fonct_Empl!H2828),2),\"\")","v":""}]
[null,null,null,null,null,null,null,null,{"$f":"IF(E2829<>\"\",ROUND((VLOOKUP(E2829,Param!$A$7:$E$13,4,0)*Fonct_Empl!F2829*((Fonct_Empl!G2829/12)))+(VLOOKUP(E2829,Param!$A$7:$E$13,5,0)*Fonct_Empl!H2829),2),\"\")","v":""}]
[null,null,null,null,null,null,null,null,{"$f":"IF(E2830<>\"\",ROUND((VLOOKUP(E2830,Param!$A$7:$E$13,4,0)*Fonct_Empl!F2830*((Fonct_Empl!G2830/12)))+(VLOOKUP(E2830,Param!$A$7:$E$13,5,0)*Fonct_Empl!H2830),2),\"\")","v":""}]
[null,null,null,null,null,null,null,null,{"$f":"IF(E2831<>\"\",ROUND((VLOOKUP(E2831,Param!$A$7:$E$13,4,0)*Fonct_Empl!F2831*((Fonct_Empl!G2831/12)))+(VLOOKUP(E2831,Param!$A$7:$E$13,5,0)*Fonct_Empl!H2831),2),\"\")","v":""}]
[null,null,null,null,null,null,null,null,{"$f":"IF(E2832<>\"\",ROUND((VLOOKUP(E2832,Param!$A$7:$E$13,4,0)*Fonct_Empl!F2832*((Fonct_Empl!G2832/12)))+(VLOOKUP(E2832,Param!$A$7:$E$13,5,0)*Fonct_Empl!H2832),2),\"\")","v":""}]
[null,null,null,null,null,null,null,null,{"$f":"IF(E2833<>\"\",ROUND((VLOOKUP(E2833,Param!$A$7:$E$13,4,0)*Fonct_Empl!F2833*((Fonct_Empl!G2833/12)))+(VLOOKUP(E2833,Param!$A$7:$E$13,5,0)*Fonct_Empl!H2833),2),\"\")","v":""}]
[null,null,null,null,null,null,null,null,{"$f":"IF(E2834<>\"\",ROUND((VLOOKUP(E2834,Param!$A$7:$E$13,4,0)*Fonct_Empl!F2834*((Fonct_Empl!G2834/12)))+(VLOOKUP(E2834,Param!$A$7:$E$13,5,0)*Fonct_Empl!H2834),2),\"\")","v":""}]
[null,null,null,null,null,null,null,null,{"$f":"IF(E2835<>\"\",ROUND((VLOOKUP(E2835,Param!$A$7:$E$13,4,0)*Fonct_Empl!F2835*((Fonct_Empl!G2835/12)))+(VLOOKUP(E2835,Param!$A$7:$E$13,5,0)*Fonct_Empl!H2835),2),\"\")","v":""}]
[null,null,null,null,null,null,null,null,{"$f":"IF(E2836<>\"\",ROUND((VLOOKUP(E2836,Param!$A$7:$E$13,4,0)*Fonct_Empl!F2836*((Fonct_Empl!G2836/12)))+(VLOOKUP(E2836,Param!$A$7:$E$13,5,0)*Fonct_Empl!H2836),2),\"\")","v":""}]
[null,null,null,null,null,null,null,null,{"$f":"IF(E2837<>\"\",ROUND((VLOOKUP(E2837,Param!$A$7:$E$13,4,0)*Fonct_Empl!F2837*((Fonct_Empl!G2837/12)))+(VLOOKUP(E2837,Param!$A$7:$E$13,5,0)*Fonct_Empl!H2837),2),\"\")","v":""}]
[null,null,null,null,null,null,null,null,{"$f":"IF(E2838<>\"\",ROUND((VLOOKUP(E2838,Param!$A$7:$E$13,4,0)*Fonct_Empl!F2838*((Fonct_Empl!G2838/12)))+(VLOOKUP(E2838,Param!$A$7:$E$13,5,0)*Fonct_Empl!H2838),2),\"\")","v":""}]
[null,null,null,null,null,null,null,null,{"$f":"IF(E2839<>\"\",ROUND((VLOOKUP(E2839,Param!$A$7:$E$13,4,0)*Fonct_Empl!F2839*((Fonct_Empl!G2839/12)))+(VLOOKUP(E2839,Param!$A$7:$E$13,5,0)*Fonct_Empl!H2839),2),\"\")","v":""}]
[null,null,null,null,null,null,null,null,{"$f":"IF(E2840<>\"\",ROUND((VLOOKUP(E2840,Param!$A$7:$E$13,4,0)*Fonct_Empl!F2840*((Fonct_Empl!G2840/12)))+(VLOOKUP(E2840,Param!$A$7:$E$13,5,0)*Fonct_Empl!H2840),2),\"\")","v":""}]
[null,null,null,null,null,null,null,null,{"$f":"IF(E2841<>\"\",ROUND((VLOOKUP(E2841,Param!$A$7:$E$13,4,0)*Fonct_Empl!F2841*((Fonct_Empl!G2841/12)))+(VLOOKUP(E2841,Param!$A$7:$E$13,5,0)*Fonct_Empl!H2841),2),\"\")","v":""}]
[null,null,null,null,null,null,null,null,{"$f":"IF(E2842<>\"\",ROUND((VLOOKUP(E2842,Param!$A$7:$E$13,4,0)*Fonct_Empl!F2842*((Fonct_Empl!G2842/12)))+(VLOOKUP(E2842,Param!$A$7:$E$13,5,0)*Fonct_Empl!H2842),2),\"\")","v":""}]
[null,null,null,null,null,null,null,null,{"$f":"IF(E2843<>\"\",ROUND((VLOOKUP(E2843,Param!$A$7:$E$13,4,0)*Fonct_Empl!F2843*((Fonct_Empl!G2843/12)))+(VLOOKUP(E2843,Param!$A$7:$E$13,5,0)*Fonct_Empl!H2843),2),\"\")","v":""}]
[null,null,null,null,null,null,null,null,{"$f":"IF(E2844<>\"\",ROUND((VLOOKUP(E2844,Param!$A$7:$E$13,4,0)*Fonct_Empl!F2844*((Fonct_Empl!G2844/12)))+(VLOOKUP(E2844,Param!$A$7:$E$13,5,0)*Fonct_Empl!H2844),2),\"\")","v":""}]
[null,null,null,null,null,null,null,null,{"$f":"IF(E2845<>\"\",ROUND((VLOOKUP(E2845,Param!$A$7:$E$13,4,0)*Fonct_Empl!F2845*((Fonct_Empl!G2845/12)))+(VLOOKUP(E2845,Param!$A$7:$E$13,5,0)*Fonct_Empl!H2845),2),\"\")","v":""}]
[null,null,null,null,null,null,null,null,{"$f":"IF(E2846<>\"\",ROUND((VLOOKUP(E2846,Param!$A$7:$E$13,4,0)*Fonct_Empl!F2846*((Fonct_Empl!G2846/12)))+(VLOOKUP(E2846,Param!$A$7:$E$13,5,0)*Fonct_Empl!H2846),2),\"\")","v":""}]
[null,null,null,null,null,null,null,null,{"$f":"IF(E2847<>\"\",ROUND((VLOOKUP(E2847,Param!$A$7:$E$13,4,0)*Fonct_Empl!F2847*((Fonct_Empl!G2847/12)))+(VLOOKUP(E2847,Param!$A$7:$E$13,5,0)*Fonct_Empl!H2847),2),\"\")","v":""}]
[null,null,null,null,null,null,null,null,{"$f":"IF(E2848<>\"\",ROUND((VLOOKUP(E2848,Param!$A$7:$E$13,4,0)*Fonct_Empl!F2848*((Fonct_Empl!G2848/12)))+(VLOOKUP(E2848,Param!$A$7:$E$13,5,0)*Fonct_Empl!H2848),2),\"\")","v":""}]
[null,null,null,null,null,null,null,null,{"$f":"IF(E2849<>\"\",ROUND((VLOOKUP(E2849,Param!$A$7:$E$13,4,0)*Fonct_Empl!F2849*((Fonct_Empl!G2849/12)))+(VLOOKUP(E2849,Param!$A$7:$E$13,5,0)*Fonct_Empl!H2849),2),\"\")","v":""}]
[null,null,null,null,null,null,null,null,{"$f":"IF(E2850<>\"\",ROUND((VLOOKUP(E2850,Param!$A$7:$E$13,4,0)*Fonct_Empl!F2850*((Fonct_Empl!G2850/12)))+(VLOOKUP(E2850,Param!$A$7:$E$13,5,0)*Fonct_Empl!H2850),2),\"\")","v":""}]
[null,null,null,null,null,null,null,null,{"$f":"IF(E2851<>\"\",ROUND((VLOOKUP(E2851,Param!$A$7:$E$13,4,0)*Fonct_Empl!F2851*((Fonct_Empl!G2851/12)))+(VLOOKUP(E2851,Param!$A$7:$E$13,5,0)*Fonct_Empl!H2851),2),\"\")","v":""}]
[null,null,null,null,null,null,null,null,{"$f":"IF(E2852<>\"\",ROUND((VLOOKUP(E2852,Param!$A$7:$E$13,4,0)*Fonct_Empl!F2852*((Fonct_Empl!G2852/12)))+(VLOOKUP(E2852,Param!$A$7:$E$13,5,0)*Fonct_Empl!H2852),2),\"\")","v":""}]
[null,null,null,null,null,null,null,null,{"$f":"IF(E2853<>\"\",ROUND((VLOOKUP(E2853,Param!$A$7:$E$13,4,0)*Fonct_Empl!F2853*((Fonct_Empl!G2853/12)))+(VLOOKUP(E2853,Param!$A$7:$E$13,5,0)*Fonct_Empl!H2853),2),\"\")","v":""}]
[null,null,null,null,null,null,null,null,{"$f":"IF(E2854<>\"\",ROUND((VLOOKUP(E2854,Param!$A$7:$E$13,4,0)*Fonct_Empl!F2854*((Fonct_Empl!G2854/12)))+(VLOOKUP(E2854,Param!$A$7:$E$13,5,0)*Fonct_Empl!H2854),2),\"\")","v":""}]
[null,null,null,null,null,null,null,null,{"$f":"IF(E2855<>\"\",ROUND((VLOOKUP(E2855,Param!$A$7:$E$13,4,0)*Fonct_Empl!F2855*((Fonct_Empl!G2855/12)))+(VLOOKUP(E2855,Param!$A$7:$E$13,5,0)*Fonct_Empl!H2855),2),\"\")","v":""}]
[null,null,null,null,null,null,null,null,{"$f":"IF(E2856<>\"\",ROUND((VLOOKUP(E2856,Param!$A$7:$E$13,4,0)*Fonct_Empl!F2856*((Fonct_Empl!G2856/12)))+(VLOOKUP(E2856,Param!$A$7:$E$13,5,0)*Fonct_Empl!H2856),2),\"\")","v":""}]
[null,null,null,null,null,null,null,null,{"$f":"IF(E2857<>\"\",ROUND((VLOOKUP(E2857,Param!$A$7:$E$13,4,0)*Fonct_Empl!F2857*((Fonct_Empl!G2857/12)))+(VLOOKUP(E2857,Param!$A$7:$E$13,5,0)*Fonct_Empl!H2857),2),\"\")","v":""}]
[null,null,null,null,null,null,null,null,{"$f":"IF(E2858<>\"\",ROUND((VLOOKUP(E2858,Param!$A$7:$E$13,4,0)*Fonct_Empl!F2858*((Fonct_Empl!G2858/12)))+(VLOOKUP(E2858,Param!$A$7:$E$13,5,0)*Fonct_Empl!H2858),2),\"\")","v":""}]
[null,null,null,null,null,null,null,null,{"$f":"IF(E2859<>\"\",ROUND((VLOOKUP(E2859,Param!$A$7:$E$13,4,0)*Fonct_Empl!F2859*((Fonct_Empl!G2859/12)))+(VLOOKUP(E2859,Param!$A$7:$E$13,5,0)*Fonct_Empl!H2859),2),\"\")","v":""}]
[null,null,null,null,null,null,null,null,{"$f":"IF(E2860<>\"\",ROUND((VLOOKUP(E2860,Param!$A$7:$E$13,4,0)*Fonct_Empl!F2860*((Fonct_Empl!G2860/12)))+(VLOOKUP(E2860,Param!$A$7:$E$13,5,0)*Fonct_Empl!H2860),2),\"\")","v":""}]
[null,null,null,null,null,null,null,null,{"$f":"IF(E2861<>\"\",ROUND((VLOOKUP(E2861,Param!$A$7:$E$13,4,0)*Fonct_Empl!F2861*((Fonct_Empl!G2861/12)))+(VLOOKUP(E2861,Param!$A$7:$E$13,5,0)*Fonct_Empl!H2861),2),\"\")","v":""}]
[null,null,null,null,null,null,null,null,{"$f":"IF(E2862<>\"\",ROUND((VLOOKUP(E2862,Param!$A$7:$E$13,4,0)*Fonct_Empl!F2862*((Fonct_Empl!G2862/12)))+(VLOOKUP(E2862,Param!$A$7:$E$13,5,0)*Fonct_Empl!H2862),2),\"\")","v":""}]
[null,null,null,null,null,null,null,null,{"$f":"IF(E2863<>\"\",ROUND((VLOOKUP(E2863,Param!$A$7:$E$13,4,0)*Fonct_Empl!F2863*((Fonct_Empl!G2863/12)))+(VLOOKUP(E2863,Param!$A$7:$E$13,5,0)*Fonct_Empl!H2863),2),\"\")","v":""}]
[null,null,null,null,null,null,null,null,{"$f":"IF(E2864<>\"\",ROUND((VLOOKUP(E2864,Param!$A$7:$E$13,4,0)*Fonct_Empl!F2864*((Fonct_Empl!G2864/12)))+(VLOOKUP(E2864,Param!$A$7:$E$13,5,0)*Fonct_Empl!H2864),2),\"\")","v":""}]
[null,null,null,null,null,null,null,null,{"$f":"IF(E2865<>\"\",ROUND((VLOOKUP(E2865,Param!$A$7:$E$13,4,0)*Fonct_Empl!F2865*((Fonct_Empl!G2865/12)))+(VLOOKUP(E2865,Param!$A$7:$E$13,5,0)*Fonct_Empl!H2865),2),\"\")","v":""}]
[null,null,null,null,null,null,null,null,{"$f":"IF(E2866<>\"\",ROUND((VLOOKUP(E2866,Param!$A$7:$E$13,4,0)*Fonct_Empl!F2866*((Fonct_Empl!G2866/12)))+(VLOOKUP(E2866,Param!$A$7:$E$13,5,0)*Fonct_Empl!H2866),2),\"\")","v":""}]
[null,null,null,null,null,null,null,null,{"$f":"IF(E2867<>\"\",ROUND((VLOOKUP(E2867,Param!$A$7:$E$13,4,0)*Fonct_Empl!F2867*((Fonct_Empl!G2867/12)))+(VLOOKUP(E2867,Param!$A$7:$E$13,5,0)*Fonct_Empl!H2867),2),\"\")","v":""}]
[null,null,null,null,null,null,null,null,{"$f":"IF(E2868<>\"\",ROUND((VLOOKUP(E2868,Param!$A$7:$E$13,4,0)*Fonct_Empl!F2868*((Fonct_Empl!G2868/12)))+(VLOOKUP(E2868,Param!$A$7:$E$13,5,0)*Fonct_Empl!H2868),2),\"\")","v":""}]
[null,null,null,null,null,null,null,null,{"$f":"IF(E2869<>\"\",ROUND((VLOOKUP(E2869,Param!$A$7:$E$13,4,0)*Fonct_Empl!F2869*((Fonct_Empl!G2869/12)))+(VLOOKUP(E2869,Param!$A$7:$E$13,5,0)*Fonct_Empl!H2869),2),\"\")","v":""}]
[null,null,null,null,null,null,null,null,{"$f":"IF(E2870<>\"\",ROUND((VLOOKUP(E2870,Param!$A$7:$E$13,4,0)*Fonct_Empl!F2870*((Fonct_Empl!G2870/12)))+(VLOOKUP(E2870,Param!$A$7:$E$13,5,0)*Fonct_Empl!H2870),2),\"\")","v":""}]
[null,null,null,null,null,null,null,null,{"$f":"IF(E2871<>\"\",ROUND((VLOOKUP(E2871,Param!$A$7:$E$13,4,0)*Fonct_Empl!F2871*((Fonct_Empl!G2871/12)))+(VLOOKUP(E2871,Param!$A$7:$E$13,5,0)*Fonct_Empl!H2871),2),\"\")","v":""}]
[null,null,null,null,null,null,null,null,{"$f":"IF(E2872<>\"\",ROUND((VLOOKUP(E2872,Param!$A$7:$E$13,4,0)*Fonct_Empl!F2872*((Fonct_Empl!G2872/12)))+(VLOOKUP(E2872,Param!$A$7:$E$13,5,0)*Fonct_Empl!H2872),2),\"\")","v":""}]
[null,null,null,null,null,null,null,null,{"$f":"IF(E2873<>\"\",ROUND((VLOOKUP(E2873,Param!$A$7:$E$13,4,0)*Fonct_Empl!F2873*((Fonct_Empl!G2873/12)))+(VLOOKUP(E2873,Param!$A$7:$E$13,5,0)*Fonct_Empl!H2873),2),\"\")","v":""}]
[null,null,null,null,null,null,null,null,{"$f":"IF(E2874<>\"\",ROUND((VLOOKUP(E2874,Param!$A$7:$E$13,4,0)*Fonct_Empl!F2874*((Fonct_Empl!G2874/12)))+(VLOOKUP(E2874,Param!$A$7:$E$13,5,0)*Fonct_Empl!H2874),2),\"\")","v":""}]
[null,null,null,null,null,null,null,null,{"$f":"IF(E2875<>\"\",ROUND((VLOOKUP(E2875,Param!$A$7:$E$13,4,0)*Fonct_Empl!F2875*((Fonct_Empl!G2875/12)))+(VLOOKUP(E2875,Param!$A$7:$E$13,5,0)*Fonct_Empl!H2875),2),\"\")","v":""}]
[null,null,null,null,null,null,null,null,{"$f":"IF(E2876<>\"\",ROUND((VLOOKUP(E2876,Param!$A$7:$E$13,4,0)*Fonct_Empl!F2876*((Fonct_Empl!G2876/12)))+(VLOOKUP(E2876,Param!$A$7:$E$13,5,0)*Fonct_Empl!H2876),2),\"\")","v":""}]
[null,null,null,null,null,null,null,null,{"$f":"IF(E2877<>\"\",ROUND((VLOOKUP(E2877,Param!$A$7:$E$13,4,0)*Fonct_Empl!F2877*((Fonct_Empl!G2877/12)))+(VLOOKUP(E2877,Param!$A$7:$E$13,5,0)*Fonct_Empl!H2877),2),\"\")","v":""}]
[null,null,null,null,null,null,null,null,{"$f":"IF(E2878<>\"\",ROUND((VLOOKUP(E2878,Param!$A$7:$E$13,4,0)*Fonct_Empl!F2878*((Fonct_Empl!G2878/12)))+(VLOOKUP(E2878,Param!$A$7:$E$13,5,0)*Fonct_Empl!H2878),2),\"\")","v":""}]
[null,null,null,null,null,null,null,null,{"$f":"IF(E2879<>\"\",ROUND((VLOOKUP(E2879,Param!$A$7:$E$13,4,0)*Fonct_Empl!F2879*((Fonct_Empl!G2879/12)))+(VLOOKUP(E2879,Param!$A$7:$E$13,5,0)*Fonct_Empl!H2879),2),\"\")","v":""}]
[null,null,null,null,null,null,null,null,{"$f":"IF(E2880<>\"\",ROUND((VLOOKUP(E2880,Param!$A$7:$E$13,4,0)*Fonct_Empl!F2880*((Fonct_Empl!G2880/12)))+(VLOOKUP(E2880,Param!$A$7:$E$13,5,0)*Fonct_Empl!H2880),2),\"\")","v":""}]
[null,null,null,null,null,null,null,null,{"$f":"IF(E2881<>\"\",ROUND((VLOOKUP(E2881,Param!$A$7:$E$13,4,0)*Fonct_Empl!F2881*((Fonct_Empl!G2881/12)))+(VLOOKUP(E2881,Param!$A$7:$E$13,5,0)*Fonct_Empl!H2881),2),\"\")","v":""}]
[null,null,null,null,null,null,null,null,{"$f":"IF(E2882<>\"\",ROUND((VLOOKUP(E2882,Param!$A$7:$E$13,4,0)*Fonct_Empl!F2882*((Fonct_Empl!G2882/12)))+(VLOOKUP(E2882,Param!$A$7:$E$13,5,0)*Fonct_Empl!H2882),2),\"\")","v":""}]
[null,null,null,null,null,null,null,null,{"$f":"IF(E2883<>\"\",ROUND((VLOOKUP(E2883,Param!$A$7:$E$13,4,0)*Fonct_Empl!F2883*((Fonct_Empl!G2883/12)))+(VLOOKUP(E2883,Param!$A$7:$E$13,5,0)*Fonct_Empl!H2883),2),\"\")","v":""}]
[null,null,null,null,null,null,null,null,{"$f":"IF(E2884<>\"\",ROUND((VLOOKUP(E2884,Param!$A$7:$E$13,4,0)*Fonct_Empl!F2884*((Fonct_Empl!G2884/12)))+(VLOOKUP(E2884,Param!$A$7:$E$13,5,0)*Fonct_Empl!H2884),2),\"\")","v":""}]
[null,null,null,null,null,null,null,null,{"$f":"IF(E2885<>\"\",ROUND((VLOOKUP(E2885,Param!$A$7:$E$13,4,0)*Fonct_Empl!F2885*((Fonct_Empl!G2885/12)))+(VLOOKUP(E2885,Param!$A$7:$E$13,5,0)*Fonct_Empl!H2885),2),\"\")","v":""}]
[null,null,null,null,null,null,null,null,{"$f":"IF(E2886<>\"\",ROUND((VLOOKUP(E2886,Param!$A$7:$E$13,4,0)*Fonct_Empl!F2886*((Fonct_Empl!G2886/12)))+(VLOOKUP(E2886,Param!$A$7:$E$13,5,0)*Fonct_Empl!H2886),2),\"\")","v":""}]
[null,null,null,null,null,null,null,null,{"$f":"IF(E2887<>\"\",ROUND((VLOOKUP(E2887,Param!$A$7:$E$13,4,0)*Fonct_Empl!F2887*((Fonct_Empl!G2887/12)))+(VLOOKUP(E2887,Param!$A$7:$E$13,5,0)*Fonct_Empl!H2887),2),\"\")","v":""}]
[null,null,null,null,null,null,null,null,{"$f":"IF(E2888<>\"\",ROUND((VLOOKUP(E2888,Param!$A$7:$E$13,4,0)*Fonct_Empl!F2888*((Fonct_Empl!G2888/12)))+(VLOOKUP(E2888,Param!$A$7:$E$13,5,0)*Fonct_Empl!H2888),2),\"\")","v":""}]
[null,null,null,null,null,null,null,null,{"$f":"IF(E2889<>\"\",ROUND((VLOOKUP(E2889,Param!$A$7:$E$13,4,0)*Fonct_Empl!F2889*((Fonct_Empl!G2889/12)))+(VLOOKUP(E2889,Param!$A$7:$E$13,5,0)*Fonct_Empl!H2889),2),\"\")","v":""}]
[null,null,null,null,null,null,null,null,{"$f":"IF(E2890<>\"\",ROUND((VLOOKUP(E2890,Param!$A$7:$E$13,4,0)*Fonct_Empl!F2890*((Fonct_Empl!G2890/12)))+(VLOOKUP(E2890,Param!$A$7:$E$13,5,0)*Fonct_Empl!H2890),2),\"\")","v":""}]
[null,null,null,null,null,null,null,null,{"$f":"IF(E2891<>\"\",ROUND((VLOOKUP(E2891,Param!$A$7:$E$13,4,0)*Fonct_Empl!F2891*((Fonct_Empl!G2891/12)))+(VLOOKUP(E2891,Param!$A$7:$E$13,5,0)*Fonct_Empl!H2891),2),\"\")","v":""}]
[null,null,null,null,null,null,null,null,{"$f":"IF(E2892<>\"\",ROUND((VLOOKUP(E2892,Param!$A$7:$E$13,4,0)*Fonct_Empl!F2892*((Fonct_Empl!G2892/12)))+(VLOOKUP(E2892,Param!$A$7:$E$13,5,0)*Fonct_Empl!H2892),2),\"\")","v":""}]
[null,null,null,null,null,null,null,null,{"$f":"IF(E2893<>\"\",ROUND((VLOOKUP(E2893,Param!$A$7:$E$13,4,0)*Fonct_Empl!F2893*((Fonct_Empl!G2893/12)))+(VLOOKUP(E2893,Param!$A$7:$E$13,5,0)*Fonct_Empl!H2893),2),\"\")","v":""}]
[null,null,null,null,null,null,null,null,{"$f":"IF(E2894<>\"\",ROUND((VLOOKUP(E2894,Param!$A$7:$E$13,4,0)*Fonct_Empl!F2894*((Fonct_Empl!G2894/12)))+(VLOOKUP(E2894,Param!$A$7:$E$13,5,0)*Fonct_Empl!H2894),2),\"\")","v":""}]
[null,null,null,null,null,null,null,null,{"$f":"IF(E2895<>\"\",ROUND((VLOOKUP(E2895,Param!$A$7:$E$13,4,0)*Fonct_Empl!F2895*((Fonct_Empl!G2895/12)))+(VLOOKUP(E2895,Param!$A$7:$E$13,5,0)*Fonct_Empl!H2895),2),\"\")","v":""}]
[null,null,null,null,null,null,null,null,{"$f":"IF(E2896<>\"\",ROUND((VLOOKUP(E2896,Param!$A$7:$E$13,4,0)*Fonct_Empl!F2896*((Fonct_Empl!G2896/12)))+(VLOOKUP(E2896,Param!$A$7:$E$13,5,0)*Fonct_Empl!H2896),2),\"\")","v":""}]
[null,null,null,null,null,null,null,null,{"$f":"IF(E2897<>\"\",ROUND((VLOOKUP(E2897,Param!$A$7:$E$13,4,0)*Fonct_Empl!F2897*((Fonct_Empl!G2897/12)))+(VLOOKUP(E2897,Param!$A$7:$E$13,5,0)*Fonct_Empl!H2897),2),\"\")","v":""}]
[null,null,null,null,null,null,null,null,{"$f":"IF(E2898<>\"\",ROUND((VLOOKUP(E2898,Param!$A$7:$E$13,4,0)*Fonct_Empl!F2898*((Fonct_Empl!G2898/12)))+(VLOOKUP(E2898,Param!$A$7:$E$13,5,0)*Fonct_Empl!H2898),2),\"\")","v":""}]
[null,null,null,null,null,null,null,null,{"$f":"IF(E2899<>\"\",ROUND((VLOOKUP(E2899,Param!$A$7:$E$13,4,0)*Fonct_Empl!F2899*((Fonct_Empl!G2899/12)))+(VLOOKUP(E2899,Param!$A$7:$E$13,5,0)*Fonct_Empl!H2899),2),\"\")","v":""}]
[null,null,null,null,null,null,null,null,{"$f":"IF(E2900<>\"\",ROUND((VLOOKUP(E2900,Param!$A$7:$E$13,4,0)*Fonct_Empl!F2900*((Fonct_Empl!G2900/12)))+(VLOOKUP(E2900,Param!$A$7:$E$13,5,0)*Fonct_Empl!H2900),2),\"\")","v":""}]
[null,null,null,null,null,null,null,null,{"$f":"IF(E2901<>\"\",ROUND((VLOOKUP(E2901,Param!$A$7:$E$13,4,0)*Fonct_Empl!F2901*((Fonct_Empl!G2901/12)))+(VLOOKUP(E2901,Param!$A$7:$E$13,5,0)*Fonct_Empl!H2901),2),\"\")","v":""}]
[null,null,null,null,null,null,null,null,{"$f":"IF(E2902<>\"\",ROUND((VLOOKUP(E2902,Param!$A$7:$E$13,4,0)*Fonct_Empl!F2902*((Fonct_Empl!G2902/12)))+(VLOOKUP(E2902,Param!$A$7:$E$13,5,0)*Fonct_Empl!H2902),2),\"\")","v":""}]
[null,null,null,null,null,null,null,null,{"$f":"IF(E2903<>\"\",ROUND((VLOOKUP(E2903,Param!$A$7:$E$13,4,0)*Fonct_Empl!F2903*((Fonct_Empl!G2903/12)))+(VLOOKUP(E2903,Param!$A$7:$E$13,5,0)*Fonct_Empl!H2903),2),\"\")","v":""}]
[null,null,null,null,null,null,null,null,{"$f":"IF(E2904<>\"\",ROUND((VLOOKUP(E2904,Param!$A$7:$E$13,4,0)*Fonct_Empl!F2904*((Fonct_Empl!G2904/12)))+(VLOOKUP(E2904,Param!$A$7:$E$13,5,0)*Fonct_Empl!H2904),2),\"\")","v":""}]
[null,null,null,null,null,null,null,null,{"$f":"IF(E2905<>\"\",ROUND((VLOOKUP(E2905,Param!$A$7:$E$13,4,0)*Fonct_Empl!F2905*((Fonct_Empl!G2905/12)))+(VLOOKUP(E2905,Param!$A$7:$E$13,5,0)*Fonct_Empl!H2905),2),\"\")","v":""}]
[null,null,null,null,null,null,null,null,{"$f":"IF(E2906<>\"\",ROUND((VLOOKUP(E2906,Param!$A$7:$E$13,4,0)*Fonct_Empl!F2906*((Fonct_Empl!G2906/12)))+(VLOOKUP(E2906,Param!$A$7:$E$13,5,0)*Fonct_Empl!H2906),2),\"\")","v":""}]
[null,null,null,null,null,null,null,null,{"$f":"IF(E2907<>\"\",ROUND((VLOOKUP(E2907,Param!$A$7:$E$13,4,0)*Fonct_Empl!F2907*((Fonct_Empl!G2907/12)))+(VLOOKUP(E2907,Param!$A$7:$E$13,5,0)*Fonct_Empl!H2907),2),\"\")","v":""}]
[null,null,null,null,null,null,null,null,{"$f":"IF(E2908<>\"\",ROUND((VLOOKUP(E2908,Param!$A$7:$E$13,4,0)*Fonct_Empl!F2908*((Fonct_Empl!G2908/12)))+(VLOOKUP(E2908,Param!$A$7:$E$13,5,0)*Fonct_Empl!H2908),2),\"\")","v":""}]
[null,null,null,null,null,null,null,null,{"$f":"IF(E2909<>\"\",ROUND((VLOOKUP(E2909,Param!$A$7:$E$13,4,0)*Fonct_Empl!F2909*((Fonct_Empl!G2909/12)))+(VLOOKUP(E2909,Param!$A$7:$E$13,5,0)*Fonct_Empl!H2909),2),\"\")","v":""}]
[null,null,null,null,null,null,null,null,{"$f":"IF(E2910<>\"\",ROUND((VLOOKUP(E2910,Param!$A$7:$E$13,4,0)*Fonct_Empl!F2910*((Fonct_Empl!G2910/12)))+(VLOOKUP(E2910,Param!$A$7:$E$13,5,0)*Fonct_Empl!H2910),2),\"\")","v":""}]
[null,null,null,null,null,null,null,null,{"$f":"IF(E2911<>\"\",ROUND((VLOOKUP(E2911,Param!$A$7:$E$13,4,0)*Fonct_Empl!F2911*((Fonct_Empl!G2911/12)))+(VLOOKUP(E2911,Param!$A$7:$E$13,5,0)*Fonct_Empl!H2911),2),\"\")","v":""}]
[null,null,null,null,null,null,null,null,{"$f":"IF(E2912<>\"\",ROUND((VLOOKUP(E2912,Param!$A$7:$E$13,4,0)*Fonct_Empl!F2912*((Fonct_Empl!G2912/12)))+(VLOOKUP(E2912,Param!$A$7:$E$13,5,0)*Fonct_Empl!H2912),2),\"\")","v":""}]
[null,null,null,null,null,null,null,null,{"$f":"IF(E2913<>\"\",ROUND((VLOOKUP(E2913,Param!$A$7:$E$13,4,0)*Fonct_Empl!F2913*((Fonct_Empl!G2913/12)))+(VLOOKUP(E2913,Param!$A$7:$E$13,5,0)*Fonct_Empl!H2913),2),\"\")","v":""}]
[null,null,null,null,null,null,null,null,{"$f":"IF(E2914<>\"\",ROUND((VLOOKUP(E2914,Param!$A$7:$E$13,4,0)*Fonct_Empl!F2914*((Fonct_Empl!G2914/12)))+(VLOOKUP(E2914,Param!$A$7:$E$13,5,0)*Fonct_Empl!H2914),2),\"\")","v":""}]
[null,null,null,null,null,null,null,null,{"$f":"IF(E2915<>\"\",ROUND((VLOOKUP(E2915,Param!$A$7:$E$13,4,0)*Fonct_Empl!F2915*((Fonct_Empl!G2915/12)))+(VLOOKUP(E2915,Param!$A$7:$E$13,5,0)*Fonct_Empl!H2915),2),\"\")","v":""}]
[null,null,null,null,null,null,null,null,{"$f":"IF(E2916<>\"\",ROUND((VLOOKUP(E2916,Param!$A$7:$E$13,4,0)*Fonct_Empl!F2916*((Fonct_Empl!G2916/12)))+(VLOOKUP(E2916,Param!$A$7:$E$13,5,0)*Fonct_Empl!H2916),2),\"\")","v":""}]
[null,null,null,null,null,null,null,null,{"$f":"IF(E2917<>\"\",ROUND((VLOOKUP(E2917,Param!$A$7:$E$13,4,0)*Fonct_Empl!F2917*((Fonct_Empl!G2917/12)))+(VLOOKUP(E2917,Param!$A$7:$E$13,5,0)*Fonct_Empl!H2917),2),\"\")","v":""}]
[null,null,null,null,null,null,null,null,{"$f":"IF(E2918<>\"\",ROUND((VLOOKUP(E2918,Param!$A$7:$E$13,4,0)*Fonct_Empl!F2918*((Fonct_Empl!G2918/12)))+(VLOOKUP(E2918,Param!$A$7:$E$13,5,0)*Fonct_Empl!H2918),2),\"\")","v":""}]
[null,null,null,null,null,null,null,null,{"$f":"IF(E2919<>\"\",ROUND((VLOOKUP(E2919,Param!$A$7:$E$13,4,0)*Fonct_Empl!F2919*((Fonct_Empl!G2919/12)))+(VLOOKUP(E2919,Param!$A$7:$E$13,5,0)*Fonct_Empl!H2919),2),\"\")","v":""}]
[null,null,null,null,null,null,null,null,{"$f":"IF(E2920<>\"\",ROUND((VLOOKUP(E2920,Param!$A$7:$E$13,4,0)*Fonct_Empl!F2920*((Fonct_Empl!G2920/12)))+(VLOOKUP(E2920,Param!$A$7:$E$13,5,0)*Fonct_Empl!H2920),2),\"\")","v":""}]
[null,null,null,null,null,null,null,null,{"$f":"IF(E2921<>\"\",ROUND((VLOOKUP(E2921,Param!$A$7:$E$13,4,0)*Fonct_Empl!F2921*((Fonct_Empl!G2921/12)))+(VLOOKUP(E2921,Param!$A$7:$E$13,5,0)*Fonct_Empl!H2921),2),\"\")","v":""}]
[null,null,null,null,null,null,null,null,{"$f":"IF(E2922<>\"\",ROUND((VLOOKUP(E2922,Param!$A$7:$E$13,4,0)*Fonct_Empl!F2922*((Fonct_Empl!G2922/12)))+(VLOOKUP(E2922,Param!$A$7:$E$13,5,0)*Fonct_Empl!H2922),2),\"\")","v":""}]
[null,null,null,null,null,null,null,null,{"$f":"IF(E2923<>\"\",ROUND((VLOOKUP(E2923,Param!$A$7:$E$13,4,0)*Fonct_Empl!F2923*((Fonct_Empl!G2923/12)))+(VLOOKUP(E2923,Param!$A$7:$E$13,5,0)*Fonct_Empl!H2923),2),\"\")","v":""}]
[null,null,null,null,null,null,null,null,{"$f":"IF(E2924<>\"\",ROUND((VLOOKUP(E2924,Param!$A$7:$E$13,4,0)*Fonct_Empl!F2924*((Fonct_Empl!G2924/12)))+(VLOOKUP(E2924,Param!$A$7:$E$13,5,0)*Fonct_Empl!H2924),2),\"\")","v":""}]
[null,null,null,null,null,null,null,null,{"$f":"IF(E2925<>\"\",ROUND((VLOOKUP(E2925,Param!$A$7:$E$13,4,0)*Fonct_Empl!F2925*((Fonct_Empl!G2925/12)))+(VLOOKUP(E2925,Param!$A$7:$E$13,5,0)*Fonct_Empl!H2925),2),\"\")","v":""}]
[null,null,null,null,null,null,null,null,{"$f":"IF(E2926<>\"\",ROUND((VLOOKUP(E2926,Param!$A$7:$E$13,4,0)*Fonct_Empl!F2926*((Fonct_Empl!G2926/12)))+(VLOOKUP(E2926,Param!$A$7:$E$13,5,0)*Fonct_Empl!H2926),2),\"\")","v":""}]
[null,null,null,null,null,null,null,null,{"$f":"IF(E2927<>\"\",ROUND((VLOOKUP(E2927,Param!$A$7:$E$13,4,0)*Fonct_Empl!F2927*((Fonct_Empl!G2927/12)))+(VLOOKUP(E2927,Param!$A$7:$E$13,5,0)*Fonct_Empl!H2927),2),\"\")","v":""}]
[null,null,null,null,null,null,null,null,{"$f":"IF(E2928<>\"\",ROUND((VLOOKUP(E2928,Param!$A$7:$E$13,4,0)*Fonct_Empl!F2928*((Fonct_Empl!G2928/12)))+(VLOOKUP(E2928,Param!$A$7:$E$13,5,0)*Fonct_Empl!H2928),2),\"\")","v":""}]
[null,null,null,null,null,null,null,null,{"$f":"IF(E2929<>\"\",ROUND((VLOOKUP(E2929,Param!$A$7:$E$13,4,0)*Fonct_Empl!F2929*((Fonct_Empl!G2929/12)))+(VLOOKUP(E2929,Param!$A$7:$E$13,5,0)*Fonct_Empl!H2929),2),\"\")","v":""}]
[null,null,null,null,null,null,null,null,{"$f":"IF(E2930<>\"\",ROUND((VLOOKUP(E2930,Param!$A$7:$E$13,4,0)*Fonct_Empl!F2930*((Fonct_Empl!G2930/12)))+(VLOOKUP(E2930,Param!$A$7:$E$13,5,0)*Fonct_Empl!H2930),2),\"\")","v":""}]
[null,null,null,null,null,null,null,null,{"$f":"IF(E2931<>\"\",ROUND((VLOOKUP(E2931,Param!$A$7:$E$13,4,0)*Fonct_Empl!F2931*((Fonct_Empl!G2931/12)))+(VLOOKUP(E2931,Param!$A$7:$E$13,5,0)*Fonct_Empl!H2931),2),\"\")","v":""}]
[null,null,null,null,null,null,null,null,{"$f":"IF(E2932<>\"\",ROUND((VLOOKUP(E2932,Param!$A$7:$E$13,4,0)*Fonct_Empl!F2932*((Fonct_Empl!G2932/12)))+(VLOOKUP(E2932,Param!$A$7:$E$13,5,0)*Fonct_Empl!H2932),2),\"\")","v":""}]
[null,null,null,null,null,null,null,null,{"$f":"IF(E2933<>\"\",ROUND((VLOOKUP(E2933,Param!$A$7:$E$13,4,0)*Fonct_Empl!F2933*((Fonct_Empl!G2933/12)))+(VLOOKUP(E2933,Param!$A$7:$E$13,5,0)*Fonct_Empl!H2933),2),\"\")","v":""}]
[null,null,null,null,null,null,null,null,{"$f":"IF(E2934<>\"\",ROUND((VLOOKUP(E2934,Param!$A$7:$E$13,4,0)*Fonct_Empl!F2934*((Fonct_Empl!G2934/12)))+(VLOOKUP(E2934,Param!$A$7:$E$13,5,0)*Fonct_Empl!H2934),2),\"\")","v":""}]
[null,null,null,null,null,null,null,null,{"$f":"IF(E2935<>\"\",ROUND((VLOOKUP(E2935,Param!$A$7:$E$13,4,0)*Fonct_Empl!F2935*((Fonct_Empl!G2935/12)))+(VLOOKUP(E2935,Param!$A$7:$E$13,5,0)*Fonct_Empl!H2935),2),\"\")","v":""}]
[null,null,null,null,null,null,null,null,{"$f":"IF(E2936<>\"\",ROUND((VLOOKUP(E2936,Param!$A$7:$E$13,4,0)*Fonct_Empl!F2936*((Fonct_Empl!G2936/12)))+(VLOOKUP(E2936,Param!$A$7:$E$13,5,0)*Fonct_Empl!H2936),2),\"\")","v":""}]
[null,null,null,null,null,null,null,null,{"$f":"IF(E2937<>\"\",ROUND((VLOOKUP(E2937,Param!$A$7:$E$13,4,0)*Fonct_Empl!F2937*((Fonct_Empl!G2937/12)))+(VLOOKUP(E2937,Param!$A$7:$E$13,5,0)*Fonct_Empl!H2937),2),\"\")","v":""}]
[null,null,null,null,null,null,null,null,{"$f":"IF(E2938<>\"\",ROUND((VLOOKUP(E2938,Param!$A$7:$E$13,4,0)*Fonct_Empl!F2938*((Fonct_Empl!G2938/12)))+(VLOOKUP(E2938,Param!$A$7:$E$13,5,0)*Fonct_Empl!H2938),2),\"\")","v":""}]
[null,null,null,null,null,null,null,null,{"$f":"IF(E2939<>\"\",ROUND((VLOOKUP(E2939,Param!$A$7:$E$13,4,0)*Fonct_Empl!F2939*((Fonct_Empl!G2939/12)))+(VLOOKUP(E2939,Param!$A$7:$E$13,5,0)*Fonct_Empl!H2939),2),\"\")","v":""}]
[null,null,null,null,null,null,null,null,{"$f":"IF(E2940<>\"\",ROUND((VLOOKUP(E2940,Param!$A$7:$E$13,4,0)*Fonct_Empl!F2940*((Fonct_Empl!G2940/12)))+(VLOOKUP(E2940,Param!$A$7:$E$13,5,0)*Fonct_Empl!H2940),2),\"\")","v":""}]
[null,null,null,null,null,null,null,null,{"$f":"IF(E2941<>\"\",ROUND((VLOOKUP(E2941,Param!$A$7:$E$13,4,0)*Fonct_Empl!F2941*((Fonct_Empl!G2941/12)))+(VLOOKUP(E2941,Param!$A$7:$E$13,5,0)*Fonct_Empl!H2941),2),\"\")","v":""}]
[null,null,null,null,null,null,null,null,{"$f":"IF(E2942<>\"\",ROUND((VLOOKUP(E2942,Param!$A$7:$E$13,4,0)*Fonct_Empl!F2942*((Fonct_Empl!G2942/12)))+(VLOOKUP(E2942,Param!$A$7:$E$13,5,0)*Fonct_Empl!H2942),2),\"\")","v":""}]
[null,null,null,null,null,null,null,null,{"$f":"IF(E2943<>\"\",ROUND((VLOOKUP(E2943,Param!$A$7:$E$13,4,0)*Fonct_Empl!F2943*((Fonct_Empl!G2943/12)))+(VLOOKUP(E2943,Param!$A$7:$E$13,5,0)*Fonct_Empl!H2943),2),\"\")","v":""}]
[null,null,null,null,null,null,null,null,{"$f":"IF(E2944<>\"\",ROUND((VLOOKUP(E2944,Param!$A$7:$E$13,4,0)*Fonct_Empl!F2944*((Fonct_Empl!G2944/12)))+(VLOOKUP(E2944,Param!$A$7:$E$13,5,0)*Fonct_Empl!H2944),2),\"\")","v":""}]
[null,null,null,null,null,null,null,null,{"$f":"IF(E2945<>\"\",ROUND((VLOOKUP(E2945,Param!$A$7:$E$13,4,0)*Fonct_Empl!F2945*((Fonct_Empl!G2945/12)))+(VLOOKUP(E2945,Param!$A$7:$E$13,5,0)*Fonct_Empl!H2945),2),\"\")","v":""}]
[null,null,null,null,null,null,null,null,{"$f":"IF(E2946<>\"\",ROUND((VLOOKUP(E2946,Param!$A$7:$E$13,4,0)*Fonct_Empl!F2946*((Fonct_Empl!G2946/12)))+(VLOOKUP(E2946,Param!$A$7:$E$13,5,0)*Fonct_Empl!H2946),2),\"\")","v":""}]
[null,null,null,null,null,null,null,null,{"$f":"IF(E2947<>\"\",ROUND((VLOOKUP(E2947,Param!$A$7:$E$13,4,0)*Fonct_Empl!F2947*((Fonct_Empl!G2947/12)))+(VLOOKUP(E2947,Param!$A$7:$E$13,5,0)*Fonct_Empl!H2947),2),\"\")","v":""}]
[null,null,null,null,null,null,null,null,{"$f":"IF(E2948<>\"\",ROUND((VLOOKUP(E2948,Param!$A$7:$E$13,4,0)*Fonct_Empl!F2948*((Fonct_Empl!G2948/12)))+(VLOOKUP(E2948,Param!$A$7:$E$13,5,0)*Fonct_Empl!H2948),2),\"\")","v":""}]
[null,null,null,null,null,null,null,null,{"$f":"IF(E2949<>\"\",ROUND((VLOOKUP(E2949,Param!$A$7:$E$13,4,0)*Fonct_Empl!F2949*((Fonct_Empl!G2949/12)))+(VLOOKUP(E2949,Param!$A$7:$E$13,5,0)*Fonct_Empl!H2949),2),\"\")","v":""}]
[null,null,null,null,null,null,null,null,{"$f":"IF(E2950<>\"\",ROUND((VLOOKUP(E2950,Param!$A$7:$E$13,4,0)*Fonct_Empl!F2950*((Fonct_Empl!G2950/12)))+(VLOOKUP(E2950,Param!$A$7:$E$13,5,0)*Fonct_Empl!H2950),2),\"\")","v":""}]
[null,null,null,null,null,null,null,null,{"$f":"IF(E2951<>\"\",ROUND((VLOOKUP(E2951,Param!$A$7:$E$13,4,0)*Fonct_Empl!F2951*((Fonct_Empl!G2951/12)))+(VLOOKUP(E2951,Param!$A$7:$E$13,5,0)*Fonct_Empl!H2951),2),\"\")","v":""}]
[null,null,null,null,null,null,null,null,{"$f":"IF(E2952<>\"\",ROUND((VLOOKUP(E2952,Param!$A$7:$E$13,4,0)*Fonct_Empl!F2952*((Fonct_Empl!G2952/12)))+(VLOOKUP(E2952,Param!$A$7:$E$13,5,0)*Fonct_Empl!H2952),2),\"\")","v":""}]
[null,null,null,null,null,null,null,null,{"$f":"IF(E2953<>\"\",ROUND((VLOOKUP(E2953,Param!$A$7:$E$13,4,0)*Fonct_Empl!F2953*((Fonct_Empl!G2953/12)))+(VLOOKUP(E2953,Param!$A$7:$E$13,5,0)*Fonct_Empl!H2953),2),\"\")","v":""}]
[null,null,null,null,null,null,null,null,{"$f":"IF(E2954<>\"\",ROUND((VLOOKUP(E2954,Param!$A$7:$E$13,4,0)*Fonct_Empl!F2954*((Fonct_Empl!G2954/12)))+(VLOOKUP(E2954,Param!$A$7:$E$13,5,0)*Fonct_Empl!H2954),2),\"\")","v":""}]
[null,null,null,null,null,null,null,null,{"$f":"IF(E2955<>\"\",ROUND((VLOOKUP(E2955,Param!$A$7:$E$13,4,0)*Fonct_Empl!F2955*((Fonct_Empl!G2955/12)))+(VLOOKUP(E2955,Param!$A$7:$E$13,5,0)*Fonct_Empl!H2955),2),\"\")","v":""}]
[null,null,null,null,null,null,null,null,{"$f":"IF(E2956<>\"\",ROUND((VLOOKUP(E2956,Param!$A$7:$E$13,4,0)*Fonct_Empl!F2956*((Fonct_Empl!G2956/12)))+(VLOOKUP(E2956,Param!$A$7:$E$13,5,0)*Fonct_Empl!H2956),2),\"\")","v":""}]
[null,null,null,null,null,null,null,null,{"$f":"IF(E2957<>\"\",ROUND((VLOOKUP(E2957,Param!$A$7:$E$13,4,0)*Fonct_Empl!F2957*((Fonct_Empl!G2957/12)))+(VLOOKUP(E2957,Param!$A$7:$E$13,5,0)*Fonct_Empl!H2957),2),\"\")","v":""}]
[null,null,null,null,null,null,null,null,{"$f":"IF(E2958<>\"\",ROUND((VLOOKUP(E2958,Param!$A$7:$E$13,4,0)*Fonct_Empl!F2958*((Fonct_Empl!G2958/12)))+(VLOOKUP(E2958,Param!$A$7:$E$13,5,0)*Fonct_Empl!H2958),2),\"\")","v":""}]
[null,null,null,null,null,null,null,null,{"$f":"IF(E2959<>\"\",ROUND((VLOOKUP(E2959,Param!$A$7:$E$13,4,0)*Fonct_Empl!F2959*((Fonct_Empl!G2959/12)))+(VLOOKUP(E2959,Param!$A$7:$E$13,5,0)*Fonct_Empl!H2959),2),\"\")","v":""}]
[null,null,null,null,null,null,null,null,{"$f":"IF(E2960<>\"\",ROUND((VLOOKUP(E2960,Param!$A$7:$E$13,4,0)*Fonct_Empl!F2960*((Fonct_Empl!G2960/12)))+(VLOOKUP(E2960,Param!$A$7:$E$13,5,0)*Fonct_Empl!H2960),2),\"\")","v":""}]
[null,null,null,null,null,null,null,null,{"$f":"IF(E2961<>\"\",ROUND((VLOOKUP(E2961,Param!$A$7:$E$13,4,0)*Fonct_Empl!F2961*((Fonct_Empl!G2961/12)))+(VLOOKUP(E2961,Param!$A$7:$E$13,5,0)*Fonct_Empl!H2961),2),\"\")","v":""}]
[null,null,null,null,null,null,null,null,{"$f":"IF(E2962<>\"\",ROUND((VLOOKUP(E2962,Param!$A$7:$E$13,4,0)*Fonct_Empl!F2962*((Fonct_Empl!G2962/12)))+(VLOOKUP(E2962,Param!$A$7:$E$13,5,0)*Fonct_Empl!H2962),2),\"\")","v":""}]
[null,null,null,null,null,null,null,null,{"$f":"IF(E2963<>\"\",ROUND((VLOOKUP(E2963,Param!$A$7:$E$13,4,0)*Fonct_Empl!F2963*((Fonct_Empl!G2963/12)))+(VLOOKUP(E2963,Param!$A$7:$E$13,5,0)*Fonct_Empl!H2963),2),\"\")","v":""}]
[null,null,null,null,null,null,null,null,{"$f":"IF(E2964<>\"\",ROUND((VLOOKUP(E2964,Param!$A$7:$E$13,4,0)*Fonct_Empl!F2964*((Fonct_Empl!G2964/12)))+(VLOOKUP(E2964,Param!$A$7:$E$13,5,0)*Fonct_Empl!H2964),2),\"\")","v":""}]
[null,null,null,null,null,null,null,null,{"$f":"IF(E2965<>\"\",ROUND((VLOOKUP(E2965,Param!$A$7:$E$13,4,0)*Fonct_Empl!F2965*((Fonct_Empl!G2965/12)))+(VLOOKUP(E2965,Param!$A$7:$E$13,5,0)*Fonct_Empl!H2965),2),\"\")","v":""}]
[null,null,null,null,null,null,null,null,{"$f":"IF(E2966<>\"\",ROUND((VLOOKUP(E2966,Param!$A$7:$E$13,4,0)*Fonct_Empl!F2966*((Fonct_Empl!G2966/12)))+(VLOOKUP(E2966,Param!$A$7:$E$13,5,0)*Fonct_Empl!H2966),2),\"\")","v":""}]
[null,null,null,null,null,null,null,null,{"$f":"IF(E2967<>\"\",ROUND((VLOOKUP(E2967,Param!$A$7:$E$13,4,0)*Fonct_Empl!F2967*((Fonct_Empl!G2967/12)))+(VLOOKUP(E2967,Param!$A$7:$E$13,5,0)*Fonct_Empl!H2967),2),\"\")","v":""}]
[null,null,null,null,null,null,null,null,{"$f":"IF(E2968<>\"\",ROUND((VLOOKUP(E2968,Param!$A$7:$E$13,4,0)*Fonct_Empl!F2968*((Fonct_Empl!G2968/12)))+(VLOOKUP(E2968,Param!$A$7:$E$13,5,0)*Fonct_Empl!H2968),2),\"\")","v":""}]
[null,null,null,null,null,null,null,null,{"$f":"IF(E2969<>\"\",ROUND((VLOOKUP(E2969,Param!$A$7:$E$13,4,0)*Fonct_Empl!F2969*((Fonct_Empl!G2969/12)))+(VLOOKUP(E2969,Param!$A$7:$E$13,5,0)*Fonct_Empl!H2969),2),\"\")","v":""}]
[null,null,null,null,null,null,null,null,{"$f":"IF(E2970<>\"\",ROUND((VLOOKUP(E2970,Param!$A$7:$E$13,4,0)*Fonct_Empl!F2970*((Fonct_Empl!G2970/12)))+(VLOOKUP(E2970,Param!$A$7:$E$13,5,0)*Fonct_Empl!H2970),2),\"\")","v":""}]
[null,null,null,null,null,null,null,null,{"$f":"IF(E2971<>\"\",ROUND((VLOOKUP(E2971,Param!$A$7:$E$13,4,0)*Fonct_Empl!F2971*((Fonct_Empl!G2971/12)))+(VLOOKUP(E2971,Param!$A$7:$E$13,5,0)*Fonct_Empl!H2971),2),\"\")","v":""}]
[null,null,null,null,null,null,null,null,{"$f":"IF(E2972<>\"\",ROUND((VLOOKUP(E2972,Param!$A$7:$E$13,4,0)*Fonct_Empl!F2972*((Fonct_Empl!G2972/12)))+(VLOOKUP(E2972,Param!$A$7:$E$13,5,0)*Fonct_Empl!H2972),2),\"\")","v":""}]
[null,null,null,null,null,null,null,null,{"$f":"IF(E2973<>\"\",ROUND((VLOOKUP(E2973,Param!$A$7:$E$13,4,0)*Fonct_Empl!F2973*((Fonct_Empl!G2973/12)))+(VLOOKUP(E2973,Param!$A$7:$E$13,5,0)*Fonct_Empl!H2973),2),\"\")","v":""}]
[null,null,null,null,null,null,null,null,{"$f":"IF(E2974<>\"\",ROUND((VLOOKUP(E2974,Param!$A$7:$E$13,4,0)*Fonct_Empl!F2974*((Fonct_Empl!G2974/12)))+(VLOOKUP(E2974,Param!$A$7:$E$13,5,0)*Fonct_Empl!H2974),2),\"\")","v":""}]
[null,null,null,null,null,null,null,null,{"$f":"IF(E2975<>\"\",ROUND((VLOOKUP(E2975,Param!$A$7:$E$13,4,0)*Fonct_Empl!F2975*((Fonct_Empl!G2975/12)))+(VLOOKUP(E2975,Param!$A$7:$E$13,5,0)*Fonct_Empl!H2975),2),\"\")","v":""}]
[null,null,null,null,null,null,null,null,{"$f":"IF(E2976<>\"\",ROUND((VLOOKUP(E2976,Param!$A$7:$E$13,4,0)*Fonct_Empl!F2976*((Fonct_Empl!G2976/12)))+(VLOOKUP(E2976,Param!$A$7:$E$13,5,0)*Fonct_Empl!H2976),2),\"\")","v":""}]
[null,null,null,null,null,null,null,null,{"$f":"IF(E2977<>\"\",ROUND((VLOOKUP(E2977,Param!$A$7:$E$13,4,0)*Fonct_Empl!F2977*((Fonct_Empl!G2977/12)))+(VLOOKUP(E2977,Param!$A$7:$E$13,5,0)*Fonct_Empl!H2977),2),\"\")","v":""}]
[null,null,null,null,null,null,null,null,{"$f":"IF(E2978<>\"\",ROUND((VLOOKUP(E2978,Param!$A$7:$E$13,4,0)*Fonct_Empl!F2978*((Fonct_Empl!G2978/12)))+(VLOOKUP(E2978,Param!$A$7:$E$13,5,0)*Fonct_Empl!H2978),2),\"\")","v":""}]
[null,null,null,null,null,null,null,null,{"$f":"IF(E2979<>\"\",ROUND((VLOOKUP(E2979,Param!$A$7:$E$13,4,0)*Fonct_Empl!F2979*((Fonct_Empl!G2979/12)))+(VLOOKUP(E2979,Param!$A$7:$E$13,5,0)*Fonct_Empl!H2979),2),\"\")","v":""}]
[null,null,null,null,null,null,null,null,{"$f":"IF(E2980<>\"\",ROUND((VLOOKUP(E2980,Param!$A$7:$E$13,4,0)*Fonct_Empl!F2980*((Fonct_Empl!G2980/12)))+(VLOOKUP(E2980,Param!$A$7:$E$13,5,0)*Fonct_Empl!H2980),2),\"\")","v":""}]
[null,null,null,null,null,null,null,null,{"$f":"IF(E2981<>\"\",ROUND((VLOOKUP(E2981,Param!$A$7:$E$13,4,0)*Fonct_Empl!F2981*((Fonct_Empl!G2981/12)))+(VLOOKUP(E2981,Param!$A$7:$E$13,5,0)*Fonct_Empl!H2981),2),\"\")","v":""}]
[null,null,null,null,null,null,null,null,{"$f":"IF(E2982<>\"\",ROUND((VLOOKUP(E2982,Param!$A$7:$E$13,4,0)*Fonct_Empl!F2982*((Fonct_Empl!G2982/12)))+(VLOOKUP(E2982,Param!$A$7:$E$13,5,0)*Fonct_Empl!H2982),2),\"\")","v":""}]
[null,null,null,null,null,null,null,null,{"$f":"IF(E2983<>\"\",ROUND((VLOOKUP(E2983,Param!$A$7:$E$13,4,0)*Fonct_Empl!F2983*((Fonct_Empl!G2983/12)))+(VLOOKUP(E2983,Param!$A$7:$E$13,5,0)*Fonct_Empl!H2983),2),\"\")","v":""}]
[null,null,null,null,null,null,null,null,{"$f":"IF(E2984<>\"\",ROUND((VLOOKUP(E2984,Param!$A$7:$E$13,4,0)*Fonct_Empl!F2984*((Fonct_Empl!G2984/12)))+(VLOOKUP(E2984,Param!$A$7:$E$13,5,0)*Fonct_Empl!H2984),2),\"\")","v":""}]
[null,null,null,null,null,null,null,null,{"$f":"IF(E2985<>\"\",ROUND((VLOOKUP(E2985,Param!$A$7:$E$13,4,0)*Fonct_Empl!F2985*((Fonct_Empl!G2985/12)))+(VLOOKUP(E2985,Param!$A$7:$E$13,5,0)*Fonct_Empl!H2985),2),\"\")","v":""}]
[null,null,null,null,null,null,null,null,{"$f":"IF(E2986<>\"\",ROUND((VLOOKUP(E2986,Param!$A$7:$E$13,4,0)*Fonct_Empl!F2986*((Fonct_Empl!G2986/12)))+(VLOOKUP(E2986,Param!$A$7:$E$13,5,0)*Fonct_Empl!H2986),2),\"\")","v":""}]
[null,null,null,null,null,null,null,null,{"$f":"IF(E2987<>\"\",ROUND((VLOOKUP(E2987,Param!$A$7:$E$13,4,0)*Fonct_Empl!F2987*((Fonct_Empl!G2987/12)))+(VLOOKUP(E2987,Param!$A$7:$E$13,5,0)*Fonct_Empl!H2987),2),\"\")","v":""}]
[null,null,null,null,null,null,null,null,{"$f":"IF(E2988<>\"\",ROUND((VLOOKUP(E2988,Param!$A$7:$E$13,4,0)*Fonct_Empl!F2988*((Fonct_Empl!G2988/12)))+(VLOOKUP(E2988,Param!$A$7:$E$13,5,0)*Fonct_Empl!H2988),2),\"\")","v":""}]
[null,null,null,null,null,null,null,null,{"$f":"IF(E2989<>\"\",ROUND((VLOOKUP(E2989,Param!$A$7:$E$13,4,0)*Fonct_Empl!F2989*((Fonct_Empl!G2989/12)))+(VLOOKUP(E2989,Param!$A$7:$E$13,5,0)*Fonct_Empl!H2989),2),\"\")","v":""}]
[null,null,null,null,null,null,null,null,{"$f":"IF(E2990<>\"\",ROUND((VLOOKUP(E2990,Param!$A$7:$E$13,4,0)*Fonct_Empl!F2990*((Fonct_Empl!G2990/12)))+(VLOOKUP(E2990,Param!$A$7:$E$13,5,0)*Fonct_Empl!H2990),2),\"\")","v":""}]
[null,null,null,null,null,null,null,null,{"$f":"IF(E2991<>\"\",ROUND((VLOOKUP(E2991,Param!$A$7:$E$13,4,0)*Fonct_Empl!F2991*((Fonct_Empl!G2991/12)))+(VLOOKUP(E2991,Param!$A$7:$E$13,5,0)*Fonct_Empl!H2991),2),\"\")","v":""}]
[null,null,null,null,null,null,null,null,{"$f":"IF(E2992<>\"\",ROUND((VLOOKUP(E2992,Param!$A$7:$E$13,4,0)*Fonct_Empl!F2992*((Fonct_Empl!G2992/12)))+(VLOOKUP(E2992,Param!$A$7:$E$13,5,0)*Fonct_Empl!H2992),2),\"\")","v":""}]
[null,null,null,null,null,null,null,null,{"$f":"IF(E2993<>\"\",ROUND((VLOOKUP(E2993,Param!$A$7:$E$13,4,0)*Fonct_Empl!F2993*((Fonct_Empl!G2993/12)))+(VLOOKUP(E2993,Param!$A$7:$E$13,5,0)*Fonct_Empl!H2993),2),\"\")","v":""}]
[null,null,null,null,null,null,null,null,{"$f":"IF(E2994<>\"\",ROUND((VLOOKUP(E2994,Param!$A$7:$E$13,4,0)*Fonct_Empl!F2994*((Fonct_Empl!G2994/12)))+(VLOOKUP(E2994,Param!$A$7:$E$13,5,0)*Fonct_Empl!H2994),2),\"\")","v":""}]
[null,null,null,null,null,null,null,null,{"$f":"IF(E2995<>\"\",ROUND((VLOOKUP(E2995,Param!$A$7:$E$13,4,0)*Fonct_Empl!F2995*((Fonct_Empl!G2995/12)))+(VLOOKUP(E2995,Param!$A$7:$E$13,5,0)*Fonct_Empl!H2995),2),\"\")","v":""}]
[null,null,null,null,null,null,null,null,{"$f":"IF(E2996<>\"\",ROUND((VLOOKUP(E2996,Param!$A$7:$E$13,4,0)*Fonct_Empl!F2996*((Fonct_Empl!G2996/12)))+(VLOOKUP(E2996,Param!$A$7:$E$13,5,0)*Fonct_Empl!H2996),2),\"\")","v":""}]
[null,null,null,null,null,null,null,null,{"$f":"IF(E2997<>\"\",ROUND((VLOOKUP(E2997,Param!$A$7:$E$13,4,0)*Fonct_Empl!F2997*((Fonct_Empl!G2997/12)))+(VLOOKUP(E2997,Param!$A$7:$E$13,5,0)*Fonct_Empl!H2997),2),\"\")","v":""}]
[null,null,null,null,null,null,null,null,{"$f":"IF(E2998<>\"\",ROUND((VLOOKUP(E2998,Param!$A$7:$E$13,4,0)*Fonct_Empl!F2998*((Fonct_Empl!G2998/12)))+(VLOOKUP(E2998,Param!$A$7:$E$13,5,0)*Fonct_Empl!H2998),2),\"\")","v":""}]
[null,null,null,null,null,null,null,null,{"$f":"IF(E2999<>\"\",ROUND((VLOOKUP(E2999,Param!$A$7:$E$13,4,0)*Fonct_Empl!F2999*((Fonct_Empl!G2999/12)))+(VLOOKUP(E2999,Param!$A$7:$E$13,5,0)*Fonct_Empl!H2999),2),\"\")","v":""}]
[null,null,null,null,null,null,null,null,{"$f":"IF(E3000<>\"\",ROUND((VLOOKUP(E3000,Param!$A$7:$E$13,4,0)*Fonct_Empl!F3000*((Fonct_Empl!G3000/12)))+(VLOOKUP(E3000,Param!$A$7:$E$13,5,0)*Fonct_Empl!H3000),2),\"\")","v":""}]
[null,null,null,null,null,null,null,null,{"$f":"IF(E3001<>\"\",ROUND((VLOOKUP(E3001,Param!$A$7:$E$13,4,0)*Fonct_Empl!F3001*((Fonct_Empl!G3001/12)))+(VLOOKUP(E3001,Param!$A$7:$E$13,5,0)*Fonct_Empl!H3001),2),\"\")","v":""}]
[null,null,null,null,null,null,null,null,{"$f":"IF(E3002<>\"\",ROUND((VLOOKUP(E3002,Param!$A$7:$E$13,4,0)*Fonct_Empl!F3002*((Fonct_Empl!G3002/12)))+(VLOOKUP(E3002,Param!$A$7:$E$13,5,0)*Fonct_Empl!H3002),2),\"\")","v":""}]
[null,null,null,null,null,null,null,null,{"$f":"IF(E3003<>\"\",ROUND((VLOOKUP(E3003,Param!$A$7:$E$13,4,0)*Fonct_Empl!F3003*((Fonct_Empl!G3003/12)))+(VLOOKUP(E3003,Param!$A$7:$E$13,5,0)*Fonct_Empl!H3003),2),\"\")","v":""}]
[null,null,null,null,null,null,null,null,{"$f":"IF(E3004<>\"\",ROUND((VLOOKUP(E3004,Param!$A$7:$E$13,4,0)*Fonct_Empl!F3004*((Fonct_Empl!G3004/12)))+(VLOOKUP(E3004,Param!$A$7:$E$13,5,0)*Fonct_Empl!H3004),2),\"\")","v":""}]
[null,null,null,null,null,null,null,null,{"$f":"IF(E3005<>\"\",ROUND((VLOOKUP(E3005,Param!$A$7:$E$13,4,0)*Fonct_Empl!F3005*((Fonct_Empl!G3005/12)))+(VLOOKUP(E3005,Param!$A$7:$E$13,5,0)*Fonct_Empl!H3005),2),\"\")","v":""}]
[null,null,null,null,null,null,null,null,{"$f":"IF(E3006<>\"\",ROUND((VLOOKUP(E3006,Param!$A$7:$E$13,4,0)*Fonct_Empl!F3006*((Fonct_Empl!G3006/12)))+(VLOOKUP(E3006,Param!$A$7:$E$13,5,0)*Fonct_Empl!H3006),2),\"\")","v":""}]
[null,null,null,null,null,null,null,null,{"$f":"IF(E3007<>\"\",ROUND((VLOOKUP(E3007,Param!$A$7:$E$13,4,0)*Fonct_Empl!F3007*((Fonct_Empl!G3007/12)))+(VLOOKUP(E3007,Param!$A$7:$E$13,5,0)*Fonct_Empl!H3007),2),\"\")","v":""}]
[null,null,null,null,null,null,null,null,{"$f":"IF(E3008<>\"\",ROUND((VLOOKUP(E3008,Param!$A$7:$E$13,4,0)*Fonct_Empl!F3008*((Fonct_Empl!G3008/12)))+(VLOOKUP(E3008,Param!$A$7:$E$13,5,0)*Fonct_Empl!H3008),2),\"\")","v":""}]
[null,null,null,null,null,null,null,null,{"$f":"IF(E3009<>\"\",ROUND((VLOOKUP(E3009,Param!$A$7:$E$13,4,0)*Fonct_Empl!F3009*((Fonct_Empl!G3009/12)))+(VLOOKUP(E3009,Param!$A$7:$E$13,5,0)*Fonct_Empl!H3009),2),\"\")","v":""}]
[null,null,null,null,null,null,null,null,{"$f":"IF(E3010<>\"\",ROUND((VLOOKUP(E3010,Param!$A$7:$E$13,4,0)*Fonct_Empl!F3010*((Fonct_Empl!G3010/12)))+(VLOOKUP(E3010,Param!$A$7:$E$13,5,0)*Fonct_Empl!H3010),2),\"\")","v":""}]
[null,null,null,null,null,null,null,null,{"$f":"IF(E3011<>\"\",ROUND((VLOOKUP(E3011,Param!$A$7:$E$13,4,0)*Fonct_Empl!F3011*((Fonct_Empl!G3011/12)))+(VLOOKUP(E3011,Param!$A$7:$E$13,5,0)*Fonct_Empl!H3011),2),\"\")","v":""}]
[null,null,null,null,null,null,null,null,{"$f":"IF(E3012<>\"\",ROUND((VLOOKUP(E3012,Param!$A$7:$E$13,4,0)*Fonct_Empl!F3012*((Fonct_Empl!G3012/12)))+(VLOOKUP(E3012,Param!$A$7:$E$13,5,0)*Fonct_Empl!H3012),2),\"\")","v":""}]
[null,null,null,null,null,null,null,null,{"$f":"IF(E3013<>\"\",ROUND((VLOOKUP(E3013,Param!$A$7:$E$13,4,0)*Fonct_Empl!F3013*((Fonct_Empl!G3013/12)))+(VLOOKUP(E3013,Param!$A$7:$E$13,5,0)*Fonct_Empl!H3013),2),\"\")","v":""}]
[null,null,null,null,null,null,null,null,{"$f":"IF(E3014<>\"\",ROUND((VLOOKUP(E3014,Param!$A$7:$E$13,4,0)*Fonct_Empl!F3014*((Fonct_Empl!G3014/12)))+(VLOOKUP(E3014,Param!$A$7:$E$13,5,0)*Fonct_Empl!H3014),2),\"\")","v":""}]
[null,null,null,null,null,null,null,null,{"$f":"IF(E3015<>\"\",ROUND((VLOOKUP(E3015,Param!$A$7:$E$13,4,0)*Fonct_Empl!F3015*((Fonct_Empl!G3015/12)))+(VLOOKUP(E3015,Param!$A$7:$E$13,5,0)*Fonct_Empl!H3015),2),\"\")","v":""}]
[null,null,null,null,null,null,null,null,{"$f":"IF(E3016<>\"\",ROUND((VLOOKUP(E3016,Param!$A$7:$E$13,4,0)*Fonct_Empl!F3016*((Fonct_Empl!G3016/12)))+(VLOOKUP(E3016,Param!$A$7:$E$13,5,0)*Fonct_Empl!H3016),2),\"\")","v":""}]
[null,null,null,null,null,null,null,null,{"$f":"IF(E3017<>\"\",ROUND((VLOOKUP(E3017,Param!$A$7:$E$13,4,0)*Fonct_Empl!F3017*((Fonct_Empl!G3017/12)))+(VLOOKUP(E3017,Param!$A$7:$E$13,5,0)*Fonct_Empl!H3017),2),\"\")","v":""}]
[null,null,null,null,null,null,null,null,{"$f":"IF(E3018<>\"\",ROUND((VLOOKUP(E3018,Param!$A$7:$E$13,4,0)*Fonct_Empl!F3018*((Fonct_Empl!G3018/12)))+(VLOOKUP(E3018,Param!$A$7:$E$13,5,0)*Fonct_Empl!H3018),2),\"\")","v":""}]
[null,null,null,null,null,null,null,null,{"$f":"IF(E3019<>\"\",ROUND((VLOOKUP(E3019,Param!$A$7:$E$13,4,0)*Fonct_Empl!F3019*((Fonct_Empl!G3019/12)))+(VLOOKUP(E3019,Param!$A$7:$E$13,5,0)*Fonct_Empl!H3019),2),\"\")","v":""}]
[null,null,null,null,null,null,null,null,{"$f":"IF(E3020<>\"\",ROUND((VLOOKUP(E3020,Param!$A$7:$E$13,4,0)*Fonct_Empl!F3020*((Fonct_Empl!G3020/12)))+(VLOOKUP(E3020,Param!$A$7:$E$13,5,0)*Fonct_Empl!H3020),2),\"\")","v":""}]
[null,null,null,null,null,null,null,null,{"$f":"IF(E3021<>\"\",ROUND((VLOOKUP(E3021,Param!$A$7:$E$13,4,0)*Fonct_Empl!F3021*((Fonct_Empl!G3021/12)))+(VLOOKUP(E3021,Param!$A$7:$E$13,5,0)*Fonct_Empl!H3021),2),\"\")","v":""}]
[null,null,null,null,null,null,null,null,{"$f":"IF(E3022<>\"\",ROUND((VLOOKUP(E3022,Param!$A$7:$E$13,4,0)*Fonct_Empl!F3022*((Fonct_Empl!G3022/12)))+(VLOOKUP(E3022,Param!$A$7:$E$13,5,0)*Fonct_Empl!H3022),2),\"\")","v":""}]
[null,null,null,null,null,null,null,null,{"$f":"IF(E3023<>\"\",ROUND((VLOOKUP(E3023,Param!$A$7:$E$13,4,0)*Fonct_Empl!F3023*((Fonct_Empl!G3023/12)))+(VLOOKUP(E3023,Param!$A$7:$E$13,5,0)*Fonct_Empl!H3023),2),\"\")","v":""}]
[null,null,null,null,null,null,null,null,{"$f":"IF(E3024<>\"\",ROUND((VLOOKUP(E3024,Param!$A$7:$E$13,4,0)*Fonct_Empl!F3024*((Fonct_Empl!G3024/12)))+(VLOOKUP(E3024,Param!$A$7:$E$13,5,0)*Fonct_Empl!H3024),2),\"\")","v":""}]
[null,null,null,null,null,null,null,null,{"$f":"IF(E3025<>\"\",ROUND((VLOOKUP(E3025,Param!$A$7:$E$13,4,0)*Fonct_Empl!F3025*((Fonct_Empl!G3025/12)))+(VLOOKUP(E3025,Param!$A$7:$E$13,5,0)*Fonct_Empl!H3025),2),\"\")","v":""}]
[null,null,null,null,null,null,null,null,{"$f":"IF(E3026<>\"\",ROUND((VLOOKUP(E3026,Param!$A$7:$E$13,4,0)*Fonct_Empl!F3026*((Fonct_Empl!G3026/12)))+(VLOOKUP(E3026,Param!$A$7:$E$13,5,0)*Fonct_Empl!H3026),2),\"\")","v":""}]
[null,null,null,null,null,null,null,null,{"$f":"IF(E3027<>\"\",ROUND((VLOOKUP(E3027,Param!$A$7:$E$13,4,0)*Fonct_Empl!F3027*((Fonct_Empl!G3027/12)))+(VLOOKUP(E3027,Param!$A$7:$E$13,5,0)*Fonct_Empl!H3027),2),\"\")","v":""}]
[null,null,null,null,null,null,null,null,{"$f":"IF(E3028<>\"\",ROUND((VLOOKUP(E3028,Param!$A$7:$E$13,4,0)*Fonct_Empl!F3028*((Fonct_Empl!G3028/12)))+(VLOOKUP(E3028,Param!$A$7:$E$13,5,0)*Fonct_Empl!H3028),2),\"\")","v":""}]
[null,null,null,null,null,null,null,null,{"$f":"IF(E3029<>\"\",ROUND((VLOOKUP(E3029,Param!$A$7:$E$13,4,0)*Fonct_Empl!F3029*((Fonct_Empl!G3029/12)))+(VLOOKUP(E3029,Param!$A$7:$E$13,5,0)*Fonct_Empl!H3029),2),\"\")","v":""}]
[null,null,null,null,null,null,null,null,{"$f":"IF(E3030<>\"\",ROUND((VLOOKUP(E3030,Param!$A$7:$E$13,4,0)*Fonct_Empl!F3030*((Fonct_Empl!G3030/12)))+(VLOOKUP(E3030,Param!$A$7:$E$13,5,0)*Fonct_Empl!H3030),2),\"\")","v":""}]
[null,null,null,null,null,null,null,null,{"$f":"IF(E3031<>\"\",ROUND((VLOOKUP(E3031,Param!$A$7:$E$13,4,0)*Fonct_Empl!F3031*((Fonct_Empl!G3031/12)))+(VLOOKUP(E3031,Param!$A$7:$E$13,5,0)*Fonct_Empl!H3031),2),\"\")","v":""}]
[null,null,null,null,null,null,null,null,{"$f":"IF(E3032<>\"\",ROUND((VLOOKUP(E3032,Param!$A$7:$E$13,4,0)*Fonct_Empl!F3032*((Fonct_Empl!G3032/12)))+(VLOOKUP(E3032,Param!$A$7:$E$13,5,0)*Fonct_Empl!H3032),2),\"\")","v":""}]
[null,null,null,null,null,null,null,null,{"$f":"IF(E3033<>\"\",ROUND((VLOOKUP(E3033,Param!$A$7:$E$13,4,0)*Fonct_Empl!F3033*((Fonct_Empl!G3033/12)))+(VLOOKUP(E3033,Param!$A$7:$E$13,5,0)*Fonct_Empl!H3033),2),\"\")","v":""}]
[null,null,null,null,null,null,null,null,{"$f":"IF(E3034<>\"\",ROUND((VLOOKUP(E3034,Param!$A$7:$E$13,4,0)*Fonct_Empl!F3034*((Fonct_Empl!G3034/12)))+(VLOOKUP(E3034,Param!$A$7:$E$13,5,0)*Fonct_Empl!H3034),2),\"\")","v":""}]
[null,null,null,null,null,null,null,null,{"$f":"IF(E3035<>\"\",ROUND((VLOOKUP(E3035,Param!$A$7:$E$13,4,0)*Fonct_Empl!F3035*((Fonct_Empl!G3035/12)))+(VLOOKUP(E3035,Param!$A$7:$E$13,5,0)*Fonct_Empl!H3035),2),\"\")","v":""}]
[null,null,null,null,null,null,null,null,{"$f":"IF(E3036<>\"\",ROUND((VLOOKUP(E3036,Param!$A$7:$E$13,4,0)*Fonct_Empl!F3036*((Fonct_Empl!G3036/12)))+(VLOOKUP(E3036,Param!$A$7:$E$13,5,0)*Fonct_Empl!H3036),2),\"\")","v":""}]
[null,null,null,null,null,null,null,null,{"$f":"IF(E3037<>\"\",ROUND((VLOOKUP(E3037,Param!$A$7:$E$13,4,0)*Fonct_Empl!F3037*((Fonct_Empl!G3037/12)))+(VLOOKUP(E3037,Param!$A$7:$E$13,5,0)*Fonct_Empl!H3037),2),\"\")","v":""}]
[null,null,null,null,null,null,null,null,{"$f":"IF(E3038<>\"\",ROUND((VLOOKUP(E3038,Param!$A$7:$E$13,4,0)*Fonct_Empl!F3038*((Fonct_Empl!G3038/12)))+(VLOOKUP(E3038,Param!$A$7:$E$13,5,0)*Fonct_Empl!H3038),2),\"\")","v":""}]
[null,null,null,null,null,null,null,null,{"$f":"IF(E3039<>\"\",ROUND((VLOOKUP(E3039,Param!$A$7:$E$13,4,0)*Fonct_Empl!F3039*((Fonct_Empl!G3039/12)))+(VLOOKUP(E3039,Param!$A$7:$E$13,5,0)*Fonct_Empl!H3039),2),\"\")","v":""}]
[null,null,null,null,null,null,null,null,{"$f":"IF(E3040<>\"\",ROUND((VLOOKUP(E3040,Param!$A$7:$E$13,4,0)*Fonct_Empl!F3040*((Fonct_Empl!G3040/12)))+(VLOOKUP(E3040,Param!$A$7:$E$13,5,0)*Fonct_Empl!H3040),2),\"\")","v":""}]
[null,null,null,null,null,null,null,null,{"$f":"IF(E3041<>\"\",ROUND((VLOOKUP(E3041,Param!$A$7:$E$13,4,0)*Fonct_Empl!F3041*((Fonct_Empl!G3041/12)))+(VLOOKUP(E3041,Param!$A$7:$E$13,5,0)*Fonct_Empl!H3041),2),\"\")","v":""}]
[null,null,null,null,null,null,null,null,{"$f":"IF(E3042<>\"\",ROUND((VLOOKUP(E3042,Param!$A$7:$E$13,4,0)*Fonct_Empl!F3042*((Fonct_Empl!G3042/12)))+(VLOOKUP(E3042,Param!$A$7:$E$13,5,0)*Fonct_Empl!H3042),2),\"\")","v":""}]
[null,null,null,null,null,null,null,null,{"$f":"IF(E3043<>\"\",ROUND((VLOOKUP(E3043,Param!$A$7:$E$13,4,0)*Fonct_Empl!F3043*((Fonct_Empl!G3043/12)))+(VLOOKUP(E3043,Param!$A$7:$E$13,5,0)*Fonct_Empl!H3043),2),\"\")","v":""}]
[null,null,null,null,null,null,null,null,{"$f":"IF(E3044<>\"\",ROUND((VLOOKUP(E3044,Param!$A$7:$E$13,4,0)*Fonct_Empl!F3044*((Fonct_Empl!G3044/12)))+(VLOOKUP(E3044,Param!$A$7:$E$13,5,0)*Fonct_Empl!H3044),2),\"\")","v":""}]
[null,null,null,null,null,null,null,null,{"$f":"IF(E3045<>\"\",ROUND((VLOOKUP(E3045,Param!$A$7:$E$13,4,0)*Fonct_Empl!F3045*((Fonct_Empl!G3045/12)))+(VLOOKUP(E3045,Param!$A$7:$E$13,5,0)*Fonct_Empl!H3045),2),\"\")","v":""}]
[null,null,null,null,null,null,null,null,{"$f":"IF(E3046<>\"\",ROUND((VLOOKUP(E3046,Param!$A$7:$E$13,4,0)*Fonct_Empl!F3046*((Fonct_Empl!G3046/12)))+(VLOOKUP(E3046,Param!$A$7:$E$13,5,0)*Fonct_Empl!H3046),2),\"\")","v":""}]
[null,null,null,null,null,null,null,null,{"$f":"IF(E3047<>\"\",ROUND((VLOOKUP(E3047,Param!$A$7:$E$13,4,0)*Fonct_Empl!F3047*((Fonct_Empl!G3047/12)))+(VLOOKUP(E3047,Param!$A$7:$E$13,5,0)*Fonct_Empl!H3047),2),\"\")","v":""}]
[null,null,null,null,null,null,null,null,{"$f":"IF(E3048<>\"\",ROUND((VLOOKUP(E3048,Param!$A$7:$E$13,4,0)*Fonct_Empl!F3048*((Fonct_Empl!G3048/12)))+(VLOOKUP(E3048,Param!$A$7:$E$13,5,0)*Fonct_Empl!H3048),2),\"\")","v":""}]
[null,null,null,null,null,null,null,null,{"$f":"IF(E3049<>\"\",ROUND((VLOOKUP(E3049,Param!$A$7:$E$13,4,0)*Fonct_Empl!F3049*((Fonct_Empl!G3049/12)))+(VLOOKUP(E3049,Param!$A$7:$E$13,5,0)*Fonct_Empl!H3049),2),\"\")","v":""}]
[null,null,null,null,null,null,null,null,{"$f":"IF(E3050<>\"\",ROUND((VLOOKUP(E3050,Param!$A$7:$E$13,4,0)*Fonct_Empl!F3050*((Fonct_Empl!G3050/12)))+(VLOOKUP(E3050,Param!$A$7:$E$13,5,0)*Fonct_Empl!H3050),2),\"\")","v":""}]
[null,null,null,null,null,null,null,null,{"$f":"IF(E3051<>\"\",ROUND((VLOOKUP(E3051,Param!$A$7:$E$13,4,0)*Fonct_Empl!F3051*((Fonct_Empl!G3051/12)))+(VLOOKUP(E3051,Param!$A$7:$E$13,5,0)*Fonct_Empl!H3051),2),\"\")","v":""}]
[null,null,null,null,null,null,null,null,{"$f":"IF(E3052<>\"\",ROUND((VLOOKUP(E3052,Param!$A$7:$E$13,4,0)*Fonct_Empl!F3052*((Fonct_Empl!G3052/12)))+(VLOOKUP(E3052,Param!$A$7:$E$13,5,0)*Fonct_Empl!H3052),2),\"\")","v":""}]
[null,null,null,null,null,null,null,null,{"$f":"IF(E3053<>\"\",ROUND((VLOOKUP(E3053,Param!$A$7:$E$13,4,0)*Fonct_Empl!F3053*((Fonct_Empl!G3053/12)))+(VLOOKUP(E3053,Param!$A$7:$E$13,5,0)*Fonct_Empl!H3053),2),\"\")","v":""}]
[null,null,null,null,null,null,null,null,{"$f":"IF(E3054<>\"\",ROUND((VLOOKUP(E3054,Param!$A$7:$E$13,4,0)*Fonct_Empl!F3054*((Fonct_Empl!G3054/12)))+(VLOOKUP(E3054,Param!$A$7:$E$13,5,0)*Fonct_Empl!H3054),2),\"\")","v":""}]
[null,null,null,null,null,null,null,null,{"$f":"IF(E3055<>\"\",ROUND((VLOOKUP(E3055,Param!$A$7:$E$13,4,0)*Fonct_Empl!F3055*((Fonct_Empl!G3055/12)))+(VLOOKUP(E3055,Param!$A$7:$E$13,5,0)*Fonct_Empl!H3055),2),\"\")","v":""}]
[null,null,null,null,null,null,null,null,{"$f":"IF(E3056<>\"\",ROUND((VLOOKUP(E3056,Param!$A$7:$E$13,4,0)*Fonct_Empl!F3056*((Fonct_Empl!G3056/12)))+(VLOOKUP(E3056,Param!$A$7:$E$13,5,0)*Fonct_Empl!H3056),2),\"\")","v":""}]
[null,null,null,null,null,null,null,null,{"$f":"IF(E3057<>\"\",ROUND((VLOOKUP(E3057,Param!$A$7:$E$13,4,0)*Fonct_Empl!F3057*((Fonct_Empl!G3057/12)))+(VLOOKUP(E3057,Param!$A$7:$E$13,5,0)*Fonct_Empl!H3057),2),\"\")","v":""}]
[null,null,null,null,null,null,null,null,{"$f":"IF(E3058<>\"\",ROUND((VLOOKUP(E3058,Param!$A$7:$E$13,4,0)*Fonct_Empl!F3058*((Fonct_Empl!G3058/12)))+(VLOOKUP(E3058,Param!$A$7:$E$13,5,0)*Fonct_Empl!H3058),2),\"\")","v":""}]
[null,null,null,null,null,null,null,null,{"$f":"IF(E3059<>\"\",ROUND((VLOOKUP(E3059,Param!$A$7:$E$13,4,0)*Fonct_Empl!F3059*((Fonct_Empl!G3059/12)))+(VLOOKUP(E3059,Param!$A$7:$E$13,5,0)*Fonct_Empl!H3059),2),\"\")","v":""}]
[null,null,null,null,null,null,null,null,{"$f":"IF(E3060<>\"\",ROUND((VLOOKUP(E3060,Param!$A$7:$E$13,4,0)*Fonct_Empl!F3060*((Fonct_Empl!G3060/12)))+(VLOOKUP(E3060,Param!$A$7:$E$13,5,0)*Fonct_Empl!H3060),2),\"\")","v":""}]
[null,null,null,null,null,null,null,null,{"$f":"IF(E3061<>\"\",ROUND((VLOOKUP(E3061,Param!$A$7:$E$13,4,0)*Fonct_Empl!F3061*((Fonct_Empl!G3061/12)))+(VLOOKUP(E3061,Param!$A$7:$E$13,5,0)*Fonct_Empl!H3061),2),\"\")","v":""}]
[null,null,null,null,null,null,null,null,{"$f":"IF(E3062<>\"\",ROUND((VLOOKUP(E3062,Param!$A$7:$E$13,4,0)*Fonct_Empl!F3062*((Fonct_Empl!G3062/12)))+(VLOOKUP(E3062,Param!$A$7:$E$13,5,0)*Fonct_Empl!H3062),2),\"\")","v":""}]
[null,null,null,null,null,null,null,null,{"$f":"IF(E3063<>\"\",ROUND((VLOOKUP(E3063,Param!$A$7:$E$13,4,0)*Fonct_Empl!F3063*((Fonct_Empl!G3063/12)))+(VLOOKUP(E3063,Param!$A$7:$E$13,5,0)*Fonct_Empl!H3063),2),\"\")","v":""}]
[null,null,null,null,null,null,null,null,{"$f":"IF(E3064<>\"\",ROUND((VLOOKUP(E3064,Param!$A$7:$E$13,4,0)*Fonct_Empl!F3064*((Fonct_Empl!G3064/12)))+(VLOOKUP(E3064,Param!$A$7:$E$13,5,0)*Fonct_Empl!H3064),2),\"\")","v":""}]
[null,null,null,null,null,null,null,null,{"$f":"IF(E3065<>\"\",ROUND((VLOOKUP(E3065,Param!$A$7:$E$13,4,0)*Fonct_Empl!F3065*((Fonct_Empl!G3065/12)))+(VLOOKUP(E3065,Param!$A$7:$E$13,5,0)*Fonct_Empl!H3065),2),\"\")","v":""}]
[null,null,null,null,null,null,null,null,{"$f":"IF(E3066<>\"\",ROUND((VLOOKUP(E3066,Param!$A$7:$E$13,4,0)*Fonct_Empl!F3066*((Fonct_Empl!G3066/12)))+(VLOOKUP(E3066,Param!$A$7:$E$13,5,0)*Fonct_Empl!H3066),2),\"\")","v":""}]
[null,null,null,null,null,null,null,null,{"$f":"IF(E3067<>\"\",ROUND((VLOOKUP(E3067,Param!$A$7:$E$13,4,0)*Fonct_Empl!F3067*((Fonct_Empl!G3067/12)))+(VLOOKUP(E3067,Param!$A$7:$E$13,5,0)*Fonct_Empl!H3067),2),\"\")","v":""}]
[null,null,null,null,null,null,null,null,{"$f":"IF(E3068<>\"\",ROUND((VLOOKUP(E3068,Param!$A$7:$E$13,4,0)*Fonct_Empl!F3068*((Fonct_Empl!G3068/12)))+(VLOOKUP(E3068,Param!$A$7:$E$13,5,0)*Fonct_Empl!H3068),2),\"\")","v":""}]
[null,null,null,null,null,null,null,null,{"$f":"IF(E3069<>\"\",ROUND((VLOOKUP(E3069,Param!$A$7:$E$13,4,0)*Fonct_Empl!F3069*((Fonct_Empl!G3069/12)))+(VLOOKUP(E3069,Param!$A$7:$E$13,5,0)*Fonct_Empl!H3069),2),\"\")","v":""}]
[null,null,null,null,null,null,null,null,{"$f":"IF(E3070<>\"\",ROUND((VLOOKUP(E3070,Param!$A$7:$E$13,4,0)*Fonct_Empl!F3070*((Fonct_Empl!G3070/12)))+(VLOOKUP(E3070,Param!$A$7:$E$13,5,0)*Fonct_Empl!H3070),2),\"\")","v":""}]
[null,null,null,null,null,null,null,null,{"$f":"IF(E3071<>\"\",ROUND((VLOOKUP(E3071,Param!$A$7:$E$13,4,0)*Fonct_Empl!F3071*((Fonct_Empl!G3071/12)))+(VLOOKUP(E3071,Param!$A$7:$E$13,5,0)*Fonct_Empl!H3071),2),\"\")","v":""}]
[null,null,null,null,null,null,null,null,{"$f":"IF(E3072<>\"\",ROUND((VLOOKUP(E3072,Param!$A$7:$E$13,4,0)*Fonct_Empl!F3072*((Fonct_Empl!G3072/12)))+(VLOOKUP(E3072,Param!$A$7:$E$13,5,0)*Fonct_Empl!H3072),2),\"\")","v":""}]
[null,null,null,null,null,null,null,null,{"$f":"IF(E3073<>\"\",ROUND((VLOOKUP(E3073,Param!$A$7:$E$13,4,0)*Fonct_Empl!F3073*((Fonct_Empl!G3073/12)))+(VLOOKUP(E3073,Param!$A$7:$E$13,5,0)*Fonct_Empl!H3073),2),\"\")","v":""}]
[null,null,null,null,null,null,null,null,{"$f":"IF(E3074<>\"\",ROUND((VLOOKUP(E3074,Param!$A$7:$E$13,4,0)*Fonct_Empl!F3074*((Fonct_Empl!G3074/12)))+(VLOOKUP(E3074,Param!$A$7:$E$13,5,0)*Fonct_Empl!H3074),2),\"\")","v":""}]
[null,null,null,null,null,null,null,null,{"$f":"IF(E3075<>\"\",ROUND((VLOOKUP(E3075,Param!$A$7:$E$13,4,0)*Fonct_Empl!F3075*((Fonct_Empl!G3075/12)))+(VLOOKUP(E3075,Param!$A$7:$E$13,5,0)*Fonct_Empl!H3075),2),\"\")","v":""}]
[null,null,null,null,null,null,null,null,{"$f":"IF(E3076<>\"\",ROUND((VLOOKUP(E3076,Param!$A$7:$E$13,4,0)*Fonct_Empl!F3076*((Fonct_Empl!G3076/12)))+(VLOOKUP(E3076,Param!$A$7:$E$13,5,0)*Fonct_Empl!H3076),2),\"\")","v":""}]
[null,null,null,null,null,null,null,null,{"$f":"IF(E3077<>\"\",ROUND((VLOOKUP(E3077,Param!$A$7:$E$13,4,0)*Fonct_Empl!F3077*((Fonct_Empl!G3077/12)))+(VLOOKUP(E3077,Param!$A$7:$E$13,5,0)*Fonct_Empl!H3077),2),\"\")","v":""}]
[null,null,null,null,null,null,null,null,{"$f":"IF(E3078<>\"\",ROUND((VLOOKUP(E3078,Param!$A$7:$E$13,4,0)*Fonct_Empl!F3078*((Fonct_Empl!G3078/12)))+(VLOOKUP(E3078,Param!$A$7:$E$13,5,0)*Fonct_Empl!H3078),2),\"\")","v":""}]
[null,null,null,null,null,null,null,null,{"$f":"IF(E3079<>\"\",ROUND((VLOOKUP(E3079,Param!$A$7:$E$13,4,0)*Fonct_Empl!F3079*((Fonct_Empl!G3079/12)))+(VLOOKUP(E3079,Param!$A$7:$E$13,5,0)*Fonct_Empl!H3079),2),\"\")","v":""}]
[null,null,null,null,null,null,null,null,{"$f":"IF(E3080<>\"\",ROUND((VLOOKUP(E3080,Param!$A$7:$E$13,4,0)*Fonct_Empl!F3080*((Fonct_Empl!G3080/12)))+(VLOOKUP(E3080,Param!$A$7:$E$13,5,0)*Fonct_Empl!H3080),2),\"\")","v":""}]
[null,null,null,null,null,null,null,null,{"$f":"IF(E3081<>\"\",ROUND((VLOOKUP(E3081,Param!$A$7:$E$13,4,0)*Fonct_Empl!F3081*((Fonct_Empl!G3081/12)))+(VLOOKUP(E3081,Param!$A$7:$E$13,5,0)*Fonct_Empl!H3081),2),\"\")","v":""}]
[null,null,null,null,null,null,null,null,{"$f":"IF(E3082<>\"\",ROUND((VLOOKUP(E3082,Param!$A$7:$E$13,4,0)*Fonct_Empl!F3082*((Fonct_Empl!G3082/12)))+(VLOOKUP(E3082,Param!$A$7:$E$13,5,0)*Fonct_Empl!H3082),2),\"\")","v":""}]
[null,null,null,null,null,null,null,null,{"$f":"IF(E3083<>\"\",ROUND((VLOOKUP(E3083,Param!$A$7:$E$13,4,0)*Fonct_Empl!F3083*((Fonct_Empl!G3083/12)))+(VLOOKUP(E3083,Param!$A$7:$E$13,5,0)*Fonct_Empl!H3083),2),\"\")","v":""}]
[null,null,null,null,null,null,null,null,{"$f":"IF(E3084<>\"\",ROUND((VLOOKUP(E3084,Param!$A$7:$E$13,4,0)*Fonct_Empl!F3084*((Fonct_Empl!G3084/12)))+(VLOOKUP(E3084,Param!$A$7:$E$13,5,0)*Fonct_Empl!H3084),2),\"\")","v":""}]
[null,null,null,null,null,null,null,null,{"$f":"IF(E3085<>\"\",ROUND((VLOOKUP(E3085,Param!$A$7:$E$13,4,0)*Fonct_Empl!F3085*((Fonct_Empl!G3085/12)))+(VLOOKUP(E3085,Param!$A$7:$E$13,5,0)*Fonct_Empl!H3085),2),\"\")","v":""}]
[null,null,null,null,null,null,null,null,{"$f":"IF(E3086<>\"\",ROUND((VLOOKUP(E3086,Param!$A$7:$E$13,4,0)*Fonct_Empl!F3086*((Fonct_Empl!G3086/12)))+(VLOOKUP(E3086,Param!$A$7:$E$13,5,0)*Fonct_Empl!H3086),2),\"\")","v":""}]
[null,null,null,null,null,null,null,null,{"$f":"IF(E3087<>\"\",ROUND((VLOOKUP(E3087,Param!$A$7:$E$13,4,0)*Fonct_Empl!F3087*((Fonct_Empl!G3087/12)))+(VLOOKUP(E3087,Param!$A$7:$E$13,5,0)*Fonct_Empl!H3087),2),\"\")","v":""}]
[null,null,null,null,null,null,null,null,{"$f":"IF(E3088<>\"\",ROUND((VLOOKUP(E3088,Param!$A$7:$E$13,4,0)*Fonct_Empl!F3088*((Fonct_Empl!G3088/12)))+(VLOOKUP(E3088,Param!$A$7:$E$13,5,0)*Fonct_Empl!H3088),2),\"\")","v":""}]
[null,null,null,null,null,null,null,null,{"$f":"IF(E3089<>\"\",ROUND((VLOOKUP(E3089,Param!$A$7:$E$13,4,0)*Fonct_Empl!F3089*((Fonct_Empl!G3089/12)))+(VLOOKUP(E3089,Param!$A$7:$E$13,5,0)*Fonct_Empl!H3089),2),\"\")","v":""}]
[null,null,null,null,null,null,null,null,{"$f":"IF(E3090<>\"\",ROUND((VLOOKUP(E3090,Param!$A$7:$E$13,4,0)*Fonct_Empl!F3090*((Fonct_Empl!G3090/12)))+(VLOOKUP(E3090,Param!$A$7:$E$13,5,0)*Fonct_Empl!H3090),2),\"\")","v":""}]
[null,null,null,null,null,null,null,null,{"$f":"IF(E3091<>\"\",ROUND((VLOOKUP(E3091,Param!$A$7:$E$13,4,0)*Fonct_Empl!F3091*((Fonct_Empl!G3091/12)))+(VLOOKUP(E3091,Param!$A$7:$E$13,5,0)*Fonct_Empl!H3091),2),\"\")","v":""}]
[null,null,null,null,null,null,null,null,{"$f":"IF(E3092<>\"\",ROUND((VLOOKUP(E3092,Param!$A$7:$E$13,4,0)*Fonct_Empl!F3092*((Fonct_Empl!G3092/12)))+(VLOOKUP(E3092,Param!$A$7:$E$13,5,0)*Fonct_Empl!H3092),2),\"\")","v":""}]
[null,null,null,null,null,null,null,null,{"$f":"IF(E3093<>\"\",ROUND((VLOOKUP(E3093,Param!$A$7:$E$13,4,0)*Fonct_Empl!F3093*((Fonct_Empl!G3093/12)))+(VLOOKUP(E3093,Param!$A$7:$E$13,5,0)*Fonct_Empl!H3093),2),\"\")","v":""}]
[null,null,null,null,null,null,null,null,{"$f":"IF(E3094<>\"\",ROUND((VLOOKUP(E3094,Param!$A$7:$E$13,4,0)*Fonct_Empl!F3094*((Fonct_Empl!G3094/12)))+(VLOOKUP(E3094,Param!$A$7:$E$13,5,0)*Fonct_Empl!H3094),2),\"\")","v":""}]
[null,null,null,null,null,null,null,null,{"$f":"IF(E3095<>\"\",ROUND((VLOOKUP(E3095,Param!$A$7:$E$13,4,0)*Fonct_Empl!F3095*((Fonct_Empl!G3095/12)))+(VLOOKUP(E3095,Param!$A$7:$E$13,5,0)*Fonct_Empl!H3095),2),\"\")","v":""}]
[null,null,null,null,null,null,null,null,{"$f":"IF(E3096<>\"\",ROUND((VLOOKUP(E3096,Param!$A$7:$E$13,4,0)*Fonct_Empl!F3096*((Fonct_Empl!G3096/12)))+(VLOOKUP(E3096,Param!$A$7:$E$13,5,0)*Fonct_Empl!H3096),2),\"\")","v":""}]
[null,null,null,null,null,null,null,null,{"$f":"IF(E3097<>\"\",ROUND((VLOOKUP(E3097,Param!$A$7:$E$13,4,0)*Fonct_Empl!F3097*((Fonct_Empl!G3097/12)))+(VLOOKUP(E3097,Param!$A$7:$E$13,5,0)*Fonct_Empl!H3097),2),\"\")","v":""}]
[null,null,null,null,null,null,null,null,{"$f":"IF(E3098<>\"\",ROUND((VLOOKUP(E3098,Param!$A$7:$E$13,4,0)*Fonct_Empl!F3098*((Fonct_Empl!G3098/12)))+(VLOOKUP(E3098,Param!$A$7:$E$13,5,0)*Fonct_Empl!H3098),2),\"\")","v":""}]
[null,null,null,null,null,null,null,null,{"$f":"IF(E3099<>\"\",ROUND((VLOOKUP(E3099,Param!$A$7:$E$13,4,0)*Fonct_Empl!F3099*((Fonct_Empl!G3099/12)))+(VLOOKUP(E3099,Param!$A$7:$E$13,5,0)*Fonct_Empl!H3099),2),\"\")","v":""}]
[null,null,null,null,null,null,null,null,{"$f":"IF(E3100<>\"\",ROUND((VLOOKUP(E3100,Param!$A$7:$E$13,4,0)*Fonct_Empl!F3100*((Fonct_Empl!G3100/12)))+(VLOOKUP(E3100,Param!$A$7:$E$13,5,0)*Fonct_Empl!H3100),2),\"\")","v":""}]
[null,null,null,null,null,null,null,null,{"$f":"IF(E3101<>\"\",ROUND((VLOOKUP(E3101,Param!$A$7:$E$13,4,0)*Fonct_Empl!F3101*((Fonct_Empl!G3101/12)))+(VLOOKUP(E3101,Param!$A$7:$E$13,5,0)*Fonct_Empl!H3101),2),\"\")","v":""}]
[null,null,null,null,null,null,null,null,{"$f":"IF(E3102<>\"\",ROUND((VLOOKUP(E3102,Param!$A$7:$E$13,4,0)*Fonct_Empl!F3102*((Fonct_Empl!G3102/12)))+(VLOOKUP(E3102,Param!$A$7:$E$13,5,0)*Fonct_Empl!H3102),2),\"\")","v":""}]
[null,null,null,null,null,null,null,null,{"$f":"IF(E3103<>\"\",ROUND((VLOOKUP(E3103,Param!$A$7:$E$13,4,0)*Fonct_Empl!F3103*((Fonct_Empl!G3103/12)))+(VLOOKUP(E3103,Param!$A$7:$E$13,5,0)*Fonct_Empl!H3103),2),\"\")","v":""}]
[null,null,null,null,null,null,null,null,{"$f":"IF(E3104<>\"\",ROUND((VLOOKUP(E3104,Param!$A$7:$E$13,4,0)*Fonct_Empl!F3104*((Fonct_Empl!G3104/12)))+(VLOOKUP(E3104,Param!$A$7:$E$13,5,0)*Fonct_Empl!H3104),2),\"\")","v":""}]
[null,null,null,null,null,null,null,null,{"$f":"IF(E3105<>\"\",ROUND((VLOOKUP(E3105,Param!$A$7:$E$13,4,0)*Fonct_Empl!F3105*((Fonct_Empl!G3105/12)))+(VLOOKUP(E3105,Param!$A$7:$E$13,5,0)*Fonct_Empl!H3105),2),\"\")","v":""}]
[null,null,null,null,null,null,null,null,{"$f":"IF(E3106<>\"\",ROUND((VLOOKUP(E3106,Param!$A$7:$E$13,4,0)*Fonct_Empl!F3106*((Fonct_Empl!G3106/12)))+(VLOOKUP(E3106,Param!$A$7:$E$13,5,0)*Fonct_Empl!H3106),2),\"\")","v":""}]
[null,null,null,null,null,null,null,null,{"$f":"IF(E3107<>\"\",ROUND((VLOOKUP(E3107,Param!$A$7:$E$13,4,0)*Fonct_Empl!F3107*((Fonct_Empl!G3107/12)))+(VLOOKUP(E3107,Param!$A$7:$E$13,5,0)*Fonct_Empl!H3107),2),\"\")","v":""}]
[null,null,null,null,null,null,null,null,{"$f":"IF(E3108<>\"\",ROUND((VLOOKUP(E3108,Param!$A$7:$E$13,4,0)*Fonct_Empl!F3108*((Fonct_Empl!G3108/12)))+(VLOOKUP(E3108,Param!$A$7:$E$13,5,0)*Fonct_Empl!H3108),2),\"\")","v":""}]
[null,null,null,null,null,null,null,null,{"$f":"IF(E3109<>\"\",ROUND((VLOOKUP(E3109,Param!$A$7:$E$13,4,0)*Fonct_Empl!F3109*((Fonct_Empl!G3109/12)))+(VLOOKUP(E3109,Param!$A$7:$E$13,5,0)*Fonct_Empl!H3109),2),\"\")","v":""}]
[null,null,null,null,null,null,null,null,{"$f":"IF(E3110<>\"\",ROUND((VLOOKUP(E3110,Param!$A$7:$E$13,4,0)*Fonct_Empl!F3110*((Fonct_Empl!G3110/12)))+(VLOOKUP(E3110,Param!$A$7:$E$13,5,0)*Fonct_Empl!H3110),2),\"\")","v":""}]
[null,null,null,null,null,null,null,null,{"$f":"IF(E3111<>\"\",ROUND((VLOOKUP(E3111,Param!$A$7:$E$13,4,0)*Fonct_Empl!F3111*((Fonct_Empl!G3111/12)))+(VLOOKUP(E3111,Param!$A$7:$E$13,5,0)*Fonct_Empl!H3111),2),\"\")","v":""}]
[null,null,null,null,null,null,null,null,{"$f":"IF(E3112<>\"\",ROUND((VLOOKUP(E3112,Param!$A$7:$E$13,4,0)*Fonct_Empl!F3112*((Fonct_Empl!G3112/12)))+(VLOOKUP(E3112,Param!$A$7:$E$13,5,0)*Fonct_Empl!H3112),2),\"\")","v":""}]
[null,null,null,null,null,null,null,null,{"$f":"IF(E3113<>\"\",ROUND((VLOOKUP(E3113,Param!$A$7:$E$13,4,0)*Fonct_Empl!F3113*((Fonct_Empl!G3113/12)))+(VLOOKUP(E3113,Param!$A$7:$E$13,5,0)*Fonct_Empl!H3113),2),\"\")","v":""}]
[null,null,null,null,null,null,null,null,{"$f":"IF(E3114<>\"\",ROUND((VLOOKUP(E3114,Param!$A$7:$E$13,4,0)*Fonct_Empl!F3114*((Fonct_Empl!G3114/12)))+(VLOOKUP(E3114,Param!$A$7:$E$13,5,0)*Fonct_Empl!H3114),2),\"\")","v":""}]
[null,null,null,null,null,null,null,null,{"$f":"IF(E3115<>\"\",ROUND((VLOOKUP(E3115,Param!$A$7:$E$13,4,0)*Fonct_Empl!F3115*((Fonct_Empl!G3115/12)))+(VLOOKUP(E3115,Param!$A$7:$E$13,5,0)*Fonct_Empl!H3115),2),\"\")","v":""}]
[null,null,null,null,null,null,null,null,{"$f":"IF(E3116<>\"\",ROUND((VLOOKUP(E3116,Param!$A$7:$E$13,4,0)*Fonct_Empl!F3116*((Fonct_Empl!G3116/12)))+(VLOOKUP(E3116,Param!$A$7:$E$13,5,0)*Fonct_Empl!H3116),2),\"\")","v":""}]
[null,null,null,null,null,null,null,null,{"$f":"IF(E3117<>\"\",ROUND((VLOOKUP(E3117,Param!$A$7:$E$13,4,0)*Fonct_Empl!F3117*((Fonct_Empl!G3117/12)))+(VLOOKUP(E3117,Param!$A$7:$E$13,5,0)*Fonct_Empl!H3117),2),\"\")","v":""}]
[null,null,null,null,null,null,null,null,{"$f":"IF(E3118<>\"\",ROUND((VLOOKUP(E3118,Param!$A$7:$E$13,4,0)*Fonct_Empl!F3118*((Fonct_Empl!G3118/12)))+(VLOOKUP(E3118,Param!$A$7:$E$13,5,0)*Fonct_Empl!H3118),2),\"\")","v":""}]
[null,null,null,null,null,null,null,null,{"$f":"IF(E3119<>\"\",ROUND((VLOOKUP(E3119,Param!$A$7:$E$13,4,0)*Fonct_Empl!F3119*((Fonct_Empl!G3119/12)))+(VLOOKUP(E3119,Param!$A$7:$E$13,5,0)*Fonct_Empl!H3119),2),\"\")","v":""}]
[null,null,null,null,null,null,null,null,{"$f":"IF(E3120<>\"\",ROUND((VLOOKUP(E3120,Param!$A$7:$E$13,4,0)*Fonct_Empl!F3120*((Fonct_Empl!G3120/12)))+(VLOOKUP(E3120,Param!$A$7:$E$13,5,0)*Fonct_Empl!H3120),2),\"\")","v":""}]
[null,null,null,null,null,null,null,null,{"$f":"IF(E3121<>\"\",ROUND((VLOOKUP(E3121,Param!$A$7:$E$13,4,0)*Fonct_Empl!F3121*((Fonct_Empl!G3121/12)))+(VLOOKUP(E3121,Param!$A$7:$E$13,5,0)*Fonct_Empl!H3121),2),\"\")","v":""}]
[null,null,null,null,null,null,null,null,{"$f":"IF(E3122<>\"\",ROUND((VLOOKUP(E3122,Param!$A$7:$E$13,4,0)*Fonct_Empl!F3122*((Fonct_Empl!G3122/12)))+(VLOOKUP(E3122,Param!$A$7:$E$13,5,0)*Fonct_Empl!H3122),2),\"\")","v":""}]
[null,null,null,null,null,null,null,null,{"$f":"IF(E3123<>\"\",ROUND((VLOOKUP(E3123,Param!$A$7:$E$13,4,0)*Fonct_Empl!F3123*((Fonct_Empl!G3123/12)))+(VLOOKUP(E3123,Param!$A$7:$E$13,5,0)*Fonct_Empl!H3123),2),\"\")","v":""}]
[null,null,null,null,null,null,null,null,{"$f":"IF(E3124<>\"\",ROUND((VLOOKUP(E3124,Param!$A$7:$E$13,4,0)*Fonct_Empl!F3124*((Fonct_Empl!G3124/12)))+(VLOOKUP(E3124,Param!$A$7:$E$13,5,0)*Fonct_Empl!H3124),2),\"\")","v":""}]
[null,null,null,null,null,null,null,null,{"$f":"IF(E3125<>\"\",ROUND((VLOOKUP(E3125,Param!$A$7:$E$13,4,0)*Fonct_Empl!F3125*((Fonct_Empl!G3125/12)))+(VLOOKUP(E3125,Param!$A$7:$E$13,5,0)*Fonct_Empl!H3125),2),\"\")","v":""}]
[null,null,null,null,null,null,null,null,{"$f":"IF(E3126<>\"\",ROUND((VLOOKUP(E3126,Param!$A$7:$E$13,4,0)*Fonct_Empl!F3126*((Fonct_Empl!G3126/12)))+(VLOOKUP(E3126,Param!$A$7:$E$13,5,0)*Fonct_Empl!H3126),2),\"\")","v":""}]
[null,null,null,null,null,null,null,null,{"$f":"IF(E3127<>\"\",ROUND((VLOOKUP(E3127,Param!$A$7:$E$13,4,0)*Fonct_Empl!F3127*((Fonct_Empl!G3127/12)))+(VLOOKUP(E3127,Param!$A$7:$E$13,5,0)*Fonct_Empl!H3127),2),\"\")","v":""}]
[null,null,null,null,null,null,null,null,{"$f":"IF(E3128<>\"\",ROUND((VLOOKUP(E3128,Param!$A$7:$E$13,4,0)*Fonct_Empl!F3128*((Fonct_Empl!G3128/12)))+(VLOOKUP(E3128,Param!$A$7:$E$13,5,0)*Fonct_Empl!H3128),2),\"\")","v":""}]
[null,null,null,null,null,null,null,null,{"$f":"IF(E3129<>\"\",ROUND((VLOOKUP(E3129,Param!$A$7:$E$13,4,0)*Fonct_Empl!F3129*((Fonct_Empl!G3129/12)))+(VLOOKUP(E3129,Param!$A$7:$E$13,5,0)*Fonct_Empl!H3129),2),\"\")","v":""}]
[null,null,null,null,null,null,null,null,{"$f":"IF(E3130<>\"\",ROUND((VLOOKUP(E3130,Param!$A$7:$E$13,4,0)*Fonct_Empl!F3130*((Fonct_Empl!G3130/12)))+(VLOOKUP(E3130,Param!$A$7:$E$13,5,0)*Fonct_Empl!H3130),2),\"\")","v":""}]
[null,null,null,null,null,null,null,null,{"$f":"IF(E3131<>\"\",ROUND((VLOOKUP(E3131,Param!$A$7:$E$13,4,0)*Fonct_Empl!F3131*((Fonct_Empl!G3131/12)))+(VLOOKUP(E3131,Param!$A$7:$E$13,5,0)*Fonct_Empl!H3131),2),\"\")","v":""}]
[null,null,null,null,null,null,null,null,{"$f":"IF(E3132<>\"\",ROUND((VLOOKUP(E3132,Param!$A$7:$E$13,4,0)*Fonct_Empl!F3132*((Fonct_Empl!G3132/12)))+(VLOOKUP(E3132,Param!$A$7:$E$13,5,0)*Fonct_Empl!H3132),2),\"\")","v":""}]
[null,null,null,null,null,null,null,null,{"$f":"IF(E3133<>\"\",ROUND((VLOOKUP(E3133,Param!$A$7:$E$13,4,0)*Fonct_Empl!F3133*((Fonct_Empl!G3133/12)))+(VLOOKUP(E3133,Param!$A$7:$E$13,5,0)*Fonct_Empl!H3133),2),\"\")","v":""}]
[null,null,null,null,null,null,null,null,{"$f":"IF(E3134<>\"\",ROUND((VLOOKUP(E3134,Param!$A$7:$E$13,4,0)*Fonct_Empl!F3134*((Fonct_Empl!G3134/12)))+(VLOOKUP(E3134,Param!$A$7:$E$13,5,0)*Fonct_Empl!H3134),2),\"\")","v":""}]
[null,null,null,null,null,null,null,null,{"$f":"IF(E3135<>\"\",ROUND((VLOOKUP(E3135,Param!$A$7:$E$13,4,0)*Fonct_Empl!F3135*((Fonct_Empl!G3135/12)))+(VLOOKUP(E3135,Param!$A$7:$E$13,5,0)*Fonct_Empl!H3135),2),\"\")","v":""}]
[null,null,null,null,null,null,null,null,{"$f":"IF(E3136<>\"\",ROUND((VLOOKUP(E3136,Param!$A$7:$E$13,4,0)*Fonct_Empl!F3136*((Fonct_Empl!G3136/12)))+(VLOOKUP(E3136,Param!$A$7:$E$13,5,0)*Fonct_Empl!H3136),2),\"\")","v":""}]
[null,null,null,null,null,null,null,null,{"$f":"IF(E3137<>\"\",ROUND((VLOOKUP(E3137,Param!$A$7:$E$13,4,0)*Fonct_Empl!F3137*((Fonct_Empl!G3137/12)))+(VLOOKUP(E3137,Param!$A$7:$E$13,5,0)*Fonct_Empl!H3137),2),\"\")","v":""}]
[null,null,null,null,null,null,null,null,{"$f":"IF(E3138<>\"\",ROUND((VLOOKUP(E3138,Param!$A$7:$E$13,4,0)*Fonct_Empl!F3138*((Fonct_Empl!G3138/12)))+(VLOOKUP(E3138,Param!$A$7:$E$13,5,0)*Fonct_Empl!H3138),2),\"\")","v":""}]
[null,null,null,null,null,null,null,null,{"$f":"IF(E3139<>\"\",ROUND((VLOOKUP(E3139,Param!$A$7:$E$13,4,0)*Fonct_Empl!F3139*((Fonct_Empl!G3139/12)))+(VLOOKUP(E3139,Param!$A$7:$E$13,5,0)*Fonct_Empl!H3139),2),\"\")","v":""}]
[null,null,null,null,null,null,null,null,{"$f":"IF(E3140<>\"\",ROUND((VLOOKUP(E3140,Param!$A$7:$E$13,4,0)*Fonct_Empl!F3140*((Fonct_Empl!G3140/12)))+(VLOOKUP(E3140,Param!$A$7:$E$13,5,0)*Fonct_Empl!H3140),2),\"\")","v":""}]
[null,null,null,null,null,null,null,null,{"$f":"IF(E3141<>\"\",ROUND((VLOOKUP(E3141,Param!$A$7:$E$13,4,0)*Fonct_Empl!F3141*((Fonct_Empl!G3141/12)))+(VLOOKUP(E3141,Param!$A$7:$E$13,5,0)*Fonct_Empl!H3141),2),\"\")","v":""}]
[null,null,null,null,null,null,null,null,{"$f":"IF(E3142<>\"\",ROUND((VLOOKUP(E3142,Param!$A$7:$E$13,4,0)*Fonct_Empl!F3142*((Fonct_Empl!G3142/12)))+(VLOOKUP(E3142,Param!$A$7:$E$13,5,0)*Fonct_Empl!H3142),2),\"\")","v":""}]
[null,null,null,null,null,null,null,null,{"$f":"IF(E3143<>\"\",ROUND((VLOOKUP(E3143,Param!$A$7:$E$13,4,0)*Fonct_Empl!F3143*((Fonct_Empl!G3143/12)))+(VLOOKUP(E3143,Param!$A$7:$E$13,5,0)*Fonct_Empl!H3143),2),\"\")","v":""}]
[null,null,null,null,null,null,null,null,{"$f":"IF(E3144<>\"\",ROUND((VLOOKUP(E3144,Param!$A$7:$E$13,4,0)*Fonct_Empl!F3144*((Fonct_Empl!G3144/12)))+(VLOOKUP(E3144,Param!$A$7:$E$13,5,0)*Fonct_Empl!H3144),2),\"\")","v":""}]
[null,null,null,null,null,null,null,null,{"$f":"IF(E3145<>\"\",ROUND((VLOOKUP(E3145,Param!$A$7:$E$13,4,0)*Fonct_Empl!F3145*((Fonct_Empl!G3145/12)))+(VLOOKUP(E3145,Param!$A$7:$E$13,5,0)*Fonct_Empl!H3145),2),\"\")","v":""}]
[null,null,null,null,null,null,null,null,{"$f":"IF(E3146<>\"\",ROUND((VLOOKUP(E3146,Param!$A$7:$E$13,4,0)*Fonct_Empl!F3146*((Fonct_Empl!G3146/12)))+(VLOOKUP(E3146,Param!$A$7:$E$13,5,0)*Fonct_Empl!H3146),2),\"\")","v":""}]
[null,null,null,null,null,null,null,null,{"$f":"IF(E3147<>\"\",ROUND((VLOOKUP(E3147,Param!$A$7:$E$13,4,0)*Fonct_Empl!F3147*((Fonct_Empl!G3147/12)))+(VLOOKUP(E3147,Param!$A$7:$E$13,5,0)*Fonct_Empl!H3147),2),\"\")","v":""}]
[null,null,null,null,null,null,null,null,{"$f":"IF(E3148<>\"\",ROUND((VLOOKUP(E3148,Param!$A$7:$E$13,4,0)*Fonct_Empl!F3148*((Fonct_Empl!G3148/12)))+(VLOOKUP(E3148,Param!$A$7:$E$13,5,0)*Fonct_Empl!H3148),2),\"\")","v":""}]
[null,null,null,null,null,null,null,null,{"$f":"IF(E3149<>\"\",ROUND((VLOOKUP(E3149,Param!$A$7:$E$13,4,0)*Fonct_Empl!F3149*((Fonct_Empl!G3149/12)))+(VLOOKUP(E3149,Param!$A$7:$E$13,5,0)*Fonct_Empl!H3149),2),\"\")","v":""}]
[null,null,null,null,null,null,null,null,{"$f":"IF(E3150<>\"\",ROUND((VLOOKUP(E3150,Param!$A$7:$E$13,4,0)*Fonct_Empl!F3150*((Fonct_Empl!G3150/12)))+(VLOOKUP(E3150,Param!$A$7:$E$13,5,0)*Fonct_Empl!H3150),2),\"\")","v":""}]
[null,null,null,null,null,null,null,null,{"$f":"IF(E3151<>\"\",ROUND((VLOOKUP(E3151,Param!$A$7:$E$13,4,0)*Fonct_Empl!F3151*((Fonct_Empl!G3151/12)))+(VLOOKUP(E3151,Param!$A$7:$E$13,5,0)*Fonct_Empl!H3151),2),\"\")","v":""}]
[null,null,null,null,null,null,null,null,{"$f":"IF(E3152<>\"\",ROUND((VLOOKUP(E3152,Param!$A$7:$E$13,4,0)*Fonct_Empl!F3152*((Fonct_Empl!G3152/12)))+(VLOOKUP(E3152,Param!$A$7:$E$13,5,0)*Fonct_Empl!H3152),2),\"\")","v":""}]
[null,null,null,null,null,null,null,null,{"$f":"IF(E3153<>\"\",ROUND((VLOOKUP(E3153,Param!$A$7:$E$13,4,0)*Fonct_Empl!F3153*((Fonct_Empl!G3153/12)))+(VLOOKUP(E3153,Param!$A$7:$E$13,5,0)*Fonct_Empl!H3153),2),\"\")","v":""}]
[null,null,null,null,null,null,null,null,{"$f":"IF(E3154<>\"\",ROUND((VLOOKUP(E3154,Param!$A$7:$E$13,4,0)*Fonct_Empl!F3154*((Fonct_Empl!G3154/12)))+(VLOOKUP(E3154,Param!$A$7:$E$13,5,0)*Fonct_Empl!H3154),2),\"\")","v":""}]
[null,null,null,null,null,null,null,null,{"$f":"IF(E3155<>\"\",ROUND((VLOOKUP(E3155,Param!$A$7:$E$13,4,0)*Fonct_Empl!F3155*((Fonct_Empl!G3155/12)))+(VLOOKUP(E3155,Param!$A$7:$E$13,5,0)*Fonct_Empl!H3155),2),\"\")","v":""}]
[null,null,null,null,null,null,null,null,{"$f":"IF(E3156<>\"\",ROUND((VLOOKUP(E3156,Param!$A$7:$E$13,4,0)*Fonct_Empl!F3156*((Fonct_Empl!G3156/12)))+(VLOOKUP(E3156,Param!$A$7:$E$13,5,0)*Fonct_Empl!H3156),2),\"\")","v":""}]
[null,null,null,null,null,null,null,null,{"$f":"IF(E3157<>\"\",ROUND((VLOOKUP(E3157,Param!$A$7:$E$13,4,0)*Fonct_Empl!F3157*((Fonct_Empl!G3157/12)))+(VLOOKUP(E3157,Param!$A$7:$E$13,5,0)*Fonct_Empl!H3157),2),\"\")","v":""}]
[null,null,null,null,null,null,null,null,{"$f":"IF(E3158<>\"\",ROUND((VLOOKUP(E3158,Param!$A$7:$E$13,4,0)*Fonct_Empl!F3158*((Fonct_Empl!G3158/12)))+(VLOOKUP(E3158,Param!$A$7:$E$13,5,0)*Fonct_Empl!H3158),2),\"\")","v":""}]
[null,null,null,null,null,null,null,null,{"$f":"IF(E3159<>\"\",ROUND((VLOOKUP(E3159,Param!$A$7:$E$13,4,0)*Fonct_Empl!F3159*((Fonct_Empl!G3159/12)))+(VLOOKUP(E3159,Param!$A$7:$E$13,5,0)*Fonct_Empl!H3159),2),\"\")","v":""}]
[null,null,null,null,null,null,null,null,{"$f":"IF(E3160<>\"\",ROUND((VLOOKUP(E3160,Param!$A$7:$E$13,4,0)*Fonct_Empl!F3160*((Fonct_Empl!G3160/12)))+(VLOOKUP(E3160,Param!$A$7:$E$13,5,0)*Fonct_Empl!H3160),2),\"\")","v":""}]
[null,null,null,null,null,null,null,null,{"$f":"IF(E3161<>\"\",ROUND((VLOOKUP(E3161,Param!$A$7:$E$13,4,0)*Fonct_Empl!F3161*((Fonct_Empl!G3161/12)))+(VLOOKUP(E3161,Param!$A$7:$E$13,5,0)*Fonct_Empl!H3161),2),\"\")","v":""}]
[null,null,null,null,null,null,null,null,{"$f":"IF(E3162<>\"\",ROUND((VLOOKUP(E3162,Param!$A$7:$E$13,4,0)*Fonct_Empl!F3162*((Fonct_Empl!G3162/12)))+(VLOOKUP(E3162,Param!$A$7:$E$13,5,0)*Fonct_Empl!H3162),2),\"\")","v":""}]
[null,null,null,null,null,null,null,null,{"$f":"IF(E3163<>\"\",ROUND((VLOOKUP(E3163,Param!$A$7:$E$13,4,0)*Fonct_Empl!F3163*((Fonct_Empl!G3163/12)))+(VLOOKUP(E3163,Param!$A$7:$E$13,5,0)*Fonct_Empl!H3163),2),\"\")","v":""}]
[null,null,null,null,null,null,null,null,{"$f":"IF(E3164<>\"\",ROUND((VLOOKUP(E3164,Param!$A$7:$E$13,4,0)*Fonct_Empl!F3164*((Fonct_Empl!G3164/12)))+(VLOOKUP(E3164,Param!$A$7:$E$13,5,0)*Fonct_Empl!H3164),2),\"\")","v":""}]
[null,null,null,null,null,null,null,null,{"$f":"IF(E3165<>\"\",ROUND((VLOOKUP(E3165,Param!$A$7:$E$13,4,0)*Fonct_Empl!F3165*((Fonct_Empl!G3165/12)))+(VLOOKUP(E3165,Param!$A$7:$E$13,5,0)*Fonct_Empl!H3165),2),\"\")","v":""}]
[null,null,null,null,null,null,null,null,{"$f":"IF(E3166<>\"\",ROUND((VLOOKUP(E3166,Param!$A$7:$E$13,4,0)*Fonct_Empl!F3166*((Fonct_Empl!G3166/12)))+(VLOOKUP(E3166,Param!$A$7:$E$13,5,0)*Fonct_Empl!H3166),2),\"\")","v":""}]
[null,null,null,null,null,null,null,null,{"$f":"IF(E3167<>\"\",ROUND((VLOOKUP(E3167,Param!$A$7:$E$13,4,0)*Fonct_Empl!F3167*((Fonct_Empl!G3167/12)))+(VLOOKUP(E3167,Param!$A$7:$E$13,5,0)*Fonct_Empl!H3167),2),\"\")","v":""}]
[null,null,null,null,null,null,null,null,{"$f":"IF(E3168<>\"\",ROUND((VLOOKUP(E3168,Param!$A$7:$E$13,4,0)*Fonct_Empl!F3168*((Fonct_Empl!G3168/12)))+(VLOOKUP(E3168,Param!$A$7:$E$13,5,0)*Fonct_Empl!H3168),2),\"\")","v":""}]
[null,null,null,null,null,null,null,null,{"$f":"IF(E3169<>\"\",ROUND((VLOOKUP(E3169,Param!$A$7:$E$13,4,0)*Fonct_Empl!F3169*((Fonct_Empl!G3169/12)))+(VLOOKUP(E3169,Param!$A$7:$E$13,5,0)*Fonct_Empl!H3169),2),\"\")","v":""}]
[null,null,null,null,null,null,null,null,{"$f":"IF(E3170<>\"\",ROUND((VLOOKUP(E3170,Param!$A$7:$E$13,4,0)*Fonct_Empl!F3170*((Fonct_Empl!G3170/12)))+(VLOOKUP(E3170,Param!$A$7:$E$13,5,0)*Fonct_Empl!H3170),2),\"\")","v":""}]
[null,null,null,null,null,null,null,null,{"$f":"IF(E3171<>\"\",ROUND((VLOOKUP(E3171,Param!$A$7:$E$13,4,0)*Fonct_Empl!F3171*((Fonct_Empl!G3171/12)))+(VLOOKUP(E3171,Param!$A$7:$E$13,5,0)*Fonct_Empl!H3171),2),\"\")","v":""}]
[null,null,null,null,null,null,null,null,{"$f":"IF(E3172<>\"\",ROUND((VLOOKUP(E3172,Param!$A$7:$E$13,4,0)*Fonct_Empl!F3172*((Fonct_Empl!G3172/12)))+(VLOOKUP(E3172,Param!$A$7:$E$13,5,0)*Fonct_Empl!H3172),2),\"\")","v":""}]
[null,null,null,null,null,null,null,null,{"$f":"IF(E3173<>\"\",ROUND((VLOOKUP(E3173,Param!$A$7:$E$13,4,0)*Fonct_Empl!F3173*((Fonct_Empl!G3173/12)))+(VLOOKUP(E3173,Param!$A$7:$E$13,5,0)*Fonct_Empl!H3173),2),\"\")","v":""}]
[null,null,null,null,null,null,null,null,{"$f":"IF(E3174<>\"\",ROUND((VLOOKUP(E3174,Param!$A$7:$E$13,4,0)*Fonct_Empl!F3174*((Fonct_Empl!G3174/12)))+(VLOOKUP(E3174,Param!$A$7:$E$13,5,0)*Fonct_Empl!H3174),2),\"\")","v":""}]
[null,null,null,null,null,null,null,null,{"$f":"IF(E3175<>\"\",ROUND((VLOOKUP(E3175,Param!$A$7:$E$13,4,0)*Fonct_Empl!F3175*((Fonct_Empl!G3175/12)))+(VLOOKUP(E3175,Param!$A$7:$E$13,5,0)*Fonct_Empl!H3175),2),\"\")","v":""}]
[null,null,null,null,null,null,null,null,{"$f":"IF(E3176<>\"\",ROUND((VLOOKUP(E3176,Param!$A$7:$E$13,4,0)*Fonct_Empl!F3176*((Fonct_Empl!G3176/12)))+(VLOOKUP(E3176,Param!$A$7:$E$13,5,0)*Fonct_Empl!H3176),2),\"\")","v":""}]
[null,null,null,null,null,null,null,null,{"$f":"IF(E3177<>\"\",ROUND((VLOOKUP(E3177,Param!$A$7:$E$13,4,0)*Fonct_Empl!F3177*((Fonct_Empl!G3177/12)))+(VLOOKUP(E3177,Param!$A$7:$E$13,5,0)*Fonct_Empl!H3177),2),\"\")","v":""}]
[null,null,null,null,null,null,null,null,{"$f":"IF(E3178<>\"\",ROUND((VLOOKUP(E3178,Param!$A$7:$E$13,4,0)*Fonct_Empl!F3178*((Fonct_Empl!G3178/12)))+(VLOOKUP(E3178,Param!$A$7:$E$13,5,0)*Fonct_Empl!H3178),2),\"\")","v":""}]
[null,null,null,null,null,null,null,null,{"$f":"IF(E3179<>\"\",ROUND((VLOOKUP(E3179,Param!$A$7:$E$13,4,0)*Fonct_Empl!F3179*((Fonct_Empl!G3179/12)))+(VLOOKUP(E3179,Param!$A$7:$E$13,5,0)*Fonct_Empl!H3179),2),\"\")","v":""}]
[null,null,null,null,null,null,null,null,{"$f":"IF(E3180<>\"\",ROUND((VLOOKUP(E3180,Param!$A$7:$E$13,4,0)*Fonct_Empl!F3180*((Fonct_Empl!G3180/12)))+(VLOOKUP(E3180,Param!$A$7:$E$13,5,0)*Fonct_Empl!H3180),2),\"\")","v":""}]
[null,null,null,null,null,null,null,null,{"$f":"IF(E3181<>\"\",ROUND((VLOOKUP(E3181,Param!$A$7:$E$13,4,0)*Fonct_Empl!F3181*((Fonct_Empl!G3181/12)))+(VLOOKUP(E3181,Param!$A$7:$E$13,5,0)*Fonct_Empl!H3181),2),\"\")","v":""}]
[null,null,null,null,null,null,null,null,{"$f":"IF(E3182<>\"\",ROUND((VLOOKUP(E3182,Param!$A$7:$E$13,4,0)*Fonct_Empl!F3182*((Fonct_Empl!G3182/12)))+(VLOOKUP(E3182,Param!$A$7:$E$13,5,0)*Fonct_Empl!H3182),2),\"\")","v":""}]
[null,null,null,null,null,null,null,null,{"$f":"IF(E3183<>\"\",ROUND((VLOOKUP(E3183,Param!$A$7:$E$13,4,0)*Fonct_Empl!F3183*((Fonct_Empl!G3183/12)))+(VLOOKUP(E3183,Param!$A$7:$E$13,5,0)*Fonct_Empl!H3183),2),\"\")","v":""}]
[null,null,null,null,null,null,null,null,{"$f":"IF(E3184<>\"\",ROUND((VLOOKUP(E3184,Param!$A$7:$E$13,4,0)*Fonct_Empl!F3184*((Fonct_Empl!G3184/12)))+(VLOOKUP(E3184,Param!$A$7:$E$13,5,0)*Fonct_Empl!H3184),2),\"\")","v":""}]
[null,null,null,null,null,null,null,null,{"$f":"IF(E3185<>\"\",ROUND((VLOOKUP(E3185,Param!$A$7:$E$13,4,0)*Fonct_Empl!F3185*((Fonct_Empl!G3185/12)))+(VLOOKUP(E3185,Param!$A$7:$E$13,5,0)*Fonct_Empl!H3185),2),\"\")","v":""}]
[null,null,null,null,null,null,null,null,{"$f":"IF(E3186<>\"\",ROUND((VLOOKUP(E3186,Param!$A$7:$E$13,4,0)*Fonct_Empl!F3186*((Fonct_Empl!G3186/12)))+(VLOOKUP(E3186,Param!$A$7:$E$13,5,0)*Fonct_Empl!H3186),2),\"\")","v":""}]
[null,null,null,null,null,null,null,null,{"$f":"IF(E3187<>\"\",ROUND((VLOOKUP(E3187,Param!$A$7:$E$13,4,0)*Fonct_Empl!F3187*((Fonct_Empl!G3187/12)))+(VLOOKUP(E3187,Param!$A$7:$E$13,5,0)*Fonct_Empl!H3187),2),\"\")","v":""}]
[null,null,null,null,null,null,null,null,{"$f":"IF(E3188<>\"\",ROUND((VLOOKUP(E3188,Param!$A$7:$E$13,4,0)*Fonct_Empl!F3188*((Fonct_Empl!G3188/12)))+(VLOOKUP(E3188,Param!$A$7:$E$13,5,0)*Fonct_Empl!H3188),2),\"\")","v":""}]
[null,null,null,null,null,null,null,null,{"$f":"IF(E3189<>\"\",ROUND((VLOOKUP(E3189,Param!$A$7:$E$13,4,0)*Fonct_Empl!F3189*((Fonct_Empl!G3189/12)))+(VLOOKUP(E3189,Param!$A$7:$E$13,5,0)*Fonct_Empl!H3189),2),\"\")","v":""}]
[null,null,null,null,null,null,null,null,{"$f":"IF(E3190<>\"\",ROUND((VLOOKUP(E3190,Param!$A$7:$E$13,4,0)*Fonct_Empl!F3190*((Fonct_Empl!G3190/12)))+(VLOOKUP(E3190,Param!$A$7:$E$13,5,0)*Fonct_Empl!H3190),2),\"\")","v":""}]
[null,null,null,null,null,null,null,null,{"$f":"IF(E3191<>\"\",ROUND((VLOOKUP(E3191,Param!$A$7:$E$13,4,0)*Fonct_Empl!F3191*((Fonct_Empl!G3191/12)))+(VLOOKUP(E3191,Param!$A$7:$E$13,5,0)*Fonct_Empl!H3191),2),\"\")","v":""}]
[null,null,null,null,null,null,null,null,{"$f":"IF(E3192<>\"\",ROUND((VLOOKUP(E3192,Param!$A$7:$E$13,4,0)*Fonct_Empl!F3192*((Fonct_Empl!G3192/12)))+(VLOOKUP(E3192,Param!$A$7:$E$13,5,0)*Fonct_Empl!H3192),2),\"\")","v":""}]
[null,null,null,null,null,null,null,null,{"$f":"IF(E3193<>\"\",ROUND((VLOOKUP(E3193,Param!$A$7:$E$13,4,0)*Fonct_Empl!F3193*((Fonct_Empl!G3193/12)))+(VLOOKUP(E3193,Param!$A$7:$E$13,5,0)*Fonct_Empl!H3193),2),\"\")","v":""}]
[null,null,null,null,null,null,null,null,{"$f":"IF(E3194<>\"\",ROUND((VLOOKUP(E3194,Param!$A$7:$E$13,4,0)*Fonct_Empl!F3194*((Fonct_Empl!G3194/12)))+(VLOOKUP(E3194,Param!$A$7:$E$13,5,0)*Fonct_Empl!H3194),2),\"\")","v":""}]
[null,null,null,null,null,null,null,null,{"$f":"IF(E3195<>\"\",ROUND((VLOOKUP(E3195,Param!$A$7:$E$13,4,0)*Fonct_Empl!F3195*((Fonct_Empl!G3195/12)))+(VLOOKUP(E3195,Param!$A$7:$E$13,5,0)*Fonct_Empl!H3195),2),\"\")","v":""}]
[null,null,null,null,null,null,null,null,{"$f":"IF(E3196<>\"\",ROUND((VLOOKUP(E3196,Param!$A$7:$E$13,4,0)*Fonct_Empl!F3196*((Fonct_Empl!G3196/12)))+(VLOOKUP(E3196,Param!$A$7:$E$13,5,0)*Fonct_Empl!H3196),2),\"\")","v":""}]
[null,null,null,null,null,null,null,null,{"$f":"IF(E3197<>\"\",ROUND((VLOOKUP(E3197,Param!$A$7:$E$13,4,0)*Fonct_Empl!F3197*((Fonct_Empl!G3197/12)))+(VLOOKUP(E3197,Param!$A$7:$E$13,5,0)*Fonct_Empl!H3197),2),\"\")","v":""}]
[null,null,null,null,null,null,null,null,{"$f":"IF(E3198<>\"\",ROUND((VLOOKUP(E3198,Param!$A$7:$E$13,4,0)*Fonct_Empl!F3198*((Fonct_Empl!G3198/12)))+(VLOOKUP(E3198,Param!$A$7:$E$13,5,0)*Fonct_Empl!H3198),2),\"\")","v":""}]
[null,null,null,null,null,null,null,null,{"$f":"IF(E3199<>\"\",ROUND((VLOOKUP(E3199,Param!$A$7:$E$13,4,0)*Fonct_Empl!F3199*((Fonct_Empl!G3199/12)))+(VLOOKUP(E3199,Param!$A$7:$E$13,5,0)*Fonct_Empl!H3199),2),\"\")","v":""}]
[null,null,null,null,null,null,null,null,{"$f":"IF(E3200<>\"\",ROUND((VLOOKUP(E3200,Param!$A$7:$E$13,4,0)*Fonct_Empl!F3200*((Fonct_Empl!G3200/12)))+(VLOOKUP(E3200,Param!$A$7:$E$13,5,0)*Fonct_Empl!H3200),2),\"\")","v":""}]
[null,null,null,null,null,null,null,null,{"$f":"IF(E3201<>\"\",ROUND((VLOOKUP(E3201,Param!$A$7:$E$13,4,0)*Fonct_Empl!F3201*((Fonct_Empl!G3201/12)))+(VLOOKUP(E3201,Param!$A$7:$E$13,5,0)*Fonct_Empl!H3201),2),\"\")","v":""}]
[null,null,null,null,null,null,null,null,{"$f":"IF(E3202<>\"\",ROUND((VLOOKUP(E3202,Param!$A$7:$E$13,4,0)*Fonct_Empl!F3202*((Fonct_Empl!G3202/12)))+(VLOOKUP(E3202,Param!$A$7:$E$13,5,0)*Fonct_Empl!H3202),2),\"\")","v":""}]
[null,null,null,null,null,null,null,null,{"$f":"IF(E3203<>\"\",ROUND((VLOOKUP(E3203,Param!$A$7:$E$13,4,0)*Fonct_Empl!F3203*((Fonct_Empl!G3203/12)))+(VLOOKUP(E3203,Param!$A$7:$E$13,5,0)*Fonct_Empl!H3203),2),\"\")","v":""}]
[null,null,null,null,null,null,null,null,{"$f":"IF(E3204<>\"\",ROUND((VLOOKUP(E3204,Param!$A$7:$E$13,4,0)*Fonct_Empl!F3204*((Fonct_Empl!G3204/12)))+(VLOOKUP(E3204,Param!$A$7:$E$13,5,0)*Fonct_Empl!H3204),2),\"\")","v":""}]
[null,null,null,null,null,null,null,null,{"$f":"IF(E3205<>\"\",ROUND((VLOOKUP(E3205,Param!$A$7:$E$13,4,0)*Fonct_Empl!F3205*((Fonct_Empl!G3205/12)))+(VLOOKUP(E3205,Param!$A$7:$E$13,5,0)*Fonct_Empl!H3205),2),\"\")","v":""}]
[null,null,null,null,null,null,null,null,{"$f":"IF(E3206<>\"\",ROUND((VLOOKUP(E3206,Param!$A$7:$E$13,4,0)*Fonct_Empl!F3206*((Fonct_Empl!G3206/12)))+(VLOOKUP(E3206,Param!$A$7:$E$13,5,0)*Fonct_Empl!H3206),2),\"\")","v":""}]
[null,null,null,null,null,null,null,null,{"$f":"IF(E3207<>\"\",ROUND((VLOOKUP(E3207,Param!$A$7:$E$13,4,0)*Fonct_Empl!F3207*((Fonct_Empl!G3207/12)))+(VLOOKUP(E3207,Param!$A$7:$E$13,5,0)*Fonct_Empl!H3207),2),\"\")","v":""}]
[null,null,null,null,null,null,null,null,{"$f":"IF(E3208<>\"\",ROUND((VLOOKUP(E3208,Param!$A$7:$E$13,4,0)*Fonct_Empl!F3208*((Fonct_Empl!G3208/12)))+(VLOOKUP(E3208,Param!$A$7:$E$13,5,0)*Fonct_Empl!H3208),2),\"\")","v":""}]
[null,null,null,null,null,null,null,null,{"$f":"IF(E3209<>\"\",ROUND((VLOOKUP(E3209,Param!$A$7:$E$13,4,0)*Fonct_Empl!F3209*((Fonct_Empl!G3209/12)))+(VLOOKUP(E3209,Param!$A$7:$E$13,5,0)*Fonct_Empl!H3209),2),\"\")","v":""}]
[null,null,null,null,null,null,null,null,{"$f":"IF(E3210<>\"\",ROUND((VLOOKUP(E3210,Param!$A$7:$E$13,4,0)*Fonct_Empl!F3210*((Fonct_Empl!G3210/12)))+(VLOOKUP(E3210,Param!$A$7:$E$13,5,0)*Fonct_Empl!H3210),2),\"\")","v":""}]
[null,null,null,null,null,null,null,null,{"$f":"IF(E3211<>\"\",ROUND((VLOOKUP(E3211,Param!$A$7:$E$13,4,0)*Fonct_Empl!F3211*((Fonct_Empl!G3211/12)))+(VLOOKUP(E3211,Param!$A$7:$E$13,5,0)*Fonct_Empl!H3211),2),\"\")","v":""}]
[null,null,null,null,null,null,null,null,{"$f":"IF(E3212<>\"\",ROUND((VLOOKUP(E3212,Param!$A$7:$E$13,4,0)*Fonct_Empl!F3212*((Fonct_Empl!G3212/12)))+(VLOOKUP(E3212,Param!$A$7:$E$13,5,0)*Fonct_Empl!H3212),2),\"\")","v":""}]
[null,null,null,null,null,null,null,null,{"$f":"IF(E3213<>\"\",ROUND((VLOOKUP(E3213,Param!$A$7:$E$13,4,0)*Fonct_Empl!F3213*((Fonct_Empl!G3213/12)))+(VLOOKUP(E3213,Param!$A$7:$E$13,5,0)*Fonct_Empl!H3213),2),\"\")","v":""}]
[null,null,null,null,null,null,null,null,{"$f":"IF(E3214<>\"\",ROUND((VLOOKUP(E3214,Param!$A$7:$E$13,4,0)*Fonct_Empl!F3214*((Fonct_Empl!G3214/12)))+(VLOOKUP(E3214,Param!$A$7:$E$13,5,0)*Fonct_Empl!H3214),2),\"\")","v":""}]
[null,null,null,null,null,null,null,null,{"$f":"IF(E3215<>\"\",ROUND((VLOOKUP(E3215,Param!$A$7:$E$13,4,0)*Fonct_Empl!F3215*((Fonct_Empl!G3215/12)))+(VLOOKUP(E3215,Param!$A$7:$E$13,5,0)*Fonct_Empl!H3215),2),\"\")","v":""}]
[null,null,null,null,null,null,null,null,{"$f":"IF(E3216<>\"\",ROUND((VLOOKUP(E3216,Param!$A$7:$E$13,4,0)*Fonct_Empl!F3216*((Fonct_Empl!G3216/12)))+(VLOOKUP(E3216,Param!$A$7:$E$13,5,0)*Fonct_Empl!H3216),2),\"\")","v":""}]
[null,null,null,null,null,null,null,null,{"$f":"IF(E3217<>\"\",ROUND((VLOOKUP(E3217,Param!$A$7:$E$13,4,0)*Fonct_Empl!F3217*((Fonct_Empl!G3217/12)))+(VLOOKUP(E3217,Param!$A$7:$E$13,5,0)*Fonct_Empl!H3217),2),\"\")","v":""}]
[null,null,null,null,null,null,null,null,{"$f":"IF(E3218<>\"\",ROUND((VLOOKUP(E3218,Param!$A$7:$E$13,4,0)*Fonct_Empl!F3218*((Fonct_Empl!G3218/12)))+(VLOOKUP(E3218,Param!$A$7:$E$13,5,0)*Fonct_Empl!H3218),2),\"\")","v":""}]
[null,null,null,null,null,null,null,null,{"$f":"IF(E3219<>\"\",ROUND((VLOOKUP(E3219,Param!$A$7:$E$13,4,0)*Fonct_Empl!F3219*((Fonct_Empl!G3219/12)))+(VLOOKUP(E3219,Param!$A$7:$E$13,5,0)*Fonct_Empl!H3219),2),\"\")","v":""}]
[null,null,null,null,null,null,null,null,{"$f":"IF(E3220<>\"\",ROUND((VLOOKUP(E3220,Param!$A$7:$E$13,4,0)*Fonct_Empl!F3220*((Fonct_Empl!G3220/12)))+(VLOOKUP(E3220,Param!$A$7:$E$13,5,0)*Fonct_Empl!H3220),2),\"\")","v":""}]
[null,null,null,null,null,null,null,null,{"$f":"IF(E3221<>\"\",ROUND((VLOOKUP(E3221,Param!$A$7:$E$13,4,0)*Fonct_Empl!F3221*((Fonct_Empl!G3221/12)))+(VLOOKUP(E3221,Param!$A$7:$E$13,5,0)*Fonct_Empl!H3221),2),\"\")","v":""}]
[null,null,null,null,null,null,null,null,{"$f":"IF(E3222<>\"\",ROUND((VLOOKUP(E3222,Param!$A$7:$E$13,4,0)*Fonct_Empl!F3222*((Fonct_Empl!G3222/12)))+(VLOOKUP(E3222,Param!$A$7:$E$13,5,0)*Fonct_Empl!H3222),2),\"\")","v":""}]
[null,null,null,null,null,null,null,null,{"$f":"IF(E3223<>\"\",ROUND((VLOOKUP(E3223,Param!$A$7:$E$13,4,0)*Fonct_Empl!F3223*((Fonct_Empl!G3223/12)))+(VLOOKUP(E3223,Param!$A$7:$E$13,5,0)*Fonct_Empl!H3223),2),\"\")","v":""}]
[null,null,null,null,null,null,null,null,{"$f":"IF(E3224<>\"\",ROUND((VLOOKUP(E3224,Param!$A$7:$E$13,4,0)*Fonct_Empl!F3224*((Fonct_Empl!G3224/12)))+(VLOOKUP(E3224,Param!$A$7:$E$13,5,0)*Fonct_Empl!H3224),2),\"\")","v":""}]
[null,null,null,null,null,null,null,null,{"$f":"IF(E3225<>\"\",ROUND((VLOOKUP(E3225,Param!$A$7:$E$13,4,0)*Fonct_Empl!F3225*((Fonct_Empl!G3225/12)))+(VLOOKUP(E3225,Param!$A$7:$E$13,5,0)*Fonct_Empl!H3225),2),\"\")","v":""}]
[null,null,null,null,null,null,null,null,{"$f":"IF(E3226<>\"\",ROUND((VLOOKUP(E3226,Param!$A$7:$E$13,4,0)*Fonct_Empl!F3226*((Fonct_Empl!G3226/12)))+(VLOOKUP(E3226,Param!$A$7:$E$13,5,0)*Fonct_Empl!H3226),2),\"\")","v":""}]
[null,null,null,null,null,null,null,null,{"$f":"IF(E3227<>\"\",ROUND((VLOOKUP(E3227,Param!$A$7:$E$13,4,0)*Fonct_Empl!F3227*((Fonct_Empl!G3227/12)))+(VLOOKUP(E3227,Param!$A$7:$E$13,5,0)*Fonct_Empl!H3227),2),\"\")","v":""}]
[null,null,null,null,null,null,null,null,{"$f":"IF(E3228<>\"\",ROUND((VLOOKUP(E3228,Param!$A$7:$E$13,4,0)*Fonct_Empl!F3228*((Fonct_Empl!G3228/12)))+(VLOOKUP(E3228,Param!$A$7:$E$13,5,0)*Fonct_Empl!H3228),2),\"\")","v":""}]
[null,null,null,null,null,null,null,null,{"$f":"IF(E3229<>\"\",ROUND((VLOOKUP(E3229,Param!$A$7:$E$13,4,0)*Fonct_Empl!F3229*((Fonct_Empl!G3229/12)))+(VLOOKUP(E3229,Param!$A$7:$E$13,5,0)*Fonct_Empl!H3229),2),\"\")","v":""}]
[null,null,null,null,null,null,null,null,{"$f":"IF(E3230<>\"\",ROUND((VLOOKUP(E3230,Param!$A$7:$E$13,4,0)*Fonct_Empl!F3230*((Fonct_Empl!G3230/12)))+(VLOOKUP(E3230,Param!$A$7:$E$13,5,0)*Fonct_Empl!H3230),2),\"\")","v":""}]
[null,null,null,null,null,null,null,null,{"$f":"IF(E3231<>\"\",ROUND((VLOOKUP(E3231,Param!$A$7:$E$13,4,0)*Fonct_Empl!F3231*((Fonct_Empl!G3231/12)))+(VLOOKUP(E3231,Param!$A$7:$E$13,5,0)*Fonct_Empl!H3231),2),\"\")","v":""}]
[null,null,null,null,null,null,null,null,{"$f":"IF(E3232<>\"\",ROUND((VLOOKUP(E3232,Param!$A$7:$E$13,4,0)*Fonct_Empl!F3232*((Fonct_Empl!G3232/12)))+(VLOOKUP(E3232,Param!$A$7:$E$13,5,0)*Fonct_Empl!H3232),2),\"\")","v":""}]
[null,null,null,null,null,null,null,null,{"$f":"IF(E3233<>\"\",ROUND((VLOOKUP(E3233,Param!$A$7:$E$13,4,0)*Fonct_Empl!F3233*((Fonct_Empl!G3233/12)))+(VLOOKUP(E3233,Param!$A$7:$E$13,5,0)*Fonct_Empl!H3233),2),\"\")","v":""}]
[null,null,null,null,null,null,null,null,{"$f":"IF(E3234<>\"\",ROUND((VLOOKUP(E3234,Param!$A$7:$E$13,4,0)*Fonct_Empl!F3234*((Fonct_Empl!G3234/12)))+(VLOOKUP(E3234,Param!$A$7:$E$13,5,0)*Fonct_Empl!H3234),2),\"\")","v":""}]
[null,null,null,null,null,null,null,null,{"$f":"IF(E3235<>\"\",ROUND((VLOOKUP(E3235,Param!$A$7:$E$13,4,0)*Fonct_Empl!F3235*((Fonct_Empl!G3235/12)))+(VLOOKUP(E3235,Param!$A$7:$E$13,5,0)*Fonct_Empl!H3235),2),\"\")","v":""}]
[null,null,null,null,null,null,null,null,{"$f":"IF(E3236<>\"\",ROUND((VLOOKUP(E3236,Param!$A$7:$E$13,4,0)*Fonct_Empl!F3236*((Fonct_Empl!G3236/12)))+(VLOOKUP(E3236,Param!$A$7:$E$13,5,0)*Fonct_Empl!H3236),2),\"\")","v":""}]
[null,null,null,null,null,null,null,null,{"$f":"IF(E3237<>\"\",ROUND((VLOOKUP(E3237,Param!$A$7:$E$13,4,0)*Fonct_Empl!F3237*((Fonct_Empl!G3237/12)))+(VLOOKUP(E3237,Param!$A$7:$E$13,5,0)*Fonct_Empl!H3237),2),\"\")","v":""}]
[null,null,null,null,null,null,null,null,{"$f":"IF(E3238<>\"\",ROUND((VLOOKUP(E3238,Param!$A$7:$E$13,4,0)*Fonct_Empl!F3238*((Fonct_Empl!G3238/12)))+(VLOOKUP(E3238,Param!$A$7:$E$13,5,0)*Fonct_Empl!H3238),2),\"\")","v":""}]
[null,null,null,null,null,null,null,null,{"$f":"IF(E3239<>\"\",ROUND((VLOOKUP(E3239,Param!$A$7:$E$13,4,0)*Fonct_Empl!F3239*((Fonct_Empl!G3239/12)))+(VLOOKUP(E3239,Param!$A$7:$E$13,5,0)*Fonct_Empl!H3239),2),\"\")","v":""}]
[null,null,null,null,null,null,null,null,{"$f":"IF(E3240<>\"\",ROUND((VLOOKUP(E3240,Param!$A$7:$E$13,4,0)*Fonct_Empl!F3240*((Fonct_Empl!G3240/12)))+(VLOOKUP(E3240,Param!$A$7:$E$13,5,0)*Fonct_Empl!H3240),2),\"\")","v":""}]
[null,null,null,null,null,null,null,null,{"$f":"IF(E3241<>\"\",ROUND((VLOOKUP(E3241,Param!$A$7:$E$13,4,0)*Fonct_Empl!F3241*((Fonct_Empl!G3241/12)))+(VLOOKUP(E3241,Param!$A$7:$E$13,5,0)*Fonct_Empl!H3241),2),\"\")","v":""}]
[null,null,null,null,null,null,null,null,{"$f":"IF(E3242<>\"\",ROUND((VLOOKUP(E3242,Param!$A$7:$E$13,4,0)*Fonct_Empl!F3242*((Fonct_Empl!G3242/12)))+(VLOOKUP(E3242,Param!$A$7:$E$13,5,0)*Fonct_Empl!H3242),2),\"\")","v":""}]
[null,null,null,null,null,null,null,null,{"$f":"IF(E3243<>\"\",ROUND((VLOOKUP(E3243,Param!$A$7:$E$13,4,0)*Fonct_Empl!F3243*((Fonct_Empl!G3243/12)))+(VLOOKUP(E3243,Param!$A$7:$E$13,5,0)*Fonct_Empl!H3243),2),\"\")","v":""}]
[null,null,null,null,null,null,null,null,{"$f":"IF(E3244<>\"\",ROUND((VLOOKUP(E3244,Param!$A$7:$E$13,4,0)*Fonct_Empl!F3244*((Fonct_Empl!G3244/12)))+(VLOOKUP(E3244,Param!$A$7:$E$13,5,0)*Fonct_Empl!H3244),2),\"\")","v":""}]
[null,null,null,null,null,null,null,null,{"$f":"IF(E3245<>\"\",ROUND((VLOOKUP(E3245,Param!$A$7:$E$13,4,0)*Fonct_Empl!F3245*((Fonct_Empl!G3245/12)))+(VLOOKUP(E3245,Param!$A$7:$E$13,5,0)*Fonct_Empl!H3245),2),\"\")","v":""}]
[null,null,null,null,null,null,null,null,{"$f":"IF(E3246<>\"\",ROUND((VLOOKUP(E3246,Param!$A$7:$E$13,4,0)*Fonct_Empl!F3246*((Fonct_Empl!G3246/12)))+(VLOOKUP(E3246,Param!$A$7:$E$13,5,0)*Fonct_Empl!H3246),2),\"\")","v":""}]
[null,null,null,null,null,null,null,null,{"$f":"IF(E3247<>\"\",ROUND((VLOOKUP(E3247,Param!$A$7:$E$13,4,0)*Fonct_Empl!F3247*((Fonct_Empl!G3247/12)))+(VLOOKUP(E3247,Param!$A$7:$E$13,5,0)*Fonct_Empl!H3247),2),\"\")","v":""}]
[null,null,null,null,null,null,null,null,{"$f":"IF(E3248<>\"\",ROUND((VLOOKUP(E3248,Param!$A$7:$E$13,4,0)*Fonct_Empl!F3248*((Fonct_Empl!G3248/12)))+(VLOOKUP(E3248,Param!$A$7:$E$13,5,0)*Fonct_Empl!H3248),2),\"\")","v":""}]
[null,null,null,null,null,null,null,null,{"$f":"IF(E3249<>\"\",ROUND((VLOOKUP(E3249,Param!$A$7:$E$13,4,0)*Fonct_Empl!F3249*((Fonct_Empl!G3249/12)))+(VLOOKUP(E3249,Param!$A$7:$E$13,5,0)*Fonct_Empl!H3249),2),\"\")","v":""}]
[null,null,null,null,null,null,null,null,{"$f":"IF(E3250<>\"\",ROUND((VLOOKUP(E3250,Param!$A$7:$E$13,4,0)*Fonct_Empl!F3250*((Fonct_Empl!G3250/12)))+(VLOOKUP(E3250,Param!$A$7:$E$13,5,0)*Fonct_Empl!H3250),2),\"\")","v":""}]
[null,null,null,null,null,null,null,null,{"$f":"IF(E3251<>\"\",ROUND((VLOOKUP(E3251,Param!$A$7:$E$13,4,0)*Fonct_Empl!F3251*((Fonct_Empl!G3251/12)))+(VLOOKUP(E3251,Param!$A$7:$E$13,5,0)*Fonct_Empl!H3251),2),\"\")","v":""}]
[null,null,null,null,null,null,null,null,{"$f":"IF(E3252<>\"\",ROUND((VLOOKUP(E3252,Param!$A$7:$E$13,4,0)*Fonct_Empl!F3252*((Fonct_Empl!G3252/12)))+(VLOOKUP(E3252,Param!$A$7:$E$13,5,0)*Fonct_Empl!H3252),2),\"\")","v":""}]
[null,null,null,null,null,null,null,null,{"$f":"IF(E3253<>\"\",ROUND((VLOOKUP(E3253,Param!$A$7:$E$13,4,0)*Fonct_Empl!F3253*((Fonct_Empl!G3253/12)))+(VLOOKUP(E3253,Param!$A$7:$E$13,5,0)*Fonct_Empl!H3253),2),\"\")","v":""}]
[null,null,null,null,null,null,null,null,{"$f":"IF(E3254<>\"\",ROUND((VLOOKUP(E3254,Param!$A$7:$E$13,4,0)*Fonct_Empl!F3254*((Fonct_Empl!G3254/12)))+(VLOOKUP(E3254,Param!$A$7:$E$13,5,0)*Fonct_Empl!H3254),2),\"\")","v":""}]
[null,null,null,null,null,null,null,null,{"$f":"IF(E3255<>\"\",ROUND((VLOOKUP(E3255,Param!$A$7:$E$13,4,0)*Fonct_Empl!F3255*((Fonct_Empl!G3255/12)))+(VLOOKUP(E3255,Param!$A$7:$E$13,5,0)*Fonct_Empl!H3255),2),\"\")","v":""}]
[null,null,null,null,null,null,null,null,{"$f":"IF(E3256<>\"\",ROUND((VLOOKUP(E3256,Param!$A$7:$E$13,4,0)*Fonct_Empl!F3256*((Fonct_Empl!G3256/12)))+(VLOOKUP(E3256,Param!$A$7:$E$13,5,0)*Fonct_Empl!H3256),2),\"\")","v":""}]
[null,null,null,null,null,null,null,null,{"$f":"IF(E3257<>\"\",ROUND((VLOOKUP(E3257,Param!$A$7:$E$13,4,0)*Fonct_Empl!F3257*((Fonct_Empl!G3257/12)))+(VLOOKUP(E3257,Param!$A$7:$E$13,5,0)*Fonct_Empl!H3257),2),\"\")","v":""}]
[null,null,null,null,null,null,null,null,{"$f":"IF(E3258<>\"\",ROUND((VLOOKUP(E3258,Param!$A$7:$E$13,4,0)*Fonct_Empl!F3258*((Fonct_Empl!G3258/12)))+(VLOOKUP(E3258,Param!$A$7:$E$13,5,0)*Fonct_Empl!H3258),2),\"\")","v":""}]
[null,null,null,null,null,null,null,null,{"$f":"IF(E3259<>\"\",ROUND((VLOOKUP(E3259,Param!$A$7:$E$13,4,0)*Fonct_Empl!F3259*((Fonct_Empl!G3259/12)))+(VLOOKUP(E3259,Param!$A$7:$E$13,5,0)*Fonct_Empl!H3259),2),\"\")","v":""}]
[null,null,null,null,null,null,null,null,{"$f":"IF(E3260<>\"\",ROUND((VLOOKUP(E3260,Param!$A$7:$E$13,4,0)*Fonct_Empl!F3260*((Fonct_Empl!G3260/12)))+(VLOOKUP(E3260,Param!$A$7:$E$13,5,0)*Fonct_Empl!H3260),2),\"\")","v":""}]
[null,null,null,null,null,null,null,null,{"$f":"IF(E3261<>\"\",ROUND((VLOOKUP(E3261,Param!$A$7:$E$13,4,0)*Fonct_Empl!F3261*((Fonct_Empl!G3261/12)))+(VLOOKUP(E3261,Param!$A$7:$E$13,5,0)*Fonct_Empl!H3261),2),\"\")","v":""}]
[null,null,null,null,null,null,null,null,{"$f":"IF(E3262<>\"\",ROUND((VLOOKUP(E3262,Param!$A$7:$E$13,4,0)*Fonct_Empl!F3262*((Fonct_Empl!G3262/12)))+(VLOOKUP(E3262,Param!$A$7:$E$13,5,0)*Fonct_Empl!H3262),2),\"\")","v":""}]
[null,null,null,null,null,null,null,null,{"$f":"IF(E3263<>\"\",ROUND((VLOOKUP(E3263,Param!$A$7:$E$13,4,0)*Fonct_Empl!F3263*((Fonct_Empl!G3263/12)))+(VLOOKUP(E3263,Param!$A$7:$E$13,5,0)*Fonct_Empl!H3263),2),\"\")","v":""}]
[null,null,null,null,null,null,null,null,{"$f":"IF(E3264<>\"\",ROUND((VLOOKUP(E3264,Param!$A$7:$E$13,4,0)*Fonct_Empl!F3264*((Fonct_Empl!G3264/12)))+(VLOOKUP(E3264,Param!$A$7:$E$13,5,0)*Fonct_Empl!H3264),2),\"\")","v":""}]
[null,null,null,null,null,null,null,null,{"$f":"IF(E3265<>\"\",ROUND((VLOOKUP(E3265,Param!$A$7:$E$13,4,0)*Fonct_Empl!F3265*((Fonct_Empl!G3265/12)))+(VLOOKUP(E3265,Param!$A$7:$E$13,5,0)*Fonct_Empl!H3265),2),\"\")","v":""}]
[null,null,null,null,null,null,null,null,{"$f":"IF(E3266<>\"\",ROUND((VLOOKUP(E3266,Param!$A$7:$E$13,4,0)*Fonct_Empl!F3266*((Fonct_Empl!G3266/12)))+(VLOOKUP(E3266,Param!$A$7:$E$13,5,0)*Fonct_Empl!H3266),2),\"\")","v":""}]
[null,null,null,null,null,null,null,null,{"$f":"IF(E3267<>\"\",ROUND((VLOOKUP(E3267,Param!$A$7:$E$13,4,0)*Fonct_Empl!F3267*((Fonct_Empl!G3267/12)))+(VLOOKUP(E3267,Param!$A$7:$E$13,5,0)*Fonct_Empl!H3267),2),\"\")","v":""}]
[null,null,null,null,null,null,null,null,{"$f":"IF(E3268<>\"\",ROUND((VLOOKUP(E3268,Param!$A$7:$E$13,4,0)*Fonct_Empl!F3268*((Fonct_Empl!G3268/12)))+(VLOOKUP(E3268,Param!$A$7:$E$13,5,0)*Fonct_Empl!H3268),2),\"\")","v":""}]
[null,null,null,null,null,null,null,null,{"$f":"IF(E3269<>\"\",ROUND((VLOOKUP(E3269,Param!$A$7:$E$13,4,0)*Fonct_Empl!F3269*((Fonct_Empl!G3269/12)))+(VLOOKUP(E3269,Param!$A$7:$E$13,5,0)*Fonct_Empl!H3269),2),\"\")","v":""}]
[null,null,null,null,null,null,null,null,{"$f":"IF(E3270<>\"\",ROUND((VLOOKUP(E3270,Param!$A$7:$E$13,4,0)*Fonct_Empl!F3270*((Fonct_Empl!G3270/12)))+(VLOOKUP(E3270,Param!$A$7:$E$13,5,0)*Fonct_Empl!H3270),2),\"\")","v":""}]
[null,null,null,null,null,null,null,null,{"$f":"IF(E3271<>\"\",ROUND((VLOOKUP(E3271,Param!$A$7:$E$13,4,0)*Fonct_Empl!F3271*((Fonct_Empl!G3271/12)))+(VLOOKUP(E3271,Param!$A$7:$E$13,5,0)*Fonct_Empl!H3271),2),\"\")","v":""}]
[null,null,null,null,null,null,null,null,{"$f":"IF(E3272<>\"\",ROUND((VLOOKUP(E3272,Param!$A$7:$E$13,4,0)*Fonct_Empl!F3272*((Fonct_Empl!G3272/12)))+(VLOOKUP(E3272,Param!$A$7:$E$13,5,0)*Fonct_Empl!H3272),2),\"\")","v":""}]
[null,null,null,null,null,null,null,null,{"$f":"IF(E3273<>\"\",ROUND((VLOOKUP(E3273,Param!$A$7:$E$13,4,0)*Fonct_Empl!F3273*((Fonct_Empl!G3273/12)))+(VLOOKUP(E3273,Param!$A$7:$E$13,5,0)*Fonct_Empl!H3273),2),\"\")","v":""}]
[null,null,null,null,null,null,null,null,{"$f":"IF(E3274<>\"\",ROUND((VLOOKUP(E3274,Param!$A$7:$E$13,4,0)*Fonct_Empl!F3274*((Fonct_Empl!G3274/12)))+(VLOOKUP(E3274,Param!$A$7:$E$13,5,0)*Fonct_Empl!H3274),2),\"\")","v":""}]
[null,null,null,null,null,null,null,null,{"$f":"IF(E3275<>\"\",ROUND((VLOOKUP(E3275,Param!$A$7:$E$13,4,0)*Fonct_Empl!F3275*((Fonct_Empl!G3275/12)))+(VLOOKUP(E3275,Param!$A$7:$E$13,5,0)*Fonct_Empl!H3275),2),\"\")","v":""}]
[null,null,null,null,null,null,null,null,{"$f":"IF(E3276<>\"\",ROUND((VLOOKUP(E3276,Param!$A$7:$E$13,4,0)*Fonct_Empl!F3276*((Fonct_Empl!G3276/12)))+(VLOOKUP(E3276,Param!$A$7:$E$13,5,0)*Fonct_Empl!H3276),2),\"\")","v":""}]
[null,null,null,null,null,null,null,null,{"$f":"IF(E3277<>\"\",ROUND((VLOOKUP(E3277,Param!$A$7:$E$13,4,0)*Fonct_Empl!F3277*((Fonct_Empl!G3277/12)))+(VLOOKUP(E3277,Param!$A$7:$E$13,5,0)*Fonct_Empl!H3277),2),\"\")","v":""}]
[null,null,null,null,null,null,null,null,{"$f":"IF(E3278<>\"\",ROUND((VLOOKUP(E3278,Param!$A$7:$E$13,4,0)*Fonct_Empl!F3278*((Fonct_Empl!G3278/12)))+(VLOOKUP(E3278,Param!$A$7:$E$13,5,0)*Fonct_Empl!H3278),2),\"\")","v":""}]
[null,null,null,null,null,null,null,null,{"$f":"IF(E3279<>\"\",ROUND((VLOOKUP(E3279,Param!$A$7:$E$13,4,0)*Fonct_Empl!F3279*((Fonct_Empl!G3279/12)))+(VLOOKUP(E3279,Param!$A$7:$E$13,5,0)*Fonct_Empl!H3279),2),\"\")","v":""}]
[null,null,null,null,null,null,null,null,{"$f":"IF(E3280<>\"\",ROUND((VLOOKUP(E3280,Param!$A$7:$E$13,4,0)*Fonct_Empl!F3280*((Fonct_Empl!G3280/12)))+(VLOOKUP(E3280,Param!$A$7:$E$13,5,0)*Fonct_Empl!H3280),2),\"\")","v":""}]
[null,null,null,null,null,null,null,null,{"$f":"IF(E3281<>\"\",ROUND((VLOOKUP(E3281,Param!$A$7:$E$13,4,0)*Fonct_Empl!F3281*((Fonct_Empl!G3281/12)))+(VLOOKUP(E3281,Param!$A$7:$E$13,5,0)*Fonct_Empl!H3281),2),\"\")","v":""}]
[null,null,null,null,null,null,null,null,{"$f":"IF(E3282<>\"\",ROUND((VLOOKUP(E3282,Param!$A$7:$E$13,4,0)*Fonct_Empl!F3282*((Fonct_Empl!G3282/12)))+(VLOOKUP(E3282,Param!$A$7:$E$13,5,0)*Fonct_Empl!H3282),2),\"\")","v":""}]
[null,null,null,null,null,null,null,null,{"$f":"IF(E3283<>\"\",ROUND((VLOOKUP(E3283,Param!$A$7:$E$13,4,0)*Fonct_Empl!F3283*((Fonct_Empl!G3283/12)))+(VLOOKUP(E3283,Param!$A$7:$E$13,5,0)*Fonct_Empl!H3283),2),\"\")","v":""}]
[null,null,null,null,null,null,null,null,{"$f":"IF(E3284<>\"\",ROUND((VLOOKUP(E3284,Param!$A$7:$E$13,4,0)*Fonct_Empl!F3284*((Fonct_Empl!G3284/12)))+(VLOOKUP(E3284,Param!$A$7:$E$13,5,0)*Fonct_Empl!H3284),2),\"\")","v":""}]
[null,null,null,null,null,null,null,null,{"$f":"IF(E3285<>\"\",ROUND((VLOOKUP(E3285,Param!$A$7:$E$13,4,0)*Fonct_Empl!F3285*((Fonct_Empl!G3285/12)))+(VLOOKUP(E3285,Param!$A$7:$E$13,5,0)*Fonct_Empl!H3285),2),\"\")","v":""}]
[null,null,null,null,null,null,null,null,{"$f":"IF(E3286<>\"\",ROUND((VLOOKUP(E3286,Param!$A$7:$E$13,4,0)*Fonct_Empl!F3286*((Fonct_Empl!G3286/12)))+(VLOOKUP(E3286,Param!$A$7:$E$13,5,0)*Fonct_Empl!H3286),2),\"\")","v":""}]
[null,null,null,null,null,null,null,null,{"$f":"IF(E3287<>\"\",ROUND((VLOOKUP(E3287,Param!$A$7:$E$13,4,0)*Fonct_Empl!F3287*((Fonct_Empl!G3287/12)))+(VLOOKUP(E3287,Param!$A$7:$E$13,5,0)*Fonct_Empl!H3287),2),\"\")","v":""}]
[null,null,null,null,null,null,null,null,{"$f":"IF(E3288<>\"\",ROUND((VLOOKUP(E3288,Param!$A$7:$E$13,4,0)*Fonct_Empl!F3288*((Fonct_Empl!G3288/12)))+(VLOOKUP(E3288,Param!$A$7:$E$13,5,0)*Fonct_Empl!H3288),2),\"\")","v":""}]
[null,null,null,null,null,null,null,null,{"$f":"IF(E3289<>\"\",ROUND((VLOOKUP(E3289,Param!$A$7:$E$13,4,0)*Fonct_Empl!F3289*((Fonct_Empl!G3289/12)))+(VLOOKUP(E3289,Param!$A$7:$E$13,5,0)*Fonct_Empl!H3289),2),\"\")","v":""}]
[null,null,null,null,null,null,null,null,{"$f":"IF(E3290<>\"\",ROUND((VLOOKUP(E3290,Param!$A$7:$E$13,4,0)*Fonct_Empl!F3290*((Fonct_Empl!G3290/12)))+(VLOOKUP(E3290,Param!$A$7:$E$13,5,0)*Fonct_Empl!H3290),2),\"\")","v":""}]
[null,null,null,null,null,null,null,null,{"$f":"IF(E3291<>\"\",ROUND((VLOOKUP(E3291,Param!$A$7:$E$13,4,0)*Fonct_Empl!F3291*((Fonct_Empl!G3291/12)))+(VLOOKUP(E3291,Param!$A$7:$E$13,5,0)*Fonct_Empl!H3291),2),\"\")","v":""}]
[null,null,null,null,null,null,null,null,{"$f":"IF(E3292<>\"\",ROUND((VLOOKUP(E3292,Param!$A$7:$E$13,4,0)*Fonct_Empl!F3292*((Fonct_Empl!G3292/12)))+(VLOOKUP(E3292,Param!$A$7:$E$13,5,0)*Fonct_Empl!H3292),2),\"\")","v":""}]
[null,null,null,null,null,null,null,null,{"$f":"IF(E3293<>\"\",ROUND((VLOOKUP(E3293,Param!$A$7:$E$13,4,0)*Fonct_Empl!F3293*((Fonct_Empl!G3293/12)))+(VLOOKUP(E3293,Param!$A$7:$E$13,5,0)*Fonct_Empl!H3293),2),\"\")","v":""}]
[null,null,null,null,null,null,null,null,{"$f":"IF(E3294<>\"\",ROUND((VLOOKUP(E3294,Param!$A$7:$E$13,4,0)*Fonct_Empl!F3294*((Fonct_Empl!G3294/12)))+(VLOOKUP(E3294,Param!$A$7:$E$13,5,0)*Fonct_Empl!H3294),2),\"\")","v":""}]
[null,null,null,null,null,null,null,null,{"$f":"IF(E3295<>\"\",ROUND((VLOOKUP(E3295,Param!$A$7:$E$13,4,0)*Fonct_Empl!F3295*((Fonct_Empl!G3295/12)))+(VLOOKUP(E3295,Param!$A$7:$E$13,5,0)*Fonct_Empl!H3295),2),\"\")","v":""}]
[null,null,null,null,null,null,null,null,{"$f":"IF(E3296<>\"\",ROUND((VLOOKUP(E3296,Param!$A$7:$E$13,4,0)*Fonct_Empl!F3296*((Fonct_Empl!G3296/12)))+(VLOOKUP(E3296,Param!$A$7:$E$13,5,0)*Fonct_Empl!H3296),2),\"\")","v":""}]
[null,null,null,null,null,null,null,null,{"$f":"IF(E3297<>\"\",ROUND((VLOOKUP(E3297,Param!$A$7:$E$13,4,0)*Fonct_Empl!F3297*((Fonct_Empl!G3297/12)))+(VLOOKUP(E3297,Param!$A$7:$E$13,5,0)*Fonct_Empl!H3297),2),\"\")","v":""}]
[null,null,null,null,null,null,null,null,{"$f":"IF(E3298<>\"\",ROUND((VLOOKUP(E3298,Param!$A$7:$E$13,4,0)*Fonct_Empl!F3298*((Fonct_Empl!G3298/12)))+(VLOOKUP(E3298,Param!$A$7:$E$13,5,0)*Fonct_Empl!H3298),2),\"\")","v":""}]
[null,null,null,null,null,null,null,null,{"$f":"IF(E3299<>\"\",ROUND((VLOOKUP(E3299,Param!$A$7:$E$13,4,0)*Fonct_Empl!F3299*((Fonct_Empl!G3299/12)))+(VLOOKUP(E3299,Param!$A$7:$E$13,5,0)*Fonct_Empl!H3299),2),\"\")","v":""}]
[null,null,null,null,null,null,null,null,{"$f":"IF(E3300<>\"\",ROUND((VLOOKUP(E3300,Param!$A$7:$E$13,4,0)*Fonct_Empl!F3300*((Fonct_Empl!G3300/12)))+(VLOOKUP(E3300,Param!$A$7:$E$13,5,0)*Fonct_Empl!H3300),2),\"\")","v":""}]
[null,null,null,null,null,null,null,null,{"$f":"IF(E3301<>\"\",ROUND((VLOOKUP(E3301,Param!$A$7:$E$13,4,0)*Fonct_Empl!F3301*((Fonct_Empl!G3301/12)))+(VLOOKUP(E3301,Param!$A$7:$E$13,5,0)*Fonct_Empl!H3301),2),\"\")","v":""}]
[null,null,null,null,null,null,null,null,{"$f":"IF(E3302<>\"\",ROUND((VLOOKUP(E3302,Param!$A$7:$E$13,4,0)*Fonct_Empl!F3302*((Fonct_Empl!G3302/12)))+(VLOOKUP(E3302,Param!$A$7:$E$13,5,0)*Fonct_Empl!H3302),2),\"\")","v":""}]
[null,null,null,null,null,null,null,null,{"$f":"IF(E3303<>\"\",ROUND((VLOOKUP(E3303,Param!$A$7:$E$13,4,0)*Fonct_Empl!F3303*((Fonct_Empl!G3303/12)))+(VLOOKUP(E3303,Param!$A$7:$E$13,5,0)*Fonct_Empl!H3303),2),\"\")","v":""}]
[null,null,null,null,null,null,null,null,{"$f":"IF(E3304<>\"\",ROUND((VLOOKUP(E3304,Param!$A$7:$E$13,4,0)*Fonct_Empl!F3304*((Fonct_Empl!G3304/12)))+(VLOOKUP(E3304,Param!$A$7:$E$13,5,0)*Fonct_Empl!H3304),2),\"\")","v":""}]
[null,null,null,null,null,null,null,null,{"$f":"IF(E3305<>\"\",ROUND((VLOOKUP(E3305,Param!$A$7:$E$13,4,0)*Fonct_Empl!F3305*((Fonct_Empl!G3305/12)))+(VLOOKUP(E3305,Param!$A$7:$E$13,5,0)*Fonct_Empl!H3305),2),\"\")","v":""}]
[null,null,null,null,null,null,null,null,{"$f":"IF(E3306<>\"\",ROUND((VLOOKUP(E3306,Param!$A$7:$E$13,4,0)*Fonct_Empl!F3306*((Fonct_Empl!G3306/12)))+(VLOOKUP(E3306,Param!$A$7:$E$13,5,0)*Fonct_Empl!H3306),2),\"\")","v":""}]
[null,null,null,null,null,null,null,null,{"$f":"IF(E3307<>\"\",ROUND((VLOOKUP(E3307,Param!$A$7:$E$13,4,0)*Fonct_Empl!F3307*((Fonct_Empl!G3307/12)))+(VLOOKUP(E3307,Param!$A$7:$E$13,5,0)*Fonct_Empl!H3307),2),\"\")","v":""}]
[null,null,null,null,null,null,null,null,{"$f":"IF(E3308<>\"\",ROUND((VLOOKUP(E3308,Param!$A$7:$E$13,4,0)*Fonct_Empl!F3308*((Fonct_Empl!G3308/12)))+(VLOOKUP(E3308,Param!$A$7:$E$13,5,0)*Fonct_Empl!H3308),2),\"\")","v":""}]
[null,null,null,null,null,null,null,null,{"$f":"IF(E3309<>\"\",ROUND((VLOOKUP(E3309,Param!$A$7:$E$13,4,0)*Fonct_Empl!F3309*((Fonct_Empl!G3309/12)))+(VLOOKUP(E3309,Param!$A$7:$E$13,5,0)*Fonct_Empl!H3309),2),\"\")","v":""}]
[null,null,null,null,null,null,null,null,{"$f":"IF(E3310<>\"\",ROUND((VLOOKUP(E3310,Param!$A$7:$E$13,4,0)*Fonct_Empl!F3310*((Fonct_Empl!G3310/12)))+(VLOOKUP(E3310,Param!$A$7:$E$13,5,0)*Fonct_Empl!H3310),2),\"\")","v":""}]
[null,null,null,null,null,null,null,null,{"$f":"IF(E3311<>\"\",ROUND((VLOOKUP(E3311,Param!$A$7:$E$13,4,0)*Fonct_Empl!F3311*((Fonct_Empl!G3311/12)))+(VLOOKUP(E3311,Param!$A$7:$E$13,5,0)*Fonct_Empl!H3311),2),\"\")","v":""}]
[null,null,null,null,null,null,null,null,{"$f":"IF(E3312<>\"\",ROUND((VLOOKUP(E3312,Param!$A$7:$E$13,4,0)*Fonct_Empl!F3312*((Fonct_Empl!G3312/12)))+(VLOOKUP(E3312,Param!$A$7:$E$13,5,0)*Fonct_Empl!H3312),2),\"\")","v":""}]
[null,null,null,null,null,null,null,null,{"$f":"IF(E3313<>\"\",ROUND((VLOOKUP(E3313,Param!$A$7:$E$13,4,0)*Fonct_Empl!F3313*((Fonct_Empl!G3313/12)))+(VLOOKUP(E3313,Param!$A$7:$E$13,5,0)*Fonct_Empl!H3313),2),\"\")","v":""}]
[null,null,null,null,null,null,null,null,{"$f":"IF(E3314<>\"\",ROUND((VLOOKUP(E3314,Param!$A$7:$E$13,4,0)*Fonct_Empl!F3314*((Fonct_Empl!G3314/12)))+(VLOOKUP(E3314,Param!$A$7:$E$13,5,0)*Fonct_Empl!H3314),2),\"\")","v":""}]
[null,null,null,null,null,null,null,null,{"$f":"IF(E3315<>\"\",ROUND((VLOOKUP(E3315,Param!$A$7:$E$13,4,0)*Fonct_Empl!F3315*((Fonct_Empl!G3315/12)))+(VLOOKUP(E3315,Param!$A$7:$E$13,5,0)*Fonct_Empl!H3315),2),\"\")","v":""}]
[null,null,null,null,null,null,null,null,{"$f":"IF(E3316<>\"\",ROUND((VLOOKUP(E3316,Param!$A$7:$E$13,4,0)*Fonct_Empl!F3316*((Fonct_Empl!G3316/12)))+(VLOOKUP(E3316,Param!$A$7:$E$13,5,0)*Fonct_Empl!H3316),2),\"\")","v":""}]
[null,null,null,null,null,null,null,null,{"$f":"IF(E3317<>\"\",ROUND((VLOOKUP(E3317,Param!$A$7:$E$13,4,0)*Fonct_Empl!F3317*((Fonct_Empl!G3317/12)))+(VLOOKUP(E3317,Param!$A$7:$E$13,5,0)*Fonct_Empl!H3317),2),\"\")","v":""}]
[null,null,null,null,null,null,null,null,{"$f":"IF(E3318<>\"\",ROUND((VLOOKUP(E3318,Param!$A$7:$E$13,4,0)*Fonct_Empl!F3318*((Fonct_Empl!G3318/12)))+(VLOOKUP(E3318,Param!$A$7:$E$13,5,0)*Fonct_Empl!H3318),2),\"\")","v":""}]
[null,null,null,null,null,null,null,null,{"$f":"IF(E3319<>\"\",ROUND((VLOOKUP(E3319,Param!$A$7:$E$13,4,0)*Fonct_Empl!F3319*((Fonct_Empl!G3319/12)))+(VLOOKUP(E3319,Param!$A$7:$E$13,5,0)*Fonct_Empl!H3319),2),\"\")","v":""}]
[null,null,null,null,null,null,null,null,{"$f":"IF(E3320<>\"\",ROUND((VLOOKUP(E3320,Param!$A$7:$E$13,4,0)*Fonct_Empl!F3320*((Fonct_Empl!G3320/12)))+(VLOOKUP(E3320,Param!$A$7:$E$13,5,0)*Fonct_Empl!H3320),2),\"\")","v":""}]
[null,null,null,null,null,null,null,null,{"$f":"IF(E3321<>\"\",ROUND((VLOOKUP(E3321,Param!$A$7:$E$13,4,0)*Fonct_Empl!F3321*((Fonct_Empl!G3321/12)))+(VLOOKUP(E3321,Param!$A$7:$E$13,5,0)*Fonct_Empl!H3321),2),\"\")","v":""}]
[null,null,null,null,null,null,null,null,{"$f":"IF(E3322<>\"\",ROUND((VLOOKUP(E3322,Param!$A$7:$E$13,4,0)*Fonct_Empl!F3322*((Fonct_Empl!G3322/12)))+(VLOOKUP(E3322,Param!$A$7:$E$13,5,0)*Fonct_Empl!H3322),2),\"\")","v":""}]
[null,null,null,null,null,null,null,null,{"$f":"IF(E3323<>\"\",ROUND((VLOOKUP(E3323,Param!$A$7:$E$13,4,0)*Fonct_Empl!F3323*((Fonct_Empl!G3323/12)))+(VLOOKUP(E3323,Param!$A$7:$E$13,5,0)*Fonct_Empl!H3323),2),\"\")","v":""}]
[null,null,null,null,null,null,null,null,{"$f":"IF(E3324<>\"\",ROUND((VLOOKUP(E3324,Param!$A$7:$E$13,4,0)*Fonct_Empl!F3324*((Fonct_Empl!G3324/12)))+(VLOOKUP(E3324,Param!$A$7:$E$13,5,0)*Fonct_Empl!H3324),2),\"\")","v":""}]
[null,null,null,null,null,null,null,null,{"$f":"IF(E3325<>\"\",ROUND((VLOOKUP(E3325,Param!$A$7:$E$13,4,0)*Fonct_Empl!F3325*((Fonct_Empl!G3325/12)))+(VLOOKUP(E3325,Param!$A$7:$E$13,5,0)*Fonct_Empl!H3325),2),\"\")","v":""}]
[null,null,null,null,null,null,null,null,{"$f":"IF(E3326<>\"\",ROUND((VLOOKUP(E3326,Param!$A$7:$E$13,4,0)*Fonct_Empl!F3326*((Fonct_Empl!G3326/12)))+(VLOOKUP(E3326,Param!$A$7:$E$13,5,0)*Fonct_Empl!H3326),2),\"\")","v":""}]
[null,null,null,null,null,null,null,null,{"$f":"IF(E3327<>\"\",ROUND((VLOOKUP(E3327,Param!$A$7:$E$13,4,0)*Fonct_Empl!F3327*((Fonct_Empl!G3327/12)))+(VLOOKUP(E3327,Param!$A$7:$E$13,5,0)*Fonct_Empl!H3327),2),\"\")","v":""}]
[null,null,null,null,null,null,null,null,{"$f":"IF(E3328<>\"\",ROUND((VLOOKUP(E3328,Param!$A$7:$E$13,4,0)*Fonct_Empl!F3328*((Fonct_Empl!G3328/12)))+(VLOOKUP(E3328,Param!$A$7:$E$13,5,0)*Fonct_Empl!H3328),2),\"\")","v":""}]
[null,null,null,null,null,null,null,null,{"$f":"IF(E3329<>\"\",ROUND((VLOOKUP(E3329,Param!$A$7:$E$13,4,0)*Fonct_Empl!F3329*((Fonct_Empl!G3329/12)))+(VLOOKUP(E3329,Param!$A$7:$E$13,5,0)*Fonct_Empl!H3329),2),\"\")","v":""}]
[null,null,null,null,null,null,null,null,{"$f":"IF(E3330<>\"\",ROUND((VLOOKUP(E3330,Param!$A$7:$E$13,4,0)*Fonct_Empl!F3330*((Fonct_Empl!G3330/12)))+(VLOOKUP(E3330,Param!$A$7:$E$13,5,0)*Fonct_Empl!H3330),2),\"\")","v":""}]
[null,null,null,null,null,null,null,null,{"$f":"IF(E3331<>\"\",ROUND((VLOOKUP(E3331,Param!$A$7:$E$13,4,0)*Fonct_Empl!F3331*((Fonct_Empl!G3331/12)))+(VLOOKUP(E3331,Param!$A$7:$E$13,5,0)*Fonct_Empl!H3331),2),\"\")","v":""}]
[null,null,null,null,null,null,null,null,{"$f":"IF(E3332<>\"\",ROUND((VLOOKUP(E3332,Param!$A$7:$E$13,4,0)*Fonct_Empl!F3332*((Fonct_Empl!G3332/12)))+(VLOOKUP(E3332,Param!$A$7:$E$13,5,0)*Fonct_Empl!H3332),2),\"\")","v":""}]
[null,null,null,null,null,null,null,null,{"$f":"IF(E3333<>\"\",ROUND((VLOOKUP(E3333,Param!$A$7:$E$13,4,0)*Fonct_Empl!F3333*((Fonct_Empl!G3333/12)))+(VLOOKUP(E3333,Param!$A$7:$E$13,5,0)*Fonct_Empl!H3333),2),\"\")","v":""}]
[null,null,null,null,null,null,null,null,{"$f":"IF(E3334<>\"\",ROUND((VLOOKUP(E3334,Param!$A$7:$E$13,4,0)*Fonct_Empl!F3334*((Fonct_Empl!G3334/12)))+(VLOOKUP(E3334,Param!$A$7:$E$13,5,0)*Fonct_Empl!H3334),2),\"\")","v":""}]
[null,null,null,null,null,null,null,null,{"$f":"IF(E3335<>\"\",ROUND((VLOOKUP(E3335,Param!$A$7:$E$13,4,0)*Fonct_Empl!F3335*((Fonct_Empl!G3335/12)))+(VLOOKUP(E3335,Param!$A$7:$E$13,5,0)*Fonct_Empl!H3335),2),\"\")","v":""}]
[null,null,null,null,null,null,null,null,{"$f":"IF(E3336<>\"\",ROUND((VLOOKUP(E3336,Param!$A$7:$E$13,4,0)*Fonct_Empl!F3336*((Fonct_Empl!G3336/12)))+(VLOOKUP(E3336,Param!$A$7:$E$13,5,0)*Fonct_Empl!H3336),2),\"\")","v":""}]
[null,null,null,null,null,null,null,null,{"$f":"IF(E3337<>\"\",ROUND((VLOOKUP(E3337,Param!$A$7:$E$13,4,0)*Fonct_Empl!F3337*((Fonct_Empl!G3337/12)))+(VLOOKUP(E3337,Param!$A$7:$E$13,5,0)*Fonct_Empl!H3337),2),\"\")","v":""}]
[null,null,null,null,null,null,null,null,{"$f":"IF(E3338<>\"\",ROUND((VLOOKUP(E3338,Param!$A$7:$E$13,4,0)*Fonct_Empl!F3338*((Fonct_Empl!G3338/12)))+(VLOOKUP(E3338,Param!$A$7:$E$13,5,0)*Fonct_Empl!H3338),2),\"\")","v":""}]
[null,null,null,null,null,null,null,null,{"$f":"IF(E3339<>\"\",ROUND((VLOOKUP(E3339,Param!$A$7:$E$13,4,0)*Fonct_Empl!F3339*((Fonct_Empl!G3339/12)))+(VLOOKUP(E3339,Param!$A$7:$E$13,5,0)*Fonct_Empl!H3339),2),\"\")","v":""}]
[null,null,null,null,null,null,null,null,{"$f":"IF(E3340<>\"\",ROUND((VLOOKUP(E3340,Param!$A$7:$E$13,4,0)*Fonct_Empl!F3340*((Fonct_Empl!G3340/12)))+(VLOOKUP(E3340,Param!$A$7:$E$13,5,0)*Fonct_Empl!H3340),2),\"\")","v":""}]
[null,null,null,null,null,null,null,null,{"$f":"IF(E3341<>\"\",ROUND((VLOOKUP(E3341,Param!$A$7:$E$13,4,0)*Fonct_Empl!F3341*((Fonct_Empl!G3341/12)))+(VLOOKUP(E3341,Param!$A$7:$E$13,5,0)*Fonct_Empl!H3341),2),\"\")","v":""}]
[null,null,null,null,null,null,null,null,{"$f":"IF(E3342<>\"\",ROUND((VLOOKUP(E3342,Param!$A$7:$E$13,4,0)*Fonct_Empl!F3342*((Fonct_Empl!G3342/12)))+(VLOOKUP(E3342,Param!$A$7:$E$13,5,0)*Fonct_Empl!H3342),2),\"\")","v":""}]
[null,null,null,null,null,null,null,null,{"$f":"IF(E3343<>\"\",ROUND((VLOOKUP(E3343,Param!$A$7:$E$13,4,0)*Fonct_Empl!F3343*((Fonct_Empl!G3343/12)))+(VLOOKUP(E3343,Param!$A$7:$E$13,5,0)*Fonct_Empl!H3343),2),\"\")","v":""}]
[null,null,null,null,null,null,null,null,{"$f":"IF(E3344<>\"\",ROUND((VLOOKUP(E3344,Param!$A$7:$E$13,4,0)*Fonct_Empl!F3344*((Fonct_Empl!G3344/12)))+(VLOOKUP(E3344,Param!$A$7:$E$13,5,0)*Fonct_Empl!H3344),2),\"\")","v":""}]
[null,null,null,null,null,null,null,null,{"$f":"IF(E3345<>\"\",ROUND((VLOOKUP(E3345,Param!$A$7:$E$13,4,0)*Fonct_Empl!F3345*((Fonct_Empl!G3345/12)))+(VLOOKUP(E3345,Param!$A$7:$E$13,5,0)*Fonct_Empl!H3345),2),\"\")","v":""}]
[null,null,null,null,null,null,null,null,{"$f":"IF(E3346<>\"\",ROUND((VLOOKUP(E3346,Param!$A$7:$E$13,4,0)*Fonct_Empl!F3346*((Fonct_Empl!G3346/12)))+(VLOOKUP(E3346,Param!$A$7:$E$13,5,0)*Fonct_Empl!H3346),2),\"\")","v":""}]
[null,null,null,null,null,null,null,null,{"$f":"IF(E3347<>\"\",ROUND((VLOOKUP(E3347,Param!$A$7:$E$13,4,0)*Fonct_Empl!F3347*((Fonct_Empl!G3347/12)))+(VLOOKUP(E3347,Param!$A$7:$E$13,5,0)*Fonct_Empl!H3347),2),\"\")","v":""}]
[null,null,null,null,null,null,null,null,{"$f":"IF(E3348<>\"\",ROUND((VLOOKUP(E3348,Param!$A$7:$E$13,4,0)*Fonct_Empl!F3348*((Fonct_Empl!G3348/12)))+(VLOOKUP(E3348,Param!$A$7:$E$13,5,0)*Fonct_Empl!H3348),2),\"\")","v":""}]
[null,null,null,null,null,null,null,null,{"$f":"IF(E3349<>\"\",ROUND((VLOOKUP(E3349,Param!$A$7:$E$13,4,0)*Fonct_Empl!F3349*((Fonct_Empl!G3349/12)))+(VLOOKUP(E3349,Param!$A$7:$E$13,5,0)*Fonct_Empl!H3349),2),\"\")","v":""}]
[null,null,null,null,null,null,null,null,{"$f":"IF(E3350<>\"\",ROUND((VLOOKUP(E3350,Param!$A$7:$E$13,4,0)*Fonct_Empl!F3350*((Fonct_Empl!G3350/12)))+(VLOOKUP(E3350,Param!$A$7:$E$13,5,0)*Fonct_Empl!H3350),2),\"\")","v":""}]
[null,null,null,null,null,null,null,null,{"$f":"IF(E3351<>\"\",ROUND((VLOOKUP(E3351,Param!$A$7:$E$13,4,0)*Fonct_Empl!F3351*((Fonct_Empl!G3351/12)))+(VLOOKUP(E3351,Param!$A$7:$E$13,5,0)*Fonct_Empl!H3351),2),\"\")","v":""}]
[null,null,null,null,null,null,null,null,{"$f":"IF(E3352<>\"\",ROUND((VLOOKUP(E3352,Param!$A$7:$E$13,4,0)*Fonct_Empl!F3352*((Fonct_Empl!G3352/12)))+(VLOOKUP(E3352,Param!$A$7:$E$13,5,0)*Fonct_Empl!H3352),2),\"\")","v":""}]
[null,null,null,null,null,null,null,null,{"$f":"IF(E3353<>\"\",ROUND((VLOOKUP(E3353,Param!$A$7:$E$13,4,0)*Fonct_Empl!F3353*((Fonct_Empl!G3353/12)))+(VLOOKUP(E3353,Param!$A$7:$E$13,5,0)*Fonct_Empl!H3353),2),\"\")","v":""}]
[null,null,null,null,null,null,null,null,{"$f":"IF(E3354<>\"\",ROUND((VLOOKUP(E3354,Param!$A$7:$E$13,4,0)*Fonct_Empl!F3354*((Fonct_Empl!G3354/12)))+(VLOOKUP(E3354,Param!$A$7:$E$13,5,0)*Fonct_Empl!H3354),2),\"\")","v":""}]
[null,null,null,null,null,null,null,null,{"$f":"IF(E3355<>\"\",ROUND((VLOOKUP(E3355,Param!$A$7:$E$13,4,0)*Fonct_Empl!F3355*((Fonct_Empl!G3355/12)))+(VLOOKUP(E3355,Param!$A$7:$E$13,5,0)*Fonct_Empl!H3355),2),\"\")","v":""}]
[null,null,null,null,null,null,null,null,{"$f":"IF(E3356<>\"\",ROUND((VLOOKUP(E3356,Param!$A$7:$E$13,4,0)*Fonct_Empl!F3356*((Fonct_Empl!G3356/12)))+(VLOOKUP(E3356,Param!$A$7:$E$13,5,0)*Fonct_Empl!H3356),2),\"\")","v":""}]
[null,null,null,null,null,null,null,null,{"$f":"IF(E3357<>\"\",ROUND((VLOOKUP(E3357,Param!$A$7:$E$13,4,0)*Fonct_Empl!F3357*((Fonct_Empl!G3357/12)))+(VLOOKUP(E3357,Param!$A$7:$E$13,5,0)*Fonct_Empl!H3357),2),\"\")","v":""}]
[null,null,null,null,null,null,null,null,{"$f":"IF(E3358<>\"\",ROUND((VLOOKUP(E3358,Param!$A$7:$E$13,4,0)*Fonct_Empl!F3358*((Fonct_Empl!G3358/12)))+(VLOOKUP(E3358,Param!$A$7:$E$13,5,0)*Fonct_Empl!H3358),2),\"\")","v":""}]
[null,null,null,null,null,null,null,null,{"$f":"IF(E3359<>\"\",ROUND((VLOOKUP(E3359,Param!$A$7:$E$13,4,0)*Fonct_Empl!F3359*((Fonct_Empl!G3359/12)))+(VLOOKUP(E3359,Param!$A$7:$E$13,5,0)*Fonct_Empl!H3359),2),\"\")","v":""}]
[null,null,null,null,null,null,null,null,{"$f":"IF(E3360<>\"\",ROUND((VLOOKUP(E3360,Param!$A$7:$E$13,4,0)*Fonct_Empl!F3360*((Fonct_Empl!G3360/12)))+(VLOOKUP(E3360,Param!$A$7:$E$13,5,0)*Fonct_Empl!H3360),2),\"\")","v":""}]
[null,null,null,null,null,null,null,null,{"$f":"IF(E3361<>\"\",ROUND((VLOOKUP(E3361,Param!$A$7:$E$13,4,0)*Fonct_Empl!F3361*((Fonct_Empl!G3361/12)))+(VLOOKUP(E3361,Param!$A$7:$E$13,5,0)*Fonct_Empl!H3361),2),\"\")","v":""}]
[null,null,null,null,null,null,null,null,{"$f":"IF(E3362<>\"\",ROUND((VLOOKUP(E3362,Param!$A$7:$E$13,4,0)*Fonct_Empl!F3362*((Fonct_Empl!G3362/12)))+(VLOOKUP(E3362,Param!$A$7:$E$13,5,0)*Fonct_Empl!H3362),2),\"\")","v":""}]
[null,null,null,null,null,null,null,null,{"$f":"IF(E3363<>\"\",ROUND((VLOOKUP(E3363,Param!$A$7:$E$13,4,0)*Fonct_Empl!F3363*((Fonct_Empl!G3363/12)))+(VLOOKUP(E3363,Param!$A$7:$E$13,5,0)*Fonct_Empl!H3363),2),\"\")","v":""}]
[null,null,null,null,null,null,null,null,{"$f":"IF(E3364<>\"\",ROUND((VLOOKUP(E3364,Param!$A$7:$E$13,4,0)*Fonct_Empl!F3364*((Fonct_Empl!G3364/12)))+(VLOOKUP(E3364,Param!$A$7:$E$13,5,0)*Fonct_Empl!H3364),2),\"\")","v":""}]
[null,null,null,null,null,null,null,null,{"$f":"IF(E3365<>\"\",ROUND((VLOOKUP(E3365,Param!$A$7:$E$13,4,0)*Fonct_Empl!F3365*((Fonct_Empl!G3365/12)))+(VLOOKUP(E3365,Param!$A$7:$E$13,5,0)*Fonct_Empl!H3365),2),\"\")","v":""}]
[null,null,null,null,null,null,null,null,{"$f":"IF(E3366<>\"\",ROUND((VLOOKUP(E3366,Param!$A$7:$E$13,4,0)*Fonct_Empl!F3366*((Fonct_Empl!G3366/12)))+(VLOOKUP(E3366,Param!$A$7:$E$13,5,0)*Fonct_Empl!H3366),2),\"\")","v":""}]
[null,null,null,null,null,null,null,null,{"$f":"IF(E3367<>\"\",ROUND((VLOOKUP(E3367,Param!$A$7:$E$13,4,0)*Fonct_Empl!F3367*((Fonct_Empl!G3367/12)))+(VLOOKUP(E3367,Param!$A$7:$E$13,5,0)*Fonct_Empl!H3367),2),\"\")","v":""}]
[null,null,null,null,null,null,null,null,{"$f":"IF(E3368<>\"\",ROUND((VLOOKUP(E3368,Param!$A$7:$E$13,4,0)*Fonct_Empl!F3368*((Fonct_Empl!G3368/12)))+(VLOOKUP(E3368,Param!$A$7:$E$13,5,0)*Fonct_Empl!H3368),2),\"\")","v":""}]
[null,null,null,null,null,null,null,null,{"$f":"IF(E3369<>\"\",ROUND((VLOOKUP(E3369,Param!$A$7:$E$13,4,0)*Fonct_Empl!F3369*((Fonct_Empl!G3369/12)))+(VLOOKUP(E3369,Param!$A$7:$E$13,5,0)*Fonct_Empl!H3369),2),\"\")","v":""}]
[null,null,null,null,null,null,null,null,{"$f":"IF(E3370<>\"\",ROUND((VLOOKUP(E3370,Param!$A$7:$E$13,4,0)*Fonct_Empl!F3370*((Fonct_Empl!G3370/12)))+(VLOOKUP(E3370,Param!$A$7:$E$13,5,0)*Fonct_Empl!H3370),2),\"\")","v":""}]
[null,null,null,null,null,null,null,null,{"$f":"IF(E3371<>\"\",ROUND((VLOOKUP(E3371,Param!$A$7:$E$13,4,0)*Fonct_Empl!F3371*((Fonct_Empl!G3371/12)))+(VLOOKUP(E3371,Param!$A$7:$E$13,5,0)*Fonct_Empl!H3371),2),\"\")","v":""}]
[null,null,null,null,null,null,null,null,{"$f":"IF(E3372<>\"\",ROUND((VLOOKUP(E3372,Param!$A$7:$E$13,4,0)*Fonct_Empl!F3372*((Fonct_Empl!G3372/12)))+(VLOOKUP(E3372,Param!$A$7:$E$13,5,0)*Fonct_Empl!H3372),2),\"\")","v":""}]
[null,null,null,null,null,null,null,null,{"$f":"IF(E3373<>\"\",ROUND((VLOOKUP(E3373,Param!$A$7:$E$13,4,0)*Fonct_Empl!F3373*((Fonct_Empl!G3373/12)))+(VLOOKUP(E3373,Param!$A$7:$E$13,5,0)*Fonct_Empl!H3373),2),\"\")","v":""}]
[null,null,null,null,null,null,null,null,{"$f":"IF(E3374<>\"\",ROUND((VLOOKUP(E3374,Param!$A$7:$E$13,4,0)*Fonct_Empl!F3374*((Fonct_Empl!G3374/12)))+(VLOOKUP(E3374,Param!$A$7:$E$13,5,0)*Fonct_Empl!H3374),2),\"\")","v":""}]
[null,null,null,null,null,null,null,null,{"$f":"IF(E3375<>\"\",ROUND((VLOOKUP(E3375,Param!$A$7:$E$13,4,0)*Fonct_Empl!F3375*((Fonct_Empl!G3375/12)))+(VLOOKUP(E3375,Param!$A$7:$E$13,5,0)*Fonct_Empl!H3375),2),\"\")","v":""}]
[null,null,null,null,null,null,null,null,{"$f":"IF(E3376<>\"\",ROUND((VLOOKUP(E3376,Param!$A$7:$E$13,4,0)*Fonct_Empl!F3376*((Fonct_Empl!G3376/12)))+(VLOOKUP(E3376,Param!$A$7:$E$13,5,0)*Fonct_Empl!H3376),2),\"\")","v":""}]
[null,null,null,null,null,null,null,null,{"$f":"IF(E3377<>\"\",ROUND((VLOOKUP(E3377,Param!$A$7:$E$13,4,0)*Fonct_Empl!F3377*((Fonct_Empl!G3377/12)))+(VLOOKUP(E3377,Param!$A$7:$E$13,5,0)*Fonct_Empl!H3377),2),\"\")","v":""}]
[null,null,null,null,null,null,null,null,{"$f":"IF(E3378<>\"\",ROUND((VLOOKUP(E3378,Param!$A$7:$E$13,4,0)*Fonct_Empl!F3378*((Fonct_Empl!G3378/12)))+(VLOOKUP(E3378,Param!$A$7:$E$13,5,0)*Fonct_Empl!H3378),2),\"\")","v":""}]
[null,null,null,null,null,null,null,null,{"$f":"IF(E3379<>\"\",ROUND((VLOOKUP(E3379,Param!$A$7:$E$13,4,0)*Fonct_Empl!F3379*((Fonct_Empl!G3379/12)))+(VLOOKUP(E3379,Param!$A$7:$E$13,5,0)*Fonct_Empl!H3379),2),\"\")","v":""}]
[null,null,null,null,null,null,null,null,{"$f":"IF(E3380<>\"\",ROUND((VLOOKUP(E3380,Param!$A$7:$E$13,4,0)*Fonct_Empl!F3380*((Fonct_Empl!G3380/12)))+(VLOOKUP(E3380,Param!$A$7:$E$13,5,0)*Fonct_Empl!H3380),2),\"\")","v":""}]
[null,null,null,null,null,null,null,null,{"$f":"IF(E3381<>\"\",ROUND((VLOOKUP(E3381,Param!$A$7:$E$13,4,0)*Fonct_Empl!F3381*((Fonct_Empl!G3381/12)))+(VLOOKUP(E3381,Param!$A$7:$E$13,5,0)*Fonct_Empl!H3381),2),\"\")","v":""}]
[null,null,null,null,null,null,null,null,{"$f":"IF(E3382<>\"\",ROUND((VLOOKUP(E3382,Param!$A$7:$E$13,4,0)*Fonct_Empl!F3382*((Fonct_Empl!G3382/12)))+(VLOOKUP(E3382,Param!$A$7:$E$13,5,0)*Fonct_Empl!H3382),2),\"\")","v":""}]
[null,null,null,null,null,null,null,null,{"$f":"IF(E3383<>\"\",ROUND((VLOOKUP(E3383,Param!$A$7:$E$13,4,0)*Fonct_Empl!F3383*((Fonct_Empl!G3383/12)))+(VLOOKUP(E3383,Param!$A$7:$E$13,5,0)*Fonct_Empl!H3383),2),\"\")","v":""}]
[null,null,null,null,null,null,null,null,{"$f":"IF(E3384<>\"\",ROUND((VLOOKUP(E3384,Param!$A$7:$E$13,4,0)*Fonct_Empl!F3384*((Fonct_Empl!G3384/12)))+(VLOOKUP(E3384,Param!$A$7:$E$13,5,0)*Fonct_Empl!H3384),2),\"\")","v":""}]
[null,null,null,null,null,null,null,null,{"$f":"IF(E3385<>\"\",ROUND((VLOOKUP(E3385,Param!$A$7:$E$13,4,0)*Fonct_Empl!F3385*((Fonct_Empl!G3385/12)))+(VLOOKUP(E3385,Param!$A$7:$E$13,5,0)*Fonct_Empl!H3385),2),\"\")","v":""}]
[null,null,null,null,null,null,null,null,{"$f":"IF(E3386<>\"\",ROUND((VLOOKUP(E3386,Param!$A$7:$E$13,4,0)*Fonct_Empl!F3386*((Fonct_Empl!G3386/12)))+(VLOOKUP(E3386,Param!$A$7:$E$13,5,0)*Fonct_Empl!H3386),2),\"\")","v":""}]
[null,null,null,null,null,null,null,null,{"$f":"IF(E3387<>\"\",ROUND((VLOOKUP(E3387,Param!$A$7:$E$13,4,0)*Fonct_Empl!F3387*((Fonct_Empl!G3387/12)))+(VLOOKUP(E3387,Param!$A$7:$E$13,5,0)*Fonct_Empl!H3387),2),\"\")","v":""}]
[null,null,null,null,null,null,null,null,{"$f":"IF(E3388<>\"\",ROUND((VLOOKUP(E3388,Param!$A$7:$E$13,4,0)*Fonct_Empl!F3388*((Fonct_Empl!G3388/12)))+(VLOOKUP(E3388,Param!$A$7:$E$13,5,0)*Fonct_Empl!H3388),2),\"\")","v":""}]
[null,null,null,null,null,null,null,null,{"$f":"IF(E3389<>\"\",ROUND((VLOOKUP(E3389,Param!$A$7:$E$13,4,0)*Fonct_Empl!F3389*((Fonct_Empl!G3389/12)))+(VLOOKUP(E3389,Param!$A$7:$E$13,5,0)*Fonct_Empl!H3389),2),\"\")","v":""}]
[null,null,null,null,null,null,null,null,{"$f":"IF(E3390<>\"\",ROUND((VLOOKUP(E3390,Param!$A$7:$E$13,4,0)*Fonct_Empl!F3390*((Fonct_Empl!G3390/12)))+(VLOOKUP(E3390,Param!$A$7:$E$13,5,0)*Fonct_Empl!H3390),2),\"\")","v":""}]
[null,null,null,null,null,null,null,null,{"$f":"IF(E3391<>\"\",ROUND((VLOOKUP(E3391,Param!$A$7:$E$13,4,0)*Fonct_Empl!F3391*((Fonct_Empl!G3391/12)))+(VLOOKUP(E3391,Param!$A$7:$E$13,5,0)*Fonct_Empl!H3391),2),\"\")","v":""}]
[null,null,null,null,null,null,null,null,{"$f":"IF(E3392<>\"\",ROUND((VLOOKUP(E3392,Param!$A$7:$E$13,4,0)*Fonct_Empl!F3392*((Fonct_Empl!G3392/12)))+(VLOOKUP(E3392,Param!$A$7:$E$13,5,0)*Fonct_Empl!H3392),2),\"\")","v":""}]
[null,null,null,null,null,null,null,null,{"$f":"IF(E3393<>\"\",ROUND((VLOOKUP(E3393,Param!$A$7:$E$13,4,0)*Fonct_Empl!F3393*((Fonct_Empl!G3393/12)))+(VLOOKUP(E3393,Param!$A$7:$E$13,5,0)*Fonct_Empl!H3393),2),\"\")","v":""}]
[null,null,null,null,null,null,null,null,{"$f":"IF(E3394<>\"\",ROUND((VLOOKUP(E3394,Param!$A$7:$E$13,4,0)*Fonct_Empl!F3394*((Fonct_Empl!G3394/12)))+(VLOOKUP(E3394,Param!$A$7:$E$13,5,0)*Fonct_Empl!H3394),2),\"\")","v":""}]
[null,null,null,null,null,null,null,null,{"$f":"IF(E3395<>\"\",ROUND((VLOOKUP(E3395,Param!$A$7:$E$13,4,0)*Fonct_Empl!F3395*((Fonct_Empl!G3395/12)))+(VLOOKUP(E3395,Param!$A$7:$E$13,5,0)*Fonct_Empl!H3395),2),\"\")","v":""}]
[null,null,null,null,null,null,null,null,{"$f":"IF(E3396<>\"\",ROUND((VLOOKUP(E3396,Param!$A$7:$E$13,4,0)*Fonct_Empl!F3396*((Fonct_Empl!G3396/12)))+(VLOOKUP(E3396,Param!$A$7:$E$13,5,0)*Fonct_Empl!H3396),2),\"\")","v":""}]
[null,null,null,null,null,null,null,null,{"$f":"IF(E3397<>\"\",ROUND((VLOOKUP(E3397,Param!$A$7:$E$13,4,0)*Fonct_Empl!F3397*((Fonct_Empl!G3397/12)))+(VLOOKUP(E3397,Param!$A$7:$E$13,5,0)*Fonct_Empl!H3397),2),\"\")","v":""}]
[null,null,null,null,null,null,null,null,{"$f":"IF(E3398<>\"\",ROUND((VLOOKUP(E3398,Param!$A$7:$E$13,4,0)*Fonct_Empl!F3398*((Fonct_Empl!G3398/12)))+(VLOOKUP(E3398,Param!$A$7:$E$13,5,0)*Fonct_Empl!H3398),2),\"\")","v":""}]
[null,null,null,null,null,null,null,null,{"$f":"IF(E3399<>\"\",ROUND((VLOOKUP(E3399,Param!$A$7:$E$13,4,0)*Fonct_Empl!F3399*((Fonct_Empl!G3399/12)))+(VLOOKUP(E3399,Param!$A$7:$E$13,5,0)*Fonct_Empl!H3399),2),\"\")","v":""}]
[null,null,null,null,null,null,null,null,{"$f":"IF(E3400<>\"\",ROUND((VLOOKUP(E3400,Param!$A$7:$E$13,4,0)*Fonct_Empl!F3400*((Fonct_Empl!G3400/12)))+(VLOOKUP(E3400,Param!$A$7:$E$13,5,0)*Fonct_Empl!H3400),2),\"\")","v":""}]
[null,null,null,null,null,null,null,null,{"$f":"IF(E3401<>\"\",ROUND((VLOOKUP(E3401,Param!$A$7:$E$13,4,0)*Fonct_Empl!F3401*((Fonct_Empl!G3401/12)))+(VLOOKUP(E3401,Param!$A$7:$E$13,5,0)*Fonct_Empl!H3401),2),\"\")","v":""}]
[null,null,null,null,null,null,null,null,{"$f":"IF(E3402<>\"\",ROUND((VLOOKUP(E3402,Param!$A$7:$E$13,4,0)*Fonct_Empl!F3402*((Fonct_Empl!G3402/12)))+(VLOOKUP(E3402,Param!$A$7:$E$13,5,0)*Fonct_Empl!H3402),2),\"\")","v":""}]
[null,null,null,null,null,null,null,null,{"$f":"IF(E3403<>\"\",ROUND((VLOOKUP(E3403,Param!$A$7:$E$13,4,0)*Fonct_Empl!F3403*((Fonct_Empl!G3403/12)))+(VLOOKUP(E3403,Param!$A$7:$E$13,5,0)*Fonct_Empl!H3403),2),\"\")","v":""}]
[null,null,null,null,null,null,null,null,{"$f":"IF(E3404<>\"\",ROUND((VLOOKUP(E3404,Param!$A$7:$E$13,4,0)*Fonct_Empl!F3404*((Fonct_Empl!G3404/12)))+(VLOOKUP(E3404,Param!$A$7:$E$13,5,0)*Fonct_Empl!H3404),2),\"\")","v":""}]
[null,null,null,null,null,null,null,null,{"$f":"IF(E3405<>\"\",ROUND((VLOOKUP(E3405,Param!$A$7:$E$13,4,0)*Fonct_Empl!F3405*((Fonct_Empl!G3405/12)))+(VLOOKUP(E3405,Param!$A$7:$E$13,5,0)*Fonct_Empl!H3405),2),\"\")","v":""}]
[null,null,null,null,null,null,null,null,{"$f":"IF(E3406<>\"\",ROUND((VLOOKUP(E3406,Param!$A$7:$E$13,4,0)*Fonct_Empl!F3406*((Fonct_Empl!G3406/12)))+(VLOOKUP(E3406,Param!$A$7:$E$13,5,0)*Fonct_Empl!H3406),2),\"\")","v":""}]
[null,null,null,null,null,null,null,null,{"$f":"IF(E3407<>\"\",ROUND((VLOOKUP(E3407,Param!$A$7:$E$13,4,0)*Fonct_Empl!F3407*((Fonct_Empl!G3407/12)))+(VLOOKUP(E3407,Param!$A$7:$E$13,5,0)*Fonct_Empl!H3407),2),\"\")","v":""}]
[null,null,null,null,null,null,null,null,{"$f":"IF(E3408<>\"\",ROUND((VLOOKUP(E3408,Param!$A$7:$E$13,4,0)*Fonct_Empl!F3408*((Fonct_Empl!G3408/12)))+(VLOOKUP(E3408,Param!$A$7:$E$13,5,0)*Fonct_Empl!H3408),2),\"\")","v":""}]
[null,null,null,null,null,null,null,null,{"$f":"IF(E3409<>\"\",ROUND((VLOOKUP(E3409,Param!$A$7:$E$13,4,0)*Fonct_Empl!F3409*((Fonct_Empl!G3409/12)))+(VLOOKUP(E3409,Param!$A$7:$E$13,5,0)*Fonct_Empl!H3409),2),\"\")","v":""}]
[null,null,null,null,null,null,null,null,{"$f":"IF(E3410<>\"\",ROUND((VLOOKUP(E3410,Param!$A$7:$E$13,4,0)*Fonct_Empl!F3410*((Fonct_Empl!G3410/12)))+(VLOOKUP(E3410,Param!$A$7:$E$13,5,0)*Fonct_Empl!H3410),2),\"\")","v":""}]
[null,null,null,null,null,null,null,null,{"$f":"IF(E3411<>\"\",ROUND((VLOOKUP(E3411,Param!$A$7:$E$13,4,0)*Fonct_Empl!F3411*((Fonct_Empl!G3411/12)))+(VLOOKUP(E3411,Param!$A$7:$E$13,5,0)*Fonct_Empl!H3411),2),\"\")","v":""}]
[null,null,null,null,null,null,null,null,{"$f":"IF(E3412<>\"\",ROUND((VLOOKUP(E3412,Param!$A$7:$E$13,4,0)*Fonct_Empl!F3412*((Fonct_Empl!G3412/12)))+(VLOOKUP(E3412,Param!$A$7:$E$13,5,0)*Fonct_Empl!H3412),2),\"\")","v":""}]
[null,null,null,null,null,null,null,null,{"$f":"IF(E3413<>\"\",ROUND((VLOOKUP(E3413,Param!$A$7:$E$13,4,0)*Fonct_Empl!F3413*((Fonct_Empl!G3413/12)))+(VLOOKUP(E3413,Param!$A$7:$E$13,5,0)*Fonct_Empl!H3413),2),\"\")","v":""}]
[null,null,null,null,null,null,null,null,{"$f":"IF(E3414<>\"\",ROUND((VLOOKUP(E3414,Param!$A$7:$E$13,4,0)*Fonct_Empl!F3414*((Fonct_Empl!G3414/12)))+(VLOOKUP(E3414,Param!$A$7:$E$13,5,0)*Fonct_Empl!H3414),2),\"\")","v":""}]
[null,null,null,null,null,null,null,null,{"$f":"IF(E3415<>\"\",ROUND((VLOOKUP(E3415,Param!$A$7:$E$13,4,0)*Fonct_Empl!F3415*((Fonct_Empl!G3415/12)))+(VLOOKUP(E3415,Param!$A$7:$E$13,5,0)*Fonct_Empl!H3415),2),\"\")","v":""}]
[null,null,null,null,null,null,null,null,{"$f":"IF(E3416<>\"\",ROUND((VLOOKUP(E3416,Param!$A$7:$E$13,4,0)*Fonct_Empl!F3416*((Fonct_Empl!G3416/12)))+(VLOOKUP(E3416,Param!$A$7:$E$13,5,0)*Fonct_Empl!H3416),2),\"\")","v":""}]
[null,null,null,null,null,null,null,null,{"$f":"IF(E3417<>\"\",ROUND((VLOOKUP(E3417,Param!$A$7:$E$13,4,0)*Fonct_Empl!F3417*((Fonct_Empl!G3417/12)))+(VLOOKUP(E3417,Param!$A$7:$E$13,5,0)*Fonct_Empl!H3417),2),\"\")","v":""}]
[null,null,null,null,null,null,null,null,{"$f":"IF(E3418<>\"\",ROUND((VLOOKUP(E3418,Param!$A$7:$E$13,4,0)*Fonct_Empl!F3418*((Fonct_Empl!G3418/12)))+(VLOOKUP(E3418,Param!$A$7:$E$13,5,0)*Fonct_Empl!H3418),2),\"\")","v":""}]
[null,null,null,null,null,null,null,null,{"$f":"IF(E3419<>\"\",ROUND((VLOOKUP(E3419,Param!$A$7:$E$13,4,0)*Fonct_Empl!F3419*((Fonct_Empl!G3419/12)))+(VLOOKUP(E3419,Param!$A$7:$E$13,5,0)*Fonct_Empl!H3419),2),\"\")","v":""}]
[null,null,null,null,null,null,null,null,{"$f":"IF(E3420<>\"\",ROUND((VLOOKUP(E3420,Param!$A$7:$E$13,4,0)*Fonct_Empl!F3420*((Fonct_Empl!G3420/12)))+(VLOOKUP(E3420,Param!$A$7:$E$13,5,0)*Fonct_Empl!H3420),2),\"\")","v":""}]
[null,null,null,null,null,null,null,null,{"$f":"IF(E3421<>\"\",ROUND((VLOOKUP(E3421,Param!$A$7:$E$13,4,0)*Fonct_Empl!F3421*((Fonct_Empl!G3421/12)))+(VLOOKUP(E3421,Param!$A$7:$E$13,5,0)*Fonct_Empl!H3421),2),\"\")","v":""}]
[null,null,null,null,null,null,null,null,{"$f":"IF(E3422<>\"\",ROUND((VLOOKUP(E3422,Param!$A$7:$E$13,4,0)*Fonct_Empl!F3422*((Fonct_Empl!G3422/12)))+(VLOOKUP(E3422,Param!$A$7:$E$13,5,0)*Fonct_Empl!H3422),2),\"\")","v":""}]
[null,null,null,null,null,null,null,null,{"$f":"IF(E3423<>\"\",ROUND((VLOOKUP(E3423,Param!$A$7:$E$13,4,0)*Fonct_Empl!F3423*((Fonct_Empl!G3423/12)))+(VLOOKUP(E3423,Param!$A$7:$E$13,5,0)*Fonct_Empl!H3423),2),\"\")","v":""}]
[null,null,null,null,null,null,null,null,{"$f":"IF(E3424<>\"\",ROUND((VLOOKUP(E3424,Param!$A$7:$E$13,4,0)*Fonct_Empl!F3424*((Fonct_Empl!G3424/12)))+(VLOOKUP(E3424,Param!$A$7:$E$13,5,0)*Fonct_Empl!H3424),2),\"\")","v":""}]
[null,null,null,null,null,null,null,null,{"$f":"IF(E3425<>\"\",ROUND((VLOOKUP(E3425,Param!$A$7:$E$13,4,0)*Fonct_Empl!F3425*((Fonct_Empl!G3425/12)))+(VLOOKUP(E3425,Param!$A$7:$E$13,5,0)*Fonct_Empl!H3425),2),\"\")","v":""}]
[null,null,null,null,null,null,null,null,{"$f":"IF(E3426<>\"\",ROUND((VLOOKUP(E3426,Param!$A$7:$E$13,4,0)*Fonct_Empl!F3426*((Fonct_Empl!G3426/12)))+(VLOOKUP(E3426,Param!$A$7:$E$13,5,0)*Fonct_Empl!H3426),2),\"\")","v":""}]
[null,null,null,null,null,null,null,null,{"$f":"IF(E3427<>\"\",ROUND((VLOOKUP(E3427,Param!$A$7:$E$13,4,0)*Fonct_Empl!F3427*((Fonct_Empl!G3427/12)))+(VLOOKUP(E3427,Param!$A$7:$E$13,5,0)*Fonct_Empl!H3427),2),\"\")","v":""}]
[null,null,null,null,null,null,null,null,{"$f":"IF(E3428<>\"\",ROUND((VLOOKUP(E3428,Param!$A$7:$E$13,4,0)*Fonct_Empl!F3428*((Fonct_Empl!G3428/12)))+(VLOOKUP(E3428,Param!$A$7:$E$13,5,0)*Fonct_Empl!H3428),2),\"\")","v":""}]
[null,null,null,null,null,null,null,null,{"$f":"IF(E3429<>\"\",ROUND((VLOOKUP(E3429,Param!$A$7:$E$13,4,0)*Fonct_Empl!F3429*((Fonct_Empl!G3429/12)))+(VLOOKUP(E3429,Param!$A$7:$E$13,5,0)*Fonct_Empl!H3429),2),\"\")","v":""}]
[null,null,null,null,null,null,null,null,{"$f":"IF(E3430<>\"\",ROUND((VLOOKUP(E3430,Param!$A$7:$E$13,4,0)*Fonct_Empl!F3430*((Fonct_Empl!G3430/12)))+(VLOOKUP(E3430,Param!$A$7:$E$13,5,0)*Fonct_Empl!H3430),2),\"\")","v":""}]
[null,null,null,null,null,null,null,null,{"$f":"IF(E3431<>\"\",ROUND((VLOOKUP(E3431,Param!$A$7:$E$13,4,0)*Fonct_Empl!F3431*((Fonct_Empl!G3431/12)))+(VLOOKUP(E3431,Param!$A$7:$E$13,5,0)*Fonct_Empl!H3431),2),\"\")","v":""}]
[null,null,null,null,null,null,null,null,{"$f":"IF(E3432<>\"\",ROUND((VLOOKUP(E3432,Param!$A$7:$E$13,4,0)*Fonct_Empl!F3432*((Fonct_Empl!G3432/12)))+(VLOOKUP(E3432,Param!$A$7:$E$13,5,0)*Fonct_Empl!H3432),2),\"\")","v":""}]
[null,null,null,null,null,null,null,null,{"$f":"IF(E3433<>\"\",ROUND((VLOOKUP(E3433,Param!$A$7:$E$13,4,0)*Fonct_Empl!F3433*((Fonct_Empl!G3433/12)))+(VLOOKUP(E3433,Param!$A$7:$E$13,5,0)*Fonct_Empl!H3433),2),\"\")","v":""}]
[null,null,null,null,null,null,null,null,{"$f":"IF(E3434<>\"\",ROUND((VLOOKUP(E3434,Param!$A$7:$E$13,4,0)*Fonct_Empl!F3434*((Fonct_Empl!G3434/12)))+(VLOOKUP(E3434,Param!$A$7:$E$13,5,0)*Fonct_Empl!H3434),2),\"\")","v":""}]
[null,null,null,null,null,null,null,null,{"$f":"IF(E3435<>\"\",ROUND((VLOOKUP(E3435,Param!$A$7:$E$13,4,0)*Fonct_Empl!F3435*((Fonct_Empl!G3435/12)))+(VLOOKUP(E3435,Param!$A$7:$E$13,5,0)*Fonct_Empl!H3435),2),\"\")","v":""}]
[null,null,null,null,null,null,null,null,{"$f":"IF(E3436<>\"\",ROUND((VLOOKUP(E3436,Param!$A$7:$E$13,4,0)*Fonct_Empl!F3436*((Fonct_Empl!G3436/12)))+(VLOOKUP(E3436,Param!$A$7:$E$13,5,0)*Fonct_Empl!H3436),2),\"\")","v":""}]
[null,null,null,null,null,null,null,null,{"$f":"IF(E3437<>\"\",ROUND((VLOOKUP(E3437,Param!$A$7:$E$13,4,0)*Fonct_Empl!F3437*((Fonct_Empl!G3437/12)))+(VLOOKUP(E3437,Param!$A$7:$E$13,5,0)*Fonct_Empl!H3437),2),\"\")","v":""}]
[null,null,null,null,null,null,null,null,{"$f":"IF(E3438<>\"\",ROUND((VLOOKUP(E3438,Param!$A$7:$E$13,4,0)*Fonct_Empl!F3438*((Fonct_Empl!G3438/12)))+(VLOOKUP(E3438,Param!$A$7:$E$13,5,0)*Fonct_Empl!H3438),2),\"\")","v":""}]
[null,null,null,null,null,null,null,null,{"$f":"IF(E3439<>\"\",ROUND((VLOOKUP(E3439,Param!$A$7:$E$13,4,0)*Fonct_Empl!F3439*((Fonct_Empl!G3439/12)))+(VLOOKUP(E3439,Param!$A$7:$E$13,5,0)*Fonct_Empl!H3439),2),\"\")","v":""}]
[null,null,null,null,null,null,null,null,{"$f":"IF(E3440<>\"\",ROUND((VLOOKUP(E3440,Param!$A$7:$E$13,4,0)*Fonct_Empl!F3440*((Fonct_Empl!G3440/12)))+(VLOOKUP(E3440,Param!$A$7:$E$13,5,0)*Fonct_Empl!H3440),2),\"\")","v":""}]
[null,null,null,null,null,null,null,null,{"$f":"IF(E3441<>\"\",ROUND((VLOOKUP(E3441,Param!$A$7:$E$13,4,0)*Fonct_Empl!F3441*((Fonct_Empl!G3441/12)))+(VLOOKUP(E3441,Param!$A$7:$E$13,5,0)*Fonct_Empl!H3441),2),\"\")","v":""}]
[null,null,null,null,null,null,null,null,{"$f":"IF(E3442<>\"\",ROUND((VLOOKUP(E3442,Param!$A$7:$E$13,4,0)*Fonct_Empl!F3442*((Fonct_Empl!G3442/12)))+(VLOOKUP(E3442,Param!$A$7:$E$13,5,0)*Fonct_Empl!H3442),2),\"\")","v":""}]
[null,null,null,null,null,null,null,null,{"$f":"IF(E3443<>\"\",ROUND((VLOOKUP(E3443,Param!$A$7:$E$13,4,0)*Fonct_Empl!F3443*((Fonct_Empl!G3443/12)))+(VLOOKUP(E3443,Param!$A$7:$E$13,5,0)*Fonct_Empl!H3443),2),\"\")","v":""}]
[null,null,null,null,null,null,null,null,{"$f":"IF(E3444<>\"\",ROUND((VLOOKUP(E3444,Param!$A$7:$E$13,4,0)*Fonct_Empl!F3444*((Fonct_Empl!G3444/12)))+(VLOOKUP(E3444,Param!$A$7:$E$13,5,0)*Fonct_Empl!H3444),2),\"\")","v":""}]
[null,null,null,null,null,null,null,null,{"$f":"IF(E3445<>\"\",ROUND((VLOOKUP(E3445,Param!$A$7:$E$13,4,0)*Fonct_Empl!F3445*((Fonct_Empl!G3445/12)))+(VLOOKUP(E3445,Param!$A$7:$E$13,5,0)*Fonct_Empl!H3445),2),\"\")","v":""}]
[null,null,null,null,null,null,null,null,{"$f":"IF(E3446<>\"\",ROUND((VLOOKUP(E3446,Param!$A$7:$E$13,4,0)*Fonct_Empl!F3446*((Fonct_Empl!G3446/12)))+(VLOOKUP(E3446,Param!$A$7:$E$13,5,0)*Fonct_Empl!H3446),2),\"\")","v":""}]
[null,null,null,null,null,null,null,null,{"$f":"IF(E3447<>\"\",ROUND((VLOOKUP(E3447,Param!$A$7:$E$13,4,0)*Fonct_Empl!F3447*((Fonct_Empl!G3447/12)))+(VLOOKUP(E3447,Param!$A$7:$E$13,5,0)*Fonct_Empl!H3447),2),\"\")","v":""}]
[null,null,null,null,null,null,null,null,{"$f":"IF(E3448<>\"\",ROUND((VLOOKUP(E3448,Param!$A$7:$E$13,4,0)*Fonct_Empl!F3448*((Fonct_Empl!G3448/12)))+(VLOOKUP(E3448,Param!$A$7:$E$13,5,0)*Fonct_Empl!H3448),2),\"\")","v":""}]
[null,null,null,null,null,null,null,null,{"$f":"IF(E3449<>\"\",ROUND((VLOOKUP(E3449,Param!$A$7:$E$13,4,0)*Fonct_Empl!F3449*((Fonct_Empl!G3449/12)))+(VLOOKUP(E3449,Param!$A$7:$E$13,5,0)*Fonct_Empl!H3449),2),\"\")","v":""}]
[null,null,null,null,null,null,null,null,{"$f":"IF(E3450<>\"\",ROUND((VLOOKUP(E3450,Param!$A$7:$E$13,4,0)*Fonct_Empl!F3450*((Fonct_Empl!G3450/12)))+(VLOOKUP(E3450,Param!$A$7:$E$13,5,0)*Fonct_Empl!H3450),2),\"\")","v":""}]
[null,null,null,null,null,null,null,null,{"$f":"IF(E3451<>\"\",ROUND((VLOOKUP(E3451,Param!$A$7:$E$13,4,0)*Fonct_Empl!F3451*((Fonct_Empl!G3451/12)))+(VLOOKUP(E3451,Param!$A$7:$E$13,5,0)*Fonct_Empl!H3451),2),\"\")","v":""}]
[null,null,null,null,null,null,null,null,{"$f":"IF(E3452<>\"\",ROUND((VLOOKUP(E3452,Param!$A$7:$E$13,4,0)*Fonct_Empl!F3452*((Fonct_Empl!G3452/12)))+(VLOOKUP(E3452,Param!$A$7:$E$13,5,0)*Fonct_Empl!H3452),2),\"\")","v":""}]
[null,null,null,null,null,null,null,null,{"$f":"IF(E3453<>\"\",ROUND((VLOOKUP(E3453,Param!$A$7:$E$13,4,0)*Fonct_Empl!F3453*((Fonct_Empl!G3453/12)))+(VLOOKUP(E3453,Param!$A$7:$E$13,5,0)*Fonct_Empl!H3453),2),\"\")","v":""}]
[null,null,null,null,null,null,null,null,{"$f":"IF(E3454<>\"\",ROUND((VLOOKUP(E3454,Param!$A$7:$E$13,4,0)*Fonct_Empl!F3454*((Fonct_Empl!G3454/12)))+(VLOOKUP(E3454,Param!$A$7:$E$13,5,0)*Fonct_Empl!H3454),2),\"\")","v":""}]
[null,null,null,null,null,null,null,null,{"$f":"IF(E3455<>\"\",ROUND((VLOOKUP(E3455,Param!$A$7:$E$13,4,0)*Fonct_Empl!F3455*((Fonct_Empl!G3455/12)))+(VLOOKUP(E3455,Param!$A$7:$E$13,5,0)*Fonct_Empl!H3455),2),\"\")","v":""}]
[null,null,null,null,null,null,null,null,{"$f":"IF(E3456<>\"\",ROUND((VLOOKUP(E3456,Param!$A$7:$E$13,4,0)*Fonct_Empl!F3456*((Fonct_Empl!G3456/12)))+(VLOOKUP(E3456,Param!$A$7:$E$13,5,0)*Fonct_Empl!H3456),2),\"\")","v":""}]
[null,null,null,null,null,null,null,null,{"$f":"IF(E3457<>\"\",ROUND((VLOOKUP(E3457,Param!$A$7:$E$13,4,0)*Fonct_Empl!F3457*((Fonct_Empl!G3457/12)))+(VLOOKUP(E3457,Param!$A$7:$E$13,5,0)*Fonct_Empl!H3457),2),\"\")","v":""}]
[null,null,null,null,null,null,null,null,{"$f":"IF(E3458<>\"\",ROUND((VLOOKUP(E3458,Param!$A$7:$E$13,4,0)*Fonct_Empl!F3458*((Fonct_Empl!G3458/12)))+(VLOOKUP(E3458,Param!$A$7:$E$13,5,0)*Fonct_Empl!H3458),2),\"\")","v":""}]
[null,null,null,null,null,null,null,null,{"$f":"IF(E3459<>\"\",ROUND((VLOOKUP(E3459,Param!$A$7:$E$13,4,0)*Fonct_Empl!F3459*((Fonct_Empl!G3459/12)))+(VLOOKUP(E3459,Param!$A$7:$E$13,5,0)*Fonct_Empl!H3459),2),\"\")","v":""}]
[null,null,null,null,null,null,null,null,{"$f":"IF(E3460<>\"\",ROUND((VLOOKUP(E3460,Param!$A$7:$E$13,4,0)*Fonct_Empl!F3460*((Fonct_Empl!G3460/12)))+(VLOOKUP(E3460,Param!$A$7:$E$13,5,0)*Fonct_Empl!H3460),2),\"\")","v":""}]
[null,null,null,null,null,null,null,null,{"$f":"IF(E3461<>\"\",ROUND((VLOOKUP(E3461,Param!$A$7:$E$13,4,0)*Fonct_Empl!F3461*((Fonct_Empl!G3461/12)))+(VLOOKUP(E3461,Param!$A$7:$E$13,5,0)*Fonct_Empl!H3461),2),\"\")","v":""}]
[null,null,null,null,null,null,null,null,{"$f":"IF(E3462<>\"\",ROUND((VLOOKUP(E3462,Param!$A$7:$E$13,4,0)*Fonct_Empl!F3462*((Fonct_Empl!G3462/12)))+(VLOOKUP(E3462,Param!$A$7:$E$13,5,0)*Fonct_Empl!H3462),2),\"\")","v":""}]
[null,null,null,null,null,null,null,null,{"$f":"IF(E3463<>\"\",ROUND((VLOOKUP(E3463,Param!$A$7:$E$13,4,0)*Fonct_Empl!F3463*((Fonct_Empl!G3463/12)))+(VLOOKUP(E3463,Param!$A$7:$E$13,5,0)*Fonct_Empl!H3463),2),\"\")","v":""}]
[null,null,null,null,null,null,null,null,{"$f":"IF(E3464<>\"\",ROUND((VLOOKUP(E3464,Param!$A$7:$E$13,4,0)*Fonct_Empl!F3464*((Fonct_Empl!G3464/12)))+(VLOOKUP(E3464,Param!$A$7:$E$13,5,0)*Fonct_Empl!H3464),2),\"\")","v":""}]
[null,null,null,null,null,null,null,null,{"$f":"IF(E3465<>\"\",ROUND((VLOOKUP(E3465,Param!$A$7:$E$13,4,0)*Fonct_Empl!F3465*((Fonct_Empl!G3465/12)))+(VLOOKUP(E3465,Param!$A$7:$E$13,5,0)*Fonct_Empl!H3465),2),\"\")","v":""}]
[null,null,null,null,null,null,null,null,{"$f":"IF(E3466<>\"\",ROUND((VLOOKUP(E3466,Param!$A$7:$E$13,4,0)*Fonct_Empl!F3466*((Fonct_Empl!G3466/12)))+(VLOOKUP(E3466,Param!$A$7:$E$13,5,0)*Fonct_Empl!H3466),2),\"\")","v":""}]
[null,null,null,null,null,null,null,null,{"$f":"IF(E3467<>\"\",ROUND((VLOOKUP(E3467,Param!$A$7:$E$13,4,0)*Fonct_Empl!F3467*((Fonct_Empl!G3467/12)))+(VLOOKUP(E3467,Param!$A$7:$E$13,5,0)*Fonct_Empl!H3467),2),\"\")","v":""}]
[null,null,null,null,null,null,null,null,{"$f":"IF(E3468<>\"\",ROUND((VLOOKUP(E3468,Param!$A$7:$E$13,4,0)*Fonct_Empl!F3468*((Fonct_Empl!G3468/12)))+(VLOOKUP(E3468,Param!$A$7:$E$13,5,0)*Fonct_Empl!H3468),2),\"\")","v":""}]
[null,null,null,null,null,null,null,null,{"$f":"IF(E3469<>\"\",ROUND((VLOOKUP(E3469,Param!$A$7:$E$13,4,0)*Fonct_Empl!F3469*((Fonct_Empl!G3469/12)))+(VLOOKUP(E3469,Param!$A$7:$E$13,5,0)*Fonct_Empl!H3469),2),\"\")","v":""}]
[null,null,null,null,null,null,null,null,{"$f":"IF(E3470<>\"\",ROUND((VLOOKUP(E3470,Param!$A$7:$E$13,4,0)*Fonct_Empl!F3470*((Fonct_Empl!G3470/12)))+(VLOOKUP(E3470,Param!$A$7:$E$13,5,0)*Fonct_Empl!H3470),2),\"\")","v":""}]
[null,null,null,null,null,null,null,null,{"$f":"IF(E3471<>\"\",ROUND((VLOOKUP(E3471,Param!$A$7:$E$13,4,0)*Fonct_Empl!F3471*((Fonct_Empl!G3471/12)))+(VLOOKUP(E3471,Param!$A$7:$E$13,5,0)*Fonct_Empl!H3471),2),\"\")","v":""}]
[null,null,null,null,null,null,null,null,{"$f":"IF(E3472<>\"\",ROUND((VLOOKUP(E3472,Param!$A$7:$E$13,4,0)*Fonct_Empl!F3472*((Fonct_Empl!G3472/12)))+(VLOOKUP(E3472,Param!$A$7:$E$13,5,0)*Fonct_Empl!H3472),2),\"\")","v":""}]
[null,null,null,null,null,null,null,null,{"$f":"IF(E3473<>\"\",ROUND((VLOOKUP(E3473,Param!$A$7:$E$13,4,0)*Fonct_Empl!F3473*((Fonct_Empl!G3473/12)))+(VLOOKUP(E3473,Param!$A$7:$E$13,5,0)*Fonct_Empl!H3473),2),\"\")","v":""}]
[null,null,null,null,null,null,null,null,{"$f":"IF(E3474<>\"\",ROUND((VLOOKUP(E3474,Param!$A$7:$E$13,4,0)*Fonct_Empl!F3474*((Fonct_Empl!G3474/12)))+(VLOOKUP(E3474,Param!$A$7:$E$13,5,0)*Fonct_Empl!H3474),2),\"\")","v":""}]
[null,null,null,null,null,null,null,null,{"$f":"IF(E3475<>\"\",ROUND((VLOOKUP(E3475,Param!$A$7:$E$13,4,0)*Fonct_Empl!F3475*((Fonct_Empl!G3475/12)))+(VLOOKUP(E3475,Param!$A$7:$E$13,5,0)*Fonct_Empl!H3475),2),\"\")","v":""}]
[null,null,null,null,null,null,null,null,{"$f":"IF(E3476<>\"\",ROUND((VLOOKUP(E3476,Param!$A$7:$E$13,4,0)*Fonct_Empl!F3476*((Fonct_Empl!G3476/12)))+(VLOOKUP(E3476,Param!$A$7:$E$13,5,0)*Fonct_Empl!H3476),2),\"\")","v":""}]
[null,null,null,null,null,null,null,null,{"$f":"IF(E3477<>\"\",ROUND((VLOOKUP(E3477,Param!$A$7:$E$13,4,0)*Fonct_Empl!F3477*((Fonct_Empl!G3477/12)))+(VLOOKUP(E3477,Param!$A$7:$E$13,5,0)*Fonct_Empl!H3477),2),\"\")","v":""}]
[null,null,null,null,null,null,null,null,{"$f":"IF(E3478<>\"\",ROUND((VLOOKUP(E3478,Param!$A$7:$E$13,4,0)*Fonct_Empl!F3478*((Fonct_Empl!G3478/12)))+(VLOOKUP(E3478,Param!$A$7:$E$13,5,0)*Fonct_Empl!H3478),2),\"\")","v":""}]
[null,null,null,null,null,null,null,null,{"$f":"IF(E3479<>\"\",ROUND((VLOOKUP(E3479,Param!$A$7:$E$13,4,0)*Fonct_Empl!F3479*((Fonct_Empl!G3479/12)))+(VLOOKUP(E3479,Param!$A$7:$E$13,5,0)*Fonct_Empl!H3479),2),\"\")","v":""}]
[null,null,null,null,null,null,null,null,{"$f":"IF(E3480<>\"\",ROUND((VLOOKUP(E3480,Param!$A$7:$E$13,4,0)*Fonct_Empl!F3480*((Fonct_Empl!G3480/12)))+(VLOOKUP(E3480,Param!$A$7:$E$13,5,0)*Fonct_Empl!H3480),2),\"\")","v":""}]
[null,null,null,null,null,null,null,null,{"$f":"IF(E3481<>\"\",ROUND((VLOOKUP(E3481,Param!$A$7:$E$13,4,0)*Fonct_Empl!F3481*((Fonct_Empl!G3481/12)))+(VLOOKUP(E3481,Param!$A$7:$E$13,5,0)*Fonct_Empl!H3481),2),\"\")","v":""}]
[null,null,null,null,null,null,null,null,{"$f":"IF(E3482<>\"\",ROUND((VLOOKUP(E3482,Param!$A$7:$E$13,4,0)*Fonct_Empl!F3482*((Fonct_Empl!G3482/12)))+(VLOOKUP(E3482,Param!$A$7:$E$13,5,0)*Fonct_Empl!H3482),2),\"\")","v":""}]
[null,null,null,null,null,null,null,null,{"$f":"IF(E3483<>\"\",ROUND((VLOOKUP(E3483,Param!$A$7:$E$13,4,0)*Fonct_Empl!F3483*((Fonct_Empl!G3483/12)))+(VLOOKUP(E3483,Param!$A$7:$E$13,5,0)*Fonct_Empl!H3483),2),\"\")","v":""}]
[null,null,null,null,null,null,null,null,{"$f":"IF(E3484<>\"\",ROUND((VLOOKUP(E3484,Param!$A$7:$E$13,4,0)*Fonct_Empl!F3484*((Fonct_Empl!G3484/12)))+(VLOOKUP(E3484,Param!$A$7:$E$13,5,0)*Fonct_Empl!H3484),2),\"\")","v":""}]
[null,null,null,null,null,null,null,null,{"$f":"IF(E3485<>\"\",ROUND((VLOOKUP(E3485,Param!$A$7:$E$13,4,0)*Fonct_Empl!F3485*((Fonct_Empl!G3485/12)))+(VLOOKUP(E3485,Param!$A$7:$E$13,5,0)*Fonct_Empl!H3485),2),\"\")","v":""}]
[null,null,null,null,null,null,null,null,{"$f":"IF(E3486<>\"\",ROUND((VLOOKUP(E3486,Param!$A$7:$E$13,4,0)*Fonct_Empl!F3486*((Fonct_Empl!G3486/12)))+(VLOOKUP(E3486,Param!$A$7:$E$13,5,0)*Fonct_Empl!H3486),2),\"\")","v":""}]
[null,null,null,null,null,null,null,null,{"$f":"IF(E3487<>\"\",ROUND((VLOOKUP(E3487,Param!$A$7:$E$13,4,0)*Fonct_Empl!F3487*((Fonct_Empl!G3487/12)))+(VLOOKUP(E3487,Param!$A$7:$E$13,5,0)*Fonct_Empl!H3487),2),\"\")","v":""}]
[null,null,null,null,null,null,null,null,{"$f":"IF(E3488<>\"\",ROUND((VLOOKUP(E3488,Param!$A$7:$E$13,4,0)*Fonct_Empl!F3488*((Fonct_Empl!G3488/12)))+(VLOOKUP(E3488,Param!$A$7:$E$13,5,0)*Fonct_Empl!H3488),2),\"\")","v":""}]
[null,null,null,null,null,null,null,null,{"$f":"IF(E3489<>\"\",ROUND((VLOOKUP(E3489,Param!$A$7:$E$13,4,0)*Fonct_Empl!F3489*((Fonct_Empl!G3489/12)))+(VLOOKUP(E3489,Param!$A$7:$E$13,5,0)*Fonct_Empl!H3489),2),\"\")","v":""}]
[null,null,null,null,null,null,null,null,{"$f":"IF(E3490<>\"\",ROUND((VLOOKUP(E3490,Param!$A$7:$E$13,4,0)*Fonct_Empl!F3490*((Fonct_Empl!G3490/12)))+(VLOOKUP(E3490,Param!$A$7:$E$13,5,0)*Fonct_Empl!H3490),2),\"\")","v":""}]
[null,null,null,null,null,null,null,null,{"$f":"IF(E3491<>\"\",ROUND((VLOOKUP(E3491,Param!$A$7:$E$13,4,0)*Fonct_Empl!F3491*((Fonct_Empl!G3491/12)))+(VLOOKUP(E3491,Param!$A$7:$E$13,5,0)*Fonct_Empl!H3491),2),\"\")","v":""}]
[null,null,null,null,null,null,null,null,{"$f":"IF(E3492<>\"\",ROUND((VLOOKUP(E3492,Param!$A$7:$E$13,4,0)*Fonct_Empl!F3492*((Fonct_Empl!G3492/12)))+(VLOOKUP(E3492,Param!$A$7:$E$13,5,0)*Fonct_Empl!H3492),2),\"\")","v":""}]
[null,null,null,null,null,null,null,null,{"$f":"IF(E3493<>\"\",ROUND((VLOOKUP(E3493,Param!$A$7:$E$13,4,0)*Fonct_Empl!F3493*((Fonct_Empl!G3493/12)))+(VLOOKUP(E3493,Param!$A$7:$E$13,5,0)*Fonct_Empl!H3493),2),\"\")","v":""}]
[null,null,null,null,null,null,null,null,{"$f":"IF(E3494<>\"\",ROUND((VLOOKUP(E3494,Param!$A$7:$E$13,4,0)*Fonct_Empl!F3494*((Fonct_Empl!G3494/12)))+(VLOOKUP(E3494,Param!$A$7:$E$13,5,0)*Fonct_Empl!H3494),2),\"\")","v":""}]
[null,null,null,null,null,null,null,null,{"$f":"IF(E3495<>\"\",ROUND((VLOOKUP(E3495,Param!$A$7:$E$13,4,0)*Fonct_Empl!F3495*((Fonct_Empl!G3495/12)))+(VLOOKUP(E3495,Param!$A$7:$E$13,5,0)*Fonct_Empl!H3495),2),\"\")","v":""}]
[null,null,null,null,null,null,null,null,{"$f":"IF(E3496<>\"\",ROUND((VLOOKUP(E3496,Param!$A$7:$E$13,4,0)*Fonct_Empl!F3496*((Fonct_Empl!G3496/12)))+(VLOOKUP(E3496,Param!$A$7:$E$13,5,0)*Fonct_Empl!H3496),2),\"\")","v":""}]
[null,null,null,null,null,null,null,null,{"$f":"IF(E3497<>\"\",ROUND((VLOOKUP(E3497,Param!$A$7:$E$13,4,0)*Fonct_Empl!F3497*((Fonct_Empl!G3497/12)))+(VLOOKUP(E3497,Param!$A$7:$E$13,5,0)*Fonct_Empl!H3497),2),\"\")","v":""}]
[null,null,null,null,null,null,null,null,{"$f":"IF(E3498<>\"\",ROUND((VLOOKUP(E3498,Param!$A$7:$E$13,4,0)*Fonct_Empl!F3498*((Fonct_Empl!G3498/12)))+(VLOOKUP(E3498,Param!$A$7:$E$13,5,0)*Fonct_Empl!H3498),2),\"\")","v":""}]
[null,null,null,null,null,null,null,null,{"$f":"IF(E3499<>\"\",ROUND((VLOOKUP(E3499,Param!$A$7:$E$13,4,0)*Fonct_Empl!F3499*((Fonct_Empl!G3499/12)))+(VLOOKUP(E3499,Param!$A$7:$E$13,5,0)*Fonct_Empl!H3499),2),\"\")","v":""}]
[null,null,null,null,null,null,null,null,{"$f":"IF(E3500<>\"\",ROUND((VLOOKUP(E3500,Param!$A$7:$E$13,4,0)*Fonct_Empl!F3500*((Fonct_Empl!G3500/12)))+(VLOOKUP(E3500,Param!$A$7:$E$13,5,0)*Fonct_Empl!H3500),2),\"\")","v":""}]
[null,null,null,null,null,null,null,null,{"$f":"IF(E3501<>\"\",ROUND((VLOOKUP(E3501,Param!$A$7:$E$13,4,0)*Fonct_Empl!F3501*((Fonct_Empl!G3501/12)))+(VLOOKUP(E3501,Param!$A$7:$E$13,5,0)*Fonct_Empl!H3501),2),\"\")","v":""}]
[null,null,null,null,null,null,null,null,{"$f":"IF(E3502<>\"\",ROUND((VLOOKUP(E3502,Param!$A$7:$E$13,4,0)*Fonct_Empl!F3502*((Fonct_Empl!G3502/12)))+(VLOOKUP(E3502,Param!$A$7:$E$13,5,0)*Fonct_Empl!H3502),2),\"\")","v":""}]
[null,null,null,null,null,null,null,null,{"$f":"IF(E3503<>\"\",ROUND((VLOOKUP(E3503,Param!$A$7:$E$13,4,0)*Fonct_Empl!F3503*((Fonct_Empl!G3503/12)))+(VLOOKUP(E3503,Param!$A$7:$E$13,5,0)*Fonct_Empl!H3503),2),\"\")","v":""}]
[null,null,null,null,null,null,null,null,{"$f":"IF(E3504<>\"\",ROUND((VLOOKUP(E3504,Param!$A$7:$E$13,4,0)*Fonct_Empl!F3504*((Fonct_Empl!G3504/12)))+(VLOOKUP(E3504,Param!$A$7:$E$13,5,0)*Fonct_Empl!H3504),2),\"\")","v":""}]
[null,null,null,null,null,null,null,null,{"$f":"IF(E3505<>\"\",ROUND((VLOOKUP(E3505,Param!$A$7:$E$13,4,0)*Fonct_Empl!F3505*((Fonct_Empl!G3505/12)))+(VLOOKUP(E3505,Param!$A$7:$E$13,5,0)*Fonct_Empl!H3505),2),\"\")","v":""}]
[null,null,null,null,null,null,null,null,{"$f":"IF(E3506<>\"\",ROUND((VLOOKUP(E3506,Param!$A$7:$E$13,4,0)*Fonct_Empl!F3506*((Fonct_Empl!G3506/12)))+(VLOOKUP(E3506,Param!$A$7:$E$13,5,0)*Fonct_Empl!H3506),2),\"\")","v":""}]
[null,null,null,null,null,null,null,null,{"$f":"IF(E3507<>\"\",ROUND((VLOOKUP(E3507,Param!$A$7:$E$13,4,0)*Fonct_Empl!F3507*((Fonct_Empl!G3507/12)))+(VLOOKUP(E3507,Param!$A$7:$E$13,5,0)*Fonct_Empl!H3507),2),\"\")","v":""}]
[null,null,null,null,null,null,null,null,{"$f":"IF(E3508<>\"\",ROUND((VLOOKUP(E3508,Param!$A$7:$E$13,4,0)*Fonct_Empl!F3508*((Fonct_Empl!G3508/12)))+(VLOOKUP(E3508,Param!$A$7:$E$13,5,0)*Fonct_Empl!H3508),2),\"\")","v":""}]
[null,null,null,null,null,null,null,null,{"$f":"IF(E3509<>\"\",ROUND((VLOOKUP(E3509,Param!$A$7:$E$13,4,0)*Fonct_Empl!F3509*((Fonct_Empl!G3509/12)))+(VLOOKUP(E3509,Param!$A$7:$E$13,5,0)*Fonct_Empl!H3509),2),\"\")","v":""}]
[null,null,null,null,null,null,null,null,{"$f":"IF(E3510<>\"\",ROUND((VLOOKUP(E3510,Param!$A$7:$E$13,4,0)*Fonct_Empl!F3510*((Fonct_Empl!G3510/12)))+(VLOOKUP(E3510,Param!$A$7:$E$13,5,0)*Fonct_Empl!H3510),2),\"\")","v":""}]
[null,null,null,null,null,null,null,null,{"$f":"IF(E3511<>\"\",ROUND((VLOOKUP(E3511,Param!$A$7:$E$13,4,0)*Fonct_Empl!F3511*((Fonct_Empl!G3511/12)))+(VLOOKUP(E3511,Param!$A$7:$E$13,5,0)*Fonct_Empl!H3511),2),\"\")","v":""}]
[null,null,null,null,null,null,null,null,{"$f":"IF(E3512<>\"\",ROUND((VLOOKUP(E3512,Param!$A$7:$E$13,4,0)*Fonct_Empl!F3512*((Fonct_Empl!G3512/12)))+(VLOOKUP(E3512,Param!$A$7:$E$13,5,0)*Fonct_Empl!H3512),2),\"\")","v":""}]
[null,null,null,null,null,null,null,null,{"$f":"IF(E3513<>\"\",ROUND((VLOOKUP(E3513,Param!$A$7:$E$13,4,0)*Fonct_Empl!F3513*((Fonct_Empl!G3513/12)))+(VLOOKUP(E3513,Param!$A$7:$E$13,5,0)*Fonct_Empl!H3513),2),\"\")","v":""}]
[null,null,null,null,null,null,null,null,{"$f":"IF(E3514<>\"\",ROUND((VLOOKUP(E3514,Param!$A$7:$E$13,4,0)*Fonct_Empl!F3514*((Fonct_Empl!G3514/12)))+(VLOOKUP(E3514,Param!$A$7:$E$13,5,0)*Fonct_Empl!H3514),2),\"\")","v":""}]
[null,null,null,null,null,null,null,null,{"$f":"IF(E3515<>\"\",ROUND((VLOOKUP(E3515,Param!$A$7:$E$13,4,0)*Fonct_Empl!F3515*((Fonct_Empl!G3515/12)))+(VLOOKUP(E3515,Param!$A$7:$E$13,5,0)*Fonct_Empl!H3515),2),\"\")","v":""}]
[null,null,null,null,null,null,null,null,{"$f":"IF(E3516<>\"\",ROUND((VLOOKUP(E3516,Param!$A$7:$E$13,4,0)*Fonct_Empl!F3516*((Fonct_Empl!G3516/12)))+(VLOOKUP(E3516,Param!$A$7:$E$13,5,0)*Fonct_Empl!H3516),2),\"\")","v":""}]
[null,null,null,null,null,null,null,null,{"$f":"IF(E3517<>\"\",ROUND((VLOOKUP(E3517,Param!$A$7:$E$13,4,0)*Fonct_Empl!F3517*((Fonct_Empl!G3517/12)))+(VLOOKUP(E3517,Param!$A$7:$E$13,5,0)*Fonct_Empl!H3517),2),\"\")","v":""}]
[null,null,null,null,null,null,null,null,{"$f":"IF(E3518<>\"\",ROUND((VLOOKUP(E3518,Param!$A$7:$E$13,4,0)*Fonct_Empl!F3518*((Fonct_Empl!G3518/12)))+(VLOOKUP(E3518,Param!$A$7:$E$13,5,0)*Fonct_Empl!H3518),2),\"\")","v":""}]
[null,null,null,null,null,null,null,null,{"$f":"IF(E3519<>\"\",ROUND((VLOOKUP(E3519,Param!$A$7:$E$13,4,0)*Fonct_Empl!F3519*((Fonct_Empl!G3519/12)))+(VLOOKUP(E3519,Param!$A$7:$E$13,5,0)*Fonct_Empl!H3519),2),\"\")","v":""}]
[null,null,null,null,null,null,null,null,{"$f":"IF(E3520<>\"\",ROUND((VLOOKUP(E3520,Param!$A$7:$E$13,4,0)*Fonct_Empl!F3520*((Fonct_Empl!G3520/12)))+(VLOOKUP(E3520,Param!$A$7:$E$13,5,0)*Fonct_Empl!H3520),2),\"\")","v":""}]
[null,null,null,null,null,null,null,null,{"$f":"IF(E3521<>\"\",ROUND((VLOOKUP(E3521,Param!$A$7:$E$13,4,0)*Fonct_Empl!F3521*((Fonct_Empl!G3521/12)))+(VLOOKUP(E3521,Param!$A$7:$E$13,5,0)*Fonct_Empl!H3521),2),\"\")","v":""}]
[null,null,null,null,null,null,null,null,{"$f":"IF(E3522<>\"\",ROUND((VLOOKUP(E3522,Param!$A$7:$E$13,4,0)*Fonct_Empl!F3522*((Fonct_Empl!G3522/12)))+(VLOOKUP(E3522,Param!$A$7:$E$13,5,0)*Fonct_Empl!H3522),2),\"\")","v":""}]
[null,null,null,null,null,null,null,null,{"$f":"IF(E3523<>\"\",ROUND((VLOOKUP(E3523,Param!$A$7:$E$13,4,0)*Fonct_Empl!F3523*((Fonct_Empl!G3523/12)))+(VLOOKUP(E3523,Param!$A$7:$E$13,5,0)*Fonct_Empl!H3523),2),\"\")","v":""}]
[null,null,null,null,null,null,null,null,{"$f":"IF(E3524<>\"\",ROUND((VLOOKUP(E3524,Param!$A$7:$E$13,4,0)*Fonct_Empl!F3524*((Fonct_Empl!G3524/12)))+(VLOOKUP(E3524,Param!$A$7:$E$13,5,0)*Fonct_Empl!H3524),2),\"\")","v":""}]
[null,null,null,null,null,null,null,null,{"$f":"IF(E3525<>\"\",ROUND((VLOOKUP(E3525,Param!$A$7:$E$13,4,0)*Fonct_Empl!F3525*((Fonct_Empl!G3525/12)))+(VLOOKUP(E3525,Param!$A$7:$E$13,5,0)*Fonct_Empl!H3525),2),\"\")","v":""}]
[null,null,null,null,null,null,null,null,{"$f":"IF(E3526<>\"\",ROUND((VLOOKUP(E3526,Param!$A$7:$E$13,4,0)*Fonct_Empl!F3526*((Fonct_Empl!G3526/12)))+(VLOOKUP(E3526,Param!$A$7:$E$13,5,0)*Fonct_Empl!H3526),2),\"\")","v":""}]
[null,null,null,null,null,null,null,null,{"$f":"IF(E3527<>\"\",ROUND((VLOOKUP(E3527,Param!$A$7:$E$13,4,0)*Fonct_Empl!F3527*((Fonct_Empl!G3527/12)))+(VLOOKUP(E3527,Param!$A$7:$E$13,5,0)*Fonct_Empl!H3527),2),\"\")","v":""}]
[null,null,null,null,null,null,null,null,{"$f":"IF(E3528<>\"\",ROUND((VLOOKUP(E3528,Param!$A$7:$E$13,4,0)*Fonct_Empl!F3528*((Fonct_Empl!G3528/12)))+(VLOOKUP(E3528,Param!$A$7:$E$13,5,0)*Fonct_Empl!H3528),2),\"\")","v":""}]
[null,null,null,null,null,null,null,null,{"$f":"IF(E3529<>\"\",ROUND((VLOOKUP(E3529,Param!$A$7:$E$13,4,0)*Fonct_Empl!F3529*((Fonct_Empl!G3529/12)))+(VLOOKUP(E3529,Param!$A$7:$E$13,5,0)*Fonct_Empl!H3529),2),\"\")","v":""}]
[null,null,null,null,null,null,null,null,{"$f":"IF(E3530<>\"\",ROUND((VLOOKUP(E3530,Param!$A$7:$E$13,4,0)*Fonct_Empl!F3530*((Fonct_Empl!G3530/12)))+(VLOOKUP(E3530,Param!$A$7:$E$13,5,0)*Fonct_Empl!H3530),2),\"\")","v":""}]
[null,null,null,null,null,null,null,null,{"$f":"IF(E3531<>\"\",ROUND((VLOOKUP(E3531,Param!$A$7:$E$13,4,0)*Fonct_Empl!F3531*((Fonct_Empl!G3531/12)))+(VLOOKUP(E3531,Param!$A$7:$E$13,5,0)*Fonct_Empl!H3531),2),\"\")","v":""}]
[null,null,null,null,null,null,null,null,{"$f":"IF(E3532<>\"\",ROUND((VLOOKUP(E3532,Param!$A$7:$E$13,4,0)*Fonct_Empl!F3532*((Fonct_Empl!G3532/12)))+(VLOOKUP(E3532,Param!$A$7:$E$13,5,0)*Fonct_Empl!H3532),2),\"\")","v":""}]
[null,null,null,null,null,null,null,null,{"$f":"IF(E3533<>\"\",ROUND((VLOOKUP(E3533,Param!$A$7:$E$13,4,0)*Fonct_Empl!F3533*((Fonct_Empl!G3533/12)))+(VLOOKUP(E3533,Param!$A$7:$E$13,5,0)*Fonct_Empl!H3533),2),\"\")","v":""}]
[null,null,null,null,null,null,null,null,{"$f":"IF(E3534<>\"\",ROUND((VLOOKUP(E3534,Param!$A$7:$E$13,4,0)*Fonct_Empl!F3534*((Fonct_Empl!G3534/12)))+(VLOOKUP(E3534,Param!$A$7:$E$13,5,0)*Fonct_Empl!H3534),2),\"\")","v":""}]
[null,null,null,null,null,null,null,null,{"$f":"IF(E3535<>\"\",ROUND((VLOOKUP(E3535,Param!$A$7:$E$13,4,0)*Fonct_Empl!F3535*((Fonct_Empl!G3535/12)))+(VLOOKUP(E3535,Param!$A$7:$E$13,5,0)*Fonct_Empl!H3535),2),\"\")","v":""}]
[null,null,null,null,null,null,null,null,{"$f":"IF(E3536<>\"\",ROUND((VLOOKUP(E3536,Param!$A$7:$E$13,4,0)*Fonct_Empl!F3536*((Fonct_Empl!G3536/12)))+(VLOOKUP(E3536,Param!$A$7:$E$13,5,0)*Fonct_Empl!H3536),2),\"\")","v":""}]
[null,null,null,null,null,null,null,null,{"$f":"IF(E3537<>\"\",ROUND((VLOOKUP(E3537,Param!$A$7:$E$13,4,0)*Fonct_Empl!F3537*((Fonct_Empl!G3537/12)))+(VLOOKUP(E3537,Param!$A$7:$E$13,5,0)*Fonct_Empl!H3537),2),\"\")","v":""}]
[null,null,null,null,null,null,null,null,{"$f":"IF(E3538<>\"\",ROUND((VLOOKUP(E3538,Param!$A$7:$E$13,4,0)*Fonct_Empl!F3538*((Fonct_Empl!G3538/12)))+(VLOOKUP(E3538,Param!$A$7:$E$13,5,0)*Fonct_Empl!H3538),2),\"\")","v":""}]
[null,null,null,null,null,null,null,null,{"$f":"IF(E3539<>\"\",ROUND((VLOOKUP(E3539,Param!$A$7:$E$13,4,0)*Fonct_Empl!F3539*((Fonct_Empl!G3539/12)))+(VLOOKUP(E3539,Param!$A$7:$E$13,5,0)*Fonct_Empl!H3539),2),\"\")","v":""}]
[null,null,null,null,null,null,null,null,{"$f":"IF(E3540<>\"\",ROUND((VLOOKUP(E3540,Param!$A$7:$E$13,4,0)*Fonct_Empl!F3540*((Fonct_Empl!G3540/12)))+(VLOOKUP(E3540,Param!$A$7:$E$13,5,0)*Fonct_Empl!H3540),2),\"\")","v":""}]
[null,null,null,null,null,null,null,null,{"$f":"IF(E3541<>\"\",ROUND((VLOOKUP(E3541,Param!$A$7:$E$13,4,0)*Fonct_Empl!F3541*((Fonct_Empl!G3541/12)))+(VLOOKUP(E3541,Param!$A$7:$E$13,5,0)*Fonct_Empl!H3541),2),\"\")","v":""}]
[null,null,null,null,null,null,null,null,{"$f":"IF(E3542<>\"\",ROUND((VLOOKUP(E3542,Param!$A$7:$E$13,4,0)*Fonct_Empl!F3542*((Fonct_Empl!G3542/12)))+(VLOOKUP(E3542,Param!$A$7:$E$13,5,0)*Fonct_Empl!H3542),2),\"\")","v":""}]
[null,null,null,null,null,null,null,null,{"$f":"IF(E3543<>\"\",ROUND((VLOOKUP(E3543,Param!$A$7:$E$13,4,0)*Fonct_Empl!F3543*((Fonct_Empl!G3543/12)))+(VLOOKUP(E3543,Param!$A$7:$E$13,5,0)*Fonct_Empl!H3543),2),\"\")","v":""}]
[null,null,null,null,null,null,null,null,{"$f":"IF(E3544<>\"\",ROUND((VLOOKUP(E3544,Param!$A$7:$E$13,4,0)*Fonct_Empl!F3544*((Fonct_Empl!G3544/12)))+(VLOOKUP(E3544,Param!$A$7:$E$13,5,0)*Fonct_Empl!H3544),2),\"\")","v":""}]
[null,null,null,null,null,null,null,null,{"$f":"IF(E3545<>\"\",ROUND((VLOOKUP(E3545,Param!$A$7:$E$13,4,0)*Fonct_Empl!F3545*((Fonct_Empl!G3545/12)))+(VLOOKUP(E3545,Param!$A$7:$E$13,5,0)*Fonct_Empl!H3545),2),\"\")","v":""}]
[null,null,null,null,null,null,null,null,{"$f":"IF(E3546<>\"\",ROUND((VLOOKUP(E3546,Param!$A$7:$E$13,4,0)*Fonct_Empl!F3546*((Fonct_Empl!G3546/12)))+(VLOOKUP(E3546,Param!$A$7:$E$13,5,0)*Fonct_Empl!H3546),2),\"\")","v":""}]
[null,null,null,null,null,null,null,null,{"$f":"IF(E3547<>\"\",ROUND((VLOOKUP(E3547,Param!$A$7:$E$13,4,0)*Fonct_Empl!F3547*((Fonct_Empl!G3547/12)))+(VLOOKUP(E3547,Param!$A$7:$E$13,5,0)*Fonct_Empl!H3547),2),\"\")","v":""}]
[null,null,null,null,null,null,null,null,{"$f":"IF(E3548<>\"\",ROUND((VLOOKUP(E3548,Param!$A$7:$E$13,4,0)*Fonct_Empl!F3548*((Fonct_Empl!G3548/12)))+(VLOOKUP(E3548,Param!$A$7:$E$13,5,0)*Fonct_Empl!H3548),2),\"\")","v":""}]
[null,null,null,null,null,null,null,null,{"$f":"IF(E3549<>\"\",ROUND((VLOOKUP(E3549,Param!$A$7:$E$13,4,0)*Fonct_Empl!F3549*((Fonct_Empl!G3549/12)))+(VLOOKUP(E3549,Param!$A$7:$E$13,5,0)*Fonct_Empl!H3549),2),\"\")","v":""}]
[null,null,null,null,null,null,null,null,{"$f":"IF(E3550<>\"\",ROUND((VLOOKUP(E3550,Param!$A$7:$E$13,4,0)*Fonct_Empl!F3550*((Fonct_Empl!G3550/12)))+(VLOOKUP(E3550,Param!$A$7:$E$13,5,0)*Fonct_Empl!H3550),2),\"\")","v":""}]
[null,null,null,null,null,null,null,null,{"$f":"IF(E3551<>\"\",ROUND((VLOOKUP(E3551,Param!$A$7:$E$13,4,0)*Fonct_Empl!F3551*((Fonct_Empl!G3551/12)))+(VLOOKUP(E3551,Param!$A$7:$E$13,5,0)*Fonct_Empl!H3551),2),\"\")","v":""}]
[null,null,null,null,null,null,null,null,{"$f":"IF(E3552<>\"\",ROUND((VLOOKUP(E3552,Param!$A$7:$E$13,4,0)*Fonct_Empl!F3552*((Fonct_Empl!G3552/12)))+(VLOOKUP(E3552,Param!$A$7:$E$13,5,0)*Fonct_Empl!H3552),2),\"\")","v":""}]
[null,null,null,null,null,null,null,null,{"$f":"IF(E3553<>\"\",ROUND((VLOOKUP(E3553,Param!$A$7:$E$13,4,0)*Fonct_Empl!F3553*((Fonct_Empl!G3553/12)))+(VLOOKUP(E3553,Param!$A$7:$E$13,5,0)*Fonct_Empl!H3553),2),\"\")","v":""}]
[null,null,null,null,null,null,null,null,{"$f":"IF(E3554<>\"\",ROUND((VLOOKUP(E3554,Param!$A$7:$E$13,4,0)*Fonct_Empl!F3554*((Fonct_Empl!G3554/12)))+(VLOOKUP(E3554,Param!$A$7:$E$13,5,0)*Fonct_Empl!H3554),2),\"\")","v":""}]
[null,null,null,null,null,null,null,null,{"$f":"IF(E3555<>\"\",ROUND((VLOOKUP(E3555,Param!$A$7:$E$13,4,0)*Fonct_Empl!F3555*((Fonct_Empl!G3555/12)))+(VLOOKUP(E3555,Param!$A$7:$E$13,5,0)*Fonct_Empl!H3555),2),\"\")","v":""}]
[null,null,null,null,null,null,null,null,{"$f":"IF(E3556<>\"\",ROUND((VLOOKUP(E3556,Param!$A$7:$E$13,4,0)*Fonct_Empl!F3556*((Fonct_Empl!G3556/12)))+(VLOOKUP(E3556,Param!$A$7:$E$13,5,0)*Fonct_Empl!H3556),2),\"\")","v":""}]
[null,null,null,null,null,null,null,null,{"$f":"IF(E3557<>\"\",ROUND((VLOOKUP(E3557,Param!$A$7:$E$13,4,0)*Fonct_Empl!F3557*((Fonct_Empl!G3557/12)))+(VLOOKUP(E3557,Param!$A$7:$E$13,5,0)*Fonct_Empl!H3557),2),\"\")","v":""}]
[null,null,null,null,null,null,null,null,{"$f":"IF(E3558<>\"\",ROUND((VLOOKUP(E3558,Param!$A$7:$E$13,4,0)*Fonct_Empl!F3558*((Fonct_Empl!G3558/12)))+(VLOOKUP(E3558,Param!$A$7:$E$13,5,0)*Fonct_Empl!H3558),2),\"\")","v":""}]
[null,null,null,null,null,null,null,null,{"$f":"IF(E3559<>\"\",ROUND((VLOOKUP(E3559,Param!$A$7:$E$13,4,0)*Fonct_Empl!F3559*((Fonct_Empl!G3559/12)))+(VLOOKUP(E3559,Param!$A$7:$E$13,5,0)*Fonct_Empl!H3559),2),\"\")","v":""}]
[null,null,null,null,null,null,null,null,{"$f":"IF(E3560<>\"\",ROUND((VLOOKUP(E3560,Param!$A$7:$E$13,4,0)*Fonct_Empl!F3560*((Fonct_Empl!G3560/12)))+(VLOOKUP(E3560,Param!$A$7:$E$13,5,0)*Fonct_Empl!H3560),2),\"\")","v":""}]
[null,null,null,null,null,null,null,null,{"$f":"IF(E3561<>\"\",ROUND((VLOOKUP(E3561,Param!$A$7:$E$13,4,0)*Fonct_Empl!F3561*((Fonct_Empl!G3561/12)))+(VLOOKUP(E3561,Param!$A$7:$E$13,5,0)*Fonct_Empl!H3561),2),\"\")","v":""}]
[null,null,null,null,null,null,null,null,{"$f":"IF(E3562<>\"\",ROUND((VLOOKUP(E3562,Param!$A$7:$E$13,4,0)*Fonct_Empl!F3562*((Fonct_Empl!G3562/12)))+(VLOOKUP(E3562,Param!$A$7:$E$13,5,0)*Fonct_Empl!H3562),2),\"\")","v":""}]
[null,null,null,null,null,null,null,null,{"$f":"IF(E3563<>\"\",ROUND((VLOOKUP(E3563,Param!$A$7:$E$13,4,0)*Fonct_Empl!F3563*((Fonct_Empl!G3563/12)))+(VLOOKUP(E3563,Param!$A$7:$E$13,5,0)*Fonct_Empl!H3563),2),\"\")","v":""}]
[null,null,null,null,null,null,null,null,{"$f":"IF(E3564<>\"\",ROUND((VLOOKUP(E3564,Param!$A$7:$E$13,4,0)*Fonct_Empl!F3564*((Fonct_Empl!G3564/12)))+(VLOOKUP(E3564,Param!$A$7:$E$13,5,0)*Fonct_Empl!H3564),2),\"\")","v":""}]
[null,null,null,null,null,null,null,null,{"$f":"IF(E3565<>\"\",ROUND((VLOOKUP(E3565,Param!$A$7:$E$13,4,0)*Fonct_Empl!F3565*((Fonct_Empl!G3565/12)))+(VLOOKUP(E3565,Param!$A$7:$E$13,5,0)*Fonct_Empl!H3565),2),\"\")","v":""}]
[null,null,null,null,null,null,null,null,{"$f":"IF(E3566<>\"\",ROUND((VLOOKUP(E3566,Param!$A$7:$E$13,4,0)*Fonct_Empl!F3566*((Fonct_Empl!G3566/12)))+(VLOOKUP(E3566,Param!$A$7:$E$13,5,0)*Fonct_Empl!H3566),2),\"\")","v":""}]
[null,null,null,null,null,null,null,null,{"$f":"IF(E3567<>\"\",ROUND((VLOOKUP(E3567,Param!$A$7:$E$13,4,0)*Fonct_Empl!F3567*((Fonct_Empl!G3567/12)))+(VLOOKUP(E3567,Param!$A$7:$E$13,5,0)*Fonct_Empl!H3567),2),\"\")","v":""}]
[null,null,null,null,null,null,null,null,{"$f":"IF(E3568<>\"\",ROUND((VLOOKUP(E3568,Param!$A$7:$E$13,4,0)*Fonct_Empl!F3568*((Fonct_Empl!G3568/12)))+(VLOOKUP(E3568,Param!$A$7:$E$13,5,0)*Fonct_Empl!H3568),2),\"\")","v":""}]
[null,null,null,null,null,null,null,null,{"$f":"IF(E3569<>\"\",ROUND((VLOOKUP(E3569,Param!$A$7:$E$13,4,0)*Fonct_Empl!F3569*((Fonct_Empl!G3569/12)))+(VLOOKUP(E3569,Param!$A$7:$E$13,5,0)*Fonct_Empl!H3569),2),\"\")","v":""}]
[null,null,null,null,null,null,null,null,{"$f":"IF(E3570<>\"\",ROUND((VLOOKUP(E3570,Param!$A$7:$E$13,4,0)*Fonct_Empl!F3570*((Fonct_Empl!G3570/12)))+(VLOOKUP(E3570,Param!$A$7:$E$13,5,0)*Fonct_Empl!H3570),2),\"\")","v":""}]
[null,null,null,null,null,null,null,null,{"$f":"IF(E3571<>\"\",ROUND((VLOOKUP(E3571,Param!$A$7:$E$13,4,0)*Fonct_Empl!F3571*((Fonct_Empl!G3571/12)))+(VLOOKUP(E3571,Param!$A$7:$E$13,5,0)*Fonct_Empl!H3571),2),\"\")","v":""}]
[null,null,null,null,null,null,null,null,{"$f":"IF(E3572<>\"\",ROUND((VLOOKUP(E3572,Param!$A$7:$E$13,4,0)*Fonct_Empl!F3572*((Fonct_Empl!G3572/12)))+(VLOOKUP(E3572,Param!$A$7:$E$13,5,0)*Fonct_Empl!H3572),2),\"\")","v":""}]
[null,null,null,null,null,null,null,null,{"$f":"IF(E3573<>\"\",ROUND((VLOOKUP(E3573,Param!$A$7:$E$13,4,0)*Fonct_Empl!F3573*((Fonct_Empl!G3573/12)))+(VLOOKUP(E3573,Param!$A$7:$E$13,5,0)*Fonct_Empl!H3573),2),\"\")","v":""}]
[null,null,null,null,null,null,null,null,{"$f":"IF(E3574<>\"\",ROUND((VLOOKUP(E3574,Param!$A$7:$E$13,4,0)*Fonct_Empl!F3574*((Fonct_Empl!G3574/12)))+(VLOOKUP(E3574,Param!$A$7:$E$13,5,0)*Fonct_Empl!H3574),2),\"\")","v":""}]
[null,null,null,null,null,null,null,null,{"$f":"IF(E3575<>\"\",ROUND((VLOOKUP(E3575,Param!$A$7:$E$13,4,0)*Fonct_Empl!F3575*((Fonct_Empl!G3575/12)))+(VLOOKUP(E3575,Param!$A$7:$E$13,5,0)*Fonct_Empl!H3575),2),\"\")","v":""}]
[null,null,null,null,null,null,null,null,{"$f":"IF(E3576<>\"\",ROUND((VLOOKUP(E3576,Param!$A$7:$E$13,4,0)*Fonct_Empl!F3576*((Fonct_Empl!G3576/12)))+(VLOOKUP(E3576,Param!$A$7:$E$13,5,0)*Fonct_Empl!H3576),2),\"\")","v":""}]
[null,null,null,null,null,null,null,null,{"$f":"IF(E3577<>\"\",ROUND((VLOOKUP(E3577,Param!$A$7:$E$13,4,0)*Fonct_Empl!F3577*((Fonct_Empl!G3577/12)))+(VLOOKUP(E3577,Param!$A$7:$E$13,5,0)*Fonct_Empl!H3577),2),\"\")","v":""}]
[null,null,null,null,null,null,null,null,{"$f":"IF(E3578<>\"\",ROUND((VLOOKUP(E3578,Param!$A$7:$E$13,4,0)*Fonct_Empl!F3578*((Fonct_Empl!G3578/12)))+(VLOOKUP(E3578,Param!$A$7:$E$13,5,0)*Fonct_Empl!H3578),2),\"\")","v":""}]
[null,null,null,null,null,null,null,null,{"$f":"IF(E3579<>\"\",ROUND((VLOOKUP(E3579,Param!$A$7:$E$13,4,0)*Fonct_Empl!F3579*((Fonct_Empl!G3579/12)))+(VLOOKUP(E3579,Param!$A$7:$E$13,5,0)*Fonct_Empl!H3579),2),\"\")","v":""}]
[null,null,null,null,null,null,null,null,{"$f":"IF(E3580<>\"\",ROUND((VLOOKUP(E3580,Param!$A$7:$E$13,4,0)*Fonct_Empl!F3580*((Fonct_Empl!G3580/12)))+(VLOOKUP(E3580,Param!$A$7:$E$13,5,0)*Fonct_Empl!H3580),2),\"\")","v":""}]
[null,null,null,null,null,null,null,null,{"$f":"IF(E3581<>\"\",ROUND((VLOOKUP(E3581,Param!$A$7:$E$13,4,0)*Fonct_Empl!F3581*((Fonct_Empl!G3581/12)))+(VLOOKUP(E3581,Param!$A$7:$E$13,5,0)*Fonct_Empl!H3581),2),\"\")","v":""}]
[null,null,null,null,null,null,null,null,{"$f":"IF(E3582<>\"\",ROUND((VLOOKUP(E3582,Param!$A$7:$E$13,4,0)*Fonct_Empl!F3582*((Fonct_Empl!G3582/12)))+(VLOOKUP(E3582,Param!$A$7:$E$13,5,0)*Fonct_Empl!H3582),2),\"\")","v":""}]
[null,null,null,null,null,null,null,null,{"$f":"IF(E3583<>\"\",ROUND((VLOOKUP(E3583,Param!$A$7:$E$13,4,0)*Fonct_Empl!F3583*((Fonct_Empl!G3583/12)))+(VLOOKUP(E3583,Param!$A$7:$E$13,5,0)*Fonct_Empl!H3583),2),\"\")","v":""}]
[null,null,null,null,null,null,null,null,{"$f":"IF(E3584<>\"\",ROUND((VLOOKUP(E3584,Param!$A$7:$E$13,4,0)*Fonct_Empl!F3584*((Fonct_Empl!G3584/12)))+(VLOOKUP(E3584,Param!$A$7:$E$13,5,0)*Fonct_Empl!H3584),2),\"\")","v":""}]
[null,null,null,null,null,null,null,null,{"$f":"IF(E3585<>\"\",ROUND((VLOOKUP(E3585,Param!$A$7:$E$13,4,0)*Fonct_Empl!F3585*((Fonct_Empl!G3585/12)))+(VLOOKUP(E3585,Param!$A$7:$E$13,5,0)*Fonct_Empl!H3585),2),\"\")","v":""}]
[null,null,null,null,null,null,null,null,{"$f":"IF(E3586<>\"\",ROUND((VLOOKUP(E3586,Param!$A$7:$E$13,4,0)*Fonct_Empl!F3586*((Fonct_Empl!G3586/12)))+(VLOOKUP(E3586,Param!$A$7:$E$13,5,0)*Fonct_Empl!H3586),2),\"\")","v":""}]
[null,null,null,null,null,null,null,null,{"$f":"IF(E3587<>\"\",ROUND((VLOOKUP(E3587,Param!$A$7:$E$13,4,0)*Fonct_Empl!F3587*((Fonct_Empl!G3587/12)))+(VLOOKUP(E3587,Param!$A$7:$E$13,5,0)*Fonct_Empl!H3587),2),\"\")","v":""}]
[null,null,null,null,null,null,null,null,{"$f":"IF(E3588<>\"\",ROUND((VLOOKUP(E3588,Param!$A$7:$E$13,4,0)*Fonct_Empl!F3588*((Fonct_Empl!G3588/12)))+(VLOOKUP(E3588,Param!$A$7:$E$13,5,0)*Fonct_Empl!H3588),2),\"\")","v":""}]
[null,null,null,null,null,null,null,null,{"$f":"IF(E3589<>\"\",ROUND((VLOOKUP(E3589,Param!$A$7:$E$13,4,0)*Fonct_Empl!F3589*((Fonct_Empl!G3589/12)))+(VLOOKUP(E3589,Param!$A$7:$E$13,5,0)*Fonct_Empl!H3589),2),\"\")","v":""}]
[null,null,null,null,null,null,null,null,{"$f":"IF(E3590<>\"\",ROUND((VLOOKUP(E3590,Param!$A$7:$E$13,4,0)*Fonct_Empl!F3590*((Fonct_Empl!G3590/12)))+(VLOOKUP(E3590,Param!$A$7:$E$13,5,0)*Fonct_Empl!H3590),2),\"\")","v":""}]
[null,null,null,null,null,null,null,null,{"$f":"IF(E3591<>\"\",ROUND((VLOOKUP(E3591,Param!$A$7:$E$13,4,0)*Fonct_Empl!F3591*((Fonct_Empl!G3591/12)))+(VLOOKUP(E3591,Param!$A$7:$E$13,5,0)*Fonct_Empl!H3591),2),\"\")","v":""}]
[null,null,null,null,null,null,null,null,{"$f":"IF(E3592<>\"\",ROUND((VLOOKUP(E3592,Param!$A$7:$E$13,4,0)*Fonct_Empl!F3592*((Fonct_Empl!G3592/12)))+(VLOOKUP(E3592,Param!$A$7:$E$13,5,0)*Fonct_Empl!H3592),2),\"\")","v":""}]
[null,null,null,null,null,null,null,null,{"$f":"IF(E3593<>\"\",ROUND((VLOOKUP(E3593,Param!$A$7:$E$13,4,0)*Fonct_Empl!F3593*((Fonct_Empl!G3593/12)))+(VLOOKUP(E3593,Param!$A$7:$E$13,5,0)*Fonct_Empl!H3593),2),\"\")","v":""}]
[null,null,null,null,null,null,null,null,{"$f":"IF(E3594<>\"\",ROUND((VLOOKUP(E3594,Param!$A$7:$E$13,4,0)*Fonct_Empl!F3594*((Fonct_Empl!G3594/12)))+(VLOOKUP(E3594,Param!$A$7:$E$13,5,0)*Fonct_Empl!H3594),2),\"\")","v":""}]
[null,null,null,null,null,null,null,null,{"$f":"IF(E3595<>\"\",ROUND((VLOOKUP(E3595,Param!$A$7:$E$13,4,0)*Fonct_Empl!F3595*((Fonct_Empl!G3595/12)))+(VLOOKUP(E3595,Param!$A$7:$E$13,5,0)*Fonct_Empl!H3595),2),\"\")","v":""}]
[null,null,null,null,null,null,null,null,{"$f":"IF(E3596<>\"\",ROUND((VLOOKUP(E3596,Param!$A$7:$E$13,4,0)*Fonct_Empl!F3596*((Fonct_Empl!G3596/12)))+(VLOOKUP(E3596,Param!$A$7:$E$13,5,0)*Fonct_Empl!H3596),2),\"\")","v":""}]
[null,null,null,null,null,null,null,null,{"$f":"IF(E3597<>\"\",ROUND((VLOOKUP(E3597,Param!$A$7:$E$13,4,0)*Fonct_Empl!F3597*((Fonct_Empl!G3597/12)))+(VLOOKUP(E3597,Param!$A$7:$E$13,5,0)*Fonct_Empl!H3597),2),\"\")","v":""}]
[null,null,null,null,null,null,null,null,{"$f":"IF(E3598<>\"\",ROUND((VLOOKUP(E3598,Param!$A$7:$E$13,4,0)*Fonct_Empl!F3598*((Fonct_Empl!G3598/12)))+(VLOOKUP(E3598,Param!$A$7:$E$13,5,0)*Fonct_Empl!H3598),2),\"\")","v":""}]
[null,null,null,null,null,null,null,null,{"$f":"IF(E3599<>\"\",ROUND((VLOOKUP(E3599,Param!$A$7:$E$13,4,0)*Fonct_Empl!F3599*((Fonct_Empl!G3599/12)))+(VLOOKUP(E3599,Param!$A$7:$E$13,5,0)*Fonct_Empl!H3599),2),\"\")","v":""}]
[null,null,null,null,null,null,null,null,{"$f":"IF(E3600<>\"\",ROUND((VLOOKUP(E3600,Param!$A$7:$E$13,4,0)*Fonct_Empl!F3600*((Fonct_Empl!G3600/12)))+(VLOOKUP(E3600,Param!$A$7:$E$13,5,0)*Fonct_Empl!H3600),2),\"\")","v":""}]
[null,null,null,null,null,null,null,null,{"$f":"IF(E3601<>\"\",ROUND((VLOOKUP(E3601,Param!$A$7:$E$13,4,0)*Fonct_Empl!F3601*((Fonct_Empl!G3601/12)))+(VLOOKUP(E3601,Param!$A$7:$E$13,5,0)*Fonct_Empl!H3601),2),\"\")","v":""}]
[null,null,null,null,null,null,null,null,{"$f":"IF(E3602<>\"\",ROUND((VLOOKUP(E3602,Param!$A$7:$E$13,4,0)*Fonct_Empl!F3602*((Fonct_Empl!G3602/12)))+(VLOOKUP(E3602,Param!$A$7:$E$13,5,0)*Fonct_Empl!H3602),2),\"\")","v":""}]
[null,null,null,null,null,null,null,null,{"$f":"IF(E3603<>\"\",ROUND((VLOOKUP(E3603,Param!$A$7:$E$13,4,0)*Fonct_Empl!F3603*((Fonct_Empl!G3603/12)))+(VLOOKUP(E3603,Param!$A$7:$E$13,5,0)*Fonct_Empl!H3603),2),\"\")","v":""}]
[null,null,null,null,null,null,null,null,{"$f":"IF(E3604<>\"\",ROUND((VLOOKUP(E3604,Param!$A$7:$E$13,4,0)*Fonct_Empl!F3604*((Fonct_Empl!G3604/12)))+(VLOOKUP(E3604,Param!$A$7:$E$13,5,0)*Fonct_Empl!H3604),2),\"\")","v":""}]
[null,null,null,null,null,null,null,null,{"$f":"IF(E3605<>\"\",ROUND((VLOOKUP(E3605,Param!$A$7:$E$13,4,0)*Fonct_Empl!F3605*((Fonct_Empl!G3605/12)))+(VLOOKUP(E3605,Param!$A$7:$E$13,5,0)*Fonct_Empl!H3605),2),\"\")","v":""}]
[null,null,null,null,null,null,null,null,{"$f":"IF(E3606<>\"\",ROUND((VLOOKUP(E3606,Param!$A$7:$E$13,4,0)*Fonct_Empl!F3606*((Fonct_Empl!G3606/12)))+(VLOOKUP(E3606,Param!$A$7:$E$13,5,0)*Fonct_Empl!H3606),2),\"\")","v":""}]
[null,null,null,null,null,null,null,null,{"$f":"IF(E3607<>\"\",ROUND((VLOOKUP(E3607,Param!$A$7:$E$13,4,0)*Fonct_Empl!F3607*((Fonct_Empl!G3607/12)))+(VLOOKUP(E3607,Param!$A$7:$E$13,5,0)*Fonct_Empl!H3607),2),\"\")","v":""}]
[null,null,null,null,null,null,null,null,{"$f":"IF(E3608<>\"\",ROUND((VLOOKUP(E3608,Param!$A$7:$E$13,4,0)*Fonct_Empl!F3608*((Fonct_Empl!G3608/12)))+(VLOOKUP(E3608,Param!$A$7:$E$13,5,0)*Fonct_Empl!H3608),2),\"\")","v":""}]
[null,null,null,null,null,null,null,null,{"$f":"IF(E3609<>\"\",ROUND((VLOOKUP(E3609,Param!$A$7:$E$13,4,0)*Fonct_Empl!F3609*((Fonct_Empl!G3609/12)))+(VLOOKUP(E3609,Param!$A$7:$E$13,5,0)*Fonct_Empl!H3609),2),\"\")","v":""}]
[null,null,null,null,null,null,null,null,{"$f":"IF(E3610<>\"\",ROUND((VLOOKUP(E3610,Param!$A$7:$E$13,4,0)*Fonct_Empl!F3610*((Fonct_Empl!G3610/12)))+(VLOOKUP(E3610,Param!$A$7:$E$13,5,0)*Fonct_Empl!H3610),2),\"\")","v":""}]
[null,null,null,null,null,null,null,null,{"$f":"IF(E3611<>\"\",ROUND((VLOOKUP(E3611,Param!$A$7:$E$13,4,0)*Fonct_Empl!F3611*((Fonct_Empl!G3611/12)))+(VLOOKUP(E3611,Param!$A$7:$E$13,5,0)*Fonct_Empl!H3611),2),\"\")","v":""}]
[null,null,null,null,null,null,null,null,{"$f":"IF(E3612<>\"\",ROUND((VLOOKUP(E3612,Param!$A$7:$E$13,4,0)*Fonct_Empl!F3612*((Fonct_Empl!G3612/12)))+(VLOOKUP(E3612,Param!$A$7:$E$13,5,0)*Fonct_Empl!H3612),2),\"\")","v":""}]
[null,null,null,null,null,null,null,null,{"$f":"IF(E3613<>\"\",ROUND((VLOOKUP(E3613,Param!$A$7:$E$13,4,0)*Fonct_Empl!F3613*((Fonct_Empl!G3613/12)))+(VLOOKUP(E3613,Param!$A$7:$E$13,5,0)*Fonct_Empl!H3613),2),\"\")","v":""}]
[null,null,null,null,null,null,null,null,{"$f":"IF(E3614<>\"\",ROUND((VLOOKUP(E3614,Param!$A$7:$E$13,4,0)*Fonct_Empl!F3614*((Fonct_Empl!G3614/12)))+(VLOOKUP(E3614,Param!$A$7:$E$13,5,0)*Fonct_Empl!H3614),2),\"\")","v":""}]
[null,null,null,null,null,null,null,null,{"$f":"IF(E3615<>\"\",ROUND((VLOOKUP(E3615,Param!$A$7:$E$13,4,0)*Fonct_Empl!F3615*((Fonct_Empl!G3615/12)))+(VLOOKUP(E3615,Param!$A$7:$E$13,5,0)*Fonct_Empl!H3615),2),\"\")","v":""}]
[null,null,null,null,null,null,null,null,{"$f":"IF(E3616<>\"\",ROUND((VLOOKUP(E3616,Param!$A$7:$E$13,4,0)*Fonct_Empl!F3616*((Fonct_Empl!G3616/12)))+(VLOOKUP(E3616,Param!$A$7:$E$13,5,0)*Fonct_Empl!H3616),2),\"\")","v":""}]
[null,null,null,null,null,null,null,null,{"$f":"IF(E3617<>\"\",ROUND((VLOOKUP(E3617,Param!$A$7:$E$13,4,0)*Fonct_Empl!F3617*((Fonct_Empl!G3617/12)))+(VLOOKUP(E3617,Param!$A$7:$E$13,5,0)*Fonct_Empl!H3617),2),\"\")","v":""}]
[null,null,null,null,null,null,null,null,{"$f":"IF(E3618<>\"\",ROUND((VLOOKUP(E3618,Param!$A$7:$E$13,4,0)*Fonct_Empl!F3618*((Fonct_Empl!G3618/12)))+(VLOOKUP(E3618,Param!$A$7:$E$13,5,0)*Fonct_Empl!H3618),2),\"\")","v":""}]
[null,null,null,null,null,null,null,null,{"$f":"IF(E3619<>\"\",ROUND((VLOOKUP(E3619,Param!$A$7:$E$13,4,0)*Fonct_Empl!F3619*((Fonct_Empl!G3619/12)))+(VLOOKUP(E3619,Param!$A$7:$E$13,5,0)*Fonct_Empl!H3619),2),\"\")","v":""}]
[null,null,null,null,null,null,null,null,{"$f":"IF(E3620<>\"\",ROUND((VLOOKUP(E3620,Param!$A$7:$E$13,4,0)*Fonct_Empl!F3620*((Fonct_Empl!G3620/12)))+(VLOOKUP(E3620,Param!$A$7:$E$13,5,0)*Fonct_Empl!H3620),2),\"\")","v":""}]
[null,null,null,null,null,null,null,null,{"$f":"IF(E3621<>\"\",ROUND((VLOOKUP(E3621,Param!$A$7:$E$13,4,0)*Fonct_Empl!F3621*((Fonct_Empl!G3621/12)))+(VLOOKUP(E3621,Param!$A$7:$E$13,5,0)*Fonct_Empl!H3621),2),\"\")","v":""}]
[null,null,null,null,null,null,null,null,{"$f":"IF(E3622<>\"\",ROUND((VLOOKUP(E3622,Param!$A$7:$E$13,4,0)*Fonct_Empl!F3622*((Fonct_Empl!G3622/12)))+(VLOOKUP(E3622,Param!$A$7:$E$13,5,0)*Fonct_Empl!H3622),2),\"\")","v":""}]
[null,null,null,null,null,null,null,null,{"$f":"IF(E3623<>\"\",ROUND((VLOOKUP(E3623,Param!$A$7:$E$13,4,0)*Fonct_Empl!F3623*((Fonct_Empl!G3623/12)))+(VLOOKUP(E3623,Param!$A$7:$E$13,5,0)*Fonct_Empl!H3623),2),\"\")","v":""}]
[null,null,null,null,null,null,null,null,{"$f":"IF(E3624<>\"\",ROUND((VLOOKUP(E3624,Param!$A$7:$E$13,4,0)*Fonct_Empl!F3624*((Fonct_Empl!G3624/12)))+(VLOOKUP(E3624,Param!$A$7:$E$13,5,0)*Fonct_Empl!H3624),2),\"\")","v":""}]
[null,null,null,null,null,null,null,null,{"$f":"IF(E3625<>\"\",ROUND((VLOOKUP(E3625,Param!$A$7:$E$13,4,0)*Fonct_Empl!F3625*((Fonct_Empl!G3625/12)))+(VLOOKUP(E3625,Param!$A$7:$E$13,5,0)*Fonct_Empl!H3625),2),\"\")","v":""}]
[null,null,null,null,null,null,null,null,{"$f":"IF(E3626<>\"\",ROUND((VLOOKUP(E3626,Param!$A$7:$E$13,4,0)*Fonct_Empl!F3626*((Fonct_Empl!G3626/12)))+(VLOOKUP(E3626,Param!$A$7:$E$13,5,0)*Fonct_Empl!H3626),2),\"\")","v":""}]
[null,null,null,null,null,null,null,null,{"$f":"IF(E3627<>\"\",ROUND((VLOOKUP(E3627,Param!$A$7:$E$13,4,0)*Fonct_Empl!F3627*((Fonct_Empl!G3627/12)))+(VLOOKUP(E3627,Param!$A$7:$E$13,5,0)*Fonct_Empl!H3627),2),\"\")","v":""}]
[null,null,null,null,null,null,null,null,{"$f":"IF(E3628<>\"\",ROUND((VLOOKUP(E3628,Param!$A$7:$E$13,4,0)*Fonct_Empl!F3628*((Fonct_Empl!G3628/12)))+(VLOOKUP(E3628,Param!$A$7:$E$13,5,0)*Fonct_Empl!H3628),2),\"\")","v":""}]
[null,null,null,null,null,null,null,null,{"$f":"IF(E3629<>\"\",ROUND((VLOOKUP(E3629,Param!$A$7:$E$13,4,0)*Fonct_Empl!F3629*((Fonct_Empl!G3629/12)))+(VLOOKUP(E3629,Param!$A$7:$E$13,5,0)*Fonct_Empl!H3629),2),\"\")","v":""}]
[null,null,null,null,null,null,null,null,{"$f":"IF(E3630<>\"\",ROUND((VLOOKUP(E3630,Param!$A$7:$E$13,4,0)*Fonct_Empl!F3630*((Fonct_Empl!G3630/12)))+(VLOOKUP(E3630,Param!$A$7:$E$13,5,0)*Fonct_Empl!H3630),2),\"\")","v":""}]
[null,null,null,null,null,null,null,null,{"$f":"IF(E3631<>\"\",ROUND((VLOOKUP(E3631,Param!$A$7:$E$13,4,0)*Fonct_Empl!F3631*((Fonct_Empl!G3631/12)))+(VLOOKUP(E3631,Param!$A$7:$E$13,5,0)*Fonct_Empl!H3631),2),\"\")","v":""}]
[null,null,null,null,null,null,null,null,{"$f":"IF(E3632<>\"\",ROUND((VLOOKUP(E3632,Param!$A$7:$E$13,4,0)*Fonct_Empl!F3632*((Fonct_Empl!G3632/12)))+(VLOOKUP(E3632,Param!$A$7:$E$13,5,0)*Fonct_Empl!H3632),2),\"\")","v":""}]
[null,null,null,null,null,null,null,null,{"$f":"IF(E3633<>\"\",ROUND((VLOOKUP(E3633,Param!$A$7:$E$13,4,0)*Fonct_Empl!F3633*((Fonct_Empl!G3633/12)))+(VLOOKUP(E3633,Param!$A$7:$E$13,5,0)*Fonct_Empl!H3633),2),\"\")","v":""}]
[null,null,null,null,null,null,null,null,{"$f":"IF(E3634<>\"\",ROUND((VLOOKUP(E3634,Param!$A$7:$E$13,4,0)*Fonct_Empl!F3634*((Fonct_Empl!G3634/12)))+(VLOOKUP(E3634,Param!$A$7:$E$13,5,0)*Fonct_Empl!H3634),2),\"\")","v":""}]
[null,null,null,null,null,null,null,null,{"$f":"IF(E3635<>\"\",ROUND((VLOOKUP(E3635,Param!$A$7:$E$13,4,0)*Fonct_Empl!F3635*((Fonct_Empl!G3635/12)))+(VLOOKUP(E3635,Param!$A$7:$E$13,5,0)*Fonct_Empl!H3635),2),\"\")","v":""}]
[null,null,null,null,null,null,null,null,{"$f":"IF(E3636<>\"\",ROUND((VLOOKUP(E3636,Param!$A$7:$E$13,4,0)*Fonct_Empl!F3636*((Fonct_Empl!G3636/12)))+(VLOOKUP(E3636,Param!$A$7:$E$13,5,0)*Fonct_Empl!H3636),2),\"\")","v":""}]
[null,null,null,null,null,null,null,null,{"$f":"IF(E3637<>\"\",ROUND((VLOOKUP(E3637,Param!$A$7:$E$13,4,0)*Fonct_Empl!F3637*((Fonct_Empl!G3637/12)))+(VLOOKUP(E3637,Param!$A$7:$E$13,5,0)*Fonct_Empl!H3637),2),\"\")","v":""}]
[null,null,null,null,null,null,null,null,{"$f":"IF(E3638<>\"\",ROUND((VLOOKUP(E3638,Param!$A$7:$E$13,4,0)*Fonct_Empl!F3638*((Fonct_Empl!G3638/12)))+(VLOOKUP(E3638,Param!$A$7:$E$13,5,0)*Fonct_Empl!H3638),2),\"\")","v":""}]
[null,null,null,null,null,null,null,null,{"$f":"IF(E3639<>\"\",ROUND((VLOOKUP(E3639,Param!$A$7:$E$13,4,0)*Fonct_Empl!F3639*((Fonct_Empl!G3639/12)))+(VLOOKUP(E3639,Param!$A$7:$E$13,5,0)*Fonct_Empl!H3639),2),\"\")","v":""}]
[null,null,null,null,null,null,null,null,{"$f":"IF(E3640<>\"\",ROUND((VLOOKUP(E3640,Param!$A$7:$E$13,4,0)*Fonct_Empl!F3640*((Fonct_Empl!G3640/12)))+(VLOOKUP(E3640,Param!$A$7:$E$13,5,0)*Fonct_Empl!H3640),2),\"\")","v":""}]
[null,null,null,null,null,null,null,null,{"$f":"IF(E3641<>\"\",ROUND((VLOOKUP(E3641,Param!$A$7:$E$13,4,0)*Fonct_Empl!F3641*((Fonct_Empl!G3641/12)))+(VLOOKUP(E3641,Param!$A$7:$E$13,5,0)*Fonct_Empl!H3641),2),\"\")","v":""}]
[null,null,null,null,null,null,null,null,{"$f":"IF(E3642<>\"\",ROUND((VLOOKUP(E3642,Param!$A$7:$E$13,4,0)*Fonct_Empl!F3642*((Fonct_Empl!G3642/12)))+(VLOOKUP(E3642,Param!$A$7:$E$13,5,0)*Fonct_Empl!H3642),2),\"\")","v":""}]
[null,null,null,null,null,null,null,null,{"$f":"IF(E3643<>\"\",ROUND((VLOOKUP(E3643,Param!$A$7:$E$13,4,0)*Fonct_Empl!F3643*((Fonct_Empl!G3643/12)))+(VLOOKUP(E3643,Param!$A$7:$E$13,5,0)*Fonct_Empl!H3643),2),\"\")","v":""}]
[null,null,null,null,null,null,null,null,{"$f":"IF(E3644<>\"\",ROUND((VLOOKUP(E3644,Param!$A$7:$E$13,4,0)*Fonct_Empl!F3644*((Fonct_Empl!G3644/12)))+(VLOOKUP(E3644,Param!$A$7:$E$13,5,0)*Fonct_Empl!H3644),2),\"\")","v":""}]
[null,null,null,null,null,null,null,null,{"$f":"IF(E3645<>\"\",ROUND((VLOOKUP(E3645,Param!$A$7:$E$13,4,0)*Fonct_Empl!F3645*((Fonct_Empl!G3645/12)))+(VLOOKUP(E3645,Param!$A$7:$E$13,5,0)*Fonct_Empl!H3645),2),\"\")","v":""}]
[null,null,null,null,null,null,null,null,{"$f":"IF(E3646<>\"\",ROUND((VLOOKUP(E3646,Param!$A$7:$E$13,4,0)*Fonct_Empl!F3646*((Fonct_Empl!G3646/12)))+(VLOOKUP(E3646,Param!$A$7:$E$13,5,0)*Fonct_Empl!H3646),2),\"\")","v":""}]
[null,null,null,null,null,null,null,null,{"$f":"IF(E3647<>\"\",ROUND((VLOOKUP(E3647,Param!$A$7:$E$13,4,0)*Fonct_Empl!F3647*((Fonct_Empl!G3647/12)))+(VLOOKUP(E3647,Param!$A$7:$E$13,5,0)*Fonct_Empl!H3647),2),\"\")","v":""}]
[null,null,null,null,null,null,null,null,{"$f":"IF(E3648<>\"\",ROUND((VLOOKUP(E3648,Param!$A$7:$E$13,4,0)*Fonct_Empl!F3648*((Fonct_Empl!G3648/12)))+(VLOOKUP(E3648,Param!$A$7:$E$13,5,0)*Fonct_Empl!H3648),2),\"\")","v":""}]
[null,null,null,null,null,null,null,null,{"$f":"IF(E3649<>\"\",ROUND((VLOOKUP(E3649,Param!$A$7:$E$13,4,0)*Fonct_Empl!F3649*((Fonct_Empl!G3649/12)))+(VLOOKUP(E3649,Param!$A$7:$E$13,5,0)*Fonct_Empl!H3649),2),\"\")","v":""}]
[null,null,null,null,null,null,null,null,{"$f":"IF(E3650<>\"\",ROUND((VLOOKUP(E3650,Param!$A$7:$E$13,4,0)*Fonct_Empl!F3650*((Fonct_Empl!G3650/12)))+(VLOOKUP(E3650,Param!$A$7:$E$13,5,0)*Fonct_Empl!H3650),2),\"\")","v":""}]
[null,null,null,null,null,null,null,null,{"$f":"IF(E3651<>\"\",ROUND((VLOOKUP(E3651,Param!$A$7:$E$13,4,0)*Fonct_Empl!F3651*((Fonct_Empl!G3651/12)))+(VLOOKUP(E3651,Param!$A$7:$E$13,5,0)*Fonct_Empl!H3651),2),\"\")","v":""}]
[null,null,null,null,null,null,null,null,{"$f":"IF(E3652<>\"\",ROUND((VLOOKUP(E3652,Param!$A$7:$E$13,4,0)*Fonct_Empl!F3652*((Fonct_Empl!G3652/12)))+(VLOOKUP(E3652,Param!$A$7:$E$13,5,0)*Fonct_Empl!H3652),2),\"\")","v":""}]
[null,null,null,null,null,null,null,null,{"$f":"IF(E3653<>\"\",ROUND((VLOOKUP(E3653,Param!$A$7:$E$13,4,0)*Fonct_Empl!F3653*((Fonct_Empl!G3653/12)))+(VLOOKUP(E3653,Param!$A$7:$E$13,5,0)*Fonct_Empl!H3653),2),\"\")","v":""}]
[null,null,null,null,null,null,null,null,{"$f":"IF(E3654<>\"\",ROUND((VLOOKUP(E3654,Param!$A$7:$E$13,4,0)*Fonct_Empl!F3654*((Fonct_Empl!G3654/12)))+(VLOOKUP(E3654,Param!$A$7:$E$13,5,0)*Fonct_Empl!H3654),2),\"\")","v":""}]
[null,null,null,null,null,null,null,null,{"$f":"IF(E3655<>\"\",ROUND((VLOOKUP(E3655,Param!$A$7:$E$13,4,0)*Fonct_Empl!F3655*((Fonct_Empl!G3655/12)))+(VLOOKUP(E3655,Param!$A$7:$E$13,5,0)*Fonct_Empl!H3655),2),\"\")","v":""}]
[null,null,null,null,null,null,null,null,{"$f":"IF(E3656<>\"\",ROUND((VLOOKUP(E3656,Param!$A$7:$E$13,4,0)*Fonct_Empl!F3656*((Fonct_Empl!G3656/12)))+(VLOOKUP(E3656,Param!$A$7:$E$13,5,0)*Fonct_Empl!H3656),2),\"\")","v":""}]
[null,null,null,null,null,null,null,null,{"$f":"IF(E3657<>\"\",ROUND((VLOOKUP(E3657,Param!$A$7:$E$13,4,0)*Fonct_Empl!F3657*((Fonct_Empl!G3657/12)))+(VLOOKUP(E3657,Param!$A$7:$E$13,5,0)*Fonct_Empl!H3657),2),\"\")","v":""}]
[null,null,null,null,null,null,null,null,{"$f":"IF(E3658<>\"\",ROUND((VLOOKUP(E3658,Param!$A$7:$E$13,4,0)*Fonct_Empl!F3658*((Fonct_Empl!G3658/12)))+(VLOOKUP(E3658,Param!$A$7:$E$13,5,0)*Fonct_Empl!H3658),2),\"\")","v":""}]
[null,null,null,null,null,null,null,null,{"$f":"IF(E3659<>\"\",ROUND((VLOOKUP(E3659,Param!$A$7:$E$13,4,0)*Fonct_Empl!F3659*((Fonct_Empl!G3659/12)))+(VLOOKUP(E3659,Param!$A$7:$E$13,5,0)*Fonct_Empl!H3659),2),\"\")","v":""}]
[null,null,null,null,null,null,null,null,{"$f":"IF(E3660<>\"\",ROUND((VLOOKUP(E3660,Param!$A$7:$E$13,4,0)*Fonct_Empl!F3660*((Fonct_Empl!G3660/12)))+(VLOOKUP(E3660,Param!$A$7:$E$13,5,0)*Fonct_Empl!H3660),2),\"\")","v":""}]
[null,null,null,null,null,null,null,null,{"$f":"IF(E3661<>\"\",ROUND((VLOOKUP(E3661,Param!$A$7:$E$13,4,0)*Fonct_Empl!F3661*((Fonct_Empl!G3661/12)))+(VLOOKUP(E3661,Param!$A$7:$E$13,5,0)*Fonct_Empl!H3661),2),\"\")","v":""}]
[null,null,null,null,null,null,null,null,{"$f":"IF(E3662<>\"\",ROUND((VLOOKUP(E3662,Param!$A$7:$E$13,4,0)*Fonct_Empl!F3662*((Fonct_Empl!G3662/12)))+(VLOOKUP(E3662,Param!$A$7:$E$13,5,0)*Fonct_Empl!H3662),2),\"\")","v":""}]
[null,null,null,null,null,null,null,null,{"$f":"IF(E3663<>\"\",ROUND((VLOOKUP(E3663,Param!$A$7:$E$13,4,0)*Fonct_Empl!F3663*((Fonct_Empl!G3663/12)))+(VLOOKUP(E3663,Param!$A$7:$E$13,5,0)*Fonct_Empl!H3663),2),\"\")","v":""}]
[null,null,null,null,null,null,null,null,{"$f":"IF(E3664<>\"\",ROUND((VLOOKUP(E3664,Param!$A$7:$E$13,4,0)*Fonct_Empl!F3664*((Fonct_Empl!G3664/12)))+(VLOOKUP(E3664,Param!$A$7:$E$13,5,0)*Fonct_Empl!H3664),2),\"\")","v":""}]
[null,null,null,null,null,null,null,null,{"$f":"IF(E3665<>\"\",ROUND((VLOOKUP(E3665,Param!$A$7:$E$13,4,0)*Fonct_Empl!F3665*((Fonct_Empl!G3665/12)))+(VLOOKUP(E3665,Param!$A$7:$E$13,5,0)*Fonct_Empl!H3665),2),\"\")","v":""}]
[null,null,null,null,null,null,null,null,{"$f":"IF(E3666<>\"\",ROUND((VLOOKUP(E3666,Param!$A$7:$E$13,4,0)*Fonct_Empl!F3666*((Fonct_Empl!G3666/12)))+(VLOOKUP(E3666,Param!$A$7:$E$13,5,0)*Fonct_Empl!H3666),2),\"\")","v":""}]
[null,null,null,null,null,null,null,null,{"$f":"IF(E3667<>\"\",ROUND((VLOOKUP(E3667,Param!$A$7:$E$13,4,0)*Fonct_Empl!F3667*((Fonct_Empl!G3667/12)))+(VLOOKUP(E3667,Param!$A$7:$E$13,5,0)*Fonct_Empl!H3667),2),\"\")","v":""}]
[null,null,null,null,null,null,null,null,{"$f":"IF(E3668<>\"\",ROUND((VLOOKUP(E3668,Param!$A$7:$E$13,4,0)*Fonct_Empl!F3668*((Fonct_Empl!G3668/12)))+(VLOOKUP(E3668,Param!$A$7:$E$13,5,0)*Fonct_Empl!H3668),2),\"\")","v":""}]
[null,null,null,null,null,null,null,null,{"$f":"IF(E3669<>\"\",ROUND((VLOOKUP(E3669,Param!$A$7:$E$13,4,0)*Fonct_Empl!F3669*((Fonct_Empl!G3669/12)))+(VLOOKUP(E3669,Param!$A$7:$E$13,5,0)*Fonct_Empl!H3669),2),\"\")","v":""}]
[null,null,null,null,null,null,null,null,{"$f":"IF(E3670<>\"\",ROUND((VLOOKUP(E3670,Param!$A$7:$E$13,4,0)*Fonct_Empl!F3670*((Fonct_Empl!G3670/12)))+(VLOOKUP(E3670,Param!$A$7:$E$13,5,0)*Fonct_Empl!H3670),2),\"\")","v":""}]
[null,null,null,null,null,null,null,null,{"$f":"IF(E3671<>\"\",ROUND((VLOOKUP(E3671,Param!$A$7:$E$13,4,0)*Fonct_Empl!F3671*((Fonct_Empl!G3671/12)))+(VLOOKUP(E3671,Param!$A$7:$E$13,5,0)*Fonct_Empl!H3671),2),\"\")","v":""}]
[null,null,null,null,null,null,null,null,{"$f":"IF(E3672<>\"\",ROUND((VLOOKUP(E3672,Param!$A$7:$E$13,4,0)*Fonct_Empl!F3672*((Fonct_Empl!G3672/12)))+(VLOOKUP(E3672,Param!$A$7:$E$13,5,0)*Fonct_Empl!H3672),2),\"\")","v":""}]
[null,null,null,null,null,null,null,null,{"$f":"IF(E3673<>\"\",ROUND((VLOOKUP(E3673,Param!$A$7:$E$13,4,0)*Fonct_Empl!F3673*((Fonct_Empl!G3673/12)))+(VLOOKUP(E3673,Param!$A$7:$E$13,5,0)*Fonct_Empl!H3673),2),\"\")","v":""}]
[null,null,null,null,null,null,null,null,{"$f":"IF(E3674<>\"\",ROUND((VLOOKUP(E3674,Param!$A$7:$E$13,4,0)*Fonct_Empl!F3674*((Fonct_Empl!G3674/12)))+(VLOOKUP(E3674,Param!$A$7:$E$13,5,0)*Fonct_Empl!H3674),2),\"\")","v":""}]
[null,null,null,null,null,null,null,null,{"$f":"IF(E3675<>\"\",ROUND((VLOOKUP(E3675,Param!$A$7:$E$13,4,0)*Fonct_Empl!F3675*((Fonct_Empl!G3675/12)))+(VLOOKUP(E3675,Param!$A$7:$E$13,5,0)*Fonct_Empl!H3675),2),\"\")","v":""}]
[null,null,null,null,null,null,null,null,{"$f":"IF(E3676<>\"\",ROUND((VLOOKUP(E3676,Param!$A$7:$E$13,4,0)*Fonct_Empl!F3676*((Fonct_Empl!G3676/12)))+(VLOOKUP(E3676,Param!$A$7:$E$13,5,0)*Fonct_Empl!H3676),2),\"\")","v":""}]
[null,null,null,null,null,null,null,null,{"$f":"IF(E3677<>\"\",ROUND((VLOOKUP(E3677,Param!$A$7:$E$13,4,0)*Fonct_Empl!F3677*((Fonct_Empl!G3677/12)))+(VLOOKUP(E3677,Param!$A$7:$E$13,5,0)*Fonct_Empl!H3677),2),\"\")","v":""}]
[null,null,null,null,null,null,null,null,{"$f":"IF(E3678<>\"\",ROUND((VLOOKUP(E3678,Param!$A$7:$E$13,4,0)*Fonct_Empl!F3678*((Fonct_Empl!G3678/12)))+(VLOOKUP(E3678,Param!$A$7:$E$13,5,0)*Fonct_Empl!H3678),2),\"\")","v":""}]
[null,null,null,null,null,null,null,null,{"$f":"IF(E3679<>\"\",ROUND((VLOOKUP(E3679,Param!$A$7:$E$13,4,0)*Fonct_Empl!F3679*((Fonct_Empl!G3679/12)))+(VLOOKUP(E3679,Param!$A$7:$E$13,5,0)*Fonct_Empl!H3679),2),\"\")","v":""}]
[null,null,null,null,null,null,null,null,{"$f":"IF(E3680<>\"\",ROUND((VLOOKUP(E3680,Param!$A$7:$E$13,4,0)*Fonct_Empl!F3680*((Fonct_Empl!G3680/12)))+(VLOOKUP(E3680,Param!$A$7:$E$13,5,0)*Fonct_Empl!H3680),2),\"\")","v":""}]
[null,null,null,null,null,null,null,null,{"$f":"IF(E3681<>\"\",ROUND((VLOOKUP(E3681,Param!$A$7:$E$13,4,0)*Fonct_Empl!F3681*((Fonct_Empl!G3681/12)))+(VLOOKUP(E3681,Param!$A$7:$E$13,5,0)*Fonct_Empl!H3681),2),\"\")","v":""}]
[null,null,null,null,null,null,null,null,{"$f":"IF(E3682<>\"\",ROUND((VLOOKUP(E3682,Param!$A$7:$E$13,4,0)*Fonct_Empl!F3682*((Fonct_Empl!G3682/12)))+(VLOOKUP(E3682,Param!$A$7:$E$13,5,0)*Fonct_Empl!H3682),2),\"\")","v":""}]
[null,null,null,null,null,null,null,null,{"$f":"IF(E3683<>\"\",ROUND((VLOOKUP(E3683,Param!$A$7:$E$13,4,0)*Fonct_Empl!F3683*((Fonct_Empl!G3683/12)))+(VLOOKUP(E3683,Param!$A$7:$E$13,5,0)*Fonct_Empl!H3683),2),\"\")","v":""}]
[null,null,null,null,null,null,null,null,{"$f":"IF(E3684<>\"\",ROUND((VLOOKUP(E3684,Param!$A$7:$E$13,4,0)*Fonct_Empl!F3684*((Fonct_Empl!G3684/12)))+(VLOOKUP(E3684,Param!$A$7:$E$13,5,0)*Fonct_Empl!H3684),2),\"\")","v":""}]
[null,null,null,null,null,null,null,null,{"$f":"IF(E3685<>\"\",ROUND((VLOOKUP(E3685,Param!$A$7:$E$13,4,0)*Fonct_Empl!F3685*((Fonct_Empl!G3685/12)))+(VLOOKUP(E3685,Param!$A$7:$E$13,5,0)*Fonct_Empl!H3685),2),\"\")","v":""}]
[null,null,null,null,null,null,null,null,{"$f":"IF(E3686<>\"\",ROUND((VLOOKUP(E3686,Param!$A$7:$E$13,4,0)*Fonct_Empl!F3686*((Fonct_Empl!G3686/12)))+(VLOOKUP(E3686,Param!$A$7:$E$13,5,0)*Fonct_Empl!H3686),2),\"\")","v":""}]
[null,null,null,null,null,null,null,null,{"$f":"IF(E3687<>\"\",ROUND((VLOOKUP(E3687,Param!$A$7:$E$13,4,0)*Fonct_Empl!F3687*((Fonct_Empl!G3687/12)))+(VLOOKUP(E3687,Param!$A$7:$E$13,5,0)*Fonct_Empl!H3687),2),\"\")","v":""}]
[null,null,null,null,null,null,null,null,{"$f":"IF(E3688<>\"\",ROUND((VLOOKUP(E3688,Param!$A$7:$E$13,4,0)*Fonct_Empl!F3688*((Fonct_Empl!G3688/12)))+(VLOOKUP(E3688,Param!$A$7:$E$13,5,0)*Fonct_Empl!H3688),2),\"\")","v":""}]
[null,null,null,null,null,null,null,null,{"$f":"IF(E3689<>\"\",ROUND((VLOOKUP(E3689,Param!$A$7:$E$13,4,0)*Fonct_Empl!F3689*((Fonct_Empl!G3689/12)))+(VLOOKUP(E3689,Param!$A$7:$E$13,5,0)*Fonct_Empl!H3689),2),\"\")","v":""}]
[null,null,null,null,null,null,null,null,{"$f":"IF(E3690<>\"\",ROUND((VLOOKUP(E3690,Param!$A$7:$E$13,4,0)*Fonct_Empl!F3690*((Fonct_Empl!G3690/12)))+(VLOOKUP(E3690,Param!$A$7:$E$13,5,0)*Fonct_Empl!H3690),2),\"\")","v":""}]
[null,null,null,null,null,null,null,null,{"$f":"IF(E3691<>\"\",ROUND((VLOOKUP(E3691,Param!$A$7:$E$13,4,0)*Fonct_Empl!F3691*((Fonct_Empl!G3691/12)))+(VLOOKUP(E3691,Param!$A$7:$E$13,5,0)*Fonct_Empl!H3691),2),\"\")","v":""}]
[null,null,null,null,null,null,null,null,{"$f":"IF(E3692<>\"\",ROUND((VLOOKUP(E3692,Param!$A$7:$E$13,4,0)*Fonct_Empl!F3692*((Fonct_Empl!G3692/12)))+(VLOOKUP(E3692,Param!$A$7:$E$13,5,0)*Fonct_Empl!H3692),2),\"\")","v":""}]
[null,null,null,null,null,null,null,null,{"$f":"IF(E3693<>\"\",ROUND((VLOOKUP(E3693,Param!$A$7:$E$13,4,0)*Fonct_Empl!F3693*((Fonct_Empl!G3693/12)))+(VLOOKUP(E3693,Param!$A$7:$E$13,5,0)*Fonct_Empl!H3693),2),\"\")","v":""}]
[null,null,null,null,null,null,null,null,{"$f":"IF(E3694<>\"\",ROUND((VLOOKUP(E3694,Param!$A$7:$E$13,4,0)*Fonct_Empl!F3694*((Fonct_Empl!G3694/12)))+(VLOOKUP(E3694,Param!$A$7:$E$13,5,0)*Fonct_Empl!H3694),2),\"\")","v":""}]
[null,null,null,null,null,null,null,null,{"$f":"IF(E3695<>\"\",ROUND((VLOOKUP(E3695,Param!$A$7:$E$13,4,0)*Fonct_Empl!F3695*((Fonct_Empl!G3695/12)))+(VLOOKUP(E3695,Param!$A$7:$E$13,5,0)*Fonct_Empl!H3695),2),\"\")","v":""}]
[null,null,null,null,null,null,null,null,{"$f":"IF(E3696<>\"\",ROUND((VLOOKUP(E3696,Param!$A$7:$E$13,4,0)*Fonct_Empl!F3696*((Fonct_Empl!G3696/12)))+(VLOOKUP(E3696,Param!$A$7:$E$13,5,0)*Fonct_Empl!H3696),2),\"\")","v":""}]
[null,null,null,null,null,null,null,null,{"$f":"IF(E3697<>\"\",ROUND((VLOOKUP(E3697,Param!$A$7:$E$13,4,0)*Fonct_Empl!F3697*((Fonct_Empl!G3697/12)))+(VLOOKUP(E3697,Param!$A$7:$E$13,5,0)*Fonct_Empl!H3697),2),\"\")","v":""}]
[null,null,null,null,null,null,null,null,{"$f":"IF(E3698<>\"\",ROUND((VLOOKUP(E3698,Param!$A$7:$E$13,4,0)*Fonct_Empl!F3698*((Fonct_Empl!G3698/12)))+(VLOOKUP(E3698,Param!$A$7:$E$13,5,0)*Fonct_Empl!H3698),2),\"\")","v":""}]
[null,null,null,null,null,null,null,null,{"$f":"IF(E3699<>\"\",ROUND((VLOOKUP(E3699,Param!$A$7:$E$13,4,0)*Fonct_Empl!F3699*((Fonct_Empl!G3699/12)))+(VLOOKUP(E3699,Param!$A$7:$E$13,5,0)*Fonct_Empl!H3699),2),\"\")","v":""}]
[null,null,null,null,null,null,null,null,{"$f":"IF(E3700<>\"\",ROUND((VLOOKUP(E3700,Param!$A$7:$E$13,4,0)*Fonct_Empl!F3700*((Fonct_Empl!G3700/12)))+(VLOOKUP(E3700,Param!$A$7:$E$13,5,0)*Fonct_Empl!H3700),2),\"\")","v":""}]
[null,null,null,null,null,null,null,null,{"$f":"IF(E3701<>\"\",ROUND((VLOOKUP(E3701,Param!$A$7:$E$13,4,0)*Fonct_Empl!F3701*((Fonct_Empl!G3701/12)))+(VLOOKUP(E3701,Param!$A$7:$E$13,5,0)*Fonct_Empl!H3701),2),\"\")","v":""}]
[null,null,null,null,null,null,null,null,{"$f":"IF(E3702<>\"\",ROUND((VLOOKUP(E3702,Param!$A$7:$E$13,4,0)*Fonct_Empl!F3702*((Fonct_Empl!G3702/12)))+(VLOOKUP(E3702,Param!$A$7:$E$13,5,0)*Fonct_Empl!H3702),2),\"\")","v":""}]
[null,null,null,null,null,null,null,null,{"$f":"IF(E3703<>\"\",ROUND((VLOOKUP(E3703,Param!$A$7:$E$13,4,0)*Fonct_Empl!F3703*((Fonct_Empl!G3703/12)))+(VLOOKUP(E3703,Param!$A$7:$E$13,5,0)*Fonct_Empl!H3703),2),\"\")","v":""}]
[null,null,null,null,null,null,null,null,{"$f":"IF(E3704<>\"\",ROUND((VLOOKUP(E3704,Param!$A$7:$E$13,4,0)*Fonct_Empl!F3704*((Fonct_Empl!G3704/12)))+(VLOOKUP(E3704,Param!$A$7:$E$13,5,0)*Fonct_Empl!H3704),2),\"\")","v":""}]
[null,null,null,null,null,null,null,null,{"$f":"IF(E3705<>\"\",ROUND((VLOOKUP(E3705,Param!$A$7:$E$13,4,0)*Fonct_Empl!F3705*((Fonct_Empl!G3705/12)))+(VLOOKUP(E3705,Param!$A$7:$E$13,5,0)*Fonct_Empl!H3705),2),\"\")","v":""}]
[null,null,null,null,null,null,null,null,{"$f":"IF(E3706<>\"\",ROUND((VLOOKUP(E3706,Param!$A$7:$E$13,4,0)*Fonct_Empl!F3706*((Fonct_Empl!G3706/12)))+(VLOOKUP(E3706,Param!$A$7:$E$13,5,0)*Fonct_Empl!H3706),2),\"\")","v":""}]
[null,null,null,null,null,null,null,null,{"$f":"IF(E3707<>\"\",ROUND((VLOOKUP(E3707,Param!$A$7:$E$13,4,0)*Fonct_Empl!F3707*((Fonct_Empl!G3707/12)))+(VLOOKUP(E3707,Param!$A$7:$E$13,5,0)*Fonct_Empl!H3707),2),\"\")","v":""}]
[null,null,null,null,null,null,null,null,{"$f":"IF(E3708<>\"\",ROUND((VLOOKUP(E3708,Param!$A$7:$E$13,4,0)*Fonct_Empl!F3708*((Fonct_Empl!G3708/12)))+(VLOOKUP(E3708,Param!$A$7:$E$13,5,0)*Fonct_Empl!H3708),2),\"\")","v":""}]
[null,null,null,null,null,null,null,null,{"$f":"IF(E3709<>\"\",ROUND((VLOOKUP(E3709,Param!$A$7:$E$13,4,0)*Fonct_Empl!F3709*((Fonct_Empl!G3709/12)))+(VLOOKUP(E3709,Param!$A$7:$E$13,5,0)*Fonct_Empl!H3709),2),\"\")","v":""}]
[null,null,null,null,null,null,null,null,{"$f":"IF(E3710<>\"\",ROUND((VLOOKUP(E3710,Param!$A$7:$E$13,4,0)*Fonct_Empl!F3710*((Fonct_Empl!G3710/12)))+(VLOOKUP(E3710,Param!$A$7:$E$13,5,0)*Fonct_Empl!H3710),2),\"\")","v":""}]
[null,null,null,null,null,null,null,null,{"$f":"IF(E3711<>\"\",ROUND((VLOOKUP(E3711,Param!$A$7:$E$13,4,0)*Fonct_Empl!F3711*((Fonct_Empl!G3711/12)))+(VLOOKUP(E3711,Param!$A$7:$E$13,5,0)*Fonct_Empl!H3711),2),\"\")","v":""}]
[null,null,null,null,null,null,null,null,{"$f":"IF(E3712<>\"\",ROUND((VLOOKUP(E3712,Param!$A$7:$E$13,4,0)*Fonct_Empl!F3712*((Fonct_Empl!G3712/12)))+(VLOOKUP(E3712,Param!$A$7:$E$13,5,0)*Fonct_Empl!H3712),2),\"\")","v":""}]
[null,null,null,null,null,null,null,null,{"$f":"IF(E3713<>\"\",ROUND((VLOOKUP(E3713,Param!$A$7:$E$13,4,0)*Fonct_Empl!F3713*((Fonct_Empl!G3713/12)))+(VLOOKUP(E3713,Param!$A$7:$E$13,5,0)*Fonct_Empl!H3713),2),\"\")","v":""}]
[null,null,null,null,null,null,null,null,{"$f":"IF(E3714<>\"\",ROUND((VLOOKUP(E3714,Param!$A$7:$E$13,4,0)*Fonct_Empl!F3714*((Fonct_Empl!G3714/12)))+(VLOOKUP(E3714,Param!$A$7:$E$13,5,0)*Fonct_Empl!H3714),2),\"\")","v":""}]
[null,null,null,null,null,null,null,null,{"$f":"IF(E3715<>\"\",ROUND((VLOOKUP(E3715,Param!$A$7:$E$13,4,0)*Fonct_Empl!F3715*((Fonct_Empl!G3715/12)))+(VLOOKUP(E3715,Param!$A$7:$E$13,5,0)*Fonct_Empl!H3715),2),\"\")","v":""}]
[null,null,null,null,null,null,null,null,{"$f":"IF(E3716<>\"\",ROUND((VLOOKUP(E3716,Param!$A$7:$E$13,4,0)*Fonct_Empl!F3716*((Fonct_Empl!G3716/12)))+(VLOOKUP(E3716,Param!$A$7:$E$13,5,0)*Fonct_Empl!H3716),2),\"\")","v":""}]
[null,null,null,null,null,null,null,null,{"$f":"IF(E3717<>\"\",ROUND((VLOOKUP(E3717,Param!$A$7:$E$13,4,0)*Fonct_Empl!F3717*((Fonct_Empl!G3717/12)))+(VLOOKUP(E3717,Param!$A$7:$E$13,5,0)*Fonct_Empl!H3717),2),\"\")","v":""}]
[null,null,null,null,null,null,null,null,{"$f":"IF(E3718<>\"\",ROUND((VLOOKUP(E3718,Param!$A$7:$E$13,4,0)*Fonct_Empl!F3718*((Fonct_Empl!G3718/12)))+(VLOOKUP(E3718,Param!$A$7:$E$13,5,0)*Fonct_Empl!H3718),2),\"\")","v":""}]
[null,null,null,null,null,null,null,null,{"$f":"IF(E3719<>\"\",ROUND((VLOOKUP(E3719,Param!$A$7:$E$13,4,0)*Fonct_Empl!F3719*((Fonct_Empl!G3719/12)))+(VLOOKUP(E3719,Param!$A$7:$E$13,5,0)*Fonct_Empl!H3719),2),\"\")","v":""}]
[null,null,null,null,null,null,null,null,{"$f":"IF(E3720<>\"\",ROUND((VLOOKUP(E3720,Param!$A$7:$E$13,4,0)*Fonct_Empl!F3720*((Fonct_Empl!G3720/12)))+(VLOOKUP(E3720,Param!$A$7:$E$13,5,0)*Fonct_Empl!H3720),2),\"\")","v":""}]
[null,null,null,null,null,null,null,null,{"$f":"IF(E3721<>\"\",ROUND((VLOOKUP(E3721,Param!$A$7:$E$13,4,0)*Fonct_Empl!F3721*((Fonct_Empl!G3721/12)))+(VLOOKUP(E3721,Param!$A$7:$E$13,5,0)*Fonct_Empl!H3721),2),\"\")","v":""}]
[null,null,null,null,null,null,null,null,{"$f":"IF(E3722<>\"\",ROUND((VLOOKUP(E3722,Param!$A$7:$E$13,4,0)*Fonct_Empl!F3722*((Fonct_Empl!G3722/12)))+(VLOOKUP(E3722,Param!$A$7:$E$13,5,0)*Fonct_Empl!H3722),2),\"\")","v":""}]
[null,null,null,null,null,null,null,null,{"$f":"IF(E3723<>\"\",ROUND((VLOOKUP(E3723,Param!$A$7:$E$13,4,0)*Fonct_Empl!F3723*((Fonct_Empl!G3723/12)))+(VLOOKUP(E3723,Param!$A$7:$E$13,5,0)*Fonct_Empl!H3723),2),\"\")","v":""}]
[null,null,null,null,null,null,null,null,{"$f":"IF(E3724<>\"\",ROUND((VLOOKUP(E3724,Param!$A$7:$E$13,4,0)*Fonct_Empl!F3724*((Fonct_Empl!G3724/12)))+(VLOOKUP(E3724,Param!$A$7:$E$13,5,0)*Fonct_Empl!H3724),2),\"\")","v":""}]
[null,null,null,null,null,null,null,null,{"$f":"IF(E3725<>\"\",ROUND((VLOOKUP(E3725,Param!$A$7:$E$13,4,0)*Fonct_Empl!F3725*((Fonct_Empl!G3725/12)))+(VLOOKUP(E3725,Param!$A$7:$E$13,5,0)*Fonct_Empl!H3725),2),\"\")","v":""}]
[null,null,null,null,null,null,null,null,{"$f":"IF(E3726<>\"\",ROUND((VLOOKUP(E3726,Param!$A$7:$E$13,4,0)*Fonct_Empl!F3726*((Fonct_Empl!G3726/12)))+(VLOOKUP(E3726,Param!$A$7:$E$13,5,0)*Fonct_Empl!H3726),2),\"\")","v":""}]
[null,null,null,null,null,null,null,null,{"$f":"IF(E3727<>\"\",ROUND((VLOOKUP(E3727,Param!$A$7:$E$13,4,0)*Fonct_Empl!F3727*((Fonct_Empl!G3727/12)))+(VLOOKUP(E3727,Param!$A$7:$E$13,5,0)*Fonct_Empl!H3727),2),\"\")","v":""}]
[null,null,null,null,null,null,null,null,{"$f":"IF(E3728<>\"\",ROUND((VLOOKUP(E3728,Param!$A$7:$E$13,4,0)*Fonct_Empl!F3728*((Fonct_Empl!G3728/12)))+(VLOOKUP(E3728,Param!$A$7:$E$13,5,0)*Fonct_Empl!H3728),2),\"\")","v":""}]
[null,null,null,null,null,null,null,null,{"$f":"IF(E3729<>\"\",ROUND((VLOOKUP(E3729,Param!$A$7:$E$13,4,0)*Fonct_Empl!F3729*((Fonct_Empl!G3729/12)))+(VLOOKUP(E3729,Param!$A$7:$E$13,5,0)*Fonct_Empl!H3729),2),\"\")","v":""}]
[null,null,null,null,null,null,null,null,{"$f":"IF(E3730<>\"\",ROUND((VLOOKUP(E3730,Param!$A$7:$E$13,4,0)*Fonct_Empl!F3730*((Fonct_Empl!G3730/12)))+(VLOOKUP(E3730,Param!$A$7:$E$13,5,0)*Fonct_Empl!H3730),2),\"\")","v":""}]
[null,null,null,null,null,null,null,null,{"$f":"IF(E3731<>\"\",ROUND((VLOOKUP(E3731,Param!$A$7:$E$13,4,0)*Fonct_Empl!F3731*((Fonct_Empl!G3731/12)))+(VLOOKUP(E3731,Param!$A$7:$E$13,5,0)*Fonct_Empl!H3731),2),\"\")","v":""}]
[null,null,null,null,null,null,null,null,{"$f":"IF(E3732<>\"\",ROUND((VLOOKUP(E3732,Param!$A$7:$E$13,4,0)*Fonct_Empl!F3732*((Fonct_Empl!G3732/12)))+(VLOOKUP(E3732,Param!$A$7:$E$13,5,0)*Fonct_Empl!H3732),2),\"\")","v":""}]
[null,null,null,null,null,null,null,null,{"$f":"IF(E3733<>\"\",ROUND((VLOOKUP(E3733,Param!$A$7:$E$13,4,0)*Fonct_Empl!F3733*((Fonct_Empl!G3733/12)))+(VLOOKUP(E3733,Param!$A$7:$E$13,5,0)*Fonct_Empl!H3733),2),\"\")","v":""}]
[null,null,null,null,null,null,null,null,{"$f":"IF(E3734<>\"\",ROUND((VLOOKUP(E3734,Param!$A$7:$E$13,4,0)*Fonct_Empl!F3734*((Fonct_Empl!G3734/12)))+(VLOOKUP(E3734,Param!$A$7:$E$13,5,0)*Fonct_Empl!H3734),2),\"\")","v":""}]
[null,null,null,null,null,null,null,null,{"$f":"IF(E3735<>\"\",ROUND((VLOOKUP(E3735,Param!$A$7:$E$13,4,0)*Fonct_Empl!F3735*((Fonct_Empl!G3735/12)))+(VLOOKUP(E3735,Param!$A$7:$E$13,5,0)*Fonct_Empl!H3735),2),\"\")","v":""}]
[null,null,null,null,null,null,null,null,{"$f":"IF(E3736<>\"\",ROUND((VLOOKUP(E3736,Param!$A$7:$E$13,4,0)*Fonct_Empl!F3736*((Fonct_Empl!G3736/12)))+(VLOOKUP(E3736,Param!$A$7:$E$13,5,0)*Fonct_Empl!H3736),2),\"\")","v":""}]
[null,null,null,null,null,null,null,null,{"$f":"IF(E3737<>\"\",ROUND((VLOOKUP(E3737,Param!$A$7:$E$13,4,0)*Fonct_Empl!F3737*((Fonct_Empl!G3737/12)))+(VLOOKUP(E3737,Param!$A$7:$E$13,5,0)*Fonct_Empl!H3737),2),\"\")","v":""}]
[null,null,null,null,null,null,null,null,{"$f":"IF(E3738<>\"\",ROUND((VLOOKUP(E3738,Param!$A$7:$E$13,4,0)*Fonct_Empl!F3738*((Fonct_Empl!G3738/12)))+(VLOOKUP(E3738,Param!$A$7:$E$13,5,0)*Fonct_Empl!H3738),2),\"\")","v":""}]
[null,null,null,null,null,null,null,null,{"$f":"IF(E3739<>\"\",ROUND((VLOOKUP(E3739,Param!$A$7:$E$13,4,0)*Fonct_Empl!F3739*((Fonct_Empl!G3739/12)))+(VLOOKUP(E3739,Param!$A$7:$E$13,5,0)*Fonct_Empl!H3739),2),\"\")","v":""}]
[null,null,null,null,null,null,null,null,{"$f":"IF(E3740<>\"\",ROUND((VLOOKUP(E3740,Param!$A$7:$E$13,4,0)*Fonct_Empl!F3740*((Fonct_Empl!G3740/12)))+(VLOOKUP(E3740,Param!$A$7:$E$13,5,0)*Fonct_Empl!H3740),2),\"\")","v":""}]
[null,null,null,null,null,null,null,null,{"$f":"IF(E3741<>\"\",ROUND((VLOOKUP(E3741,Param!$A$7:$E$13,4,0)*Fonct_Empl!F3741*((Fonct_Empl!G3741/12)))+(VLOOKUP(E3741,Param!$A$7:$E$13,5,0)*Fonct_Empl!H3741),2),\"\")","v":""}]
[null,null,null,null,null,null,null,null,{"$f":"IF(E3742<>\"\",ROUND((VLOOKUP(E3742,Param!$A$7:$E$13,4,0)*Fonct_Empl!F3742*((Fonct_Empl!G3742/12)))+(VLOOKUP(E3742,Param!$A$7:$E$13,5,0)*Fonct_Empl!H3742),2),\"\")","v":""}]
[null,null,null,null,null,null,null,null,{"$f":"IF(E3743<>\"\",ROUND((VLOOKUP(E3743,Param!$A$7:$E$13,4,0)*Fonct_Empl!F3743*((Fonct_Empl!G3743/12)))+(VLOOKUP(E3743,Param!$A$7:$E$13,5,0)*Fonct_Empl!H3743),2),\"\")","v":""}]
[null,null,null,null,null,null,null,null,{"$f":"IF(E3744<>\"\",ROUND((VLOOKUP(E3744,Param!$A$7:$E$13,4,0)*Fonct_Empl!F3744*((Fonct_Empl!G3744/12)))+(VLOOKUP(E3744,Param!$A$7:$E$13,5,0)*Fonct_Empl!H3744),2),\"\")","v":""}]
[null,null,null,null,null,null,null,null,{"$f":"IF(E3745<>\"\",ROUND((VLOOKUP(E3745,Param!$A$7:$E$13,4,0)*Fonct_Empl!F3745*((Fonct_Empl!G3745/12)))+(VLOOKUP(E3745,Param!$A$7:$E$13,5,0)*Fonct_Empl!H3745),2),\"\")","v":""}]
[null,null,null,null,null,null,null,null,{"$f":"IF(E3746<>\"\",ROUND((VLOOKUP(E3746,Param!$A$7:$E$13,4,0)*Fonct_Empl!F3746*((Fonct_Empl!G3746/12)))+(VLOOKUP(E3746,Param!$A$7:$E$13,5,0)*Fonct_Empl!H3746),2),\"\")","v":""}]
[null,null,null,null,null,null,null,null,{"$f":"IF(E3747<>\"\",ROUND((VLOOKUP(E3747,Param!$A$7:$E$13,4,0)*Fonct_Empl!F3747*((Fonct_Empl!G3747/12)))+(VLOOKUP(E3747,Param!$A$7:$E$13,5,0)*Fonct_Empl!H3747),2),\"\")","v":""}]
[null,null,null,null,null,null,null,null,{"$f":"IF(E3748<>\"\",ROUND((VLOOKUP(E3748,Param!$A$7:$E$13,4,0)*Fonct_Empl!F3748*((Fonct_Empl!G3748/12)))+(VLOOKUP(E3748,Param!$A$7:$E$13,5,0)*Fonct_Empl!H3748),2),\"\")","v":""}]
[null,null,null,null,null,null,null,null,{"$f":"IF(E3749<>\"\",ROUND((VLOOKUP(E3749,Param!$A$7:$E$13,4,0)*Fonct_Empl!F3749*((Fonct_Empl!G3749/12)))+(VLOOKUP(E3749,Param!$A$7:$E$13,5,0)*Fonct_Empl!H3749),2),\"\")","v":""}]
[null,null,null,null,null,null,null,null,{"$f":"IF(E3750<>\"\",ROUND((VLOOKUP(E3750,Param!$A$7:$E$13,4,0)*Fonct_Empl!F3750*((Fonct_Empl!G3750/12)))+(VLOOKUP(E3750,Param!$A$7:$E$13,5,0)*Fonct_Empl!H3750),2),\"\")","v":""}]
[null,null,null,null,null,null,null,null,{"$f":"IF(E3751<>\"\",ROUND((VLOOKUP(E3751,Param!$A$7:$E$13,4,0)*Fonct_Empl!F3751*((Fonct_Empl!G3751/12)))+(VLOOKUP(E3751,Param!$A$7:$E$13,5,0)*Fonct_Empl!H3751),2),\"\")","v":""}]
[null,null,null,null,null,null,null,null,{"$f":"IF(E3752<>\"\",ROUND((VLOOKUP(E3752,Param!$A$7:$E$13,4,0)*Fonct_Empl!F3752*((Fonct_Empl!G3752/12)))+(VLOOKUP(E3752,Param!$A$7:$E$13,5,0)*Fonct_Empl!H3752),2),\"\")","v":""}]
[null,null,null,null,null,null,null,null,{"$f":"IF(E3753<>\"\",ROUND((VLOOKUP(E3753,Param!$A$7:$E$13,4,0)*Fonct_Empl!F3753*((Fonct_Empl!G3753/12)))+(VLOOKUP(E3753,Param!$A$7:$E$13,5,0)*Fonct_Empl!H3753),2),\"\")","v":""}]
[null,null,null,null,null,null,null,null,{"$f":"IF(E3754<>\"\",ROUND((VLOOKUP(E3754,Param!$A$7:$E$13,4,0)*Fonct_Empl!F3754*((Fonct_Empl!G3754/12)))+(VLOOKUP(E3754,Param!$A$7:$E$13,5,0)*Fonct_Empl!H3754),2),\"\")","v":""}]
[null,null,null,null,null,null,null,null,{"$f":"IF(E3755<>\"\",ROUND((VLOOKUP(E3755,Param!$A$7:$E$13,4,0)*Fonct_Empl!F3755*((Fonct_Empl!G3755/12)))+(VLOOKUP(E3755,Param!$A$7:$E$13,5,0)*Fonct_Empl!H3755),2),\"\")","v":""}]
[null,null,null,null,null,null,null,null,{"$f":"IF(E3756<>\"\",ROUND((VLOOKUP(E3756,Param!$A$7:$E$13,4,0)*Fonct_Empl!F3756*((Fonct_Empl!G3756/12)))+(VLOOKUP(E3756,Param!$A$7:$E$13,5,0)*Fonct_Empl!H3756),2),\"\")","v":""}]
[null,null,null,null,null,null,null,null,{"$f":"IF(E3757<>\"\",ROUND((VLOOKUP(E3757,Param!$A$7:$E$13,4,0)*Fonct_Empl!F3757*((Fonct_Empl!G3757/12)))+(VLOOKUP(E3757,Param!$A$7:$E$13,5,0)*Fonct_Empl!H3757),2),\"\")","v":""}]
[null,null,null,null,null,null,null,null,{"$f":"IF(E3758<>\"\",ROUND((VLOOKUP(E3758,Param!$A$7:$E$13,4,0)*Fonct_Empl!F3758*((Fonct_Empl!G3758/12)))+(VLOOKUP(E3758,Param!$A$7:$E$13,5,0)*Fonct_Empl!H3758),2),\"\")","v":""}]
[null,null,null,null,null,null,null,null,{"$f":"IF(E3759<>\"\",ROUND((VLOOKUP(E3759,Param!$A$7:$E$13,4,0)*Fonct_Empl!F3759*((Fonct_Empl!G3759/12)))+(VLOOKUP(E3759,Param!$A$7:$E$13,5,0)*Fonct_Empl!H3759),2),\"\")","v":""}]
[null,null,null,null,null,null,null,null,{"$f":"IF(E3760<>\"\",ROUND((VLOOKUP(E3760,Param!$A$7:$E$13,4,0)*Fonct_Empl!F3760*((Fonct_Empl!G3760/12)))+(VLOOKUP(E3760,Param!$A$7:$E$13,5,0)*Fonct_Empl!H3760),2),\"\")","v":""}]
[null,null,null,null,null,null,null,null,{"$f":"IF(E3761<>\"\",ROUND((VLOOKUP(E3761,Param!$A$7:$E$13,4,0)*Fonct_Empl!F3761*((Fonct_Empl!G3761/12)))+(VLOOKUP(E3761,Param!$A$7:$E$13,5,0)*Fonct_Empl!H3761),2),\"\")","v":""}]
[null,null,null,null,null,null,null,null,{"$f":"IF(E3762<>\"\",ROUND((VLOOKUP(E3762,Param!$A$7:$E$13,4,0)*Fonct_Empl!F3762*((Fonct_Empl!G3762/12)))+(VLOOKUP(E3762,Param!$A$7:$E$13,5,0)*Fonct_Empl!H3762),2),\"\")","v":""}]
[null,null,null,null,null,null,null,null,{"$f":"IF(E3763<>\"\",ROUND((VLOOKUP(E3763,Param!$A$7:$E$13,4,0)*Fonct_Empl!F3763*((Fonct_Empl!G3763/12)))+(VLOOKUP(E3763,Param!$A$7:$E$13,5,0)*Fonct_Empl!H3763),2),\"\")","v":""}]
[null,null,null,null,null,null,null,null,{"$f":"IF(E3764<>\"\",ROUND((VLOOKUP(E3764,Param!$A$7:$E$13,4,0)*Fonct_Empl!F3764*((Fonct_Empl!G3764/12)))+(VLOOKUP(E3764,Param!$A$7:$E$13,5,0)*Fonct_Empl!H3764),2),\"\")","v":""}]
[null,null,null,null,null,null,null,null,{"$f":"IF(E3765<>\"\",ROUND((VLOOKUP(E3765,Param!$A$7:$E$13,4,0)*Fonct_Empl!F3765*((Fonct_Empl!G3765/12)))+(VLOOKUP(E3765,Param!$A$7:$E$13,5,0)*Fonct_Empl!H3765),2),\"\")","v":""}]
[null,null,null,null,null,null,null,null,{"$f":"IF(E3766<>\"\",ROUND((VLOOKUP(E3766,Param!$A$7:$E$13,4,0)*Fonct_Empl!F3766*((Fonct_Empl!G3766/12)))+(VLOOKUP(E3766,Param!$A$7:$E$13,5,0)*Fonct_Empl!H3766),2),\"\")","v":""}]
[null,null,null,null,null,null,null,null,{"$f":"IF(E3767<>\"\",ROUND((VLOOKUP(E3767,Param!$A$7:$E$13,4,0)*Fonct_Empl!F3767*((Fonct_Empl!G3767/12)))+(VLOOKUP(E3767,Param!$A$7:$E$13,5,0)*Fonct_Empl!H3767),2),\"\")","v":""}]
[null,null,null,null,null,null,null,null,{"$f":"IF(E3768<>\"\",ROUND((VLOOKUP(E3768,Param!$A$7:$E$13,4,0)*Fonct_Empl!F3768*((Fonct_Empl!G3768/12)))+(VLOOKUP(E3768,Param!$A$7:$E$13,5,0)*Fonct_Empl!H3768),2),\"\")","v":""}]
[null,null,null,null,null,null,null,null,{"$f":"IF(E3769<>\"\",ROUND((VLOOKUP(E3769,Param!$A$7:$E$13,4,0)*Fonct_Empl!F3769*((Fonct_Empl!G3769/12)))+(VLOOKUP(E3769,Param!$A$7:$E$13,5,0)*Fonct_Empl!H3769),2),\"\")","v":""}]
[null,null,null,null,null,null,null,null,{"$f":"IF(E3770<>\"\",ROUND((VLOOKUP(E3770,Param!$A$7:$E$13,4,0)*Fonct_Empl!F3770*((Fonct_Empl!G3770/12)))+(VLOOKUP(E3770,Param!$A$7:$E$13,5,0)*Fonct_Empl!H3770),2),\"\")","v":""}]
[null,null,null,null,null,null,null,null,{"$f":"IF(E3771<>\"\",ROUND((VLOOKUP(E3771,Param!$A$7:$E$13,4,0)*Fonct_Empl!F3771*((Fonct_Empl!G3771/12)))+(VLOOKUP(E3771,Param!$A$7:$E$13,5,0)*Fonct_Empl!H3771),2),\"\")","v":""}]
[null,null,null,null,null,null,null,null,{"$f":"IF(E3772<>\"\",ROUND((VLOOKUP(E3772,Param!$A$7:$E$13,4,0)*Fonct_Empl!F3772*((Fonct_Empl!G3772/12)))+(VLOOKUP(E3772,Param!$A$7:$E$13,5,0)*Fonct_Empl!H3772),2),\"\")","v":""}]
[null,null,null,null,null,null,null,null,{"$f":"IF(E3773<>\"\",ROUND((VLOOKUP(E3773,Param!$A$7:$E$13,4,0)*Fonct_Empl!F3773*((Fonct_Empl!G3773/12)))+(VLOOKUP(E3773,Param!$A$7:$E$13,5,0)*Fonct_Empl!H3773),2),\"\")","v":""}]
[null,null,null,null,null,null,null,null,{"$f":"IF(E3774<>\"\",ROUND((VLOOKUP(E3774,Param!$A$7:$E$13,4,0)*Fonct_Empl!F3774*((Fonct_Empl!G3774/12)))+(VLOOKUP(E3774,Param!$A$7:$E$13,5,0)*Fonct_Empl!H3774),2),\"\")","v":""}]
[null,null,null,null,null,null,null,null,{"$f":"IF(E3775<>\"\",ROUND((VLOOKUP(E3775,Param!$A$7:$E$13,4,0)*Fonct_Empl!F3775*((Fonct_Empl!G3775/12)))+(VLOOKUP(E3775,Param!$A$7:$E$13,5,0)*Fonct_Empl!H3775),2),\"\")","v":""}]
[null,null,null,null,null,null,null,null,{"$f":"IF(E3776<>\"\",ROUND((VLOOKUP(E3776,Param!$A$7:$E$13,4,0)*Fonct_Empl!F3776*((Fonct_Empl!G3776/12)))+(VLOOKUP(E3776,Param!$A$7:$E$13,5,0)*Fonct_Empl!H3776),2),\"\")","v":""}]
[null,null,null,null,null,null,null,null,{"$f":"IF(E3777<>\"\",ROUND((VLOOKUP(E3777,Param!$A$7:$E$13,4,0)*Fonct_Empl!F3777*((Fonct_Empl!G3777/12)))+(VLOOKUP(E3777,Param!$A$7:$E$13,5,0)*Fonct_Empl!H3777),2),\"\")","v":""}]
[null,null,null,null,null,null,null,null,{"$f":"IF(E3778<>\"\",ROUND((VLOOKUP(E3778,Param!$A$7:$E$13,4,0)*Fonct_Empl!F3778*((Fonct_Empl!G3778/12)))+(VLOOKUP(E3778,Param!$A$7:$E$13,5,0)*Fonct_Empl!H3778),2),\"\")","v":""}]
[null,null,null,null,null,null,null,null,{"$f":"IF(E3779<>\"\",ROUND((VLOOKUP(E3779,Param!$A$7:$E$13,4,0)*Fonct_Empl!F3779*((Fonct_Empl!G3779/12)))+(VLOOKUP(E3779,Param!$A$7:$E$13,5,0)*Fonct_Empl!H3779),2),\"\")","v":""}]
[null,null,null,null,null,null,null,null,{"$f":"IF(E3780<>\"\",ROUND((VLOOKUP(E3780,Param!$A$7:$E$13,4,0)*Fonct_Empl!F3780*((Fonct_Empl!G3780/12)))+(VLOOKUP(E3780,Param!$A$7:$E$13,5,0)*Fonct_Empl!H3780),2),\"\")","v":""}]
[null,null,null,null,null,null,null,null,{"$f":"IF(E3781<>\"\",ROUND((VLOOKUP(E3781,Param!$A$7:$E$13,4,0)*Fonct_Empl!F3781*((Fonct_Empl!G3781/12)))+(VLOOKUP(E3781,Param!$A$7:$E$13,5,0)*Fonct_Empl!H3781),2),\"\")","v":""}]
[null,null,null,null,null,null,null,null,{"$f":"IF(E3782<>\"\",ROUND((VLOOKUP(E3782,Param!$A$7:$E$13,4,0)*Fonct_Empl!F3782*((Fonct_Empl!G3782/12)))+(VLOOKUP(E3782,Param!$A$7:$E$13,5,0)*Fonct_Empl!H3782),2),\"\")","v":""}]
[null,null,null,null,null,null,null,null,{"$f":"IF(E3783<>\"\",ROUND((VLOOKUP(E3783,Param!$A$7:$E$13,4,0)*Fonct_Empl!F3783*((Fonct_Empl!G3783/12)))+(VLOOKUP(E3783,Param!$A$7:$E$13,5,0)*Fonct_Empl!H3783),2),\"\")","v":""}]
[null,null,null,null,null,null,null,null,{"$f":"IF(E3784<>\"\",ROUND((VLOOKUP(E3784,Param!$A$7:$E$13,4,0)*Fonct_Empl!F3784*((Fonct_Empl!G3784/12)))+(VLOOKUP(E3784,Param!$A$7:$E$13,5,0)*Fonct_Empl!H3784),2),\"\")","v":""}]
[null,null,null,null,null,null,null,null,{"$f":"IF(E3785<>\"\",ROUND((VLOOKUP(E3785,Param!$A$7:$E$13,4,0)*Fonct_Empl!F3785*((Fonct_Empl!G3785/12)))+(VLOOKUP(E3785,Param!$A$7:$E$13,5,0)*Fonct_Empl!H3785),2),\"\")","v":""}]
[null,null,null,null,null,null,null,null,{"$f":"IF(E3786<>\"\",ROUND((VLOOKUP(E3786,Param!$A$7:$E$13,4,0)*Fonct_Empl!F3786*((Fonct_Empl!G3786/12)))+(VLOOKUP(E3786,Param!$A$7:$E$13,5,0)*Fonct_Empl!H3786),2),\"\")","v":""}]
[null,null,null,null,null,null,null,null,{"$f":"IF(E3787<>\"\",ROUND((VLOOKUP(E3787,Param!$A$7:$E$13,4,0)*Fonct_Empl!F3787*((Fonct_Empl!G3787/12)))+(VLOOKUP(E3787,Param!$A$7:$E$13,5,0)*Fonct_Empl!H3787),2),\"\")","v":""}]
[null,null,null,null,null,null,null,null,{"$f":"IF(E3788<>\"\",ROUND((VLOOKUP(E3788,Param!$A$7:$E$13,4,0)*Fonct_Empl!F3788*((Fonct_Empl!G3788/12)))+(VLOOKUP(E3788,Param!$A$7:$E$13,5,0)*Fonct_Empl!H3788),2),\"\")","v":""}]
[null,null,null,null,null,null,null,null,{"$f":"IF(E3789<>\"\",ROUND((VLOOKUP(E3789,Param!$A$7:$E$13,4,0)*Fonct_Empl!F3789*((Fonct_Empl!G3789/12)))+(VLOOKUP(E3789,Param!$A$7:$E$13,5,0)*Fonct_Empl!H3789),2),\"\")","v":""}]
[null,null,null,null,null,null,null,null,{"$f":"IF(E3790<>\"\",ROUND((VLOOKUP(E3790,Param!$A$7:$E$13,4,0)*Fonct_Empl!F3790*((Fonct_Empl!G3790/12)))+(VLOOKUP(E3790,Param!$A$7:$E$13,5,0)*Fonct_Empl!H3790),2),\"\")","v":""}]
[null,null,null,null,null,null,null,null,{"$f":"IF(E3791<>\"\",ROUND((VLOOKUP(E3791,Param!$A$7:$E$13,4,0)*Fonct_Empl!F3791*((Fonct_Empl!G3791/12)))+(VLOOKUP(E3791,Param!$A$7:$E$13,5,0)*Fonct_Empl!H3791),2),\"\")","v":""}]
[null,null,null,null,null,null,null,null,{"$f":"IF(E3792<>\"\",ROUND((VLOOKUP(E3792,Param!$A$7:$E$13,4,0)*Fonct_Empl!F3792*((Fonct_Empl!G3792/12)))+(VLOOKUP(E3792,Param!$A$7:$E$13,5,0)*Fonct_Empl!H3792),2),\"\")","v":""}]
[null,null,null,null,null,null,null,null,{"$f":"IF(E3793<>\"\",ROUND((VLOOKUP(E3793,Param!$A$7:$E$13,4,0)*Fonct_Empl!F3793*((Fonct_Empl!G3793/12)))+(VLOOKUP(E3793,Param!$A$7:$E$13,5,0)*Fonct_Empl!H3793),2),\"\")","v":""}]
[null,null,null,null,null,null,null,null,{"$f":"IF(E3794<>\"\",ROUND((VLOOKUP(E3794,Param!$A$7:$E$13,4,0)*Fonct_Empl!F3794*((Fonct_Empl!G3794/12)))+(VLOOKUP(E3794,Param!$A$7:$E$13,5,0)*Fonct_Empl!H3794),2),\"\")","v":""}]
[null,null,null,null,null,null,null,null,{"$f":"IF(E3795<>\"\",ROUND((VLOOKUP(E3795,Param!$A$7:$E$13,4,0)*Fonct_Empl!F3795*((Fonct_Empl!G3795/12)))+(VLOOKUP(E3795,Param!$A$7:$E$13,5,0)*Fonct_Empl!H3795),2),\"\")","v":""}]
[null,null,null,null,null,null,null,null,{"$f":"IF(E3796<>\"\",ROUND((VLOOKUP(E3796,Param!$A$7:$E$13,4,0)*Fonct_Empl!F3796*((Fonct_Empl!G3796/12)))+(VLOOKUP(E3796,Param!$A$7:$E$13,5,0)*Fonct_Empl!H3796),2),\"\")","v":""}]
[null,null,null,null,null,null,null,null,{"$f":"IF(E3797<>\"\",ROUND((VLOOKUP(E3797,Param!$A$7:$E$13,4,0)*Fonct_Empl!F3797*((Fonct_Empl!G3797/12)))+(VLOOKUP(E3797,Param!$A$7:$E$13,5,0)*Fonct_Empl!H3797),2),\"\")","v":""}]
[null,null,null,null,null,null,null,null,{"$f":"IF(E3798<>\"\",ROUND((VLOOKUP(E3798,Param!$A$7:$E$13,4,0)*Fonct_Empl!F3798*((Fonct_Empl!G3798/12)))+(VLOOKUP(E3798,Param!$A$7:$E$13,5,0)*Fonct_Empl!H3798),2),\"\")","v":""}]
[null,null,null,null,null,null,null,null,{"$f":"IF(E3799<>\"\",ROUND((VLOOKUP(E3799,Param!$A$7:$E$13,4,0)*Fonct_Empl!F3799*((Fonct_Empl!G3799/12)))+(VLOOKUP(E3799,Param!$A$7:$E$13,5,0)*Fonct_Empl!H3799),2),\"\")","v":""}]
[null,null,null,null,null,null,null,null,{"$f":"IF(E3800<>\"\",ROUND((VLOOKUP(E3800,Param!$A$7:$E$13,4,0)*Fonct_Empl!F3800*((Fonct_Empl!G3800/12)))+(VLOOKUP(E3800,Param!$A$7:$E$13,5,0)*Fonct_Empl!H3800),2),\"\")","v":""}]
[null,null,null,null,null,null,null,null,{"$f":"IF(E3801<>\"\",ROUND((VLOOKUP(E3801,Param!$A$7:$E$13,4,0)*Fonct_Empl!F3801*((Fonct_Empl!G3801/12)))+(VLOOKUP(E3801,Param!$A$7:$E$13,5,0)*Fonct_Empl!H3801),2),\"\")","v":""}]
[null,null,null,null,null,null,null,null,{"$f":"IF(E3802<>\"\",ROUND((VLOOKUP(E3802,Param!$A$7:$E$13,4,0)*Fonct_Empl!F3802*((Fonct_Empl!G3802/12)))+(VLOOKUP(E3802,Param!$A$7:$E$13,5,0)*Fonct_Empl!H3802),2),\"\")","v":""}]
[null,null,null,null,null,null,null,null,{"$f":"IF(E3803<>\"\",ROUND((VLOOKUP(E3803,Param!$A$7:$E$13,4,0)*Fonct_Empl!F3803*((Fonct_Empl!G3803/12)))+(VLOOKUP(E3803,Param!$A$7:$E$13,5,0)*Fonct_Empl!H3803),2),\"\")","v":""}]
[null,null,null,null,null,null,null,null,{"$f":"IF(E3804<>\"\",ROUND((VLOOKUP(E3804,Param!$A$7:$E$13,4,0)*Fonct_Empl!F3804*((Fonct_Empl!G3804/12)))+(VLOOKUP(E3804,Param!$A$7:$E$13,5,0)*Fonct_Empl!H3804),2),\"\")","v":""}]
[null,null,null,null,null,null,null,null,{"$f":"IF(E3805<>\"\",ROUND((VLOOKUP(E3805,Param!$A$7:$E$13,4,0)*Fonct_Empl!F3805*((Fonct_Empl!G3805/12)))+(VLOOKUP(E3805,Param!$A$7:$E$13,5,0)*Fonct_Empl!H3805),2),\"\")","v":""}]
[null,null,null,null,null,null,null,null,{"$f":"IF(E3806<>\"\",ROUND((VLOOKUP(E3806,Param!$A$7:$E$13,4,0)*Fonct_Empl!F3806*((Fonct_Empl!G3806/12)))+(VLOOKUP(E3806,Param!$A$7:$E$13,5,0)*Fonct_Empl!H3806),2),\"\")","v":""}]
[null,null,null,null,null,null,null,null,{"$f":"IF(E3807<>\"\",ROUND((VLOOKUP(E3807,Param!$A$7:$E$13,4,0)*Fonct_Empl!F3807*((Fonct_Empl!G3807/12)))+(VLOOKUP(E3807,Param!$A$7:$E$13,5,0)*Fonct_Empl!H3807),2),\"\")","v":""}]
[null,null,null,null,null,null,null,null,{"$f":"IF(E3808<>\"\",ROUND((VLOOKUP(E3808,Param!$A$7:$E$13,4,0)*Fonct_Empl!F3808*((Fonct_Empl!G3808/12)))+(VLOOKUP(E3808,Param!$A$7:$E$13,5,0)*Fonct_Empl!H3808),2),\"\")","v":""}]
[null,null,null,null,null,null,null,null,{"$f":"IF(E3809<>\"\",ROUND((VLOOKUP(E3809,Param!$A$7:$E$13,4,0)*Fonct_Empl!F3809*((Fonct_Empl!G3809/12)))+(VLOOKUP(E3809,Param!$A$7:$E$13,5,0)*Fonct_Empl!H3809),2),\"\")","v":""}]
[null,null,null,null,null,null,null,null,{"$f":"IF(E3810<>\"\",ROUND((VLOOKUP(E3810,Param!$A$7:$E$13,4,0)*Fonct_Empl!F3810*((Fonct_Empl!G3810/12)))+(VLOOKUP(E3810,Param!$A$7:$E$13,5,0)*Fonct_Empl!H3810),2),\"\")","v":""}]
[null,null,null,null,null,null,null,null,{"$f":"IF(E3811<>\"\",ROUND((VLOOKUP(E3811,Param!$A$7:$E$13,4,0)*Fonct_Empl!F3811*((Fonct_Empl!G3811/12)))+(VLOOKUP(E3811,Param!$A$7:$E$13,5,0)*Fonct_Empl!H3811),2),\"\")","v":""}]
[null,null,null,null,null,null,null,null,{"$f":"IF(E3812<>\"\",ROUND((VLOOKUP(E3812,Param!$A$7:$E$13,4,0)*Fonct_Empl!F3812*((Fonct_Empl!G3812/12)))+(VLOOKUP(E3812,Param!$A$7:$E$13,5,0)*Fonct_Empl!H3812),2),\"\")","v":""}]
[null,null,null,null,null,null,null,null,{"$f":"IF(E3813<>\"\",ROUND((VLOOKUP(E3813,Param!$A$7:$E$13,4,0)*Fonct_Empl!F3813*((Fonct_Empl!G3813/12)))+(VLOOKUP(E3813,Param!$A$7:$E$13,5,0)*Fonct_Empl!H3813),2),\"\")","v":""}]
[null,null,null,null,null,null,null,null,{"$f":"IF(E3814<>\"\",ROUND((VLOOKUP(E3814,Param!$A$7:$E$13,4,0)*Fonct_Empl!F3814*((Fonct_Empl!G3814/12)))+(VLOOKUP(E3814,Param!$A$7:$E$13,5,0)*Fonct_Empl!H3814),2),\"\")","v":""}]
[null,null,null,null,null,null,null,null,{"$f":"IF(E3815<>\"\",ROUND((VLOOKUP(E3815,Param!$A$7:$E$13,4,0)*Fonct_Empl!F3815*((Fonct_Empl!G3815/12)))+(VLOOKUP(E3815,Param!$A$7:$E$13,5,0)*Fonct_Empl!H3815),2),\"\")","v":""}]
[null,null,null,null,null,null,null,null,{"$f":"IF(E3816<>\"\",ROUND((VLOOKUP(E3816,Param!$A$7:$E$13,4,0)*Fonct_Empl!F3816*((Fonct_Empl!G3816/12)))+(VLOOKUP(E3816,Param!$A$7:$E$13,5,0)*Fonct_Empl!H3816),2),\"\")","v":""}]
[null,null,null,null,null,null,null,null,{"$f":"IF(E3817<>\"\",ROUND((VLOOKUP(E3817,Param!$A$7:$E$13,4,0)*Fonct_Empl!F3817*((Fonct_Empl!G3817/12)))+(VLOOKUP(E3817,Param!$A$7:$E$13,5,0)*Fonct_Empl!H3817),2),\"\")","v":""}]
[null,null,null,null,null,null,null,null,{"$f":"IF(E3818<>\"\",ROUND((VLOOKUP(E3818,Param!$A$7:$E$13,4,0)*Fonct_Empl!F3818*((Fonct_Empl!G3818/12)))+(VLOOKUP(E3818,Param!$A$7:$E$13,5,0)*Fonct_Empl!H3818),2),\"\")","v":""}]
[null,null,null,null,null,null,null,null,{"$f":"IF(E3819<>\"\",ROUND((VLOOKUP(E3819,Param!$A$7:$E$13,4,0)*Fonct_Empl!F3819*((Fonct_Empl!G3819/12)))+(VLOOKUP(E3819,Param!$A$7:$E$13,5,0)*Fonct_Empl!H3819),2),\"\")","v":""}]
[null,null,null,null,null,null,null,null,{"$f":"IF(E3820<>\"\",ROUND((VLOOKUP(E3820,Param!$A$7:$E$13,4,0)*Fonct_Empl!F3820*((Fonct_Empl!G3820/12)))+(VLOOKUP(E3820,Param!$A$7:$E$13,5,0)*Fonct_Empl!H3820),2),\"\")","v":""}]
[null,null,null,null,null,null,null,null,{"$f":"IF(E3821<>\"\",ROUND((VLOOKUP(E3821,Param!$A$7:$E$13,4,0)*Fonct_Empl!F3821*((Fonct_Empl!G3821/12)))+(VLOOKUP(E3821,Param!$A$7:$E$13,5,0)*Fonct_Empl!H3821),2),\"\")","v":""}]
[null,null,null,null,null,null,null,null,{"$f":"IF(E3822<>\"\",ROUND((VLOOKUP(E3822,Param!$A$7:$E$13,4,0)*Fonct_Empl!F3822*((Fonct_Empl!G3822/12)))+(VLOOKUP(E3822,Param!$A$7:$E$13,5,0)*Fonct_Empl!H3822),2),\"\")","v":""}]
[null,null,null,null,null,null,null,null,{"$f":"IF(E3823<>\"\",ROUND((VLOOKUP(E3823,Param!$A$7:$E$13,4,0)*Fonct_Empl!F3823*((Fonct_Empl!G3823/12)))+(VLOOKUP(E3823,Param!$A$7:$E$13,5,0)*Fonct_Empl!H3823),2),\"\")","v":""}]
[null,null,null,null,null,null,null,null,{"$f":"IF(E3824<>\"\",ROUND((VLOOKUP(E3824,Param!$A$7:$E$13,4,0)*Fonct_Empl!F3824*((Fonct_Empl!G3824/12)))+(VLOOKUP(E3824,Param!$A$7:$E$13,5,0)*Fonct_Empl!H3824),2),\"\")","v":""}]
[null,null,null,null,null,null,null,null,{"$f":"IF(E3825<>\"\",ROUND((VLOOKUP(E3825,Param!$A$7:$E$13,4,0)*Fonct_Empl!F3825*((Fonct_Empl!G3825/12)))+(VLOOKUP(E3825,Param!$A$7:$E$13,5,0)*Fonct_Empl!H3825),2),\"\")","v":""}]
[null,null,null,null,null,null,null,null,{"$f":"IF(E3826<>\"\",ROUND((VLOOKUP(E3826,Param!$A$7:$E$13,4,0)*Fonct_Empl!F3826*((Fonct_Empl!G3826/12)))+(VLOOKUP(E3826,Param!$A$7:$E$13,5,0)*Fonct_Empl!H3826),2),\"\")","v":""}]
[null,null,null,null,null,null,null,null,{"$f":"IF(E3827<>\"\",ROUND((VLOOKUP(E3827,Param!$A$7:$E$13,4,0)*Fonct_Empl!F3827*((Fonct_Empl!G3827/12)))+(VLOOKUP(E3827,Param!$A$7:$E$13,5,0)*Fonct_Empl!H3827),2),\"\")","v":""}]
[null,null,null,null,null,null,null,null,{"$f":"IF(E3828<>\"\",ROUND((VLOOKUP(E3828,Param!$A$7:$E$13,4,0)*Fonct_Empl!F3828*((Fonct_Empl!G3828/12)))+(VLOOKUP(E3828,Param!$A$7:$E$13,5,0)*Fonct_Empl!H3828),2),\"\")","v":""}]
[null,null,null,null,null,null,null,null,{"$f":"IF(E3829<>\"\",ROUND((VLOOKUP(E3829,Param!$A$7:$E$13,4,0)*Fonct_Empl!F3829*((Fonct_Empl!G3829/12)))+(VLOOKUP(E3829,Param!$A$7:$E$13,5,0)*Fonct_Empl!H3829),2),\"\")","v":""}]
[null,null,null,null,null,null,null,null,{"$f":"IF(E3830<>\"\",ROUND((VLOOKUP(E3830,Param!$A$7:$E$13,4,0)*Fonct_Empl!F3830*((Fonct_Empl!G3830/12)))+(VLOOKUP(E3830,Param!$A$7:$E$13,5,0)*Fonct_Empl!H3830),2),\"\")","v":""}]
[null,null,null,null,null,null,null,null,{"$f":"IF(E3831<>\"\",ROUND((VLOOKUP(E3831,Param!$A$7:$E$13,4,0)*Fonct_Empl!F3831*((Fonct_Empl!G3831/12)))+(VLOOKUP(E3831,Param!$A$7:$E$13,5,0)*Fonct_Empl!H3831),2),\"\")","v":""}]
[null,null,null,null,null,null,null,null,{"$f":"IF(E3832<>\"\",ROUND((VLOOKUP(E3832,Param!$A$7:$E$13,4,0)*Fonct_Empl!F3832*((Fonct_Empl!G3832/12)))+(VLOOKUP(E3832,Param!$A$7:$E$13,5,0)*Fonct_Empl!H3832),2),\"\")","v":""}]
[null,null,null,null,null,null,null,null,{"$f":"IF(E3833<>\"\",ROUND((VLOOKUP(E3833,Param!$A$7:$E$13,4,0)*Fonct_Empl!F3833*((Fonct_Empl!G3833/12)))+(VLOOKUP(E3833,Param!$A$7:$E$13,5,0)*Fonct_Empl!H3833),2),\"\")","v":""}]
[null,null,null,null,null,null,null,null,{"$f":"IF(E3834<>\"\",ROUND((VLOOKUP(E3834,Param!$A$7:$E$13,4,0)*Fonct_Empl!F3834*((Fonct_Empl!G3834/12)))+(VLOOKUP(E3834,Param!$A$7:$E$13,5,0)*Fonct_Empl!H3834),2),\"\")","v":""}]
[null,null,null,null,null,null,null,null,{"$f":"IF(E3835<>\"\",ROUND((VLOOKUP(E3835,Param!$A$7:$E$13,4,0)*Fonct_Empl!F3835*((Fonct_Empl!G3835/12)))+(VLOOKUP(E3835,Param!$A$7:$E$13,5,0)*Fonct_Empl!H3835),2),\"\")","v":""}]
[null,null,null,null,null,null,null,null,{"$f":"IF(E3836<>\"\",ROUND((VLOOKUP(E3836,Param!$A$7:$E$13,4,0)*Fonct_Empl!F3836*((Fonct_Empl!G3836/12)))+(VLOOKUP(E3836,Param!$A$7:$E$13,5,0)*Fonct_Empl!H3836),2),\"\")","v":""}]
[null,null,null,null,null,null,null,null,{"$f":"IF(E3837<>\"\",ROUND((VLOOKUP(E3837,Param!$A$7:$E$13,4,0)*Fonct_Empl!F3837*((Fonct_Empl!G3837/12)))+(VLOOKUP(E3837,Param!$A$7:$E$13,5,0)*Fonct_Empl!H3837),2),\"\")","v":""}]
[null,null,null,null,null,null,null,null,{"$f":"IF(E3838<>\"\",ROUND((VLOOKUP(E3838,Param!$A$7:$E$13,4,0)*Fonct_Empl!F3838*((Fonct_Empl!G3838/12)))+(VLOOKUP(E3838,Param!$A$7:$E$13,5,0)*Fonct_Empl!H3838),2),\"\")","v":""}]
[null,null,null,null,null,null,null,null,{"$f":"IF(E3839<>\"\",ROUND((VLOOKUP(E3839,Param!$A$7:$E$13,4,0)*Fonct_Empl!F3839*((Fonct_Empl!G3839/12)))+(VLOOKUP(E3839,Param!$A$7:$E$13,5,0)*Fonct_Empl!H3839),2),\"\")","v":""}]
[null,null,null,null,null,null,null,null,{"$f":"IF(E3840<>\"\",ROUND((VLOOKUP(E3840,Param!$A$7:$E$13,4,0)*Fonct_Empl!F3840*((Fonct_Empl!G3840/12)))+(VLOOKUP(E3840,Param!$A$7:$E$13,5,0)*Fonct_Empl!H3840),2),\"\")","v":""}]
[null,null,null,null,null,null,null,null,{"$f":"IF(E3841<>\"\",ROUND((VLOOKUP(E3841,Param!$A$7:$E$13,4,0)*Fonct_Empl!F3841*((Fonct_Empl!G3841/12)))+(VLOOKUP(E3841,Param!$A$7:$E$13,5,0)*Fonct_Empl!H3841),2),\"\")","v":""}]
[null,null,null,null,null,null,null,null,{"$f":"IF(E3842<>\"\",ROUND((VLOOKUP(E3842,Param!$A$7:$E$13,4,0)*Fonct_Empl!F3842*((Fonct_Empl!G3842/12)))+(VLOOKUP(E3842,Param!$A$7:$E$13,5,0)*Fonct_Empl!H3842),2),\"\")","v":""}]
[null,null,null,null,null,null,null,null,{"$f":"IF(E3843<>\"\",ROUND((VLOOKUP(E3843,Param!$A$7:$E$13,4,0)*Fonct_Empl!F3843*((Fonct_Empl!G3843/12)))+(VLOOKUP(E3843,Param!$A$7:$E$13,5,0)*Fonct_Empl!H3843),2),\"\")","v":""}]
[null,null,null,null,null,null,null,null,{"$f":"IF(E3844<>\"\",ROUND((VLOOKUP(E3844,Param!$A$7:$E$13,4,0)*Fonct_Empl!F3844*((Fonct_Empl!G3844/12)))+(VLOOKUP(E3844,Param!$A$7:$E$13,5,0)*Fonct_Empl!H3844),2),\"\")","v":""}]
[null,null,null,null,null,null,null,null,{"$f":"IF(E3845<>\"\",ROUND((VLOOKUP(E3845,Param!$A$7:$E$13,4,0)*Fonct_Empl!F3845*((Fonct_Empl!G3845/12)))+(VLOOKUP(E3845,Param!$A$7:$E$13,5,0)*Fonct_Empl!H3845),2),\"\")","v":""}]
[null,null,null,null,null,null,null,null,{"$f":"IF(E3846<>\"\",ROUND((VLOOKUP(E3846,Param!$A$7:$E$13,4,0)*Fonct_Empl!F3846*((Fonct_Empl!G3846/12)))+(VLOOKUP(E3846,Param!$A$7:$E$13,5,0)*Fonct_Empl!H3846),2),\"\")","v":""}]
[null,null,null,null,null,null,null,null,{"$f":"IF(E3847<>\"\",ROUND((VLOOKUP(E3847,Param!$A$7:$E$13,4,0)*Fonct_Empl!F3847*((Fonct_Empl!G3847/12)))+(VLOOKUP(E3847,Param!$A$7:$E$13,5,0)*Fonct_Empl!H3847),2),\"\")","v":""}]
[null,null,null,null,null,null,null,null,{"$f":"IF(E3848<>\"\",ROUND((VLOOKUP(E3848,Param!$A$7:$E$13,4,0)*Fonct_Empl!F3848*((Fonct_Empl!G3848/12)))+(VLOOKUP(E3848,Param!$A$7:$E$13,5,0)*Fonct_Empl!H3848),2),\"\")","v":""}]
[null,null,null,null,null,null,null,null,{"$f":"IF(E3849<>\"\",ROUND((VLOOKUP(E3849,Param!$A$7:$E$13,4,0)*Fonct_Empl!F3849*((Fonct_Empl!G3849/12)))+(VLOOKUP(E3849,Param!$A$7:$E$13,5,0)*Fonct_Empl!H3849),2),\"\")","v":""}]
[null,null,null,null,null,null,null,null,{"$f":"IF(E3850<>\"\",ROUND((VLOOKUP(E3850,Param!$A$7:$E$13,4,0)*Fonct_Empl!F3850*((Fonct_Empl!G3850/12)))+(VLOOKUP(E3850,Param!$A$7:$E$13,5,0)*Fonct_Empl!H3850),2),\"\")","v":""}]
[null,null,null,null,null,null,null,null,{"$f":"IF(E3851<>\"\",ROUND((VLOOKUP(E3851,Param!$A$7:$E$13,4,0)*Fonct_Empl!F3851*((Fonct_Empl!G3851/12)))+(VLOOKUP(E3851,Param!$A$7:$E$13,5,0)*Fonct_Empl!H3851),2),\"\")","v":""}]
[null,null,null,null,null,null,null,null,{"$f":"IF(E3852<>\"\",ROUND((VLOOKUP(E3852,Param!$A$7:$E$13,4,0)*Fonct_Empl!F3852*((Fonct_Empl!G3852/12)))+(VLOOKUP(E3852,Param!$A$7:$E$13,5,0)*Fonct_Empl!H3852),2),\"\")","v":""}]
[null,null,null,null,null,null,null,null,{"$f":"IF(E3853<>\"\",ROUND((VLOOKUP(E3853,Param!$A$7:$E$13,4,0)*Fonct_Empl!F3853*((Fonct_Empl!G3853/12)))+(VLOOKUP(E3853,Param!$A$7:$E$13,5,0)*Fonct_Empl!H3853),2),\"\")","v":""}]
[null,null,null,null,null,null,null,null,{"$f":"IF(E3854<>\"\",ROUND((VLOOKUP(E3854,Param!$A$7:$E$13,4,0)*Fonct_Empl!F3854*((Fonct_Empl!G3854/12)))+(VLOOKUP(E3854,Param!$A$7:$E$13,5,0)*Fonct_Empl!H3854),2),\"\")","v":""}]
[null,null,null,null,null,null,null,null,{"$f":"IF(E3855<>\"\",ROUND((VLOOKUP(E3855,Param!$A$7:$E$13,4,0)*Fonct_Empl!F3855*((Fonct_Empl!G3855/12)))+(VLOOKUP(E3855,Param!$A$7:$E$13,5,0)*Fonct_Empl!H3855),2),\"\")","v":""}]
[null,null,null,null,null,null,null,null,{"$f":"IF(E3856<>\"\",ROUND((VLOOKUP(E3856,Param!$A$7:$E$13,4,0)*Fonct_Empl!F3856*((Fonct_Empl!G3856/12)))+(VLOOKUP(E3856,Param!$A$7:$E$13,5,0)*Fonct_Empl!H3856),2),\"\")","v":""}]
[null,null,null,null,null,null,null,null,{"$f":"IF(E3857<>\"\",ROUND((VLOOKUP(E3857,Param!$A$7:$E$13,4,0)*Fonct_Empl!F3857*((Fonct_Empl!G3857/12)))+(VLOOKUP(E3857,Param!$A$7:$E$13,5,0)*Fonct_Empl!H3857),2),\"\")","v":""}]
[null,null,null,null,null,null,null,null,{"$f":"IF(E3858<>\"\",ROUND((VLOOKUP(E3858,Param!$A$7:$E$13,4,0)*Fonct_Empl!F3858*((Fonct_Empl!G3858/12)))+(VLOOKUP(E3858,Param!$A$7:$E$13,5,0)*Fonct_Empl!H3858),2),\"\")","v":""}]
[null,null,null,null,null,null,null,null,{"$f":"IF(E3859<>\"\",ROUND((VLOOKUP(E3859,Param!$A$7:$E$13,4,0)*Fonct_Empl!F3859*((Fonct_Empl!G3859/12)))+(VLOOKUP(E3859,Param!$A$7:$E$13,5,0)*Fonct_Empl!H3859),2),\"\")","v":""}]
[null,null,null,null,null,null,null,null,{"$f":"IF(E3860<>\"\",ROUND((VLOOKUP(E3860,Param!$A$7:$E$13,4,0)*Fonct_Empl!F3860*((Fonct_Empl!G3860/12)))+(VLOOKUP(E3860,Param!$A$7:$E$13,5,0)*Fonct_Empl!H3860),2),\"\")","v":""}]
[null,null,null,null,null,null,null,null,{"$f":"IF(E3861<>\"\",ROUND((VLOOKUP(E3861,Param!$A$7:$E$13,4,0)*Fonct_Empl!F3861*((Fonct_Empl!G3861/12)))+(VLOOKUP(E3861,Param!$A$7:$E$13,5,0)*Fonct_Empl!H3861),2),\"\")","v":""}]
[null,null,null,null,null,null,null,null,{"$f":"IF(E3862<>\"\",ROUND((VLOOKUP(E3862,Param!$A$7:$E$13,4,0)*Fonct_Empl!F3862*((Fonct_Empl!G3862/12)))+(VLOOKUP(E3862,Param!$A$7:$E$13,5,0)*Fonct_Empl!H3862),2),\"\")","v":""}]
[null,null,null,null,null,null,null,null,{"$f":"IF(E3863<>\"\",ROUND((VLOOKUP(E3863,Param!$A$7:$E$13,4,0)*Fonct_Empl!F3863*((Fonct_Empl!G3863/12)))+(VLOOKUP(E3863,Param!$A$7:$E$13,5,0)*Fonct_Empl!H3863),2),\"\")","v":""}]
[null,null,null,null,null,null,null,null,{"$f":"IF(E3864<>\"\",ROUND((VLOOKUP(E3864,Param!$A$7:$E$13,4,0)*Fonct_Empl!F3864*((Fonct_Empl!G3864/12)))+(VLOOKUP(E3864,Param!$A$7:$E$13,5,0)*Fonct_Empl!H3864),2),\"\")","v":""}]
[null,null,null,null,null,null,null,null,{"$f":"IF(E3865<>\"\",ROUND((VLOOKUP(E3865,Param!$A$7:$E$13,4,0)*Fonct_Empl!F3865*((Fonct_Empl!G3865/12)))+(VLOOKUP(E3865,Param!$A$7:$E$13,5,0)*Fonct_Empl!H3865),2),\"\")","v":""}]
[null,null,null,null,null,null,null,null,{"$f":"IF(E3866<>\"\",ROUND((VLOOKUP(E3866,Param!$A$7:$E$13,4,0)*Fonct_Empl!F3866*((Fonct_Empl!G3866/12)))+(VLOOKUP(E3866,Param!$A$7:$E$13,5,0)*Fonct_Empl!H3866),2),\"\")","v":""}]
[null,null,null,null,null,null,null,null,{"$f":"IF(E3867<>\"\",ROUND((VLOOKUP(E3867,Param!$A$7:$E$13,4,0)*Fonct_Empl!F3867*((Fonct_Empl!G3867/12)))+(VLOOKUP(E3867,Param!$A$7:$E$13,5,0)*Fonct_Empl!H3867),2),\"\")","v":""}]
[null,null,null,null,null,null,null,null,{"$f":"IF(E3868<>\"\",ROUND((VLOOKUP(E3868,Param!$A$7:$E$13,4,0)*Fonct_Empl!F3868*((Fonct_Empl!G3868/12)))+(VLOOKUP(E3868,Param!$A$7:$E$13,5,0)*Fonct_Empl!H3868),2),\"\")","v":""}]
[null,null,null,null,null,null,null,null,{"$f":"IF(E3869<>\"\",ROUND((VLOOKUP(E3869,Param!$A$7:$E$13,4,0)*Fonct_Empl!F3869*((Fonct_Empl!G3869/12)))+(VLOOKUP(E3869,Param!$A$7:$E$13,5,0)*Fonct_Empl!H3869),2),\"\")","v":""}]
[null,null,null,null,null,null,null,null,{"$f":"IF(E3870<>\"\",ROUND((VLOOKUP(E3870,Param!$A$7:$E$13,4,0)*Fonct_Empl!F3870*((Fonct_Empl!G3870/12)))+(VLOOKUP(E3870,Param!$A$7:$E$13,5,0)*Fonct_Empl!H3870),2),\"\")","v":""}]
[null,null,null,null,null,null,null,null,{"$f":"IF(E3871<>\"\",ROUND((VLOOKUP(E3871,Param!$A$7:$E$13,4,0)*Fonct_Empl!F3871*((Fonct_Empl!G3871/12)))+(VLOOKUP(E3871,Param!$A$7:$E$13,5,0)*Fonct_Empl!H3871),2),\"\")","v":""}]
[null,null,null,null,null,null,null,null,{"$f":"IF(E3872<>\"\",ROUND((VLOOKUP(E3872,Param!$A$7:$E$13,4,0)*Fonct_Empl!F3872*((Fonct_Empl!G3872/12)))+(VLOOKUP(E3872,Param!$A$7:$E$13,5,0)*Fonct_Empl!H3872),2),\"\")","v":""}]
[null,null,null,null,null,null,null,null,{"$f":"IF(E3873<>\"\",ROUND((VLOOKUP(E3873,Param!$A$7:$E$13,4,0)*Fonct_Empl!F3873*((Fonct_Empl!G3873/12)))+(VLOOKUP(E3873,Param!$A$7:$E$13,5,0)*Fonct_Empl!H3873),2),\"\")","v":""}]
[null,null,null,null,null,null,null,null,{"$f":"IF(E3874<>\"\",ROUND((VLOOKUP(E3874,Param!$A$7:$E$13,4,0)*Fonct_Empl!F3874*((Fonct_Empl!G3874/12)))+(VLOOKUP(E3874,Param!$A$7:$E$13,5,0)*Fonct_Empl!H3874),2),\"\")","v":""}]
[null,null,null,null,null,null,null,null,{"$f":"IF(E3875<>\"\",ROUND((VLOOKUP(E3875,Param!$A$7:$E$13,4,0)*Fonct_Empl!F3875*((Fonct_Empl!G3875/12)))+(VLOOKUP(E3875,Param!$A$7:$E$13,5,0)*Fonct_Empl!H3875),2),\"\")","v":""}]
[null,null,null,null,null,null,null,null,{"$f":"IF(E3876<>\"\",ROUND((VLOOKUP(E3876,Param!$A$7:$E$13,4,0)*Fonct_Empl!F3876*((Fonct_Empl!G3876/12)))+(VLOOKUP(E3876,Param!$A$7:$E$13,5,0)*Fonct_Empl!H3876),2),\"\")","v":""}]
[null,null,null,null,null,null,null,null,{"$f":"IF(E3877<>\"\",ROUND((VLOOKUP(E3877,Param!$A$7:$E$13,4,0)*Fonct_Empl!F3877*((Fonct_Empl!G3877/12)))+(VLOOKUP(E3877,Param!$A$7:$E$13,5,0)*Fonct_Empl!H3877),2),\"\")","v":""}]
[null,null,null,null,null,null,null,null,{"$f":"IF(E3878<>\"\",ROUND((VLOOKUP(E3878,Param!$A$7:$E$13,4,0)*Fonct_Empl!F3878*((Fonct_Empl!G3878/12)))+(VLOOKUP(E3878,Param!$A$7:$E$13,5,0)*Fonct_Empl!H3878),2),\"\")","v":""}]
[null,null,null,null,null,null,null,null,{"$f":"IF(E3879<>\"\",ROUND((VLOOKUP(E3879,Param!$A$7:$E$13,4,0)*Fonct_Empl!F3879*((Fonct_Empl!G3879/12)))+(VLOOKUP(E3879,Param!$A$7:$E$13,5,0)*Fonct_Empl!H3879),2),\"\")","v":""}]
[null,null,null,null,null,null,null,null,{"$f":"IF(E3880<>\"\",ROUND((VLOOKUP(E3880,Param!$A$7:$E$13,4,0)*Fonct_Empl!F3880*((Fonct_Empl!G3880/12)))+(VLOOKUP(E3880,Param!$A$7:$E$13,5,0)*Fonct_Empl!H3880),2),\"\")","v":""}]
[null,null,null,null,null,null,null,null,{"$f":"IF(E3881<>\"\",ROUND((VLOOKUP(E3881,Param!$A$7:$E$13,4,0)*Fonct_Empl!F3881*((Fonct_Empl!G3881/12)))+(VLOOKUP(E3881,Param!$A$7:$E$13,5,0)*Fonct_Empl!H3881),2),\"\")","v":""}]
[null,null,null,null,null,null,null,null,{"$f":"IF(E3882<>\"\",ROUND((VLOOKUP(E3882,Param!$A$7:$E$13,4,0)*Fonct_Empl!F3882*((Fonct_Empl!G3882/12)))+(VLOOKUP(E3882,Param!$A$7:$E$13,5,0)*Fonct_Empl!H3882),2),\"\")","v":""}]
[null,null,null,null,null,null,null,null,{"$f":"IF(E3883<>\"\",ROUND((VLOOKUP(E3883,Param!$A$7:$E$13,4,0)*Fonct_Empl!F3883*((Fonct_Empl!G3883/12)))+(VLOOKUP(E3883,Param!$A$7:$E$13,5,0)*Fonct_Empl!H3883),2),\"\")","v":""}]
[null,null,null,null,null,null,null,null,{"$f":"IF(E3884<>\"\",ROUND((VLOOKUP(E3884,Param!$A$7:$E$13,4,0)*Fonct_Empl!F3884*((Fonct_Empl!G3884/12)))+(VLOOKUP(E3884,Param!$A$7:$E$13,5,0)*Fonct_Empl!H3884),2),\"\")","v":""}]
[null,null,null,null,null,null,null,null,{"$f":"IF(E3885<>\"\",ROUND((VLOOKUP(E3885,Param!$A$7:$E$13,4,0)*Fonct_Empl!F3885*((Fonct_Empl!G3885/12)))+(VLOOKUP(E3885,Param!$A$7:$E$13,5,0)*Fonct_Empl!H3885),2),\"\")","v":""}]
[null,null,null,null,null,null,null,null,{"$f":"IF(E3886<>\"\",ROUND((VLOOKUP(E3886,Param!$A$7:$E$13,4,0)*Fonct_Empl!F3886*((Fonct_Empl!G3886/12)))+(VLOOKUP(E3886,Param!$A$7:$E$13,5,0)*Fonct_Empl!H3886),2),\"\")","v":""}]
[null,null,null,null,null,null,null,null,{"$f":"IF(E3887<>\"\",ROUND((VLOOKUP(E3887,Param!$A$7:$E$13,4,0)*Fonct_Empl!F3887*((Fonct_Empl!G3887/12)))+(VLOOKUP(E3887,Param!$A$7:$E$13,5,0)*Fonct_Empl!H3887),2),\"\")","v":""}]
[null,null,null,null,null,null,null,null,{"$f":"IF(E3888<>\"\",ROUND((VLOOKUP(E3888,Param!$A$7:$E$13,4,0)*Fonct_Empl!F3888*((Fonct_Empl!G3888/12)))+(VLOOKUP(E3888,Param!$A$7:$E$13,5,0)*Fonct_Empl!H3888),2),\"\")","v":""}]
[null,null,null,null,null,null,null,null,{"$f":"IF(E3889<>\"\",ROUND((VLOOKUP(E3889,Param!$A$7:$E$13,4,0)*Fonct_Empl!F3889*((Fonct_Empl!G3889/12)))+(VLOOKUP(E3889,Param!$A$7:$E$13,5,0)*Fonct_Empl!H3889),2),\"\")","v":""}]
[null,null,null,null,null,null,null,null,{"$f":"IF(E3890<>\"\",ROUND((VLOOKUP(E3890,Param!$A$7:$E$13,4,0)*Fonct_Empl!F3890*((Fonct_Empl!G3890/12)))+(VLOOKUP(E3890,Param!$A$7:$E$13,5,0)*Fonct_Empl!H3890),2),\"\")","v":""}]
[null,null,null,null,null,null,null,null,{"$f":"IF(E3891<>\"\",ROUND((VLOOKUP(E3891,Param!$A$7:$E$13,4,0)*Fonct_Empl!F3891*((Fonct_Empl!G3891/12)))+(VLOOKUP(E3891,Param!$A$7:$E$13,5,0)*Fonct_Empl!H3891),2),\"\")","v":""}]
[null,null,null,null,null,null,null,null,{"$f":"IF(E3892<>\"\",ROUND((VLOOKUP(E3892,Param!$A$7:$E$13,4,0)*Fonct_Empl!F3892*((Fonct_Empl!G3892/12)))+(VLOOKUP(E3892,Param!$A$7:$E$13,5,0)*Fonct_Empl!H3892),2),\"\")","v":""}]
[null,null,null,null,null,null,null,null,{"$f":"IF(E3893<>\"\",ROUND((VLOOKUP(E3893,Param!$A$7:$E$13,4,0)*Fonct_Empl!F3893*((Fonct_Empl!G3893/12)))+(VLOOKUP(E3893,Param!$A$7:$E$13,5,0)*Fonct_Empl!H3893),2),\"\")","v":""}]
[null,null,null,null,null,null,null,null,{"$f":"IF(E3894<>\"\",ROUND((VLOOKUP(E3894,Param!$A$7:$E$13,4,0)*Fonct_Empl!F3894*((Fonct_Empl!G3894/12)))+(VLOOKUP(E3894,Param!$A$7:$E$13,5,0)*Fonct_Empl!H3894),2),\"\")","v":""}]
[null,null,null,null,null,null,null,null,{"$f":"IF(E3895<>\"\",ROUND((VLOOKUP(E3895,Param!$A$7:$E$13,4,0)*Fonct_Empl!F3895*((Fonct_Empl!G3895/12)))+(VLOOKUP(E3895,Param!$A$7:$E$13,5,0)*Fonct_Empl!H3895),2),\"\")","v":""}]
[null,null,null,null,null,null,null,null,{"$f":"IF(E3896<>\"\",ROUND((VLOOKUP(E3896,Param!$A$7:$E$13,4,0)*Fonct_Empl!F3896*((Fonct_Empl!G3896/12)))+(VLOOKUP(E3896,Param!$A$7:$E$13,5,0)*Fonct_Empl!H3896),2),\"\")","v":""}]
[null,null,null,null,null,null,null,null,{"$f":"IF(E3897<>\"\",ROUND((VLOOKUP(E3897,Param!$A$7:$E$13,4,0)*Fonct_Empl!F3897*((Fonct_Empl!G3897/12)))+(VLOOKUP(E3897,Param!$A$7:$E$13,5,0)*Fonct_Empl!H3897),2),\"\")","v":""}]
[null,null,null,null,null,null,null,null,{"$f":"IF(E3898<>\"\",ROUND((VLOOKUP(E3898,Param!$A$7:$E$13,4,0)*Fonct_Empl!F3898*((Fonct_Empl!G3898/12)))+(VLOOKUP(E3898,Param!$A$7:$E$13,5,0)*Fonct_Empl!H3898),2),\"\")","v":""}]
[null,null,null,null,null,null,null,null,{"$f":"IF(E3899<>\"\",ROUND((VLOOKUP(E3899,Param!$A$7:$E$13,4,0)*Fonct_Empl!F3899*((Fonct_Empl!G3899/12)))+(VLOOKUP(E3899,Param!$A$7:$E$13,5,0)*Fonct_Empl!H3899),2),\"\")","v":""}]
[null,null,null,null,null,null,null,null,{"$f":"IF(E3900<>\"\",ROUND((VLOOKUP(E3900,Param!$A$7:$E$13,4,0)*Fonct_Empl!F3900*((Fonct_Empl!G3900/12)))+(VLOOKUP(E3900,Param!$A$7:$E$13,5,0)*Fonct_Empl!H3900),2),\"\")","v":""}]
[null,null,null,null,null,null,null,null,{"$f":"IF(E3901<>\"\",ROUND((VLOOKUP(E3901,Param!$A$7:$E$13,4,0)*Fonct_Empl!F3901*((Fonct_Empl!G3901/12)))+(VLOOKUP(E3901,Param!$A$7:$E$13,5,0)*Fonct_Empl!H3901),2),\"\")","v":""}]
[null,null,null,null,null,null,null,null,{"$f":"IF(E3902<>\"\",ROUND((VLOOKUP(E3902,Param!$A$7:$E$13,4,0)*Fonct_Empl!F3902*((Fonct_Empl!G3902/12)))+(VLOOKUP(E3902,Param!$A$7:$E$13,5,0)*Fonct_Empl!H3902),2),\"\")","v":""}]
[null,null,null,null,null,null,null,null,{"$f":"IF(E3903<>\"\",ROUND((VLOOKUP(E3903,Param!$A$7:$E$13,4,0)*Fonct_Empl!F3903*((Fonct_Empl!G3903/12)))+(VLOOKUP(E3903,Param!$A$7:$E$13,5,0)*Fonct_Empl!H3903),2),\"\")","v":""}]
[null,null,null,null,null,null,null,null,{"$f":"IF(E3904<>\"\",ROUND((VLOOKUP(E3904,Param!$A$7:$E$13,4,0)*Fonct_Empl!F3904*((Fonct_Empl!G3904/12)))+(VLOOKUP(E3904,Param!$A$7:$E$13,5,0)*Fonct_Empl!H3904),2),\"\")","v":""}]
[null,null,null,null,null,null,null,null,{"$f":"IF(E3905<>\"\",ROUND((VLOOKUP(E3905,Param!$A$7:$E$13,4,0)*Fonct_Empl!F3905*((Fonct_Empl!G3905/12)))+(VLOOKUP(E3905,Param!$A$7:$E$13,5,0)*Fonct_Empl!H3905),2),\"\")","v":""}]
[null,null,null,null,null,null,null,null,{"$f":"IF(E3906<>\"\",ROUND((VLOOKUP(E3906,Param!$A$7:$E$13,4,0)*Fonct_Empl!F3906*((Fonct_Empl!G3906/12)))+(VLOOKUP(E3906,Param!$A$7:$E$13,5,0)*Fonct_Empl!H3906),2),\"\")","v":""}]
[null,null,null,null,null,null,null,null,{"$f":"IF(E3907<>\"\",ROUND((VLOOKUP(E3907,Param!$A$7:$E$13,4,0)*Fonct_Empl!F3907*((Fonct_Empl!G3907/12)))+(VLOOKUP(E3907,Param!$A$7:$E$13,5,0)*Fonct_Empl!H3907),2),\"\")","v":""}]
[null,null,null,null,null,null,null,null,{"$f":"IF(E3908<>\"\",ROUND((VLOOKUP(E3908,Param!$A$7:$E$13,4,0)*Fonct_Empl!F3908*((Fonct_Empl!G3908/12)))+(VLOOKUP(E3908,Param!$A$7:$E$13,5,0)*Fonct_Empl!H3908),2),\"\")","v":""}]
[null,null,null,null,null,null,null,null,{"$f":"IF(E3909<>\"\",ROUND((VLOOKUP(E3909,Param!$A$7:$E$13,4,0)*Fonct_Empl!F3909*((Fonct_Empl!G3909/12)))+(VLOOKUP(E3909,Param!$A$7:$E$13,5,0)*Fonct_Empl!H3909),2),\"\")","v":""}]
[null,null,null,null,null,null,null,null,{"$f":"IF(E3910<>\"\",ROUND((VLOOKUP(E3910,Param!$A$7:$E$13,4,0)*Fonct_Empl!F3910*((Fonct_Empl!G3910/12)))+(VLOOKUP(E3910,Param!$A$7:$E$13,5,0)*Fonct_Empl!H3910),2),\"\")","v":""}]
[null,null,null,null,null,null,null,null,{"$f":"IF(E3911<>\"\",ROUND((VLOOKUP(E3911,Param!$A$7:$E$13,4,0)*Fonct_Empl!F3911*((Fonct_Empl!G3911/12)))+(VLOOKUP(E3911,Param!$A$7:$E$13,5,0)*Fonct_Empl!H3911),2),\"\")","v":""}]
[null,null,null,null,null,null,null,null,{"$f":"IF(E3912<>\"\",ROUND((VLOOKUP(E3912,Param!$A$7:$E$13,4,0)*Fonct_Empl!F3912*((Fonct_Empl!G3912/12)))+(VLOOKUP(E3912,Param!$A$7:$E$13,5,0)*Fonct_Empl!H3912),2),\"\")","v":""}]
[null,null,null,null,null,null,null,null,{"$f":"IF(E3913<>\"\",ROUND((VLOOKUP(E3913,Param!$A$7:$E$13,4,0)*Fonct_Empl!F3913*((Fonct_Empl!G3913/12)))+(VLOOKUP(E3913,Param!$A$7:$E$13,5,0)*Fonct_Empl!H3913),2),\"\")","v":""}]
[null,null,null,null,null,null,null,null,{"$f":"IF(E3914<>\"\",ROUND((VLOOKUP(E3914,Param!$A$7:$E$13,4,0)*Fonct_Empl!F3914*((Fonct_Empl!G3914/12)))+(VLOOKUP(E3914,Param!$A$7:$E$13,5,0)*Fonct_Empl!H3914),2),\"\")","v":""}]
[null,null,null,null,null,null,null,null,{"$f":"IF(E3915<>\"\",ROUND((VLOOKUP(E3915,Param!$A$7:$E$13,4,0)*Fonct_Empl!F3915*((Fonct_Empl!G3915/12)))+(VLOOKUP(E3915,Param!$A$7:$E$13,5,0)*Fonct_Empl!H3915),2),\"\")","v":""}]
[null,null,null,null,null,null,null,null,{"$f":"IF(E3916<>\"\",ROUND((VLOOKUP(E3916,Param!$A$7:$E$13,4,0)*Fonct_Empl!F3916*((Fonct_Empl!G3916/12)))+(VLOOKUP(E3916,Param!$A$7:$E$13,5,0)*Fonct_Empl!H3916),2),\"\")","v":""}]
[null,null,null,null,null,null,null,null,{"$f":"IF(E3917<>\"\",ROUND((VLOOKUP(E3917,Param!$A$7:$E$13,4,0)*Fonct_Empl!F3917*((Fonct_Empl!G3917/12)))+(VLOOKUP(E3917,Param!$A$7:$E$13,5,0)*Fonct_Empl!H3917),2),\"\")","v":""}]
[null,null,null,null,null,null,null,null,{"$f":"IF(E3918<>\"\",ROUND((VLOOKUP(E3918,Param!$A$7:$E$13,4,0)*Fonct_Empl!F3918*((Fonct_Empl!G3918/12)))+(VLOOKUP(E3918,Param!$A$7:$E$13,5,0)*Fonct_Empl!H3918),2),\"\")","v":""}]
[null,null,null,null,null,null,null,null,{"$f":"IF(E3919<>\"\",ROUND((VLOOKUP(E3919,Param!$A$7:$E$13,4,0)*Fonct_Empl!F3919*((Fonct_Empl!G3919/12)))+(VLOOKUP(E3919,Param!$A$7:$E$13,5,0)*Fonct_Empl!H3919),2),\"\")","v":""}]
[null,null,null,null,null,null,null,null,{"$f":"IF(E3920<>\"\",ROUND((VLOOKUP(E3920,Param!$A$7:$E$13,4,0)*Fonct_Empl!F3920*((Fonct_Empl!G3920/12)))+(VLOOKUP(E3920,Param!$A$7:$E$13,5,0)*Fonct_Empl!H3920),2),\"\")","v":""}]
[null,null,null,null,null,null,null,null,{"$f":"IF(E3921<>\"\",ROUND((VLOOKUP(E3921,Param!$A$7:$E$13,4,0)*Fonct_Empl!F3921*((Fonct_Empl!G3921/12)))+(VLOOKUP(E3921,Param!$A$7:$E$13,5,0)*Fonct_Empl!H3921),2),\"\")","v":""}]
[null,null,null,null,null,null,null,null,{"$f":"IF(E3922<>\"\",ROUND((VLOOKUP(E3922,Param!$A$7:$E$13,4,0)*Fonct_Empl!F3922*((Fonct_Empl!G3922/12)))+(VLOOKUP(E3922,Param!$A$7:$E$13,5,0)*Fonct_Empl!H3922),2),\"\")","v":""}]
[null,null,null,null,null,null,null,null,{"$f":"IF(E3923<>\"\",ROUND((VLOOKUP(E3923,Param!$A$7:$E$13,4,0)*Fonct_Empl!F3923*((Fonct_Empl!G3923/12)))+(VLOOKUP(E3923,Param!$A$7:$E$13,5,0)*Fonct_Empl!H3923),2),\"\")","v":""}]
[null,null,null,null,null,null,null,null,{"$f":"IF(E3924<>\"\",ROUND((VLOOKUP(E3924,Param!$A$7:$E$13,4,0)*Fonct_Empl!F3924*((Fonct_Empl!G3924/12)))+(VLOOKUP(E3924,Param!$A$7:$E$13,5,0)*Fonct_Empl!H3924),2),\"\")","v":""}]
[null,null,null,null,null,null,null,null,{"$f":"IF(E3925<>\"\",ROUND((VLOOKUP(E3925,Param!$A$7:$E$13,4,0)*Fonct_Empl!F3925*((Fonct_Empl!G3925/12)))+(VLOOKUP(E3925,Param!$A$7:$E$13,5,0)*Fonct_Empl!H3925),2),\"\")","v":""}]
[null,null,null,null,null,null,null,null,{"$f":"IF(E3926<>\"\",ROUND((VLOOKUP(E3926,Param!$A$7:$E$13,4,0)*Fonct_Empl!F3926*((Fonct_Empl!G3926/12)))+(VLOOKUP(E3926,Param!$A$7:$E$13,5,0)*Fonct_Empl!H3926),2),\"\")","v":""}]
[null,null,null,null,null,null,null,null,{"$f":"IF(E3927<>\"\",ROUND((VLOOKUP(E3927,Param!$A$7:$E$13,4,0)*Fonct_Empl!F3927*((Fonct_Empl!G3927/12)))+(VLOOKUP(E3927,Param!$A$7:$E$13,5,0)*Fonct_Empl!H3927),2),\"\")","v":""}]
[null,null,null,null,null,null,null,null,{"$f":"IF(E3928<>\"\",ROUND((VLOOKUP(E3928,Param!$A$7:$E$13,4,0)*Fonct_Empl!F3928*((Fonct_Empl!G3928/12)))+(VLOOKUP(E3928,Param!$A$7:$E$13,5,0)*Fonct_Empl!H3928),2),\"\")","v":""}]
[null,null,null,null,null,null,null,null,{"$f":"IF(E3929<>\"\",ROUND((VLOOKUP(E3929,Param!$A$7:$E$13,4,0)*Fonct_Empl!F3929*((Fonct_Empl!G3929/12)))+(VLOOKUP(E3929,Param!$A$7:$E$13,5,0)*Fonct_Empl!H3929),2),\"\")","v":""}]
[null,null,null,null,null,null,null,null,{"$f":"IF(E3930<>\"\",ROUND((VLOOKUP(E3930,Param!$A$7:$E$13,4,0)*Fonct_Empl!F3930*((Fonct_Empl!G3930/12)))+(VLOOKUP(E3930,Param!$A$7:$E$13,5,0)*Fonct_Empl!H3930),2),\"\")","v":""}]
[null,null,null,null,null,null,null,null,{"$f":"IF(E3931<>\"\",ROUND((VLOOKUP(E3931,Param!$A$7:$E$13,4,0)*Fonct_Empl!F3931*((Fonct_Empl!G3931/12)))+(VLOOKUP(E3931,Param!$A$7:$E$13,5,0)*Fonct_Empl!H3931),2),\"\")","v":""}]
[null,null,null,null,null,null,null,null,{"$f":"IF(E3932<>\"\",ROUND((VLOOKUP(E3932,Param!$A$7:$E$13,4,0)*Fonct_Empl!F3932*((Fonct_Empl!G3932/12)))+(VLOOKUP(E3932,Param!$A$7:$E$13,5,0)*Fonct_Empl!H3932),2),\"\")","v":""}]
[null,null,null,null,null,null,null,null,{"$f":"IF(E3933<>\"\",ROUND((VLOOKUP(E3933,Param!$A$7:$E$13,4,0)*Fonct_Empl!F3933*((Fonct_Empl!G3933/12)))+(VLOOKUP(E3933,Param!$A$7:$E$13,5,0)*Fonct_Empl!H3933),2),\"\")","v":""}]
[null,null,null,null,null,null,null,null,{"$f":"IF(E3934<>\"\",ROUND((VLOOKUP(E3934,Param!$A$7:$E$13,4,0)*Fonct_Empl!F3934*((Fonct_Empl!G3934/12)))+(VLOOKUP(E3934,Param!$A$7:$E$13,5,0)*Fonct_Empl!H3934),2),\"\")","v":""}]
[null,null,null,null,null,null,null,null,{"$f":"IF(E3935<>\"\",ROUND((VLOOKUP(E3935,Param!$A$7:$E$13,4,0)*Fonct_Empl!F3935*((Fonct_Empl!G3935/12)))+(VLOOKUP(E3935,Param!$A$7:$E$13,5,0)*Fonct_Empl!H3935),2),\"\")","v":""}]
[null,null,null,null,null,null,null,null,{"$f":"IF(E3936<>\"\",ROUND((VLOOKUP(E3936,Param!$A$7:$E$13,4,0)*Fonct_Empl!F3936*((Fonct_Empl!G3936/12)))+(VLOOKUP(E3936,Param!$A$7:$E$13,5,0)*Fonct_Empl!H3936),2),\"\")","v":""}]
[null,null,null,null,null,null,null,null,{"$f":"IF(E3937<>\"\",ROUND((VLOOKUP(E3937,Param!$A$7:$E$13,4,0)*Fonct_Empl!F3937*((Fonct_Empl!G3937/12)))+(VLOOKUP(E3937,Param!$A$7:$E$13,5,0)*Fonct_Empl!H3937),2),\"\")","v":""}]
[null,null,null,null,null,null,null,null,{"$f":"IF(E3938<>\"\",ROUND((VLOOKUP(E3938,Param!$A$7:$E$13,4,0)*Fonct_Empl!F3938*((Fonct_Empl!G3938/12)))+(VLOOKUP(E3938,Param!$A$7:$E$13,5,0)*Fonct_Empl!H3938),2),\"\")","v":""}]
[null,null,null,null,null,null,null,null,{"$f":"IF(E3939<>\"\",ROUND((VLOOKUP(E3939,Param!$A$7:$E$13,4,0)*Fonct_Empl!F3939*((Fonct_Empl!G3939/12)))+(VLOOKUP(E3939,Param!$A$7:$E$13,5,0)*Fonct_Empl!H3939),2),\"\")","v":""}]
[null,null,null,null,null,null,null,null,{"$f":"IF(E3940<>\"\",ROUND((VLOOKUP(E3940,Param!$A$7:$E$13,4,0)*Fonct_Empl!F3940*((Fonct_Empl!G3940/12)))+(VLOOKUP(E3940,Param!$A$7:$E$13,5,0)*Fonct_Empl!H3940),2),\"\")","v":""}]
[null,null,null,null,null,null,null,null,{"$f":"IF(E3941<>\"\",ROUND((VLOOKUP(E3941,Param!$A$7:$E$13,4,0)*Fonct_Empl!F3941*((Fonct_Empl!G3941/12)))+(VLOOKUP(E3941,Param!$A$7:$E$13,5,0)*Fonct_Empl!H3941),2),\"\")","v":""}]
[null,null,null,null,null,null,null,null,{"$f":"IF(E3942<>\"\",ROUND((VLOOKUP(E3942,Param!$A$7:$E$13,4,0)*Fonct_Empl!F3942*((Fonct_Empl!G3942/12)))+(VLOOKUP(E3942,Param!$A$7:$E$13,5,0)*Fonct_Empl!H3942),2),\"\")","v":""}]
[null,null,null,null,null,null,null,null,{"$f":"IF(E3943<>\"\",ROUND((VLOOKUP(E3943,Param!$A$7:$E$13,4,0)*Fonct_Empl!F3943*((Fonct_Empl!G3943/12)))+(VLOOKUP(E3943,Param!$A$7:$E$13,5,0)*Fonct_Empl!H3943),2),\"\")","v":""}]
[null,null,null,null,null,null,null,null,{"$f":"IF(E3944<>\"\",ROUND((VLOOKUP(E3944,Param!$A$7:$E$13,4,0)*Fonct_Empl!F3944*((Fonct_Empl!G3944/12)))+(VLOOKUP(E3944,Param!$A$7:$E$13,5,0)*Fonct_Empl!H3944),2),\"\")","v":""}]
[null,null,null,null,null,null,null,null,{"$f":"IF(E3945<>\"\",ROUND((VLOOKUP(E3945,Param!$A$7:$E$13,4,0)*Fonct_Empl!F3945*((Fonct_Empl!G3945/12)))+(VLOOKUP(E3945,Param!$A$7:$E$13,5,0)*Fonct_Empl!H3945),2),\"\")","v":""}]
[null,null,null,null,null,null,null,null,{"$f":"IF(E3946<>\"\",ROUND((VLOOKUP(E3946,Param!$A$7:$E$13,4,0)*Fonct_Empl!F3946*((Fonct_Empl!G3946/12)))+(VLOOKUP(E3946,Param!$A$7:$E$13,5,0)*Fonct_Empl!H3946),2),\"\")","v":""}]
[null,null,null,null,null,null,null,null,{"$f":"IF(E3947<>\"\",ROUND((VLOOKUP(E3947,Param!$A$7:$E$13,4,0)*Fonct_Empl!F3947*((Fonct_Empl!G3947/12)))+(VLOOKUP(E3947,Param!$A$7:$E$13,5,0)*Fonct_Empl!H3947),2),\"\")","v":""}]
[null,null,null,null,null,null,null,null,{"$f":"IF(E3948<>\"\",ROUND((VLOOKUP(E3948,Param!$A$7:$E$13,4,0)*Fonct_Empl!F3948*((Fonct_Empl!G3948/12)))+(VLOOKUP(E3948,Param!$A$7:$E$13,5,0)*Fonct_Empl!H3948),2),\"\")","v":""}]
[null,null,null,null,null,null,null,null,{"$f":"IF(E3949<>\"\",ROUND((VLOOKUP(E3949,Param!$A$7:$E$13,4,0)*Fonct_Empl!F3949*((Fonct_Empl!G3949/12)))+(VLOOKUP(E3949,Param!$A$7:$E$13,5,0)*Fonct_Empl!H3949),2),\"\")","v":""}]
[null,null,null,null,null,null,null,null,{"$f":"IF(E3950<>\"\",ROUND((VLOOKUP(E3950,Param!$A$7:$E$13,4,0)*Fonct_Empl!F3950*((Fonct_Empl!G3950/12)))+(VLOOKUP(E3950,Param!$A$7:$E$13,5,0)*Fonct_Empl!H3950),2),\"\")","v":""}]
[null,null,null,null,null,null,null,null,{"$f":"IF(E3951<>\"\",ROUND((VLOOKUP(E3951,Param!$A$7:$E$13,4,0)*Fonct_Empl!F3951*((Fonct_Empl!G3951/12)))+(VLOOKUP(E3951,Param!$A$7:$E$13,5,0)*Fonct_Empl!H3951),2),\"\")","v":""}]
[null,null,null,null,null,null,null,null,{"$f":"IF(E3952<>\"\",ROUND((VLOOKUP(E3952,Param!$A$7:$E$13,4,0)*Fonct_Empl!F3952*((Fonct_Empl!G3952/12)))+(VLOOKUP(E3952,Param!$A$7:$E$13,5,0)*Fonct_Empl!H3952),2),\"\")","v":""}]
[null,null,null,null,null,null,null,null,{"$f":"IF(E3953<>\"\",ROUND((VLOOKUP(E3953,Param!$A$7:$E$13,4,0)*Fonct_Empl!F3953*((Fonct_Empl!G3953/12)))+(VLOOKUP(E3953,Param!$A$7:$E$13,5,0)*Fonct_Empl!H3953),2),\"\")","v":""}]
[null,null,null,null,null,null,null,null,{"$f":"IF(E3954<>\"\",ROUND((VLOOKUP(E3954,Param!$A$7:$E$13,4,0)*Fonct_Empl!F3954*((Fonct_Empl!G3954/12)))+(VLOOKUP(E3954,Param!$A$7:$E$13,5,0)*Fonct_Empl!H3954),2),\"\")","v":""}]
[null,null,null,null,null,null,null,null,{"$f":"IF(E3955<>\"\",ROUND((VLOOKUP(E3955,Param!$A$7:$E$13,4,0)*Fonct_Empl!F3955*((Fonct_Empl!G3955/12)))+(VLOOKUP(E3955,Param!$A$7:$E$13,5,0)*Fonct_Empl!H3955),2),\"\")","v":""}]
[null,null,null,null,null,null,null,null,{"$f":"IF(E3956<>\"\",ROUND((VLOOKUP(E3956,Param!$A$7:$E$13,4,0)*Fonct_Empl!F3956*((Fonct_Empl!G3956/12)))+(VLOOKUP(E3956,Param!$A$7:$E$13,5,0)*Fonct_Empl!H3956),2),\"\")","v":""}]
[null,null,null,null,null,null,null,null,{"$f":"IF(E3957<>\"\",ROUND((VLOOKUP(E3957,Param!$A$7:$E$13,4,0)*Fonct_Empl!F3957*((Fonct_Empl!G3957/12)))+(VLOOKUP(E3957,Param!$A$7:$E$13,5,0)*Fonct_Empl!H3957),2),\"\")","v":""}]
[null,null,null,null,null,null,null,null,{"$f":"IF(E3958<>\"\",ROUND((VLOOKUP(E3958,Param!$A$7:$E$13,4,0)*Fonct_Empl!F3958*((Fonct_Empl!G3958/12)))+(VLOOKUP(E3958,Param!$A$7:$E$13,5,0)*Fonct_Empl!H3958),2),\"\")","v":""}]
[null,null,null,null,null,null,null,null,{"$f":"IF(E3959<>\"\",ROUND((VLOOKUP(E3959,Param!$A$7:$E$13,4,0)*Fonct_Empl!F3959*((Fonct_Empl!G3959/12)))+(VLOOKUP(E3959,Param!$A$7:$E$13,5,0)*Fonct_Empl!H3959),2),\"\")","v":""}]
[null,null,null,null,null,null,null,null,{"$f":"IF(E3960<>\"\",ROUND((VLOOKUP(E3960,Param!$A$7:$E$13,4,0)*Fonct_Empl!F3960*((Fonct_Empl!G3960/12)))+(VLOOKUP(E3960,Param!$A$7:$E$13,5,0)*Fonct_Empl!H3960),2),\"\")","v":""}]
[null,null,null,null,null,null,null,null,{"$f":"IF(E3961<>\"\",ROUND((VLOOKUP(E3961,Param!$A$7:$E$13,4,0)*Fonct_Empl!F3961*((Fonct_Empl!G3961/12)))+(VLOOKUP(E3961,Param!$A$7:$E$13,5,0)*Fonct_Empl!H3961),2),\"\")","v":""}]
[null,null,null,null,null,null,null,null,{"$f":"IF(E3962<>\"\",ROUND((VLOOKUP(E3962,Param!$A$7:$E$13,4,0)*Fonct_Empl!F3962*((Fonct_Empl!G3962/12)))+(VLOOKUP(E3962,Param!$A$7:$E$13,5,0)*Fonct_Empl!H3962),2),\"\")","v":""}]
[null,null,null,null,null,null,null,null,{"$f":"IF(E3963<>\"\",ROUND((VLOOKUP(E3963,Param!$A$7:$E$13,4,0)*Fonct_Empl!F3963*((Fonct_Empl!G3963/12)))+(VLOOKUP(E3963,Param!$A$7:$E$13,5,0)*Fonct_Empl!H3963),2),\"\")","v":""}]
[null,null,null,null,null,null,null,null,{"$f":"IF(E3964<>\"\",ROUND((VLOOKUP(E3964,Param!$A$7:$E$13,4,0)*Fonct_Empl!F3964*((Fonct_Empl!G3964/12)))+(VLOOKUP(E3964,Param!$A$7:$E$13,5,0)*Fonct_Empl!H3964),2),\"\")","v":""}]
[null,null,null,null,null,null,null,null,{"$f":"IF(E3965<>\"\",ROUND((VLOOKUP(E3965,Param!$A$7:$E$13,4,0)*Fonct_Empl!F3965*((Fonct_Empl!G3965/12)))+(VLOOKUP(E3965,Param!$A$7:$E$13,5,0)*Fonct_Empl!H3965),2),\"\")","v":""}]
[null,null,null,null,null,null,null,null,{"$f":"IF(E3966<>\"\",ROUND((VLOOKUP(E3966,Param!$A$7:$E$13,4,0)*Fonct_Empl!F3966*((Fonct_Empl!G3966/12)))+(VLOOKUP(E3966,Param!$A$7:$E$13,5,0)*Fonct_Empl!H3966),2),\"\")","v":""}]
[null,null,null,null,null,null,null,null,{"$f":"IF(E3967<>\"\",ROUND((VLOOKUP(E3967,Param!$A$7:$E$13,4,0)*Fonct_Empl!F3967*((Fonct_Empl!G3967/12)))+(VLOOKUP(E3967,Param!$A$7:$E$13,5,0)*Fonct_Empl!H3967),2),\"\")","v":""}]
[null,null,null,null,null,null,null,null,{"$f":"IF(E3968<>\"\",ROUND((VLOOKUP(E3968,Param!$A$7:$E$13,4,0)*Fonct_Empl!F3968*((Fonct_Empl!G3968/12)))+(VLOOKUP(E3968,Param!$A$7:$E$13,5,0)*Fonct_Empl!H3968),2),\"\")","v":""}]
[null,null,null,null,null,null,null,null,{"$f":"IF(E3969<>\"\",ROUND((VLOOKUP(E3969,Param!$A$7:$E$13,4,0)*Fonct_Empl!F3969*((Fonct_Empl!G3969/12)))+(VLOOKUP(E3969,Param!$A$7:$E$13,5,0)*Fonct_Empl!H3969),2),\"\")","v":""}]
[null,null,null,null,null,null,null,null,{"$f":"IF(E3970<>\"\",ROUND((VLOOKUP(E3970,Param!$A$7:$E$13,4,0)*Fonct_Empl!F3970*((Fonct_Empl!G3970/12)))+(VLOOKUP(E3970,Param!$A$7:$E$13,5,0)*Fonct_Empl!H3970),2),\"\")","v":""}]
[null,null,null,null,null,null,null,null,{"$f":"IF(E3971<>\"\",ROUND((VLOOKUP(E3971,Param!$A$7:$E$13,4,0)*Fonct_Empl!F3971*((Fonct_Empl!G3971/12)))+(VLOOKUP(E3971,Param!$A$7:$E$13,5,0)*Fonct_Empl!H3971),2),\"\")","v":""}]
[null,null,null,null,null,null,null,null,{"$f":"IF(E3972<>\"\",ROUND((VLOOKUP(E3972,Param!$A$7:$E$13,4,0)*Fonct_Empl!F3972*((Fonct_Empl!G3972/12)))+(VLOOKUP(E3972,Param!$A$7:$E$13,5,0)*Fonct_Empl!H3972),2),\"\")","v":""}]
[null,null,null,null,null,null,null,null,{"$f":"IF(E3973<>\"\",ROUND((VLOOKUP(E3973,Param!$A$7:$E$13,4,0)*Fonct_Empl!F3973*((Fonct_Empl!G3973/12)))+(VLOOKUP(E3973,Param!$A$7:$E$13,5,0)*Fonct_Empl!H3973),2),\"\")","v":""}]
[null,null,null,null,null,null,null,null,{"$f":"IF(E3974<>\"\",ROUND((VLOOKUP(E3974,Param!$A$7:$E$13,4,0)*Fonct_Empl!F3974*((Fonct_Empl!G3974/12)))+(VLOOKUP(E3974,Param!$A$7:$E$13,5,0)*Fonct_Empl!H3974),2),\"\")","v":""}]
[null,null,null,null,null,null,null,null,{"$f":"IF(E3975<>\"\",ROUND((VLOOKUP(E3975,Param!$A$7:$E$13,4,0)*Fonct_Empl!F3975*((Fonct_Empl!G3975/12)))+(VLOOKUP(E3975,Param!$A$7:$E$13,5,0)*Fonct_Empl!H3975),2),\"\")","v":""}]
[null,null,null,null,null,null,null,null,{"$f":"IF(E3976<>\"\",ROUND((VLOOKUP(E3976,Param!$A$7:$E$13,4,0)*Fonct_Empl!F3976*((Fonct_Empl!G3976/12)))+(VLOOKUP(E3976,Param!$A$7:$E$13,5,0)*Fonct_Empl!H3976),2),\"\")","v":""}]
[null,null,null,null,null,null,null,null,{"$f":"IF(E3977<>\"\",ROUND((VLOOKUP(E3977,Param!$A$7:$E$13,4,0)*Fonct_Empl!F3977*((Fonct_Empl!G3977/12)))+(VLOOKUP(E3977,Param!$A$7:$E$13,5,0)*Fonct_Empl!H3977),2),\"\")","v":""}]
[null,null,null,null,null,null,null,null,{"$f":"IF(E3978<>\"\",ROUND((VLOOKUP(E3978,Param!$A$7:$E$13,4,0)*Fonct_Empl!F3978*((Fonct_Empl!G3978/12)))+(VLOOKUP(E3978,Param!$A$7:$E$13,5,0)*Fonct_Empl!H3978),2),\"\")","v":""}]
[null,null,null,null,null,null,null,null,{"$f":"IF(E3979<>\"\",ROUND((VLOOKUP(E3979,Param!$A$7:$E$13,4,0)*Fonct_Empl!F3979*((Fonct_Empl!G3979/12)))+(VLOOKUP(E3979,Param!$A$7:$E$13,5,0)*Fonct_Empl!H3979),2),\"\")","v":""}]
[null,null,null,null,null,null,null,null,{"$f":"IF(E3980<>\"\",ROUND((VLOOKUP(E3980,Param!$A$7:$E$13,4,0)*Fonct_Empl!F3980*((Fonct_Empl!G3980/12)))+(VLOOKUP(E3980,Param!$A$7:$E$13,5,0)*Fonct_Empl!H3980),2),\"\")","v":""}]
[null,null,null,null,null,null,null,null,{"$f":"IF(E3981<>\"\",ROUND((VLOOKUP(E3981,Param!$A$7:$E$13,4,0)*Fonct_Empl!F3981*((Fonct_Empl!G3981/12)))+(VLOOKUP(E3981,Param!$A$7:$E$13,5,0)*Fonct_Empl!H3981),2),\"\")","v":""}]
[null,null,null,null,null,null,null,null,{"$f":"IF(E3982<>\"\",ROUND((VLOOKUP(E3982,Param!$A$7:$E$13,4,0)*Fonct_Empl!F3982*((Fonct_Empl!G3982/12)))+(VLOOKUP(E3982,Param!$A$7:$E$13,5,0)*Fonct_Empl!H3982),2),\"\")","v":""}]
[null,null,null,null,null,null,null,null,{"$f":"IF(E3983<>\"\",ROUND((VLOOKUP(E3983,Param!$A$7:$E$13,4,0)*Fonct_Empl!F3983*((Fonct_Empl!G3983/12)))+(VLOOKUP(E3983,Param!$A$7:$E$13,5,0)*Fonct_Empl!H3983),2),\"\")","v":""}]
[null,null,null,null,null,null,null,null,{"$f":"IF(E3984<>\"\",ROUND((VLOOKUP(E3984,Param!$A$7:$E$13,4,0)*Fonct_Empl!F3984*((Fonct_Empl!G3984/12)))+(VLOOKUP(E3984,Param!$A$7:$E$13,5,0)*Fonct_Empl!H3984),2),\"\")","v":""}]
[null,null,null,null,null,null,null,null,{"$f":"IF(E3985<>\"\",ROUND((VLOOKUP(E3985,Param!$A$7:$E$13,4,0)*Fonct_Empl!F3985*((Fonct_Empl!G3985/12)))+(VLOOKUP(E3985,Param!$A$7:$E$13,5,0)*Fonct_Empl!H3985),2),\"\")","v":""}]
[null,null,null,null,null,null,null,null,{"$f":"IF(E3986<>\"\",ROUND((VLOOKUP(E3986,Param!$A$7:$E$13,4,0)*Fonct_Empl!F3986*((Fonct_Empl!G3986/12)))+(VLOOKUP(E3986,Param!$A$7:$E$13,5,0)*Fonct_Empl!H3986),2),\"\")","v":""}]
[null,null,null,null,null,null,null,null,{"$f":"IF(E3987<>\"\",ROUND((VLOOKUP(E3987,Param!$A$7:$E$13,4,0)*Fonct_Empl!F3987*((Fonct_Empl!G3987/12)))+(VLOOKUP(E3987,Param!$A$7:$E$13,5,0)*Fonct_Empl!H3987),2),\"\")","v":""}]
[null,null,null,null,null,null,null,null,{"$f":"IF(E3988<>\"\",ROUND((VLOOKUP(E3988,Param!$A$7:$E$13,4,0)*Fonct_Empl!F3988*((Fonct_Empl!G3988/12)))+(VLOOKUP(E3988,Param!$A$7:$E$13,5,0)*Fonct_Empl!H3988),2),\"\")","v":""}]
[null,null,null,null,null,null,null,null,{"$f":"IF(E3989<>\"\",ROUND((VLOOKUP(E3989,Param!$A$7:$E$13,4,0)*Fonct_Empl!F3989*((Fonct_Empl!G3989/12)))+(VLOOKUP(E3989,Param!$A$7:$E$13,5,0)*Fonct_Empl!H3989),2),\"\")","v":""}]
[null,null,null,null,null,null,null,null,{"$f":"IF(E3990<>\"\",ROUND((VLOOKUP(E3990,Param!$A$7:$E$13,4,0)*Fonct_Empl!F3990*((Fonct_Empl!G3990/12)))+(VLOOKUP(E3990,Param!$A$7:$E$13,5,0)*Fonct_Empl!H3990),2),\"\")","v":""}]
[null,null,null,null,null,null,null,null,{"$f":"IF(E3991<>\"\",ROUND((VLOOKUP(E3991,Param!$A$7:$E$13,4,0)*Fonct_Empl!F3991*((Fonct_Empl!G3991/12)))+(VLOOKUP(E3991,Param!$A$7:$E$13,5,0)*Fonct_Empl!H3991),2),\"\")","v":""}]
[null,null,null,null,null,null,null,null,{"$f":"IF(E3992<>\"\",ROUND((VLOOKUP(E3992,Param!$A$7:$E$13,4,0)*Fonct_Empl!F3992*((Fonct_Empl!G3992/12)))+(VLOOKUP(E3992,Param!$A$7:$E$13,5,0)*Fonct_Empl!H3992),2),\"\")","v":""}]
[null,null,null,null,null,null,null,null,{"$f":"IF(E3993<>\"\",ROUND((VLOOKUP(E3993,Param!$A$7:$E$13,4,0)*Fonct_Empl!F3993*((Fonct_Empl!G3993/12)))+(VLOOKUP(E3993,Param!$A$7:$E$13,5,0)*Fonct_Empl!H3993),2),\"\")","v":""}]
[null,null,null,null,null,null,null,null,{"$f":"IF(E3994<>\"\",ROUND((VLOOKUP(E3994,Param!$A$7:$E$13,4,0)*Fonct_Empl!F3994*((Fonct_Empl!G3994/12)))+(VLOOKUP(E3994,Param!$A$7:$E$13,5,0)*Fonct_Empl!H3994),2),\"\")","v":""}]
[null,null,null,null,null,null,null,null,{"$f":"IF(E3995<>\"\",ROUND((VLOOKUP(E3995,Param!$A$7:$E$13,4,0)*Fonct_Empl!F3995*((Fonct_Empl!G3995/12)))+(VLOOKUP(E3995,Param!$A$7:$E$13,5,0)*Fonct_Empl!H3995),2),\"\")","v":""}]
[null,null,null,null,null,null,null,null,{"$f":"IF(E3996<>\"\",ROUND((VLOOKUP(E3996,Param!$A$7:$E$13,4,0)*Fonct_Empl!F3996*((Fonct_Empl!G3996/12)))+(VLOOKUP(E3996,Param!$A$7:$E$13,5,0)*Fonct_Empl!H3996),2),\"\")","v":""}]
[null,null,null,null,null,null,null,null,{"$f":"IF(E3997<>\"\",ROUND((VLOOKUP(E3997,Param!$A$7:$E$13,4,0)*Fonct_Empl!F3997*((Fonct_Empl!G3997/12)))+(VLOOKUP(E3997,Param!$A$7:$E$13,5,0)*Fonct_Empl!H3997),2),\"\")","v":""}]
[null,null,null,null,null,null,null,null,{"$f":"IF(E3998<>\"\",ROUND((VLOOKUP(E3998,Param!$A$7:$E$13,4,0)*Fonct_Empl!F3998*((Fonct_Empl!G3998/12)))+(VLOOKUP(E3998,Param!$A$7:$E$13,5,0)*Fonct_Empl!H3998),2),\"\")","v":""}]
[null,null,null,null,null,null,null,null,{"$f":"IF(E3999<>\"\",ROUND((VLOOKUP(E3999,Param!$A$7:$E$13,4,0)*Fonct_Empl!F3999*((Fonct_Empl!G3999/12)))+(VLOOKUP(E3999,Param!$A$7:$E$13,5,0)*Fonct_Empl!H3999),2),\"\")","v":""}]
[null,null,null,null,null,null,null,null,{"$f":"IF(E4000<>\"\",ROUND((VLOOKUP(E4000,Param!$A$7:$E$13,4,0)*Fonct_Empl!F4000*((Fonct_Empl!G4000/12)))+(VLOOKUP(E4000,Param!$A$7:$E$13,5,0)*Fonct_Empl!H4000),2),\"\")","v":""}]
[null,null,null,null,null,null,null,null,{"$f":"IF(E4001<>\"\",ROUND((VLOOKUP(E4001,Param!$A$7:$E$13,4,0)*Fonct_Empl!F4001*((Fonct_Empl!G4001/12)))+(VLOOKUP(E4001,Param!$A$7:$E$13,5,0)*Fonct_Empl!H4001),2),\"\")","v":""}]
[null,null,null,null,null,null,null,null,{"$f":"IF(E4002<>\"\",ROUND((VLOOKUP(E4002,Param!$A$7:$E$13,4,0)*Fonct_Empl!F4002*((Fonct_Empl!G4002/12)))+(VLOOKUP(E4002,Param!$A$7:$E$13,5,0)*Fonct_Empl!H4002),2),\"\")","v":""}]
[null,null,null,null,null,null,null,null,{"$f":"IF(E4003<>\"\",ROUND((VLOOKUP(E4003,Param!$A$7:$E$13,4,0)*Fonct_Empl!F4003*((Fonct_Empl!G4003/12)))+(VLOOKUP(E4003,Param!$A$7:$E$13,5,0)*Fonct_Empl!H4003),2),\"\")","v":""}]
[null,null,null,null,null,null,null,null,{"$f":"IF(E4004<>\"\",ROUND((VLOOKUP(E4004,Param!$A$7:$E$13,4,0)*Fonct_Empl!F4004*((Fonct_Empl!G4004/12)))+(VLOOKUP(E4004,Param!$A$7:$E$13,5,0)*Fonct_Empl!H4004),2),\"\")","v":""}]
[null,null,null,null,null,null,null,null,{"$f":"IF(E4005<>\"\",ROUND((VLOOKUP(E4005,Param!$A$7:$E$13,4,0)*Fonct_Empl!F4005*((Fonct_Empl!G4005/12)))+(VLOOKUP(E4005,Param!$A$7:$E$13,5,0)*Fonct_Empl!H4005),2),\"\")","v":""}]
[null,null,null,null,null,null,null,null,{"$f":"IF(E4006<>\"\",ROUND((VLOOKUP(E4006,Param!$A$7:$E$13,4,0)*Fonct_Empl!F4006*((Fonct_Empl!G4006/12)))+(VLOOKUP(E4006,Param!$A$7:$E$13,5,0)*Fonct_Empl!H4006),2),\"\")","v":""}]
[null,null,null,null,null,null,null,null,{"$f":"IF(E4007<>\"\",ROUND((VLOOKUP(E4007,Param!$A$7:$E$13,4,0)*Fonct_Empl!F4007*((Fonct_Empl!G4007/12)))+(VLOOKUP(E4007,Param!$A$7:$E$13,5,0)*Fonct_Empl!H4007),2),\"\")","v":""}]
[null,null,null,null,null,null,null,null,{"$f":"IF(E4008<>\"\",ROUND((VLOOKUP(E4008,Param!$A$7:$E$13,4,0)*Fonct_Empl!F4008*((Fonct_Empl!G4008/12)))+(VLOOKUP(E4008,Param!$A$7:$E$13,5,0)*Fonct_Empl!H4008),2),\"\")","v":""}]
[null,null,null,null,null,null,null,null,{"$f":"IF(E4009<>\"\",ROUND((VLOOKUP(E4009,Param!$A$7:$E$13,4,0)*Fonct_Empl!F4009*((Fonct_Empl!G4009/12)))+(VLOOKUP(E4009,Param!$A$7:$E$13,5,0)*Fonct_Empl!H4009),2),\"\")","v":""}]
[null,null,null,null,null,null,null,null,{"$f":"IF(E4010<>\"\",ROUND((VLOOKUP(E4010,Param!$A$7:$E$13,4,0)*Fonct_Empl!F4010*((Fonct_Empl!G4010/12)))+(VLOOKUP(E4010,Param!$A$7:$E$13,5,0)*Fonct_Empl!H4010),2),\"\")","v":""}]
[null,null,null,null,null,null,null,null,{"$f":"IF(E4011<>\"\",ROUND((VLOOKUP(E4011,Param!$A$7:$E$13,4,0)*Fonct_Empl!F4011*((Fonct_Empl!G4011/12)))+(VLOOKUP(E4011,Param!$A$7:$E$13,5,0)*Fonct_Empl!H4011),2),\"\")","v":""}]
[null,null,null,null,null,null,null,null,{"$f":"IF(E4012<>\"\",ROUND((VLOOKUP(E4012,Param!$A$7:$E$13,4,0)*Fonct_Empl!F4012*((Fonct_Empl!G4012/12)))+(VLOOKUP(E4012,Param!$A$7:$E$13,5,0)*Fonct_Empl!H4012),2),\"\")","v":""}]
[null,null,null,null,null,null,null,null,{"$f":"IF(E4013<>\"\",ROUND((VLOOKUP(E4013,Param!$A$7:$E$13,4,0)*Fonct_Empl!F4013*((Fonct_Empl!G4013/12)))+(VLOOKUP(E4013,Param!$A$7:$E$13,5,0)*Fonct_Empl!H4013),2),\"\")","v":""}]
[null,null,null,null,null,null,null,null,{"$f":"IF(E4014<>\"\",ROUND((VLOOKUP(E4014,Param!$A$7:$E$13,4,0)*Fonct_Empl!F4014*((Fonct_Empl!G4014/12)))+(VLOOKUP(E4014,Param!$A$7:$E$13,5,0)*Fonct_Empl!H4014),2),\"\")","v":""}]
[null,null,null,null,null,null,null,null,{"$f":"IF(E4015<>\"\",ROUND((VLOOKUP(E4015,Param!$A$7:$E$13,4,0)*Fonct_Empl!F4015*((Fonct_Empl!G4015/12)))+(VLOOKUP(E4015,Param!$A$7:$E$13,5,0)*Fonct_Empl!H4015),2),\"\")","v":""}]
[null,null,null,null,null,null,null,null,{"$f":"IF(E4016<>\"\",ROUND((VLOOKUP(E4016,Param!$A$7:$E$13,4,0)*Fonct_Empl!F4016*((Fonct_Empl!G4016/12)))+(VLOOKUP(E4016,Param!$A$7:$E$13,5,0)*Fonct_Empl!H4016),2),\"\")","v":""}]
[null,null,null,null,null,null,null,null,{"$f":"IF(E4017<>\"\",ROUND((VLOOKUP(E4017,Param!$A$7:$E$13,4,0)*Fonct_Empl!F4017*((Fonct_Empl!G4017/12)))+(VLOOKUP(E4017,Param!$A$7:$E$13,5,0)*Fonct_Empl!H4017),2),\"\")","v":""}]
[null,null,null,null,null,null,null,null,{"$f":"IF(E4018<>\"\",ROUND((VLOOKUP(E4018,Param!$A$7:$E$13,4,0)*Fonct_Empl!F4018*((Fonct_Empl!G4018/12)))+(VLOOKUP(E4018,Param!$A$7:$E$13,5,0)*Fonct_Empl!H4018),2),\"\")","v":""}]
[null,null,null,null,null,null,null,null,{"$f":"IF(E4019<>\"\",ROUND((VLOOKUP(E4019,Param!$A$7:$E$13,4,0)*Fonct_Empl!F4019*((Fonct_Empl!G4019/12)))+(VLOOKUP(E4019,Param!$A$7:$E$13,5,0)*Fonct_Empl!H4019),2),\"\")","v":""}]
[null,null,null,null,null,null,null,null,{"$f":"IF(E4020<>\"\",ROUND((VLOOKUP(E4020,Param!$A$7:$E$13,4,0)*Fonct_Empl!F4020*((Fonct_Empl!G4020/12)))+(VLOOKUP(E4020,Param!$A$7:$E$13,5,0)*Fonct_Empl!H4020),2),\"\")","v":""}]
[null,null,null,null,null,null,null,null,{"$f":"IF(E4021<>\"\",ROUND((VLOOKUP(E4021,Param!$A$7:$E$13,4,0)*Fonct_Empl!F4021*((Fonct_Empl!G4021/12)))+(VLOOKUP(E4021,Param!$A$7:$E$13,5,0)*Fonct_Empl!H4021),2),\"\")","v":""}]
[null,null,null,null,null,null,null,null,{"$f":"IF(E4022<>\"\",ROUND((VLOOKUP(E4022,Param!$A$7:$E$13,4,0)*Fonct_Empl!F4022*((Fonct_Empl!G4022/12)))+(VLOOKUP(E4022,Param!$A$7:$E$13,5,0)*Fonct_Empl!H4022),2),\"\")","v":""}]
[null,null,null,null,null,null,null,null,{"$f":"IF(E4023<>\"\",ROUND((VLOOKUP(E4023,Param!$A$7:$E$13,4,0)*Fonct_Empl!F4023*((Fonct_Empl!G4023/12)))+(VLOOKUP(E4023,Param!$A$7:$E$13,5,0)*Fonct_Empl!H4023),2),\"\")","v":""}]
[null,null,null,null,null,null,null,null,{"$f":"IF(E4024<>\"\",ROUND((VLOOKUP(E4024,Param!$A$7:$E$13,4,0)*Fonct_Empl!F4024*((Fonct_Empl!G4024/12)))+(VLOOKUP(E4024,Param!$A$7:$E$13,5,0)*Fonct_Empl!H4024),2),\"\")","v":""}]
[null,null,null,null,null,null,null,null,{"$f":"IF(E4025<>\"\",ROUND((VLOOKUP(E4025,Param!$A$7:$E$13,4,0)*Fonct_Empl!F4025*((Fonct_Empl!G4025/12)))+(VLOOKUP(E4025,Param!$A$7:$E$13,5,0)*Fonct_Empl!H4025),2),\"\")","v":""}]
[null,null,null,null,null,null,null,null,{"$f":"IF(E4026<>\"\",ROUND((VLOOKUP(E4026,Param!$A$7:$E$13,4,0)*Fonct_Empl!F4026*((Fonct_Empl!G4026/12)))+(VLOOKUP(E4026,Param!$A$7:$E$13,5,0)*Fonct_Empl!H4026),2),\"\")","v":""}]
[null,null,null,null,null,null,null,null,{"$f":"IF(E4027<>\"\",ROUND((VLOOKUP(E4027,Param!$A$7:$E$13,4,0)*Fonct_Empl!F4027*((Fonct_Empl!G4027/12)))+(VLOOKUP(E4027,Param!$A$7:$E$13,5,0)*Fonct_Empl!H4027),2),\"\")","v":""}]
[null,null,null,null,null,null,null,null,{"$f":"IF(E4028<>\"\",ROUND((VLOOKUP(E4028,Param!$A$7:$E$13,4,0)*Fonct_Empl!F4028*((Fonct_Empl!G4028/12)))+(VLOOKUP(E4028,Param!$A$7:$E$13,5,0)*Fonct_Empl!H4028),2),\"\")","v":""}]
[null,null,null,null,null,null,null,null,{"$f":"IF(E4029<>\"\",ROUND((VLOOKUP(E4029,Param!$A$7:$E$13,4,0)*Fonct_Empl!F4029*((Fonct_Empl!G4029/12)))+(VLOOKUP(E4029,Param!$A$7:$E$13,5,0)*Fonct_Empl!H4029),2),\"\")","v":""}]
[null,null,null,null,null,null,null,null,{"$f":"IF(E4030<>\"\",ROUND((VLOOKUP(E4030,Param!$A$7:$E$13,4,0)*Fonct_Empl!F4030*((Fonct_Empl!G4030/12)))+(VLOOKUP(E4030,Param!$A$7:$E$13,5,0)*Fonct_Empl!H4030),2),\"\")","v":""}]
[null,null,null,null,null,null,null,null,{"$f":"IF(E4031<>\"\",ROUND((VLOOKUP(E4031,Param!$A$7:$E$13,4,0)*Fonct_Empl!F4031*((Fonct_Empl!G4031/12)))+(VLOOKUP(E4031,Param!$A$7:$E$13,5,0)*Fonct_Empl!H4031),2),\"\")","v":""}]
[null,null,null,null,null,null,null,null,{"$f":"IF(E4032<>\"\",ROUND((VLOOKUP(E4032,Param!$A$7:$E$13,4,0)*Fonct_Empl!F4032*((Fonct_Empl!G4032/12)))+(VLOOKUP(E4032,Param!$A$7:$E$13,5,0)*Fonct_Empl!H4032),2),\"\")","v":""}]
[null,null,null,null,null,null,null,null,{"$f":"IF(E4033<>\"\",ROUND((VLOOKUP(E4033,Param!$A$7:$E$13,4,0)*Fonct_Empl!F4033*((Fonct_Empl!G4033/12)))+(VLOOKUP(E4033,Param!$A$7:$E$13,5,0)*Fonct_Empl!H4033),2),\"\")","v":""}]
[null,null,null,null,null,null,null,null,{"$f":"IF(E4034<>\"\",ROUND((VLOOKUP(E4034,Param!$A$7:$E$13,4,0)*Fonct_Empl!F4034*((Fonct_Empl!G4034/12)))+(VLOOKUP(E4034,Param!$A$7:$E$13,5,0)*Fonct_Empl!H4034),2),\"\")","v":""}]
[null,null,null,null,null,null,null,null,{"$f":"IF(E4035<>\"\",ROUND((VLOOKUP(E4035,Param!$A$7:$E$13,4,0)*Fonct_Empl!F4035*((Fonct_Empl!G4035/12)))+(VLOOKUP(E4035,Param!$A$7:$E$13,5,0)*Fonct_Empl!H4035),2),\"\")","v":""}]
[null,null,null,null,null,null,null,null,{"$f":"IF(E4036<>\"\",ROUND((VLOOKUP(E4036,Param!$A$7:$E$13,4,0)*Fonct_Empl!F4036*((Fonct_Empl!G4036/12)))+(VLOOKUP(E4036,Param!$A$7:$E$13,5,0)*Fonct_Empl!H4036),2),\"\")","v":""}]
[null,null,null,null,null,null,null,null,{"$f":"IF(E4037<>\"\",ROUND((VLOOKUP(E4037,Param!$A$7:$E$13,4,0)*Fonct_Empl!F4037*((Fonct_Empl!G4037/12)))+(VLOOKUP(E4037,Param!$A$7:$E$13,5,0)*Fonct_Empl!H4037),2),\"\")","v":""}]
[null,null,null,null,null,null,null,null,{"$f":"IF(E4038<>\"\",ROUND((VLOOKUP(E4038,Param!$A$7:$E$13,4,0)*Fonct_Empl!F4038*((Fonct_Empl!G4038/12)))+(VLOOKUP(E4038,Param!$A$7:$E$13,5,0)*Fonct_Empl!H4038),2),\"\")","v":""}]
[null,null,null,null,null,null,null,null,{"$f":"IF(E4039<>\"\",ROUND((VLOOKUP(E4039,Param!$A$7:$E$13,4,0)*Fonct_Empl!F4039*((Fonct_Empl!G4039/12)))+(VLOOKUP(E4039,Param!$A$7:$E$13,5,0)*Fonct_Empl!H4039),2),\"\")","v":""}]
[null,null,null,null,null,null,null,null,{"$f":"IF(E4040<>\"\",ROUND((VLOOKUP(E4040,Param!$A$7:$E$13,4,0)*Fonct_Empl!F4040*((Fonct_Empl!G4040/12)))+(VLOOKUP(E4040,Param!$A$7:$E$13,5,0)*Fonct_Empl!H4040),2),\"\")","v":""}]
[null,null,null,null,null,null,null,null,{"$f":"IF(E4041<>\"\",ROUND((VLOOKUP(E4041,Param!$A$7:$E$13,4,0)*Fonct_Empl!F4041*((Fonct_Empl!G4041/12)))+(VLOOKUP(E4041,Param!$A$7:$E$13,5,0)*Fonct_Empl!H4041),2),\"\")","v":""}]
[null,null,null,null,null,null,null,null,{"$f":"IF(E4042<>\"\",ROUND((VLOOKUP(E4042,Param!$A$7:$E$13,4,0)*Fonct_Empl!F4042*((Fonct_Empl!G4042/12)))+(VLOOKUP(E4042,Param!$A$7:$E$13,5,0)*Fonct_Empl!H4042),2),\"\")","v":""}]
[null,null,null,null,null,null,null,null,{"$f":"IF(E4043<>\"\",ROUND((VLOOKUP(E4043,Param!$A$7:$E$13,4,0)*Fonct_Empl!F4043*((Fonct_Empl!G4043/12)))+(VLOOKUP(E4043,Param!$A$7:$E$13,5,0)*Fonct_Empl!H4043),2),\"\")","v":""}]
[null,null,null,null,null,null,null,null,{"$f":"IF(E4044<>\"\",ROUND((VLOOKUP(E4044,Param!$A$7:$E$13,4,0)*Fonct_Empl!F4044*((Fonct_Empl!G4044/12)))+(VLOOKUP(E4044,Param!$A$7:$E$13,5,0)*Fonct_Empl!H4044),2),\"\")","v":""}]
[null,null,null,null,null,null,null,null,{"$f":"IF(E4045<>\"\",ROUND((VLOOKUP(E4045,Param!$A$7:$E$13,4,0)*Fonct_Empl!F4045*((Fonct_Empl!G4045/12)))+(VLOOKUP(E4045,Param!$A$7:$E$13,5,0)*Fonct_Empl!H4045),2),\"\")","v":""}]
[null,null,null,null,null,null,null,null,{"$f":"IF(E4046<>\"\",ROUND((VLOOKUP(E4046,Param!$A$7:$E$13,4,0)*Fonct_Empl!F4046*((Fonct_Empl!G4046/12)))+(VLOOKUP(E4046,Param!$A$7:$E$13,5,0)*Fonct_Empl!H4046),2),\"\")","v":""}]
[null,null,null,null,null,null,null,null,{"$f":"IF(E4047<>\"\",ROUND((VLOOKUP(E4047,Param!$A$7:$E$13,4,0)*Fonct_Empl!F4047*((Fonct_Empl!G4047/12)))+(VLOOKUP(E4047,Param!$A$7:$E$13,5,0)*Fonct_Empl!H4047),2),\"\")","v":""}]
[null,null,null,null,null,null,null,null,{"$f":"IF(E4048<>\"\",ROUND((VLOOKUP(E4048,Param!$A$7:$E$13,4,0)*Fonct_Empl!F4048*((Fonct_Empl!G4048/12)))+(VLOOKUP(E4048,Param!$A$7:$E$13,5,0)*Fonct_Empl!H4048),2),\"\")","v":""}]
[null,null,null,null,null,null,null,null,{"$f":"IF(E4049<>\"\",ROUND((VLOOKUP(E4049,Param!$A$7:$E$13,4,0)*Fonct_Empl!F4049*((Fonct_Empl!G4049/12)))+(VLOOKUP(E4049,Param!$A$7:$E$13,5,0)*Fonct_Empl!H4049),2),\"\")","v":""}]
[null,null,null,null,null,null,null,null,{"$f":"IF(E4050<>\"\",ROUND((VLOOKUP(E4050,Param!$A$7:$E$13,4,0)*Fonct_Empl!F4050*((Fonct_Empl!G4050/12)))+(VLOOKUP(E4050,Param!$A$7:$E$13,5,0)*Fonct_Empl!H4050),2),\"\")","v":""}]
[null,null,null,null,null,null,null,null,{"$f":"IF(E4051<>\"\",ROUND((VLOOKUP(E4051,Param!$A$7:$E$13,4,0)*Fonct_Empl!F4051*((Fonct_Empl!G4051/12)))+(VLOOKUP(E4051,Param!$A$7:$E$13,5,0)*Fonct_Empl!H4051),2),\"\")","v":""}]
[null,null,null,null,null,null,null,null,{"$f":"IF(E4052<>\"\",ROUND((VLOOKUP(E4052,Param!$A$7:$E$13,4,0)*Fonct_Empl!F4052*((Fonct_Empl!G4052/12)))+(VLOOKUP(E4052,Param!$A$7:$E$13,5,0)*Fonct_Empl!H4052),2),\"\")","v":""}]
[null,null,null,null,null,null,null,null,{"$f":"IF(E4053<>\"\",ROUND((VLOOKUP(E4053,Param!$A$7:$E$13,4,0)*Fonct_Empl!F4053*((Fonct_Empl!G4053/12)))+(VLOOKUP(E4053,Param!$A$7:$E$13,5,0)*Fonct_Empl!H4053),2),\"\")","v":""}]
[null,null,null,null,null,null,null,null,{"$f":"IF(E4054<>\"\",ROUND((VLOOKUP(E4054,Param!$A$7:$E$13,4,0)*Fonct_Empl!F4054*((Fonct_Empl!G4054/12)))+(VLOOKUP(E4054,Param!$A$7:$E$13,5,0)*Fonct_Empl!H4054),2),\"\")","v":""}]
[null,null,null,null,null,null,null,null,{"$f":"IF(E4055<>\"\",ROUND((VLOOKUP(E4055,Param!$A$7:$E$13,4,0)*Fonct_Empl!F4055*((Fonct_Empl!G4055/12)))+(VLOOKUP(E4055,Param!$A$7:$E$13,5,0)*Fonct_Empl!H4055),2),\"\")","v":""}]
[null,null,null,null,null,null,null,null,{"$f":"IF(E4056<>\"\",ROUND((VLOOKUP(E4056,Param!$A$7:$E$13,4,0)*Fonct_Empl!F4056*((Fonct_Empl!G4056/12)))+(VLOOKUP(E4056,Param!$A$7:$E$13,5,0)*Fonct_Empl!H4056),2),\"\")","v":""}]
[null,null,null,null,null,null,null,null,{"$f":"IF(E4057<>\"\",ROUND((VLOOKUP(E4057,Param!$A$7:$E$13,4,0)*Fonct_Empl!F4057*((Fonct_Empl!G4057/12)))+(VLOOKUP(E4057,Param!$A$7:$E$13,5,0)*Fonct_Empl!H4057),2),\"\")","v":""}]
[null,null,null,null,null,null,null,null,{"$f":"IF(E4058<>\"\",ROUND((VLOOKUP(E4058,Param!$A$7:$E$13,4,0)*Fonct_Empl!F4058*((Fonct_Empl!G4058/12)))+(VLOOKUP(E4058,Param!$A$7:$E$13,5,0)*Fonct_Empl!H4058),2),\"\")","v":""}]
[null,null,null,null,null,null,null,null,{"$f":"IF(E4059<>\"\",ROUND((VLOOKUP(E4059,Param!$A$7:$E$13,4,0)*Fonct_Empl!F4059*((Fonct_Empl!G4059/12)))+(VLOOKUP(E4059,Param!$A$7:$E$13,5,0)*Fonct_Empl!H4059),2),\"\")","v":""}]
[null,null,null,null,null,null,null,null,{"$f":"IF(E4060<>\"\",ROUND((VLOOKUP(E4060,Param!$A$7:$E$13,4,0)*Fonct_Empl!F4060*((Fonct_Empl!G4060/12)))+(VLOOKUP(E4060,Param!$A$7:$E$13,5,0)*Fonct_Empl!H4060),2),\"\")","v":""}]
[null,null,null,null,null,null,null,null,{"$f":"IF(E4061<>\"\",ROUND((VLOOKUP(E4061,Param!$A$7:$E$13,4,0)*Fonct_Empl!F4061*((Fonct_Empl!G4061/12)))+(VLOOKUP(E4061,Param!$A$7:$E$13,5,0)*Fonct_Empl!H4061),2),\"\")","v":""}]
[null,null,null,null,null,null,null,null,{"$f":"IF(E4062<>\"\",ROUND((VLOOKUP(E4062,Param!$A$7:$E$13,4,0)*Fonct_Empl!F4062*((Fonct_Empl!G4062/12)))+(VLOOKUP(E4062,Param!$A$7:$E$13,5,0)*Fonct_Empl!H4062),2),\"\")","v":""}]
[null,null,null,null,null,null,null,null,{"$f":"IF(E4063<>\"\",ROUND((VLOOKUP(E4063,Param!$A$7:$E$13,4,0)*Fonct_Empl!F4063*((Fonct_Empl!G4063/12)))+(VLOOKUP(E4063,Param!$A$7:$E$13,5,0)*Fonct_Empl!H4063),2),\"\")","v":""}]
[null,null,null,null,null,null,null,null,{"$f":"IF(E4064<>\"\",ROUND((VLOOKUP(E4064,Param!$A$7:$E$13,4,0)*Fonct_Empl!F4064*((Fonct_Empl!G4064/12)))+(VLOOKUP(E4064,Param!$A$7:$E$13,5,0)*Fonct_Empl!H4064),2),\"\")","v":""}]
[null,null,null,null,null,null,null,null,{"$f":"IF(E4065<>\"\",ROUND((VLOOKUP(E4065,Param!$A$7:$E$13,4,0)*Fonct_Empl!F4065*((Fonct_Empl!G4065/12)))+(VLOOKUP(E4065,Param!$A$7:$E$13,5,0)*Fonct_Empl!H4065),2),\"\")","v":""}]
[null,null,null,null,null,null,null,null,{"$f":"IF(E4066<>\"\",ROUND((VLOOKUP(E4066,Param!$A$7:$E$13,4,0)*Fonct_Empl!F4066*((Fonct_Empl!G4066/12)))+(VLOOKUP(E4066,Param!$A$7:$E$13,5,0)*Fonct_Empl!H4066),2),\"\")","v":""}]
[null,null,null,null,null,null,null,null,{"$f":"IF(E4067<>\"\",ROUND((VLOOKUP(E4067,Param!$A$7:$E$13,4,0)*Fonct_Empl!F4067*((Fonct_Empl!G4067/12)))+(VLOOKUP(E4067,Param!$A$7:$E$13,5,0)*Fonct_Empl!H4067),2),\"\")","v":""}]
[null,null,null,null,null,null,null,null,{"$f":"IF(E4068<>\"\",ROUND((VLOOKUP(E4068,Param!$A$7:$E$13,4,0)*Fonct_Empl!F4068*((Fonct_Empl!G4068/12)))+(VLOOKUP(E4068,Param!$A$7:$E$13,5,0)*Fonct_Empl!H4068),2),\"\")","v":""}]
[null,null,null,null,null,null,null,null,{"$f":"IF(E4069<>\"\",ROUND((VLOOKUP(E4069,Param!$A$7:$E$13,4,0)*Fonct_Empl!F4069*((Fonct_Empl!G4069/12)))+(VLOOKUP(E4069,Param!$A$7:$E$13,5,0)*Fonct_Empl!H4069),2),\"\")","v":""}]
[null,null,null,null,null,null,null,null,{"$f":"IF(E4070<>\"\",ROUND((VLOOKUP(E4070,Param!$A$7:$E$13,4,0)*Fonct_Empl!F4070*((Fonct_Empl!G4070/12)))+(VLOOKUP(E4070,Param!$A$7:$E$13,5,0)*Fonct_Empl!H4070),2),\"\")","v":""}]
[null,null,null,null,null,null,null,null,{"$f":"IF(E4071<>\"\",ROUND((VLOOKUP(E4071,Param!$A$7:$E$13,4,0)*Fonct_Empl!F4071*((Fonct_Empl!G4071/12)))+(VLOOKUP(E4071,Param!$A$7:$E$13,5,0)*Fonct_Empl!H4071),2),\"\")","v":""}]
[null,null,null,null,null,null,null,null,{"$f":"IF(E4072<>\"\",ROUND((VLOOKUP(E4072,Param!$A$7:$E$13,4,0)*Fonct_Empl!F4072*((Fonct_Empl!G4072/12)))+(VLOOKUP(E4072,Param!$A$7:$E$13,5,0)*Fonct_Empl!H4072),2),\"\")","v":""}]
[null,null,null,null,null,null,null,null,{"$f":"IF(E4073<>\"\",ROUND((VLOOKUP(E4073,Param!$A$7:$E$13,4,0)*Fonct_Empl!F4073*((Fonct_Empl!G4073/12)))+(VLOOKUP(E4073,Param!$A$7:$E$13,5,0)*Fonct_Empl!H4073),2),\"\")","v":""}]
[null,null,null,null,null,null,null,null,{"$f":"IF(E4074<>\"\",ROUND((VLOOKUP(E4074,Param!$A$7:$E$13,4,0)*Fonct_Empl!F4074*((Fonct_Empl!G4074/12)))+(VLOOKUP(E4074,Param!$A$7:$E$13,5,0)*Fonct_Empl!H4074),2),\"\")","v":""}]
[null,null,null,null,null,null,null,null,{"$f":"IF(E4075<>\"\",ROUND((VLOOKUP(E4075,Param!$A$7:$E$13,4,0)*Fonct_Empl!F4075*((Fonct_Empl!G4075/12)))+(VLOOKUP(E4075,Param!$A$7:$E$13,5,0)*Fonct_Empl!H4075),2),\"\")","v":""}]
[null,null,null,null,null,null,null,null,{"$f":"IF(E4076<>\"\",ROUND((VLOOKUP(E4076,Param!$A$7:$E$13,4,0)*Fonct_Empl!F4076*((Fonct_Empl!G4076/12)))+(VLOOKUP(E4076,Param!$A$7:$E$13,5,0)*Fonct_Empl!H4076),2),\"\")","v":""}]
[null,null,null,null,null,null,null,null,{"$f":"IF(E4077<>\"\",ROUND((VLOOKUP(E4077,Param!$A$7:$E$13,4,0)*Fonct_Empl!F4077*((Fonct_Empl!G4077/12)))+(VLOOKUP(E4077,Param!$A$7:$E$13,5,0)*Fonct_Empl!H4077),2),\"\")","v":""}]
[null,null,null,null,null,null,null,null,{"$f":"IF(E4078<>\"\",ROUND((VLOOKUP(E4078,Param!$A$7:$E$13,4,0)*Fonct_Empl!F4078*((Fonct_Empl!G4078/12)))+(VLOOKUP(E4078,Param!$A$7:$E$13,5,0)*Fonct_Empl!H4078),2),\"\")","v":""}]
[null,null,null,null,null,null,null,null,{"$f":"IF(E4079<>\"\",ROUND((VLOOKUP(E4079,Param!$A$7:$E$13,4,0)*Fonct_Empl!F4079*((Fonct_Empl!G4079/12)))+(VLOOKUP(E4079,Param!$A$7:$E$13,5,0)*Fonct_Empl!H4079),2),\"\")","v":""}]
[null,null,null,null,null,null,null,null,{"$f":"IF(E4080<>\"\",ROUND((VLOOKUP(E4080,Param!$A$7:$E$13,4,0)*Fonct_Empl!F4080*((Fonct_Empl!G4080/12)))+(VLOOKUP(E4080,Param!$A$7:$E$13,5,0)*Fonct_Empl!H4080),2),\"\")","v":""}]
[null,null,null,null,null,null,null,null,{"$f":"IF(E4081<>\"\",ROUND((VLOOKUP(E4081,Param!$A$7:$E$13,4,0)*Fonct_Empl!F4081*((Fonct_Empl!G4081/12)))+(VLOOKUP(E4081,Param!$A$7:$E$13,5,0)*Fonct_Empl!H4081),2),\"\")","v":""}]
[null,null,null,null,null,null,null,null,{"$f":"IF(E4082<>\"\",ROUND((VLOOKUP(E4082,Param!$A$7:$E$13,4,0)*Fonct_Empl!F4082*((Fonct_Empl!G4082/12)))+(VLOOKUP(E4082,Param!$A$7:$E$13,5,0)*Fonct_Empl!H4082),2),\"\")","v":""}]
[null,null,null,null,null,null,null,null,{"$f":"IF(E4083<>\"\",ROUND((VLOOKUP(E4083,Param!$A$7:$E$13,4,0)*Fonct_Empl!F4083*((Fonct_Empl!G4083/12)))+(VLOOKUP(E4083,Param!$A$7:$E$13,5,0)*Fonct_Empl!H4083),2),\"\")","v":""}]
[null,null,null,null,null,null,null,null,{"$f":"IF(E4084<>\"\",ROUND((VLOOKUP(E4084,Param!$A$7:$E$13,4,0)*Fonct_Empl!F4084*((Fonct_Empl!G4084/12)))+(VLOOKUP(E4084,Param!$A$7:$E$13,5,0)*Fonct_Empl!H4084),2),\"\")","v":""}]
[null,null,null,null,null,null,null,null,{"$f":"IF(E4085<>\"\",ROUND((VLOOKUP(E4085,Param!$A$7:$E$13,4,0)*Fonct_Empl!F4085*((Fonct_Empl!G4085/12)))+(VLOOKUP(E4085,Param!$A$7:$E$13,5,0)*Fonct_Empl!H4085),2),\"\")","v":""}]
[null,null,null,null,null,null,null,null,{"$f":"IF(E4086<>\"\",ROUND((VLOOKUP(E4086,Param!$A$7:$E$13,4,0)*Fonct_Empl!F4086*((Fonct_Empl!G4086/12)))+(VLOOKUP(E4086,Param!$A$7:$E$13,5,0)*Fonct_Empl!H4086),2),\"\")","v":""}]
[null,null,null,null,null,null,null,null,{"$f":"IF(E4087<>\"\",ROUND((VLOOKUP(E4087,Param!$A$7:$E$13,4,0)*Fonct_Empl!F4087*((Fonct_Empl!G4087/12)))+(VLOOKUP(E4087,Param!$A$7:$E$13,5,0)*Fonct_Empl!H4087),2),\"\")","v":""}]
[null,null,null,null,null,null,null,null,{"$f":"IF(E4088<>\"\",ROUND((VLOOKUP(E4088,Param!$A$7:$E$13,4,0)*Fonct_Empl!F4088*((Fonct_Empl!G4088/12)))+(VLOOKUP(E4088,Param!$A$7:$E$13,5,0)*Fonct_Empl!H4088),2),\"\")","v":""}]
[null,null,null,null,null,null,null,null,{"$f":"IF(E4089<>\"\",ROUND((VLOOKUP(E4089,Param!$A$7:$E$13,4,0)*Fonct_Empl!F4089*((Fonct_Empl!G4089/12)))+(VLOOKUP(E4089,Param!$A$7:$E$13,5,0)*Fonct_Empl!H4089),2),\"\")","v":""}]
[null,null,null,null,null,null,null,null,{"$f":"IF(E4090<>\"\",ROUND((VLOOKUP(E4090,Param!$A$7:$E$13,4,0)*Fonct_Empl!F4090*((Fonct_Empl!G4090/12)))+(VLOOKUP(E4090,Param!$A$7:$E$13,5,0)*Fonct_Empl!H4090),2),\"\")","v":""}]
[null,null,null,null,null,null,null,null,{"$f":"IF(E4091<>\"\",ROUND((VLOOKUP(E4091,Param!$A$7:$E$13,4,0)*Fonct_Empl!F4091*((Fonct_Empl!G4091/12)))+(VLOOKUP(E4091,Param!$A$7:$E$13,5,0)*Fonct_Empl!H4091),2),\"\")","v":""}]
[null,null,null,null,null,null,null,null,{"$f":"IF(E4092<>\"\",ROUND((VLOOKUP(E4092,Param!$A$7:$E$13,4,0)*Fonct_Empl!F4092*((Fonct_Empl!G4092/12)))+(VLOOKUP(E4092,Param!$A$7:$E$13,5,0)*Fonct_Empl!H4092),2),\"\")","v":""}]
[null,null,null,null,null,null,null,null,{"$f":"IF(E4093<>\"\",ROUND((VLOOKUP(E4093,Param!$A$7:$E$13,4,0)*Fonct_Empl!F4093*((Fonct_Empl!G4093/12)))+(VLOOKUP(E4093,Param!$A$7:$E$13,5,0)*Fonct_Empl!H4093),2),\"\")","v":""}]
[null,null,null,null,null,null,null,null,{"$f":"IF(E4094<>\"\",ROUND((VLOOKUP(E4094,Param!$A$7:$E$13,4,0)*Fonct_Empl!F4094*((Fonct_Empl!G4094/12)))+(VLOOKUP(E4094,Param!$A$7:$E$13,5,0)*Fonct_Empl!H4094),2),\"\")","v":""}]
[null,null,null,null,null,null,null,null,{"$f":"IF(E4095<>\"\",ROUND((VLOOKUP(E4095,Param!$A$7:$E$13,4,0)*Fonct_Empl!F4095*((Fonct_Empl!G4095/12)))+(VLOOKUP(E4095,Param!$A$7:$E$13,5,0)*Fonct_Empl!H4095),2),\"\")","v":""}]
[null,null,null,null,null,null,null,null,{"$f":"IF(E4096<>\"\",ROUND((VLOOKUP(E4096,Param!$A$7:$E$13,4,0)*Fonct_Empl!F4096*((Fonct_Empl!G4096/12)))+(VLOOKUP(E4096,Param!$A$7:$E$13,5,0)*Fonct_Empl!H4096),2),\"\")","v":""}]
[null,null,null,null,null,null,null,null,{"$f":"IF(E4097<>\"\",ROUND((VLOOKUP(E4097,Param!$A$7:$E$13,4,0)*Fonct_Empl!F4097*((Fonct_Empl!G4097/12)))+(VLOOKUP(E4097,Param!$A$7:$E$13,5,0)*Fonct_Empl!H4097),2),\"\")","v":""}]
[null,null,null,null,null,null,null,null,{"$f":"IF(E4098<>\"\",ROUND((VLOOKUP(E4098,Param!$A$7:$E$13,4,0)*Fonct_Empl!F4098*((Fonct_Empl!G4098/12)))+(VLOOKUP(E4098,Param!$A$7:$E$13,5,0)*Fonct_Empl!H4098),2),\"\")","v":""}]
[null,null,null,null,null,null,null,null,{"$f":"IF(E4099<>\"\",ROUND((VLOOKUP(E4099,Param!$A$7:$E$13,4,0)*Fonct_Empl!F4099*((Fonct_Empl!G4099/12)))+(VLOOKUP(E4099,Param!$A$7:$E$13,5,0)*Fonct_Empl!H4099),2),\"\")","v":""}]
[null,null,null,null,null,null,null,null,{"$f":"IF(E4100<>\"\",ROUND((VLOOKUP(E4100,Param!$A$7:$E$13,4,0)*Fonct_Empl!F4100*((Fonct_Empl!G4100/12)))+(VLOOKUP(E4100,Param!$A$7:$E$13,5,0)*Fonct_Empl!H4100),2),\"\")","v":""}]
[null,null,null,null,null,null,null,null,{"$f":"IF(E4101<>\"\",ROUND((VLOOKUP(E4101,Param!$A$7:$E$13,4,0)*Fonct_Empl!F4101*((Fonct_Empl!G4101/12)))+(VLOOKUP(E4101,Param!$A$7:$E$13,5,0)*Fonct_Empl!H4101),2),\"\")","v":""}]
[null,null,null,null,null,null,null,null,{"$f":"IF(E4102<>\"\",ROUND((VLOOKUP(E4102,Param!$A$7:$E$13,4,0)*Fonct_Empl!F4102*((Fonct_Empl!G4102/12)))+(VLOOKUP(E4102,Param!$A$7:$E$13,5,0)*Fonct_Empl!H4102),2),\"\")","v":""}]
[null,null,null,null,null,null,null,null,{"$f":"IF(E4103<>\"\",ROUND((VLOOKUP(E4103,Param!$A$7:$E$13,4,0)*Fonct_Empl!F4103*((Fonct_Empl!G4103/12)))+(VLOOKUP(E4103,Param!$A$7:$E$13,5,0)*Fonct_Empl!H4103),2),\"\")","v":""}]
[null,null,null,null,null,null,null,null,{"$f":"IF(E4104<>\"\",ROUND((VLOOKUP(E4104,Param!$A$7:$E$13,4,0)*Fonct_Empl!F4104*((Fonct_Empl!G4104/12)))+(VLOOKUP(E4104,Param!$A$7:$E$13,5,0)*Fonct_Empl!H4104),2),\"\")","v":""}]
[null,null,null,null,null,null,null,null,{"$f":"IF(E4105<>\"\",ROUND((VLOOKUP(E4105,Param!$A$7:$E$13,4,0)*Fonct_Empl!F4105*((Fonct_Empl!G4105/12)))+(VLOOKUP(E4105,Param!$A$7:$E$13,5,0)*Fonct_Empl!H4105),2),\"\")","v":""}]
[null,null,null,null,null,null,null,null,{"$f":"IF(E4106<>\"\",ROUND((VLOOKUP(E4106,Param!$A$7:$E$13,4,0)*Fonct_Empl!F4106*((Fonct_Empl!G4106/12)))+(VLOOKUP(E4106,Param!$A$7:$E$13,5,0)*Fonct_Empl!H4106),2),\"\")","v":""}]
[null,null,null,null,null,null,null,null,{"$f":"IF(E4107<>\"\",ROUND((VLOOKUP(E4107,Param!$A$7:$E$13,4,0)*Fonct_Empl!F4107*((Fonct_Empl!G4107/12)))+(VLOOKUP(E4107,Param!$A$7:$E$13,5,0)*Fonct_Empl!H4107),2),\"\")","v":""}]
[null,null,null,null,null,null,null,null,{"$f":"IF(E4108<>\"\",ROUND((VLOOKUP(E4108,Param!$A$7:$E$13,4,0)*Fonct_Empl!F4108*((Fonct_Empl!G4108/12)))+(VLOOKUP(E4108,Param!$A$7:$E$13,5,0)*Fonct_Empl!H4108),2),\"\")","v":""}]
[null,null,null,null,null,null,null,null,{"$f":"IF(E4109<>\"\",ROUND((VLOOKUP(E4109,Param!$A$7:$E$13,4,0)*Fonct_Empl!F4109*((Fonct_Empl!G4109/12)))+(VLOOKUP(E4109,Param!$A$7:$E$13,5,0)*Fonct_Empl!H4109),2),\"\")","v":""}]
[null,null,null,null,null,null,null,null,{"$f":"IF(E4110<>\"\",ROUND((VLOOKUP(E4110,Param!$A$7:$E$13,4,0)*Fonct_Empl!F4110*((Fonct_Empl!G4110/12)))+(VLOOKUP(E4110,Param!$A$7:$E$13,5,0)*Fonct_Empl!H4110),2),\"\")","v":""}]
[null,null,null,null,null,null,null,null,{"$f":"IF(E4111<>\"\",ROUND((VLOOKUP(E4111,Param!$A$7:$E$13,4,0)*Fonct_Empl!F4111*((Fonct_Empl!G4111/12)))+(VLOOKUP(E4111,Param!$A$7:$E$13,5,0)*Fonct_Empl!H4111),2),\"\")","v":""}]
[null,null,null,null,null,null,null,null,{"$f":"IF(E4112<>\"\",ROUND((VLOOKUP(E4112,Param!$A$7:$E$13,4,0)*Fonct_Empl!F4112*((Fonct_Empl!G4112/12)))+(VLOOKUP(E4112,Param!$A$7:$E$13,5,0)*Fonct_Empl!H4112),2),\"\")","v":""}]
[null,null,null,null,null,null,null,null,{"$f":"IF(E4113<>\"\",ROUND((VLOOKUP(E4113,Param!$A$7:$E$13,4,0)*Fonct_Empl!F4113*((Fonct_Empl!G4113/12)))+(VLOOKUP(E4113,Param!$A$7:$E$13,5,0)*Fonct_Empl!H4113),2),\"\")","v":""}]
[null,null,null,null,null,null,null,null,{"$f":"IF(E4114<>\"\",ROUND((VLOOKUP(E4114,Param!$A$7:$E$13,4,0)*Fonct_Empl!F4114*((Fonct_Empl!G4114/12)))+(VLOOKUP(E4114,Param!$A$7:$E$13,5,0)*Fonct_Empl!H4114),2),\"\")","v":""}]
[null,null,null,null,null,null,null,null,{"$f":"IF(E4115<>\"\",ROUND((VLOOKUP(E4115,Param!$A$7:$E$13,4,0)*Fonct_Empl!F4115*((Fonct_Empl!G4115/12)))+(VLOOKUP(E4115,Param!$A$7:$E$13,5,0)*Fonct_Empl!H4115),2),\"\")","v":""}]
[null,null,null,null,null,null,null,null,{"$f":"IF(E4116<>\"\",ROUND((VLOOKUP(E4116,Param!$A$7:$E$13,4,0)*Fonct_Empl!F4116*((Fonct_Empl!G4116/12)))+(VLOOKUP(E4116,Param!$A$7:$E$13,5,0)*Fonct_Empl!H4116),2),\"\")","v":""}]
[null,null,null,null,null,null,null,null,{"$f":"IF(E4117<>\"\",ROUND((VLOOKUP(E4117,Param!$A$7:$E$13,4,0)*Fonct_Empl!F4117*((Fonct_Empl!G4117/12)))+(VLOOKUP(E4117,Param!$A$7:$E$13,5,0)*Fonct_Empl!H4117),2),\"\")","v":""}]
[null,null,null,null,null,null,null,null,{"$f":"IF(E4118<>\"\",ROUND((VLOOKUP(E4118,Param!$A$7:$E$13,4,0)*Fonct_Empl!F4118*((Fonct_Empl!G4118/12)))+(VLOOKUP(E4118,Param!$A$7:$E$13,5,0)*Fonct_Empl!H4118),2),\"\")","v":""}]
[null,null,null,null,null,null,null,null,{"$f":"IF(E4119<>\"\",ROUND((VLOOKUP(E4119,Param!$A$7:$E$13,4,0)*Fonct_Empl!F4119*((Fonct_Empl!G4119/12)))+(VLOOKUP(E4119,Param!$A$7:$E$13,5,0)*Fonct_Empl!H4119),2),\"\")","v":""}]
[null,null,null,null,null,null,null,null,{"$f":"IF(E4120<>\"\",ROUND((VLOOKUP(E4120,Param!$A$7:$E$13,4,0)*Fonct_Empl!F4120*((Fonct_Empl!G4120/12)))+(VLOOKUP(E4120,Param!$A$7:$E$13,5,0)*Fonct_Empl!H4120),2),\"\")","v":""}]
[null,null,null,null,null,null,null,null,{"$f":"IF(E4121<>\"\",ROUND((VLOOKUP(E4121,Param!$A$7:$E$13,4,0)*Fonct_Empl!F4121*((Fonct_Empl!G4121/12)))+(VLOOKUP(E4121,Param!$A$7:$E$13,5,0)*Fonct_Empl!H4121),2),\"\")","v":""}]
[null,null,null,null,null,null,null,null,{"$f":"IF(E4122<>\"\",ROUND((VLOOKUP(E4122,Param!$A$7:$E$13,4,0)*Fonct_Empl!F4122*((Fonct_Empl!G4122/12)))+(VLOOKUP(E4122,Param!$A$7:$E$13,5,0)*Fonct_Empl!H4122),2),\"\")","v":""}]
[null,null,null,null,null,null,null,null,{"$f":"IF(E4123<>\"\",ROUND((VLOOKUP(E4123,Param!$A$7:$E$13,4,0)*Fonct_Empl!F4123*((Fonct_Empl!G4123/12)))+(VLOOKUP(E4123,Param!$A$7:$E$13,5,0)*Fonct_Empl!H4123),2),\"\")","v":""}]
[null,null,null,null,null,null,null,null,{"$f":"IF(E4124<>\"\",ROUND((VLOOKUP(E4124,Param!$A$7:$E$13,4,0)*Fonct_Empl!F4124*((Fonct_Empl!G4124/12)))+(VLOOKUP(E4124,Param!$A$7:$E$13,5,0)*Fonct_Empl!H4124),2),\"\")","v":""}]
[null,null,null,null,null,null,null,null,{"$f":"IF(E4125<>\"\",ROUND((VLOOKUP(E4125,Param!$A$7:$E$13,4,0)*Fonct_Empl!F4125*((Fonct_Empl!G4125/12)))+(VLOOKUP(E4125,Param!$A$7:$E$13,5,0)*Fonct_Empl!H4125),2),\"\")","v":""}]
[null,null,null,null,null,null,null,null,{"$f":"IF(E4126<>\"\",ROUND((VLOOKUP(E4126,Param!$A$7:$E$13,4,0)*Fonct_Empl!F4126*((Fonct_Empl!G4126/12)))+(VLOOKUP(E4126,Param!$A$7:$E$13,5,0)*Fonct_Empl!H4126),2),\"\")","v":""}]
[null,null,null,null,null,null,null,null,{"$f":"IF(E4127<>\"\",ROUND((VLOOKUP(E4127,Param!$A$7:$E$13,4,0)*Fonct_Empl!F4127*((Fonct_Empl!G4127/12)))+(VLOOKUP(E4127,Param!$A$7:$E$13,5,0)*Fonct_Empl!H4127),2),\"\")","v":""}]
[null,null,null,null,null,null,null,null,{"$f":"IF(E4128<>\"\",ROUND((VLOOKUP(E4128,Param!$A$7:$E$13,4,0)*Fonct_Empl!F4128*((Fonct_Empl!G4128/12)))+(VLOOKUP(E4128,Param!$A$7:$E$13,5,0)*Fonct_Empl!H4128),2),\"\")","v":""}]
[null,null,null,null,null,null,null,null,{"$f":"IF(E4129<>\"\",ROUND((VLOOKUP(E4129,Param!$A$7:$E$13,4,0)*Fonct_Empl!F4129*((Fonct_Empl!G4129/12)))+(VLOOKUP(E4129,Param!$A$7:$E$13,5,0)*Fonct_Empl!H4129),2),\"\")","v":""}]
[null,null,null,null,null,null,null,null,{"$f":"IF(E4130<>\"\",ROUND((VLOOKUP(E4130,Param!$A$7:$E$13,4,0)*Fonct_Empl!F4130*((Fonct_Empl!G4130/12)))+(VLOOKUP(E4130,Param!$A$7:$E$13,5,0)*Fonct_Empl!H4130),2),\"\")","v":""}]
[null,null,null,null,null,null,null,null,{"$f":"IF(E4131<>\"\",ROUND((VLOOKUP(E4131,Param!$A$7:$E$13,4,0)*Fonct_Empl!F4131*((Fonct_Empl!G4131/12)))+(VLOOKUP(E4131,Param!$A$7:$E$13,5,0)*Fonct_Empl!H4131),2),\"\")","v":""}]
[null,null,null,null,null,null,null,null,{"$f":"IF(E4132<>\"\",ROUND((VLOOKUP(E4132,Param!$A$7:$E$13,4,0)*Fonct_Empl!F4132*((Fonct_Empl!G4132/12)))+(VLOOKUP(E4132,Param!$A$7:$E$13,5,0)*Fonct_Empl!H4132),2),\"\")","v":""}]
[null,null,null,null,null,null,null,null,{"$f":"IF(E4133<>\"\",ROUND((VLOOKUP(E4133,Param!$A$7:$E$13,4,0)*Fonct_Empl!F4133*((Fonct_Empl!G4133/12)))+(VLOOKUP(E4133,Param!$A$7:$E$13,5,0)*Fonct_Empl!H4133),2),\"\")","v":""}]
[null,null,null,null,null,null,null,null,{"$f":"IF(E4134<>\"\",ROUND((VLOOKUP(E4134,Param!$A$7:$E$13,4,0)*Fonct_Empl!F4134*((Fonct_Empl!G4134/12)))+(VLOOKUP(E4134,Param!$A$7:$E$13,5,0)*Fonct_Empl!H4134),2),\"\")","v":""}]
[null,null,null,null,null,null,null,null,{"$f":"IF(E4135<>\"\",ROUND((VLOOKUP(E4135,Param!$A$7:$E$13,4,0)*Fonct_Empl!F4135*((Fonct_Empl!G4135/12)))+(VLOOKUP(E4135,Param!$A$7:$E$13,5,0)*Fonct_Empl!H4135),2),\"\")","v":""}]
[null,null,null,null,null,null,null,null,{"$f":"IF(E4136<>\"\",ROUND((VLOOKUP(E4136,Param!$A$7:$E$13,4,0)*Fonct_Empl!F4136*((Fonct_Empl!G4136/12)))+(VLOOKUP(E4136,Param!$A$7:$E$13,5,0)*Fonct_Empl!H4136),2),\"\")","v":""}]
[null,null,null,null,null,null,null,null,{"$f":"IF(E4137<>\"\",ROUND((VLOOKUP(E4137,Param!$A$7:$E$13,4,0)*Fonct_Empl!F4137*((Fonct_Empl!G4137/12)))+(VLOOKUP(E4137,Param!$A$7:$E$13,5,0)*Fonct_Empl!H4137),2),\"\")","v":""}]
[null,null,null,null,null,null,null,null,{"$f":"IF(E4138<>\"\",ROUND((VLOOKUP(E4138,Param!$A$7:$E$13,4,0)*Fonct_Empl!F4138*((Fonct_Empl!G4138/12)))+(VLOOKUP(E4138,Param!$A$7:$E$13,5,0)*Fonct_Empl!H4138),2),\"\")","v":""}]
[null,null,null,null,null,null,null,null,{"$f":"IF(E4139<>\"\",ROUND((VLOOKUP(E4139,Param!$A$7:$E$13,4,0)*Fonct_Empl!F4139*((Fonct_Empl!G4139/12)))+(VLOOKUP(E4139,Param!$A$7:$E$13,5,0)*Fonct_Empl!H4139),2),\"\")","v":""}]
[null,null,null,null,null,null,null,null,{"$f":"IF(E4140<>\"\",ROUND((VLOOKUP(E4140,Param!$A$7:$E$13,4,0)*Fonct_Empl!F4140*((Fonct_Empl!G4140/12)))+(VLOOKUP(E4140,Param!$A$7:$E$13,5,0)*Fonct_Empl!H4140),2),\"\")","v":""}]
[null,null,null,null,null,null,null,null,{"$f":"IF(E4141<>\"\",ROUND((VLOOKUP(E4141,Param!$A$7:$E$13,4,0)*Fonct_Empl!F4141*((Fonct_Empl!G4141/12)))+(VLOOKUP(E4141,Param!$A$7:$E$13,5,0)*Fonct_Empl!H4141),2),\"\")","v":""}]
[null,null,null,null,null,null,null,null,{"$f":"IF(E4142<>\"\",ROUND((VLOOKUP(E4142,Param!$A$7:$E$13,4,0)*Fonct_Empl!F4142*((Fonct_Empl!G4142/12)))+(VLOOKUP(E4142,Param!$A$7:$E$13,5,0)*Fonct_Empl!H4142),2),\"\")","v":""}]
[null,null,null,null,null,null,null,null,{"$f":"IF(E4143<>\"\",ROUND((VLOOKUP(E4143,Param!$A$7:$E$13,4,0)*Fonct_Empl!F4143*((Fonct_Empl!G4143/12)))+(VLOOKUP(E4143,Param!$A$7:$E$13,5,0)*Fonct_Empl!H4143),2),\"\")","v":""}]
[null,null,null,null,null,null,null,null,{"$f":"IF(E4144<>\"\",ROUND((VLOOKUP(E4144,Param!$A$7:$E$13,4,0)*Fonct_Empl!F4144*((Fonct_Empl!G4144/12)))+(VLOOKUP(E4144,Param!$A$7:$E$13,5,0)*Fonct_Empl!H4144),2),\"\")","v":""}]
[null,null,null,null,null,null,null,null,{"$f":"IF(E4145<>\"\",ROUND((VLOOKUP(E4145,Param!$A$7:$E$13,4,0)*Fonct_Empl!F4145*((Fonct_Empl!G4145/12)))+(VLOOKUP(E4145,Param!$A$7:$E$13,5,0)*Fonct_Empl!H4145),2),\"\")","v":""}]
[null,null,null,null,null,null,null,null,{"$f":"IF(E4146<>\"\",ROUND((VLOOKUP(E4146,Param!$A$7:$E$13,4,0)*Fonct_Empl!F4146*((Fonct_Empl!G4146/12)))+(VLOOKUP(E4146,Param!$A$7:$E$13,5,0)*Fonct_Empl!H4146),2),\"\")","v":""}]
[null,null,null,null,null,null,null,null,{"$f":"IF(E4147<>\"\",ROUND((VLOOKUP(E4147,Param!$A$7:$E$13,4,0)*Fonct_Empl!F4147*((Fonct_Empl!G4147/12)))+(VLOOKUP(E4147,Param!$A$7:$E$13,5,0)*Fonct_Empl!H4147),2),\"\")","v":""}]
[null,null,null,null,null,null,null,null,{"$f":"IF(E4148<>\"\",ROUND((VLOOKUP(E4148,Param!$A$7:$E$13,4,0)*Fonct_Empl!F4148*((Fonct_Empl!G4148/12)))+(VLOOKUP(E4148,Param!$A$7:$E$13,5,0)*Fonct_Empl!H4148),2),\"\")","v":""}]
[null,null,null,null,null,null,null,null,{"$f":"IF(E4149<>\"\",ROUND((VLOOKUP(E4149,Param!$A$7:$E$13,4,0)*Fonct_Empl!F4149*((Fonct_Empl!G4149/12)))+(VLOOKUP(E4149,Param!$A$7:$E$13,5,0)*Fonct_Empl!H4149),2),\"\")","v":""}]
[null,null,null,null,null,null,null,null,{"$f":"IF(E4150<>\"\",ROUND((VLOOKUP(E4150,Param!$A$7:$E$13,4,0)*Fonct_Empl!F4150*((Fonct_Empl!G4150/12)))+(VLOOKUP(E4150,Param!$A$7:$E$13,5,0)*Fonct_Empl!H4150),2),\"\")","v":""}]
[null,null,null,null,null,null,null,null,{"$f":"IF(E4151<>\"\",ROUND((VLOOKUP(E4151,Param!$A$7:$E$13,4,0)*Fonct_Empl!F4151*((Fonct_Empl!G4151/12)))+(VLOOKUP(E4151,Param!$A$7:$E$13,5,0)*Fonct_Empl!H4151),2),\"\")","v":""}]
[null,null,null,null,null,null,null,null,{"$f":"IF(E4152<>\"\",ROUND((VLOOKUP(E4152,Param!$A$7:$E$13,4,0)*Fonct_Empl!F4152*((Fonct_Empl!G4152/12)))+(VLOOKUP(E4152,Param!$A$7:$E$13,5,0)*Fonct_Empl!H4152),2),\"\")","v":""}]
[null,null,null,null,null,null,null,null,{"$f":"IF(E4153<>\"\",ROUND((VLOOKUP(E4153,Param!$A$7:$E$13,4,0)*Fonct_Empl!F4153*((Fonct_Empl!G4153/12)))+(VLOOKUP(E4153,Param!$A$7:$E$13,5,0)*Fonct_Empl!H4153),2),\"\")","v":""}]
[null,null,null,null,null,null,null,null,{"$f":"IF(E4154<>\"\",ROUND((VLOOKUP(E4154,Param!$A$7:$E$13,4,0)*Fonct_Empl!F4154*((Fonct_Empl!G4154/12)))+(VLOOKUP(E4154,Param!$A$7:$E$13,5,0)*Fonct_Empl!H4154),2),\"\")","v":""}]
[null,null,null,null,null,null,null,null,{"$f":"IF(E4155<>\"\",ROUND((VLOOKUP(E4155,Param!$A$7:$E$13,4,0)*Fonct_Empl!F4155*((Fonct_Empl!G4155/12)))+(VLOOKUP(E4155,Param!$A$7:$E$13,5,0)*Fonct_Empl!H4155),2),\"\")","v":""}]
[null,null,null,null,null,null,null,null,{"$f":"IF(E4156<>\"\",ROUND((VLOOKUP(E4156,Param!$A$7:$E$13,4,0)*Fonct_Empl!F4156*((Fonct_Empl!G4156/12)))+(VLOOKUP(E4156,Param!$A$7:$E$13,5,0)*Fonct_Empl!H4156),2),\"\")","v":""}]
[null,null,null,null,null,null,null,null,{"$f":"IF(E4157<>\"\",ROUND((VLOOKUP(E4157,Param!$A$7:$E$13,4,0)*Fonct_Empl!F4157*((Fonct_Empl!G4157/12)))+(VLOOKUP(E4157,Param!$A$7:$E$13,5,0)*Fonct_Empl!H4157),2),\"\")","v":""}]
[null,null,null,null,null,null,null,null,{"$f":"IF(E4158<>\"\",ROUND((VLOOKUP(E4158,Param!$A$7:$E$13,4,0)*Fonct_Empl!F4158*((Fonct_Empl!G4158/12)))+(VLOOKUP(E4158,Param!$A$7:$E$13,5,0)*Fonct_Empl!H4158),2),\"\")","v":""}]
[null,null,null,null,null,null,null,null,{"$f":"IF(E4159<>\"\",ROUND((VLOOKUP(E4159,Param!$A$7:$E$13,4,0)*Fonct_Empl!F4159*((Fonct_Empl!G4159/12)))+(VLOOKUP(E4159,Param!$A$7:$E$13,5,0)*Fonct_Empl!H4159),2),\"\")","v":""}]
[null,null,null,null,null,null,null,null,{"$f":"IF(E4160<>\"\",ROUND((VLOOKUP(E4160,Param!$A$7:$E$13,4,0)*Fonct_Empl!F4160*((Fonct_Empl!G4160/12)))+(VLOOKUP(E4160,Param!$A$7:$E$13,5,0)*Fonct_Empl!H4160),2),\"\")","v":""}]
[null,null,null,null,null,null,null,null,{"$f":"IF(E4161<>\"\",ROUND((VLOOKUP(E4161,Param!$A$7:$E$13,4,0)*Fonct_Empl!F4161*((Fonct_Empl!G4161/12)))+(VLOOKUP(E4161,Param!$A$7:$E$13,5,0)*Fonct_Empl!H4161),2),\"\")","v":""}]
[null,null,null,null,null,null,null,null,{"$f":"IF(E4162<>\"\",ROUND((VLOOKUP(E4162,Param!$A$7:$E$13,4,0)*Fonct_Empl!F4162*((Fonct_Empl!G4162/12)))+(VLOOKUP(E4162,Param!$A$7:$E$13,5,0)*Fonct_Empl!H4162),2),\"\")","v":""}]
[null,null,null,null,null,null,null,null,{"$f":"IF(E4163<>\"\",ROUND((VLOOKUP(E4163,Param!$A$7:$E$13,4,0)*Fonct_Empl!F4163*((Fonct_Empl!G4163/12)))+(VLOOKUP(E4163,Param!$A$7:$E$13,5,0)*Fonct_Empl!H4163),2),\"\")","v":""}]
[null,null,null,null,null,null,null,null,{"$f":"IF(E4164<>\"\",ROUND((VLOOKUP(E4164,Param!$A$7:$E$13,4,0)*Fonct_Empl!F4164*((Fonct_Empl!G4164/12)))+(VLOOKUP(E4164,Param!$A$7:$E$13,5,0)*Fonct_Empl!H4164),2),\"\")","v":""}]
[null,null,null,null,null,null,null,null,{"$f":"IF(E4165<>\"\",ROUND((VLOOKUP(E4165,Param!$A$7:$E$13,4,0)*Fonct_Empl!F4165*((Fonct_Empl!G4165/12)))+(VLOOKUP(E4165,Param!$A$7:$E$13,5,0)*Fonct_Empl!H4165),2),\"\")","v":""}]
[null,null,null,null,null,null,null,null,{"$f":"IF(E4166<>\"\",ROUND((VLOOKUP(E4166,Param!$A$7:$E$13,4,0)*Fonct_Empl!F4166*((Fonct_Empl!G4166/12)))+(VLOOKUP(E4166,Param!$A$7:$E$13,5,0)*Fonct_Empl!H4166),2),\"\")","v":""}]
[null,null,null,null,null,null,null,null,{"$f":"IF(E4167<>\"\",ROUND((VLOOKUP(E4167,Param!$A$7:$E$13,4,0)*Fonct_Empl!F4167*((Fonct_Empl!G4167/12)))+(VLOOKUP(E4167,Param!$A$7:$E$13,5,0)*Fonct_Empl!H4167),2),\"\")","v":""}]
[null,null,null,null,null,null,null,null,{"$f":"IF(E4168<>\"\",ROUND((VLOOKUP(E4168,Param!$A$7:$E$13,4,0)*Fonct_Empl!F4168*((Fonct_Empl!G4168/12)))+(VLOOKUP(E4168,Param!$A$7:$E$13,5,0)*Fonct_Empl!H4168),2),\"\")","v":""}]
[null,null,null,null,null,null,null,null,{"$f":"IF(E4169<>\"\",ROUND((VLOOKUP(E4169,Param!$A$7:$E$13,4,0)*Fonct_Empl!F4169*((Fonct_Empl!G4169/12)))+(VLOOKUP(E4169,Param!$A$7:$E$13,5,0)*Fonct_Empl!H4169),2),\"\")","v":""}]
[null,null,null,null,null,null,null,null,{"$f":"IF(E4170<>\"\",ROUND((VLOOKUP(E4170,Param!$A$7:$E$13,4,0)*Fonct_Empl!F4170*((Fonct_Empl!G4170/12)))+(VLOOKUP(E4170,Param!$A$7:$E$13,5,0)*Fonct_Empl!H4170),2),\"\")","v":""}]
[null,null,null,null,null,null,null,null,{"$f":"IF(E4171<>\"\",ROUND((VLOOKUP(E4171,Param!$A$7:$E$13,4,0)*Fonct_Empl!F4171*((Fonct_Empl!G4171/12)))+(VLOOKUP(E4171,Param!$A$7:$E$13,5,0)*Fonct_Empl!H4171),2),\"\")","v":""}]
[null,null,null,null,null,null,null,null,{"$f":"IF(E4172<>\"\",ROUND((VLOOKUP(E4172,Param!$A$7:$E$13,4,0)*Fonct_Empl!F4172*((Fonct_Empl!G4172/12)))+(VLOOKUP(E4172,Param!$A$7:$E$13,5,0)*Fonct_Empl!H4172),2),\"\")","v":""}]
[null,null,null,null,null,null,null,null,{"$f":"IF(E4173<>\"\",ROUND((VLOOKUP(E4173,Param!$A$7:$E$13,4,0)*Fonct_Empl!F4173*((Fonct_Empl!G4173/12)))+(VLOOKUP(E4173,Param!$A$7:$E$13,5,0)*Fonct_Empl!H4173),2),\"\")","v":""}]
[null,null,null,null,null,null,null,null,{"$f":"IF(E4174<>\"\",ROUND((VLOOKUP(E4174,Param!$A$7:$E$13,4,0)*Fonct_Empl!F4174*((Fonct_Empl!G4174/12)))+(VLOOKUP(E4174,Param!$A$7:$E$13,5,0)*Fonct_Empl!H4174),2),\"\")","v":""}]
[null,null,null,null,null,null,null,null,{"$f":"IF(E4175<>\"\",ROUND((VLOOKUP(E4175,Param!$A$7:$E$13,4,0)*Fonct_Empl!F4175*((Fonct_Empl!G4175/12)))+(VLOOKUP(E4175,Param!$A$7:$E$13,5,0)*Fonct_Empl!H4175),2),\"\")","v":""}]
[null,null,null,null,null,null,null,null,{"$f":"IF(E4176<>\"\",ROUND((VLOOKUP(E4176,Param!$A$7:$E$13,4,0)*Fonct_Empl!F4176*((Fonct_Empl!G4176/12)))+(VLOOKUP(E4176,Param!$A$7:$E$13,5,0)*Fonct_Empl!H4176),2),\"\")","v":""}]
[null,null,null,null,null,null,null,null,{"$f":"IF(E4177<>\"\",ROUND((VLOOKUP(E4177,Param!$A$7:$E$13,4,0)*Fonct_Empl!F4177*((Fonct_Empl!G4177/12)))+(VLOOKUP(E4177,Param!$A$7:$E$13,5,0)*Fonct_Empl!H4177),2),\"\")","v":""}]
[null,null,null,null,null,null,null,null,{"$f":"IF(E4178<>\"\",ROUND((VLOOKUP(E4178,Param!$A$7:$E$13,4,0)*Fonct_Empl!F4178*((Fonct_Empl!G4178/12)))+(VLOOKUP(E4178,Param!$A$7:$E$13,5,0)*Fonct_Empl!H4178),2),\"\")","v":""}]
[null,null,null,null,null,null,null,null,{"$f":"IF(E4179<>\"\",ROUND((VLOOKUP(E4179,Param!$A$7:$E$13,4,0)*Fonct_Empl!F4179*((Fonct_Empl!G4179/12)))+(VLOOKUP(E4179,Param!$A$7:$E$13,5,0)*Fonct_Empl!H4179),2),\"\")","v":""}]
[null,null,null,null,null,null,null,null,{"$f":"IF(E4180<>\"\",ROUND((VLOOKUP(E4180,Param!$A$7:$E$13,4,0)*Fonct_Empl!F4180*((Fonct_Empl!G4180/12)))+(VLOOKUP(E4180,Param!$A$7:$E$13,5,0)*Fonct_Empl!H4180),2),\"\")","v":""}]
[null,null,null,null,null,null,null,null,{"$f":"IF(E4181<>\"\",ROUND((VLOOKUP(E4181,Param!$A$7:$E$13,4,0)*Fonct_Empl!F4181*((Fonct_Empl!G4181/12)))+(VLOOKUP(E4181,Param!$A$7:$E$13,5,0)*Fonct_Empl!H4181),2),\"\")","v":""}]
[null,null,null,null,null,null,null,null,{"$f":"IF(E4182<>\"\",ROUND((VLOOKUP(E4182,Param!$A$7:$E$13,4,0)*Fonct_Empl!F4182*((Fonct_Empl!G4182/12)))+(VLOOKUP(E4182,Param!$A$7:$E$13,5,0)*Fonct_Empl!H4182),2),\"\")","v":""}]
[null,null,null,null,null,null,null,null,{"$f":"IF(E4183<>\"\",ROUND((VLOOKUP(E4183,Param!$A$7:$E$13,4,0)*Fonct_Empl!F4183*((Fonct_Empl!G4183/12)))+(VLOOKUP(E4183,Param!$A$7:$E$13,5,0)*Fonct_Empl!H4183),2),\"\")","v":""}]
[null,null,null,null,null,null,null,null,{"$f":"IF(E4184<>\"\",ROUND((VLOOKUP(E4184,Param!$A$7:$E$13,4,0)*Fonct_Empl!F4184*((Fonct_Empl!G4184/12)))+(VLOOKUP(E4184,Param!$A$7:$E$13,5,0)*Fonct_Empl!H4184),2),\"\")","v":""}]
[null,null,null,null,null,null,null,null,{"$f":"IF(E4185<>\"\",ROUND((VLOOKUP(E4185,Param!$A$7:$E$13,4,0)*Fonct_Empl!F4185*((Fonct_Empl!G4185/12)))+(VLOOKUP(E4185,Param!$A$7:$E$13,5,0)*Fonct_Empl!H4185),2),\"\")","v":""}]
[null,null,null,null,null,null,null,null,{"$f":"IF(E4186<>\"\",ROUND((VLOOKUP(E4186,Param!$A$7:$E$13,4,0)*Fonct_Empl!F4186*((Fonct_Empl!G4186/12)))+(VLOOKUP(E4186,Param!$A$7:$E$13,5,0)*Fonct_Empl!H4186),2),\"\")","v":""}]
[null,null,null,null,null,null,null,null,{"$f":"IF(E4187<>\"\",ROUND((VLOOKUP(E4187,Param!$A$7:$E$13,4,0)*Fonct_Empl!F4187*((Fonct_Empl!G4187/12)))+(VLOOKUP(E4187,Param!$A$7:$E$13,5,0)*Fonct_Empl!H4187),2),\"\")","v":""}]
[null,null,null,null,null,null,null,null,{"$f":"IF(E4188<>\"\",ROUND((VLOOKUP(E4188,Param!$A$7:$E$13,4,0)*Fonct_Empl!F4188*((Fonct_Empl!G4188/12)))+(VLOOKUP(E4188,Param!$A$7:$E$13,5,0)*Fonct_Empl!H4188),2),\"\")","v":""}]
[null,null,null,null,null,null,null,null,{"$f":"IF(E4189<>\"\",ROUND((VLOOKUP(E4189,Param!$A$7:$E$13,4,0)*Fonct_Empl!F4189*((Fonct_Empl!G4189/12)))+(VLOOKUP(E4189,Param!$A$7:$E$13,5,0)*Fonct_Empl!H4189),2),\"\")","v":""}]
[null,null,null,null,null,null,null,null,{"$f":"IF(E4190<>\"\",ROUND((VLOOKUP(E4190,Param!$A$7:$E$13,4,0)*Fonct_Empl!F4190*((Fonct_Empl!G4190/12)))+(VLOOKUP(E4190,Param!$A$7:$E$13,5,0)*Fonct_Empl!H4190),2),\"\")","v":""}]
[null,null,null,null,null,null,null,null,{"$f":"IF(E4191<>\"\",ROUND((VLOOKUP(E4191,Param!$A$7:$E$13,4,0)*Fonct_Empl!F4191*((Fonct_Empl!G4191/12)))+(VLOOKUP(E4191,Param!$A$7:$E$13,5,0)*Fonct_Empl!H4191),2),\"\")","v":""}]
[null,null,null,null,null,null,null,null,{"$f":"IF(E4192<>\"\",ROUND((VLOOKUP(E4192,Param!$A$7:$E$13,4,0)*Fonct_Empl!F4192*((Fonct_Empl!G4192/12)))+(VLOOKUP(E4192,Param!$A$7:$E$13,5,0)*Fonct_Empl!H4192),2),\"\")","v":""}]
[null,null,null,null,null,null,null,null,{"$f":"IF(E4193<>\"\",ROUND((VLOOKUP(E4193,Param!$A$7:$E$13,4,0)*Fonct_Empl!F4193*((Fonct_Empl!G4193/12)))+(VLOOKUP(E4193,Param!$A$7:$E$13,5,0)*Fonct_Empl!H4193),2),\"\")","v":""}]
[null,null,null,null,null,null,null,null,{"$f":"IF(E4194<>\"\",ROUND((VLOOKUP(E4194,Param!$A$7:$E$13,4,0)*Fonct_Empl!F4194*((Fonct_Empl!G4194/12)))+(VLOOKUP(E4194,Param!$A$7:$E$13,5,0)*Fonct_Empl!H4194),2),\"\")","v":""}]
[null,null,null,null,null,null,null,null,{"$f":"IF(E4195<>\"\",ROUND((VLOOKUP(E4195,Param!$A$7:$E$13,4,0)*Fonct_Empl!F4195*((Fonct_Empl!G4195/12)))+(VLOOKUP(E4195,Param!$A$7:$E$13,5,0)*Fonct_Empl!H4195),2),\"\")","v":""}]
[null,null,null,null,null,null,null,null,{"$f":"IF(E4196<>\"\",ROUND((VLOOKUP(E4196,Param!$A$7:$E$13,4,0)*Fonct_Empl!F4196*((Fonct_Empl!G4196/12)))+(VLOOKUP(E4196,Param!$A$7:$E$13,5,0)*Fonct_Empl!H4196),2),\"\")","v":""}]
[null,null,null,null,null,null,null,null,{"$f":"IF(E4197<>\"\",ROUND((VLOOKUP(E4197,Param!$A$7:$E$13,4,0)*Fonct_Empl!F4197*((Fonct_Empl!G4197/12)))+(VLOOKUP(E4197,Param!$A$7:$E$13,5,0)*Fonct_Empl!H4197),2),\"\")","v":""}]
[null,null,null,null,null,null,null,null,{"$f":"IF(E4198<>\"\",ROUND((VLOOKUP(E4198,Param!$A$7:$E$13,4,0)*Fonct_Empl!F4198*((Fonct_Empl!G4198/12)))+(VLOOKUP(E4198,Param!$A$7:$E$13,5,0)*Fonct_Empl!H4198),2),\"\")","v":""}]
[null,null,null,null,null,null,null,null,{"$f":"IF(E4199<>\"\",ROUND((VLOOKUP(E4199,Param!$A$7:$E$13,4,0)*Fonct_Empl!F4199*((Fonct_Empl!G4199/12)))+(VLOOKUP(E4199,Param!$A$7:$E$13,5,0)*Fonct_Empl!H4199),2),\"\")","v":""}]
[null,null,null,null,null,null,null,null,{"$f":"IF(E4200<>\"\",ROUND((VLOOKUP(E4200,Param!$A$7:$E$13,4,0)*Fonct_Empl!F4200*((Fonct_Empl!G4200/12)))+(VLOOKUP(E4200,Param!$A$7:$E$13,5,0)*Fonct_Empl!H4200),2),\"\")","v":""}]
[null,null,null,null,null,null,null,null,{"$f":"IF(E4201<>\"\",ROUND((VLOOKUP(E4201,Param!$A$7:$E$13,4,0)*Fonct_Empl!F4201*((Fonct_Empl!G4201/12)))+(VLOOKUP(E4201,Param!$A$7:$E$13,5,0)*Fonct_Empl!H4201),2),\"\")","v":""}]
[null,null,null,null,null,null,null,null,{"$f":"IF(E4202<>\"\",ROUND((VLOOKUP(E4202,Param!$A$7:$E$13,4,0)*Fonct_Empl!F4202*((Fonct_Empl!G4202/12)))+(VLOOKUP(E4202,Param!$A$7:$E$13,5,0)*Fonct_Empl!H4202),2),\"\")","v":""}]
[null,null,null,null,null,null,null,null,{"$f":"IF(E4203<>\"\",ROUND((VLOOKUP(E4203,Param!$A$7:$E$13,4,0)*Fonct_Empl!F4203*((Fonct_Empl!G4203/12)))+(VLOOKUP(E4203,Param!$A$7:$E$13,5,0)*Fonct_Empl!H4203),2),\"\")","v":""}]
[null,null,null,null,null,null,null,null,{"$f":"IF(E4204<>\"\",ROUND((VLOOKUP(E4204,Param!$A$7:$E$13,4,0)*Fonct_Empl!F4204*((Fonct_Empl!G4204/12)))+(VLOOKUP(E4204,Param!$A$7:$E$13,5,0)*Fonct_Empl!H4204),2),\"\")","v":""}]
[null,null,null,null,null,null,null,null,{"$f":"IF(E4205<>\"\",ROUND((VLOOKUP(E4205,Param!$A$7:$E$13,4,0)*Fonct_Empl!F4205*((Fonct_Empl!G4205/12)))+(VLOOKUP(E4205,Param!$A$7:$E$13,5,0)*Fonct_Empl!H4205),2),\"\")","v":""}]
[null,null,null,null,null,null,null,null,{"$f":"IF(E4206<>\"\",ROUND((VLOOKUP(E4206,Param!$A$7:$E$13,4,0)*Fonct_Empl!F4206*((Fonct_Empl!G4206/12)))+(VLOOKUP(E4206,Param!$A$7:$E$13,5,0)*Fonct_Empl!H4206),2),\"\")","v":""}]
[null,null,null,null,null,null,null,null,{"$f":"IF(E4207<>\"\",ROUND((VLOOKUP(E4207,Param!$A$7:$E$13,4,0)*Fonct_Empl!F4207*((Fonct_Empl!G4207/12)))+(VLOOKUP(E4207,Param!$A$7:$E$13,5,0)*Fonct_Empl!H4207),2),\"\")","v":""}]
[null,null,null,null,null,null,null,null,{"$f":"IF(E4208<>\"\",ROUND((VLOOKUP(E4208,Param!$A$7:$E$13,4,0)*Fonct_Empl!F4208*((Fonct_Empl!G4208/12)))+(VLOOKUP(E4208,Param!$A$7:$E$13,5,0)*Fonct_Empl!H4208),2),\"\")","v":""}]
[null,null,null,null,null,null,null,null,{"$f":"IF(E4209<>\"\",ROUND((VLOOKUP(E4209,Param!$A$7:$E$13,4,0)*Fonct_Empl!F4209*((Fonct_Empl!G4209/12)))+(VLOOKUP(E4209,Param!$A$7:$E$13,5,0)*Fonct_Empl!H4209),2),\"\")","v":""}]
[null,null,null,null,null,null,null,null,{"$f":"IF(E4210<>\"\",ROUND((VLOOKUP(E4210,Param!$A$7:$E$13,4,0)*Fonct_Empl!F4210*((Fonct_Empl!G4210/12)))+(VLOOKUP(E4210,Param!$A$7:$E$13,5,0)*Fonct_Empl!H4210),2),\"\")","v":""}]
[null,null,null,null,null,null,null,null,{"$f":"IF(E4211<>\"\",ROUND((VLOOKUP(E4211,Param!$A$7:$E$13,4,0)*Fonct_Empl!F4211*((Fonct_Empl!G4211/12)))+(VLOOKUP(E4211,Param!$A$7:$E$13,5,0)*Fonct_Empl!H4211),2),\"\")","v":""}]
[null,null,null,null,null,null,null,null,{"$f":"IF(E4212<>\"\",ROUND((VLOOKUP(E4212,Param!$A$7:$E$13,4,0)*Fonct_Empl!F4212*((Fonct_Empl!G4212/12)))+(VLOOKUP(E4212,Param!$A$7:$E$13,5,0)*Fonct_Empl!H4212),2),\"\")","v":""}]
[null,null,null,null,null,null,null,null,{"$f":"IF(E4213<>\"\",ROUND((VLOOKUP(E4213,Param!$A$7:$E$13,4,0)*Fonct_Empl!F4213*((Fonct_Empl!G4213/12)))+(VLOOKUP(E4213,Param!$A$7:$E$13,5,0)*Fonct_Empl!H4213),2),\"\")","v":""}]
[null,null,null,null,null,null,null,null,{"$f":"IF(E4214<>\"\",ROUND((VLOOKUP(E4214,Param!$A$7:$E$13,4,0)*Fonct_Empl!F4214*((Fonct_Empl!G4214/12)))+(VLOOKUP(E4214,Param!$A$7:$E$13,5,0)*Fonct_Empl!H4214),2),\"\")","v":""}]
[null,null,null,null,null,null,null,null,{"$f":"IF(E4215<>\"\",ROUND((VLOOKUP(E4215,Param!$A$7:$E$13,4,0)*Fonct_Empl!F4215*((Fonct_Empl!G4215/12)))+(VLOOKUP(E4215,Param!$A$7:$E$13,5,0)*Fonct_Empl!H4215),2),\"\")","v":""}]
[null,null,null,null,null,null,null,null,{"$f":"IF(E4216<>\"\",ROUND((VLOOKUP(E4216,Param!$A$7:$E$13,4,0)*Fonct_Empl!F4216*((Fonct_Empl!G4216/12)))+(VLOOKUP(E4216,Param!$A$7:$E$13,5,0)*Fonct_Empl!H4216),2),\"\")","v":""}]
[null,null,null,null,null,null,null,null,{"$f":"IF(E4217<>\"\",ROUND((VLOOKUP(E4217,Param!$A$7:$E$13,4,0)*Fonct_Empl!F4217*((Fonct_Empl!G4217/12)))+(VLOOKUP(E4217,Param!$A$7:$E$13,5,0)*Fonct_Empl!H4217),2),\"\")","v":""}]
[null,null,null,null,null,null,null,null,{"$f":"IF(E4218<>\"\",ROUND((VLOOKUP(E4218,Param!$A$7:$E$13,4,0)*Fonct_Empl!F4218*((Fonct_Empl!G4218/12)))+(VLOOKUP(E4218,Param!$A$7:$E$13,5,0)*Fonct_Empl!H4218),2),\"\")","v":""}]
[null,null,null,null,null,null,null,null,{"$f":"IF(E4219<>\"\",ROUND((VLOOKUP(E4219,Param!$A$7:$E$13,4,0)*Fonct_Empl!F4219*((Fonct_Empl!G4219/12)))+(VLOOKUP(E4219,Param!$A$7:$E$13,5,0)*Fonct_Empl!H4219),2),\"\")","v":""}]
[null,null,null,null,null,null,null,null,{"$f":"IF(E4220<>\"\",ROUND((VLOOKUP(E4220,Param!$A$7:$E$13,4,0)*Fonct_Empl!F4220*((Fonct_Empl!G4220/12)))+(VLOOKUP(E4220,Param!$A$7:$E$13,5,0)*Fonct_Empl!H4220),2),\"\")","v":""}]
[null,null,null,null,null,null,null,null,{"$f":"IF(E4221<>\"\",ROUND((VLOOKUP(E4221,Param!$A$7:$E$13,4,0)*Fonct_Empl!F4221*((Fonct_Empl!G4221/12)))+(VLOOKUP(E4221,Param!$A$7:$E$13,5,0)*Fonct_Empl!H4221),2),\"\")","v":""}]
[null,null,null,null,null,null,null,null,{"$f":"IF(E4222<>\"\",ROUND((VLOOKUP(E4222,Param!$A$7:$E$13,4,0)*Fonct_Empl!F4222*((Fonct_Empl!G4222/12)))+(VLOOKUP(E4222,Param!$A$7:$E$13,5,0)*Fonct_Empl!H4222),2),\"\")","v":""}]
[null,null,null,null,null,null,null,null,{"$f":"IF(E4223<>\"\",ROUND((VLOOKUP(E4223,Param!$A$7:$E$13,4,0)*Fonct_Empl!F4223*((Fonct_Empl!G4223/12)))+(VLOOKUP(E4223,Param!$A$7:$E$13,5,0)*Fonct_Empl!H4223),2),\"\")","v":""}]
[null,null,null,null,null,null,null,null,{"$f":"IF(E4224<>\"\",ROUND((VLOOKUP(E4224,Param!$A$7:$E$13,4,0)*Fonct_Empl!F4224*((Fonct_Empl!G4224/12)))+(VLOOKUP(E4224,Param!$A$7:$E$13,5,0)*Fonct_Empl!H4224),2),\"\")","v":""}]
[null,null,null,null,null,null,null,null,{"$f":"IF(E4225<>\"\",ROUND((VLOOKUP(E4225,Param!$A$7:$E$13,4,0)*Fonct_Empl!F4225*((Fonct_Empl!G4225/12)))+(VLOOKUP(E4225,Param!$A$7:$E$13,5,0)*Fonct_Empl!H4225),2),\"\")","v":""}]
[null,null,null,null,null,null,null,null,{"$f":"IF(E4226<>\"\",ROUND((VLOOKUP(E4226,Param!$A$7:$E$13,4,0)*Fonct_Empl!F4226*((Fonct_Empl!G4226/12)))+(VLOOKUP(E4226,Param!$A$7:$E$13,5,0)*Fonct_Empl!H4226),2),\"\")","v":""}]
[null,null,null,null,null,null,null,null,{"$f":"IF(E4227<>\"\",ROUND((VLOOKUP(E4227,Param!$A$7:$E$13,4,0)*Fonct_Empl!F4227*((Fonct_Empl!G4227/12)))+(VLOOKUP(E4227,Param!$A$7:$E$13,5,0)*Fonct_Empl!H4227),2),\"\")","v":""}]
[null,null,null,null,null,null,null,null,{"$f":"IF(E4228<>\"\",ROUND((VLOOKUP(E4228,Param!$A$7:$E$13,4,0)*Fonct_Empl!F4228*((Fonct_Empl!G4228/12)))+(VLOOKUP(E4228,Param!$A$7:$E$13,5,0)*Fonct_Empl!H4228),2),\"\")","v":""}]
[null,null,null,null,null,null,null,null,{"$f":"IF(E4229<>\"\",ROUND((VLOOKUP(E4229,Param!$A$7:$E$13,4,0)*Fonct_Empl!F4229*((Fonct_Empl!G4229/12)))+(VLOOKUP(E4229,Param!$A$7:$E$13,5,0)*Fonct_Empl!H4229),2),\"\")","v":""}]
[null,null,null,null,null,null,null,null,{"$f":"IF(E4230<>\"\",ROUND((VLOOKUP(E4230,Param!$A$7:$E$13,4,0)*Fonct_Empl!F4230*((Fonct_Empl!G4230/12)))+(VLOOKUP(E4230,Param!$A$7:$E$13,5,0)*Fonct_Empl!H4230),2),\"\")","v":""}]
[null,null,null,null,null,null,null,null,{"$f":"IF(E4231<>\"\",ROUND((VLOOKUP(E4231,Param!$A$7:$E$13,4,0)*Fonct_Empl!F4231*((Fonct_Empl!G4231/12)))+(VLOOKUP(E4231,Param!$A$7:$E$13,5,0)*Fonct_Empl!H4231),2),\"\")","v":""}]
[null,null,null,null,null,null,null,null,{"$f":"IF(E4232<>\"\",ROUND((VLOOKUP(E4232,Param!$A$7:$E$13,4,0)*Fonct_Empl!F4232*((Fonct_Empl!G4232/12)))+(VLOOKUP(E4232,Param!$A$7:$E$13,5,0)*Fonct_Empl!H4232),2),\"\")","v":""}]
[null,null,null,null,null,null,null,null,{"$f":"IF(E4233<>\"\",ROUND((VLOOKUP(E4233,Param!$A$7:$E$13,4,0)*Fonct_Empl!F4233*((Fonct_Empl!G4233/12)))+(VLOOKUP(E4233,Param!$A$7:$E$13,5,0)*Fonct_Empl!H4233),2),\"\")","v":""}]
[null,null,null,null,null,null,null,null,{"$f":"IF(E4234<>\"\",ROUND((VLOOKUP(E4234,Param!$A$7:$E$13,4,0)*Fonct_Empl!F4234*((Fonct_Empl!G4234/12)))+(VLOOKUP(E4234,Param!$A$7:$E$13,5,0)*Fonct_Empl!H4234),2),\"\")","v":""}]
[null,null,null,null,null,null,null,null,{"$f":"IF(E4235<>\"\",ROUND((VLOOKUP(E4235,Param!$A$7:$E$13,4,0)*Fonct_Empl!F4235*((Fonct_Empl!G4235/12)))+(VLOOKUP(E4235,Param!$A$7:$E$13,5,0)*Fonct_Empl!H4235),2),\"\")","v":""}]
[null,null,null,null,null,null,null,null,{"$f":"IF(E4236<>\"\",ROUND((VLOOKUP(E4236,Param!$A$7:$E$13,4,0)*Fonct_Empl!F4236*((Fonct_Empl!G4236/12)))+(VLOOKUP(E4236,Param!$A$7:$E$13,5,0)*Fonct_Empl!H4236),2),\"\")","v":""}]
[null,null,null,null,null,null,null,null,{"$f":"IF(E4237<>\"\",ROUND((VLOOKUP(E4237,Param!$A$7:$E$13,4,0)*Fonct_Empl!F4237*((Fonct_Empl!G4237/12)))+(VLOOKUP(E4237,Param!$A$7:$E$13,5,0)*Fonct_Empl!H4237),2),\"\")","v":""}]
[null,null,null,null,null,null,null,null,{"$f":"IF(E4238<>\"\",ROUND((VLOOKUP(E4238,Param!$A$7:$E$13,4,0)*Fonct_Empl!F4238*((Fonct_Empl!G4238/12)))+(VLOOKUP(E4238,Param!$A$7:$E$13,5,0)*Fonct_Empl!H4238),2),\"\")","v":""}]
[null,null,null,null,null,null,null,null,{"$f":"IF(E4239<>\"\",ROUND((VLOOKUP(E4239,Param!$A$7:$E$13,4,0)*Fonct_Empl!F4239*((Fonct_Empl!G4239/12)))+(VLOOKUP(E4239,Param!$A$7:$E$13,5,0)*Fonct_Empl!H4239),2),\"\")","v":""}]
[null,null,null,null,null,null,null,null,{"$f":"IF(E4240<>\"\",ROUND((VLOOKUP(E4240,Param!$A$7:$E$13,4,0)*Fonct_Empl!F4240*((Fonct_Empl!G4240/12)))+(VLOOKUP(E4240,Param!$A$7:$E$13,5,0)*Fonct_Empl!H4240),2),\"\")","v":""}]
[null,null,null,null,null,null,null,null,{"$f":"IF(E4241<>\"\",ROUND((VLOOKUP(E4241,Param!$A$7:$E$13,4,0)*Fonct_Empl!F4241*((Fonct_Empl!G4241/12)))+(VLOOKUP(E4241,Param!$A$7:$E$13,5,0)*Fonct_Empl!H4241),2),\"\")","v":""}]
[null,null,null,null,null,null,null,null,{"$f":"IF(E4242<>\"\",ROUND((VLOOKUP(E4242,Param!$A$7:$E$13,4,0)*Fonct_Empl!F4242*((Fonct_Empl!G4242/12)))+(VLOOKUP(E4242,Param!$A$7:$E$13,5,0)*Fonct_Empl!H4242),2),\"\")","v":""}]
[null,null,null,null,null,null,null,null,{"$f":"IF(E4243<>\"\",ROUND((VLOOKUP(E4243,Param!$A$7:$E$13,4,0)*Fonct_Empl!F4243*((Fonct_Empl!G4243/12)))+(VLOOKUP(E4243,Param!$A$7:$E$13,5,0)*Fonct_Empl!H4243),2),\"\")","v":""}]
[null,null,null,null,null,null,null,null,{"$f":"IF(E4244<>\"\",ROUND((VLOOKUP(E4244,Param!$A$7:$E$13,4,0)*Fonct_Empl!F4244*((Fonct_Empl!G4244/12)))+(VLOOKUP(E4244,Param!$A$7:$E$13,5,0)*Fonct_Empl!H4244),2),\"\")","v":""}]
[null,null,null,null,null,null,null,null,{"$f":"IF(E4245<>\"\",ROUND((VLOOKUP(E4245,Param!$A$7:$E$13,4,0)*Fonct_Empl!F4245*((Fonct_Empl!G4245/12)))+(VLOOKUP(E4245,Param!$A$7:$E$13,5,0)*Fonct_Empl!H4245),2),\"\")","v":""}]
[null,null,null,null,null,null,null,null,{"$f":"IF(E4246<>\"\",ROUND((VLOOKUP(E4246,Param!$A$7:$E$13,4,0)*Fonct_Empl!F4246*((Fonct_Empl!G4246/12)))+(VLOOKUP(E4246,Param!$A$7:$E$13,5,0)*Fonct_Empl!H4246),2),\"\")","v":""}]
[null,null,null,null,null,null,null,null,{"$f":"IF(E4247<>\"\",ROUND((VLOOKUP(E4247,Param!$A$7:$E$13,4,0)*Fonct_Empl!F4247*((Fonct_Empl!G4247/12)))+(VLOOKUP(E4247,Param!$A$7:$E$13,5,0)*Fonct_Empl!H4247),2),\"\")","v":""}]
[null,null,null,null,null,null,null,null,{"$f":"IF(E4248<>\"\",ROUND((VLOOKUP(E4248,Param!$A$7:$E$13,4,0)*Fonct_Empl!F4248*((Fonct_Empl!G4248/12)))+(VLOOKUP(E4248,Param!$A$7:$E$13,5,0)*Fonct_Empl!H4248),2),\"\")","v":""}]
[null,null,null,null,null,null,null,null,{"$f":"IF(E4249<>\"\",ROUND((VLOOKUP(E4249,Param!$A$7:$E$13,4,0)*Fonct_Empl!F4249*((Fonct_Empl!G4249/12)))+(VLOOKUP(E4249,Param!$A$7:$E$13,5,0)*Fonct_Empl!H4249),2),\"\")","v":""}]
[null,null,null,null,null,null,null,null,{"$f":"IF(E4250<>\"\",ROUND((VLOOKUP(E4250,Param!$A$7:$E$13,4,0)*Fonct_Empl!F4250*((Fonct_Empl!G4250/12)))+(VLOOKUP(E4250,Param!$A$7:$E$13,5,0)*Fonct_Empl!H4250),2),\"\")","v":""}]
[null,null,null,null,null,null,null,null,{"$f":"IF(E4251<>\"\",ROUND((VLOOKUP(E4251,Param!$A$7:$E$13,4,0)*Fonct_Empl!F4251*((Fonct_Empl!G4251/12)))+(VLOOKUP(E4251,Param!$A$7:$E$13,5,0)*Fonct_Empl!H4251),2),\"\")","v":""}]
[null,null,null,null,null,null,null,null,{"$f":"IF(E4252<>\"\",ROUND((VLOOKUP(E4252,Param!$A$7:$E$13,4,0)*Fonct_Empl!F4252*((Fonct_Empl!G4252/12)))+(VLOOKUP(E4252,Param!$A$7:$E$13,5,0)*Fonct_Empl!H4252),2),\"\")","v":""}]
[null,null,null,null,null,null,null,null,{"$f":"IF(E4253<>\"\",ROUND((VLOOKUP(E4253,Param!$A$7:$E$13,4,0)*Fonct_Empl!F4253*((Fonct_Empl!G4253/12)))+(VLOOKUP(E4253,Param!$A$7:$E$13,5,0)*Fonct_Empl!H4253),2),\"\")","v":""}]
[null,null,null,null,null,null,null,null,{"$f":"IF(E4254<>\"\",ROUND((VLOOKUP(E4254,Param!$A$7:$E$13,4,0)*Fonct_Empl!F4254*((Fonct_Empl!G4254/12)))+(VLOOKUP(E4254,Param!$A$7:$E$13,5,0)*Fonct_Empl!H4254),2),\"\")","v":""}]
[null,null,null,null,null,null,null,null,{"$f":"IF(E4255<>\"\",ROUND((VLOOKUP(E4255,Param!$A$7:$E$13,4,0)*Fonct_Empl!F4255*((Fonct_Empl!G4255/12)))+(VLOOKUP(E4255,Param!$A$7:$E$13,5,0)*Fonct_Empl!H4255),2),\"\")","v":""}]
[null,null,null,null,null,null,null,null,{"$f":"IF(E4256<>\"\",ROUND((VLOOKUP(E4256,Param!$A$7:$E$13,4,0)*Fonct_Empl!F4256*((Fonct_Empl!G4256/12)))+(VLOOKUP(E4256,Param!$A$7:$E$13,5,0)*Fonct_Empl!H4256),2),\"\")","v":""}]
[null,null,null,null,null,null,null,null,{"$f":"IF(E4257<>\"\",ROUND((VLOOKUP(E4257,Param!$A$7:$E$13,4,0)*Fonct_Empl!F4257*((Fonct_Empl!G4257/12)))+(VLOOKUP(E4257,Param!$A$7:$E$13,5,0)*Fonct_Empl!H4257),2),\"\")","v":""}]
[null,null,null,null,null,null,null,null,{"$f":"IF(E4258<>\"\",ROUND((VLOOKUP(E4258,Param!$A$7:$E$13,4,0)*Fonct_Empl!F4258*((Fonct_Empl!G4258/12)))+(VLOOKUP(E4258,Param!$A$7:$E$13,5,0)*Fonct_Empl!H4258),2),\"\")","v":""}]
[null,null,null,null,null,null,null,null,{"$f":"IF(E4259<>\"\",ROUND((VLOOKUP(E4259,Param!$A$7:$E$13,4,0)*Fonct_Empl!F4259*((Fonct_Empl!G4259/12)))+(VLOOKUP(E4259,Param!$A$7:$E$13,5,0)*Fonct_Empl!H4259),2),\"\")","v":""}]
[null,null,null,null,null,null,null,null,{"$f":"IF(E4260<>\"\",ROUND((VLOOKUP(E4260,Param!$A$7:$E$13,4,0)*Fonct_Empl!F4260*((Fonct_Empl!G4260/12)))+(VLOOKUP(E4260,Param!$A$7:$E$13,5,0)*Fonct_Empl!H4260),2),\"\")","v":""}]
[null,null,null,null,null,null,null,null,{"$f":"IF(E4261<>\"\",ROUND((VLOOKUP(E4261,Param!$A$7:$E$13,4,0)*Fonct_Empl!F4261*((Fonct_Empl!G4261/12)))+(VLOOKUP(E4261,Param!$A$7:$E$13,5,0)*Fonct_Empl!H4261),2),\"\")","v":""}]
[null,null,null,null,null,null,null,null,{"$f":"IF(E4262<>\"\",ROUND((VLOOKUP(E4262,Param!$A$7:$E$13,4,0)*Fonct_Empl!F4262*((Fonct_Empl!G4262/12)))+(VLOOKUP(E4262,Param!$A$7:$E$13,5,0)*Fonct_Empl!H4262),2),\"\")","v":""}]
[null,null,null,null,null,null,null,null,{"$f":"IF(E4263<>\"\",ROUND((VLOOKUP(E4263,Param!$A$7:$E$13,4,0)*Fonct_Empl!F4263*((Fonct_Empl!G4263/12)))+(VLOOKUP(E4263,Param!$A$7:$E$13,5,0)*Fonct_Empl!H4263),2),\"\")","v":""}]
[null,null,null,null,null,null,null,null,{"$f":"IF(E4264<>\"\",ROUND((VLOOKUP(E4264,Param!$A$7:$E$13,4,0)*Fonct_Empl!F4264*((Fonct_Empl!G4264/12)))+(VLOOKUP(E4264,Param!$A$7:$E$13,5,0)*Fonct_Empl!H4264),2),\"\")","v":""}]
[null,null,null,null,null,null,null,null,{"$f":"IF(E4265<>\"\",ROUND((VLOOKUP(E4265,Param!$A$7:$E$13,4,0)*Fonct_Empl!F4265*((Fonct_Empl!G4265/12)))+(VLOOKUP(E4265,Param!$A$7:$E$13,5,0)*Fonct_Empl!H4265),2),\"\")","v":""}]
[null,null,null,null,null,null,null,null,{"$f":"IF(E4266<>\"\",ROUND((VLOOKUP(E4266,Param!$A$7:$E$13,4,0)*Fonct_Empl!F4266*((Fonct_Empl!G4266/12)))+(VLOOKUP(E4266,Param!$A$7:$E$13,5,0)*Fonct_Empl!H4266),2),\"\")","v":""}]
[null,null,null,null,null,null,null,null,{"$f":"IF(E4267<>\"\",ROUND((VLOOKUP(E4267,Param!$A$7:$E$13,4,0)*Fonct_Empl!F4267*((Fonct_Empl!G4267/12)))+(VLOOKUP(E4267,Param!$A$7:$E$13,5,0)*Fonct_Empl!H4267),2),\"\")","v":""}]
[null,null,null,null,null,null,null,null,{"$f":"IF(E4268<>\"\",ROUND((VLOOKUP(E4268,Param!$A$7:$E$13,4,0)*Fonct_Empl!F4268*((Fonct_Empl!G4268/12)))+(VLOOKUP(E4268,Param!$A$7:$E$13,5,0)*Fonct_Empl!H4268),2),\"\")","v":""}]
[null,null,null,null,null,null,null,null,{"$f":"IF(E4269<>\"\",ROUND((VLOOKUP(E4269,Param!$A$7:$E$13,4,0)*Fonct_Empl!F4269*((Fonct_Empl!G4269/12)))+(VLOOKUP(E4269,Param!$A$7:$E$13,5,0)*Fonct_Empl!H4269),2),\"\")","v":""}]
[null,null,null,null,null,null,null,null,{"$f":"IF(E4270<>\"\",ROUND((VLOOKUP(E4270,Param!$A$7:$E$13,4,0)*Fonct_Empl!F4270*((Fonct_Empl!G4270/12)))+(VLOOKUP(E4270,Param!$A$7:$E$13,5,0)*Fonct_Empl!H4270),2),\"\")","v":""}]
[null,null,null,null,null,null,null,null,{"$f":"IF(E4271<>\"\",ROUND((VLOOKUP(E4271,Param!$A$7:$E$13,4,0)*Fonct_Empl!F4271*((Fonct_Empl!G4271/12)))+(VLOOKUP(E4271,Param!$A$7:$E$13,5,0)*Fonct_Empl!H4271),2),\"\")","v":""}]
[null,null,null,null,null,null,null,null,{"$f":"IF(E4272<>\"\",ROUND((VLOOKUP(E4272,Param!$A$7:$E$13,4,0)*Fonct_Empl!F4272*((Fonct_Empl!G4272/12)))+(VLOOKUP(E4272,Param!$A$7:$E$13,5,0)*Fonct_Empl!H4272),2),\"\")","v":""}]
[null,null,null,null,null,null,null,null,{"$f":"IF(E4273<>\"\",ROUND((VLOOKUP(E4273,Param!$A$7:$E$13,4,0)*Fonct_Empl!F4273*((Fonct_Empl!G4273/12)))+(VLOOKUP(E4273,Param!$A$7:$E$13,5,0)*Fonct_Empl!H4273),2),\"\")","v":""}]
[null,null,null,null,null,null,null,null,{"$f":"IF(E4274<>\"\",ROUND((VLOOKUP(E4274,Param!$A$7:$E$13,4,0)*Fonct_Empl!F4274*((Fonct_Empl!G4274/12)))+(VLOOKUP(E4274,Param!$A$7:$E$13,5,0)*Fonct_Empl!H4274),2),\"\")","v":""}]
[null,null,null,null,null,null,null,null,{"$f":"IF(E4275<>\"\",ROUND((VLOOKUP(E4275,Param!$A$7:$E$13,4,0)*Fonct_Empl!F4275*((Fonct_Empl!G4275/12)))+(VLOOKUP(E4275,Param!$A$7:$E$13,5,0)*Fonct_Empl!H4275),2),\"\")","v":""}]
[null,null,null,null,null,null,null,null,{"$f":"IF(E4276<>\"\",ROUND((VLOOKUP(E4276,Param!$A$7:$E$13,4,0)*Fonct_Empl!F4276*((Fonct_Empl!G4276/12)))+(VLOOKUP(E4276,Param!$A$7:$E$13,5,0)*Fonct_Empl!H4276),2),\"\")","v":""}]
[null,null,null,null,null,null,null,null,{"$f":"IF(E4277<>\"\",ROUND((VLOOKUP(E4277,Param!$A$7:$E$13,4,0)*Fonct_Empl!F4277*((Fonct_Empl!G4277/12)))+(VLOOKUP(E4277,Param!$A$7:$E$13,5,0)*Fonct_Empl!H4277),2),\"\")","v":""}]
[null,null,null,null,null,null,null,null,{"$f":"IF(E4278<>\"\",ROUND((VLOOKUP(E4278,Param!$A$7:$E$13,4,0)*Fonct_Empl!F4278*((Fonct_Empl!G4278/12)))+(VLOOKUP(E4278,Param!$A$7:$E$13,5,0)*Fonct_Empl!H4278),2),\"\")","v":""}]
[null,null,null,null,null,null,null,null,{"$f":"IF(E4279<>\"\",ROUND((VLOOKUP(E4279,Param!$A$7:$E$13,4,0)*Fonct_Empl!F4279*((Fonct_Empl!G4279/12)))+(VLOOKUP(E4279,Param!$A$7:$E$13,5,0)*Fonct_Empl!H4279),2),\"\")","v":""}]
[null,null,null,null,null,null,null,null,{"$f":"IF(E4280<>\"\",ROUND((VLOOKUP(E4280,Param!$A$7:$E$13,4,0)*Fonct_Empl!F4280*((Fonct_Empl!G4280/12)))+(VLOOKUP(E4280,Param!$A$7:$E$13,5,0)*Fonct_Empl!H4280),2),\"\")","v":""}]
[null,null,null,null,null,null,null,null,{"$f":"IF(E4281<>\"\",ROUND((VLOOKUP(E4281,Param!$A$7:$E$13,4,0)*Fonct_Empl!F4281*((Fonct_Empl!G4281/12)))+(VLOOKUP(E4281,Param!$A$7:$E$13,5,0)*Fonct_Empl!H4281),2),\"\")","v":""}]
[null,null,null,null,null,null,null,null,{"$f":"IF(E4282<>\"\",ROUND((VLOOKUP(E4282,Param!$A$7:$E$13,4,0)*Fonct_Empl!F4282*((Fonct_Empl!G4282/12)))+(VLOOKUP(E4282,Param!$A$7:$E$13,5,0)*Fonct_Empl!H4282),2),\"\")","v":""}]
[null,null,null,null,null,null,null,null,{"$f":"IF(E4283<>\"\",ROUND((VLOOKUP(E4283,Param!$A$7:$E$13,4,0)*Fonct_Empl!F4283*((Fonct_Empl!G4283/12)))+(VLOOKUP(E4283,Param!$A$7:$E$13,5,0)*Fonct_Empl!H4283),2),\"\")","v":""}]
[null,null,null,null,null,null,null,null,{"$f":"IF(E4284<>\"\",ROUND((VLOOKUP(E4284,Param!$A$7:$E$13,4,0)*Fonct_Empl!F4284*((Fonct_Empl!G4284/12)))+(VLOOKUP(E4284,Param!$A$7:$E$13,5,0)*Fonct_Empl!H4284),2),\"\")","v":""}]
[null,null,null,null,null,null,null,null,{"$f":"IF(E4285<>\"\",ROUND((VLOOKUP(E4285,Param!$A$7:$E$13,4,0)*Fonct_Empl!F4285*((Fonct_Empl!G4285/12)))+(VLOOKUP(E4285,Param!$A$7:$E$13,5,0)*Fonct_Empl!H4285),2),\"\")","v":""}]
[null,null,null,null,null,null,null,null,{"$f":"IF(E4286<>\"\",ROUND((VLOOKUP(E4286,Param!$A$7:$E$13,4,0)*Fonct_Empl!F4286*((Fonct_Empl!G4286/12)))+(VLOOKUP(E4286,Param!$A$7:$E$13,5,0)*Fonct_Empl!H4286),2),\"\")","v":""}]
[null,null,null,null,null,null,null,null,{"$f":"IF(E4287<>\"\",ROUND((VLOOKUP(E4287,Param!$A$7:$E$13,4,0)*Fonct_Empl!F4287*((Fonct_Empl!G4287/12)))+(VLOOKUP(E4287,Param!$A$7:$E$13,5,0)*Fonct_Empl!H4287),2),\"\")","v":""}]
[null,null,null,null,null,null,null,null,{"$f":"IF(E4288<>\"\",ROUND((VLOOKUP(E4288,Param!$A$7:$E$13,4,0)*Fonct_Empl!F4288*((Fonct_Empl!G4288/12)))+(VLOOKUP(E4288,Param!$A$7:$E$13,5,0)*Fonct_Empl!H4288),2),\"\")","v":""}]
[null,null,null,null,null,null,null,null,{"$f":"IF(E4289<>\"\",ROUND((VLOOKUP(E4289,Param!$A$7:$E$13,4,0)*Fonct_Empl!F4289*((Fonct_Empl!G4289/12)))+(VLOOKUP(E4289,Param!$A$7:$E$13,5,0)*Fonct_Empl!H4289),2),\"\")","v":""}]
[null,null,null,null,null,null,null,null,{"$f":"IF(E4290<>\"\",ROUND((VLOOKUP(E4290,Param!$A$7:$E$13,4,0)*Fonct_Empl!F4290*((Fonct_Empl!G4290/12)))+(VLOOKUP(E4290,Param!$A$7:$E$13,5,0)*Fonct_Empl!H4290),2),\"\")","v":""}]
[null,null,null,null,null,null,null,null,{"$f":"IF(E4291<>\"\",ROUND((VLOOKUP(E4291,Param!$A$7:$E$13,4,0)*Fonct_Empl!F4291*((Fonct_Empl!G4291/12)))+(VLOOKUP(E4291,Param!$A$7:$E$13,5,0)*Fonct_Empl!H4291),2),\"\")","v":""}]
[null,null,null,null,null,null,null,null,{"$f":"IF(E4292<>\"\",ROUND((VLOOKUP(E4292,Param!$A$7:$E$13,4,0)*Fonct_Empl!F4292*((Fonct_Empl!G4292/12)))+(VLOOKUP(E4292,Param!$A$7:$E$13,5,0)*Fonct_Empl!H4292),2),\"\")","v":""}]
[null,null,null,null,null,null,null,null,{"$f":"IF(E4293<>\"\",ROUND((VLOOKUP(E4293,Param!$A$7:$E$13,4,0)*Fonct_Empl!F4293*((Fonct_Empl!G4293/12)))+(VLOOKUP(E4293,Param!$A$7:$E$13,5,0)*Fonct_Empl!H4293),2),\"\")","v":""}]
[null,null,null,null,null,null,null,null,{"$f":"IF(E4294<>\"\",ROUND((VLOOKUP(E4294,Param!$A$7:$E$13,4,0)*Fonct_Empl!F4294*((Fonct_Empl!G4294/12)))+(VLOOKUP(E4294,Param!$A$7:$E$13,5,0)*Fonct_Empl!H4294),2),\"\")","v":""}]
[null,null,null,null,null,null,null,null,{"$f":"IF(E4295<>\"\",ROUND((VLOOKUP(E4295,Param!$A$7:$E$13,4,0)*Fonct_Empl!F4295*((Fonct_Empl!G4295/12)))+(VLOOKUP(E4295,Param!$A$7:$E$13,5,0)*Fonct_Empl!H4295),2),\"\")","v":""}]
[null,null,null,null,null,null,null,null,{"$f":"IF(E4296<>\"\",ROUND((VLOOKUP(E4296,Param!$A$7:$E$13,4,0)*Fonct_Empl!F4296*((Fonct_Empl!G4296/12)))+(VLOOKUP(E4296,Param!$A$7:$E$13,5,0)*Fonct_Empl!H4296),2),\"\")","v":""}]
[null,null,null,null,null,null,null,null,{"$f":"IF(E4297<>\"\",ROUND((VLOOKUP(E4297,Param!$A$7:$E$13,4,0)*Fonct_Empl!F4297*((Fonct_Empl!G4297/12)))+(VLOOKUP(E4297,Param!$A$7:$E$13,5,0)*Fonct_Empl!H4297),2),\"\")","v":""}]
[null,null,null,null,null,null,null,null,{"$f":"IF(E4298<>\"\",ROUND((VLOOKUP(E4298,Param!$A$7:$E$13,4,0)*Fonct_Empl!F4298*((Fonct_Empl!G4298/12)))+(VLOOKUP(E4298,Param!$A$7:$E$13,5,0)*Fonct_Empl!H4298),2),\"\")","v":""}]
[null,null,null,null,null,null,null,null,{"$f":"IF(E4299<>\"\",ROUND((VLOOKUP(E4299,Param!$A$7:$E$13,4,0)*Fonct_Empl!F4299*((Fonct_Empl!G4299/12)))+(VLOOKUP(E4299,Param!$A$7:$E$13,5,0)*Fonct_Empl!H4299),2),\"\")","v":""}]
[null,null,null,null,null,null,null,null,{"$f":"IF(E4300<>\"\",ROUND((VLOOKUP(E4300,Param!$A$7:$E$13,4,0)*Fonct_Empl!F4300*((Fonct_Empl!G4300/12)))+(VLOOKUP(E4300,Param!$A$7:$E$13,5,0)*Fonct_Empl!H4300),2),\"\")","v":""}]
[null,null,null,null,null,null,null,null,{"$f":"IF(E4301<>\"\",ROUND((VLOOKUP(E4301,Param!$A$7:$E$13,4,0)*Fonct_Empl!F4301*((Fonct_Empl!G4301/12)))+(VLOOKUP(E4301,Param!$A$7:$E$13,5,0)*Fonct_Empl!H4301),2),\"\")","v":""}]
[null,null,null,null,null,null,null,null,{"$f":"IF(E4302<>\"\",ROUND((VLOOKUP(E4302,Param!$A$7:$E$13,4,0)*Fonct_Empl!F4302*((Fonct_Empl!G4302/12)))+(VLOOKUP(E4302,Param!$A$7:$E$13,5,0)*Fonct_Empl!H4302),2),\"\")","v":""}]
[null,null,null,null,null,null,null,null,{"$f":"IF(E4303<>\"\",ROUND((VLOOKUP(E4303,Param!$A$7:$E$13,4,0)*Fonct_Empl!F4303*((Fonct_Empl!G4303/12)))+(VLOOKUP(E4303,Param!$A$7:$E$13,5,0)*Fonct_Empl!H4303),2),\"\")","v":""}]
[null,null,null,null,null,null,null,null,{"$f":"IF(E4304<>\"\",ROUND((VLOOKUP(E4304,Param!$A$7:$E$13,4,0)*Fonct_Empl!F4304*((Fonct_Empl!G4304/12)))+(VLOOKUP(E4304,Param!$A$7:$E$13,5,0)*Fonct_Empl!H4304),2),\"\")","v":""}]
[null,null,null,null,null,null,null,null,{"$f":"IF(E4305<>\"\",ROUND((VLOOKUP(E4305,Param!$A$7:$E$13,4,0)*Fonct_Empl!F4305*((Fonct_Empl!G4305/12)))+(VLOOKUP(E4305,Param!$A$7:$E$13,5,0)*Fonct_Empl!H4305),2),\"\")","v":""}]
[null,null,null,null,null,null,null,null,{"$f":"IF(E4306<>\"\",ROUND((VLOOKUP(E4306,Param!$A$7:$E$13,4,0)*Fonct_Empl!F4306*((Fonct_Empl!G4306/12)))+(VLOOKUP(E4306,Param!$A$7:$E$13,5,0)*Fonct_Empl!H4306),2),\"\")","v":""}]
[null,null,null,null,null,null,null,null,{"$f":"IF(E4307<>\"\",ROUND((VLOOKUP(E4307,Param!$A$7:$E$13,4,0)*Fonct_Empl!F4307*((Fonct_Empl!G4307/12)))+(VLOOKUP(E4307,Param!$A$7:$E$13,5,0)*Fonct_Empl!H4307),2),\"\")","v":""}]
[null,null,null,null,null,null,null,null,{"$f":"IF(E4308<>\"\",ROUND((VLOOKUP(E4308,Param!$A$7:$E$13,4,0)*Fonct_Empl!F4308*((Fonct_Empl!G4308/12)))+(VLOOKUP(E4308,Param!$A$7:$E$13,5,0)*Fonct_Empl!H4308),2),\"\")","v":""}]
[null,null,null,null,null,null,null,null,{"$f":"IF(E4309<>\"\",ROUND((VLOOKUP(E4309,Param!$A$7:$E$13,4,0)*Fonct_Empl!F4309*((Fonct_Empl!G4309/12)))+(VLOOKUP(E4309,Param!$A$7:$E$13,5,0)*Fonct_Empl!H4309),2),\"\")","v":""}]
[null,null,null,null,null,null,null,null,{"$f":"IF(E4310<>\"\",ROUND((VLOOKUP(E4310,Param!$A$7:$E$13,4,0)*Fonct_Empl!F4310*((Fonct_Empl!G4310/12)))+(VLOOKUP(E4310,Param!$A$7:$E$13,5,0)*Fonct_Empl!H4310),2),\"\")","v":""}]
[null,null,null,null,null,null,null,null,{"$f":"IF(E4311<>\"\",ROUND((VLOOKUP(E4311,Param!$A$7:$E$13,4,0)*Fonct_Empl!F4311*((Fonct_Empl!G4311/12)))+(VLOOKUP(E4311,Param!$A$7:$E$13,5,0)*Fonct_Empl!H4311),2),\"\")","v":""}]
[null,null,null,null,null,null,null,null,{"$f":"IF(E4312<>\"\",ROUND((VLOOKUP(E4312,Param!$A$7:$E$13,4,0)*Fonct_Empl!F4312*((Fonct_Empl!G4312/12)))+(VLOOKUP(E4312,Param!$A$7:$E$13,5,0)*Fonct_Empl!H4312),2),\"\")","v":""}]
[null,null,null,null,null,null,null,null,{"$f":"IF(E4313<>\"\",ROUND((VLOOKUP(E4313,Param!$A$7:$E$13,4,0)*Fonct_Empl!F4313*((Fonct_Empl!G4313/12)))+(VLOOKUP(E4313,Param!$A$7:$E$13,5,0)*Fonct_Empl!H4313),2),\"\")","v":""}]
[null,null,null,null,null,null,null,null,{"$f":"IF(E4314<>\"\",ROUND((VLOOKUP(E4314,Param!$A$7:$E$13,4,0)*Fonct_Empl!F4314*((Fonct_Empl!G4314/12)))+(VLOOKUP(E4314,Param!$A$7:$E$13,5,0)*Fonct_Empl!H4314),2),\"\")","v":""}]
[null,null,null,null,null,null,null,null,{"$f":"IF(E4315<>\"\",ROUND((VLOOKUP(E4315,Param!$A$7:$E$13,4,0)*Fonct_Empl!F4315*((Fonct_Empl!G4315/12)))+(VLOOKUP(E4315,Param!$A$7:$E$13,5,0)*Fonct_Empl!H4315),2),\"\")","v":""}]
[null,null,null,null,null,null,null,null,{"$f":"IF(E4316<>\"\",ROUND((VLOOKUP(E4316,Param!$A$7:$E$13,4,0)*Fonct_Empl!F4316*((Fonct_Empl!G4316/12)))+(VLOOKUP(E4316,Param!$A$7:$E$13,5,0)*Fonct_Empl!H4316),2),\"\")","v":""}]
[null,null,null,null,null,null,null,null,{"$f":"IF(E4317<>\"\",ROUND((VLOOKUP(E4317,Param!$A$7:$E$13,4,0)*Fonct_Empl!F4317*((Fonct_Empl!G4317/12)))+(VLOOKUP(E4317,Param!$A$7:$E$13,5,0)*Fonct_Empl!H4317),2),\"\")","v":""}]
[null,null,null,null,null,null,null,null,{"$f":"IF(E4318<>\"\",ROUND((VLOOKUP(E4318,Param!$A$7:$E$13,4,0)*Fonct_Empl!F4318*((Fonct_Empl!G4318/12)))+(VLOOKUP(E4318,Param!$A$7:$E$13,5,0)*Fonct_Empl!H4318),2),\"\")","v":""}]
[null,null,null,null,null,null,null,null,{"$f":"IF(E4319<>\"\",ROUND((VLOOKUP(E4319,Param!$A$7:$E$13,4,0)*Fonct_Empl!F4319*((Fonct_Empl!G4319/12)))+(VLOOKUP(E4319,Param!$A$7:$E$13,5,0)*Fonct_Empl!H4319),2),\"\")","v":""}]
[null,null,null,null,null,null,null,null,{"$f":"IF(E4320<>\"\",ROUND((VLOOKUP(E4320,Param!$A$7:$E$13,4,0)*Fonct_Empl!F4320*((Fonct_Empl!G4320/12)))+(VLOOKUP(E4320,Param!$A$7:$E$13,5,0)*Fonct_Empl!H4320),2),\"\")","v":""}]
[null,null,null,null,null,null,null,null,{"$f":"IF(E4321<>\"\",ROUND((VLOOKUP(E4321,Param!$A$7:$E$13,4,0)*Fonct_Empl!F4321*((Fonct_Empl!G4321/12)))+(VLOOKUP(E4321,Param!$A$7:$E$13,5,0)*Fonct_Empl!H4321),2),\"\")","v":""}]
[null,null,null,null,null,null,null,null,{"$f":"IF(E4322<>\"\",ROUND((VLOOKUP(E4322,Param!$A$7:$E$13,4,0)*Fonct_Empl!F4322*((Fonct_Empl!G4322/12)))+(VLOOKUP(E4322,Param!$A$7:$E$13,5,0)*Fonct_Empl!H4322),2),\"\")","v":""}]
[null,null,null,null,null,null,null,null,{"$f":"IF(E4323<>\"\",ROUND((VLOOKUP(E4323,Param!$A$7:$E$13,4,0)*Fonct_Empl!F4323*((Fonct_Empl!G4323/12)))+(VLOOKUP(E4323,Param!$A$7:$E$13,5,0)*Fonct_Empl!H4323),2),\"\")","v":""}]
[null,null,null,null,null,null,null,null,{"$f":"IF(E4324<>\"\",ROUND((VLOOKUP(E4324,Param!$A$7:$E$13,4,0)*Fonct_Empl!F4324*((Fonct_Empl!G4324/12)))+(VLOOKUP(E4324,Param!$A$7:$E$13,5,0)*Fonct_Empl!H4324),2),\"\")","v":""}]
[null,null,null,null,null,null,null,null,{"$f":"IF(E4325<>\"\",ROUND((VLOOKUP(E4325,Param!$A$7:$E$13,4,0)*Fonct_Empl!F4325*((Fonct_Empl!G4325/12)))+(VLOOKUP(E4325,Param!$A$7:$E$13,5,0)*Fonct_Empl!H4325),2),\"\")","v":""}]
[null,null,null,null,null,null,null,null,{"$f":"IF(E4326<>\"\",ROUND((VLOOKUP(E4326,Param!$A$7:$E$13,4,0)*Fonct_Empl!F4326*((Fonct_Empl!G4326/12)))+(VLOOKUP(E4326,Param!$A$7:$E$13,5,0)*Fonct_Empl!H4326),2),\"\")","v":""}]
[null,null,null,null,null,null,null,null,{"$f":"IF(E4327<>\"\",ROUND((VLOOKUP(E4327,Param!$A$7:$E$13,4,0)*Fonct_Empl!F4327*((Fonct_Empl!G4327/12)))+(VLOOKUP(E4327,Param!$A$7:$E$13,5,0)*Fonct_Empl!H4327),2),\"\")","v":""}]
[null,null,null,null,null,null,null,null,{"$f":"IF(E4328<>\"\",ROUND((VLOOKUP(E4328,Param!$A$7:$E$13,4,0)*Fonct_Empl!F4328*((Fonct_Empl!G4328/12)))+(VLOOKUP(E4328,Param!$A$7:$E$13,5,0)*Fonct_Empl!H4328),2),\"\")","v":""}]
[null,null,null,null,null,null,null,null,{"$f":"IF(E4329<>\"\",ROUND((VLOOKUP(E4329,Param!$A$7:$E$13,4,0)*Fonct_Empl!F4329*((Fonct_Empl!G4329/12)))+(VLOOKUP(E4329,Param!$A$7:$E$13,5,0)*Fonct_Empl!H4329),2),\"\")","v":""}]
[null,null,null,null,null,null,null,null,{"$f":"IF(E4330<>\"\",ROUND((VLOOKUP(E4330,Param!$A$7:$E$13,4,0)*Fonct_Empl!F4330*((Fonct_Empl!G4330/12)))+(VLOOKUP(E4330,Param!$A$7:$E$13,5,0)*Fonct_Empl!H4330),2),\"\")","v":""}]
[null,null,null,null,null,null,null,null,{"$f":"IF(E4331<>\"\",ROUND((VLOOKUP(E4331,Param!$A$7:$E$13,4,0)*Fonct_Empl!F4331*((Fonct_Empl!G4331/12)))+(VLOOKUP(E4331,Param!$A$7:$E$13,5,0)*Fonct_Empl!H4331),2),\"\")","v":""}]
[null,null,null,null,null,null,null,null,{"$f":"IF(E4332<>\"\",ROUND((VLOOKUP(E4332,Param!$A$7:$E$13,4,0)*Fonct_Empl!F4332*((Fonct_Empl!G4332/12)))+(VLOOKUP(E4332,Param!$A$7:$E$13,5,0)*Fonct_Empl!H4332),2),\"\")","v":""}]
[null,null,null,null,null,null,null,null,{"$f":"IF(E4333<>\"\",ROUND((VLOOKUP(E4333,Param!$A$7:$E$13,4,0)*Fonct_Empl!F4333*((Fonct_Empl!G4333/12)))+(VLOOKUP(E4333,Param!$A$7:$E$13,5,0)*Fonct_Empl!H4333),2),\"\")","v":""}]
[null,null,null,null,null,null,null,null,{"$f":"IF(E4334<>\"\",ROUND((VLOOKUP(E4334,Param!$A$7:$E$13,4,0)*Fonct_Empl!F4334*((Fonct_Empl!G4334/12)))+(VLOOKUP(E4334,Param!$A$7:$E$13,5,0)*Fonct_Empl!H4334),2),\"\")","v":""}]
[null,null,null,null,null,null,null,null,{"$f":"IF(E4335<>\"\",ROUND((VLOOKUP(E4335,Param!$A$7:$E$13,4,0)*Fonct_Empl!F4335*((Fonct_Empl!G4335/12)))+(VLOOKUP(E4335,Param!$A$7:$E$13,5,0)*Fonct_Empl!H4335),2),\"\")","v":""}]
[null,null,null,null,null,null,null,null,{"$f":"IF(E4336<>\"\",ROUND((VLOOKUP(E4336,Param!$A$7:$E$13,4,0)*Fonct_Empl!F4336*((Fonct_Empl!G4336/12)))+(VLOOKUP(E4336,Param!$A$7:$E$13,5,0)*Fonct_Empl!H4336),2),\"\")","v":""}]
[null,null,null,null,null,null,null,null,{"$f":"IF(E4337<>\"\",ROUND((VLOOKUP(E4337,Param!$A$7:$E$13,4,0)*Fonct_Empl!F4337*((Fonct_Empl!G4337/12)))+(VLOOKUP(E4337,Param!$A$7:$E$13,5,0)*Fonct_Empl!H4337),2),\"\")","v":""}]
[null,null,null,null,null,null,null,null,{"$f":"IF(E4338<>\"\",ROUND((VLOOKUP(E4338,Param!$A$7:$E$13,4,0)*Fonct_Empl!F4338*((Fonct_Empl!G4338/12)))+(VLOOKUP(E4338,Param!$A$7:$E$13,5,0)*Fonct_Empl!H4338),2),\"\")","v":""}]
[null,null,null,null,null,null,null,null,{"$f":"IF(E4339<>\"\",ROUND((VLOOKUP(E4339,Param!$A$7:$E$13,4,0)*Fonct_Empl!F4339*((Fonct_Empl!G4339/12)))+(VLOOKUP(E4339,Param!$A$7:$E$13,5,0)*Fonct_Empl!H4339),2),\"\")","v":""}]
[null,null,null,null,null,null,null,null,{"$f":"IF(E4340<>\"\",ROUND((VLOOKUP(E4340,Param!$A$7:$E$13,4,0)*Fonct_Empl!F4340*((Fonct_Empl!G4340/12)))+(VLOOKUP(E4340,Param!$A$7:$E$13,5,0)*Fonct_Empl!H4340),2),\"\")","v":""}]
[null,null,null,null,null,null,null,null,{"$f":"IF(E4341<>\"\",ROUND((VLOOKUP(E4341,Param!$A$7:$E$13,4,0)*Fonct_Empl!F4341*((Fonct_Empl!G4341/12)))+(VLOOKUP(E4341,Param!$A$7:$E$13,5,0)*Fonct_Empl!H4341),2),\"\")","v":""}]
[null,null,null,null,null,null,null,null,{"$f":"IF(E4342<>\"\",ROUND((VLOOKUP(E4342,Param!$A$7:$E$13,4,0)*Fonct_Empl!F4342*((Fonct_Empl!G4342/12)))+(VLOOKUP(E4342,Param!$A$7:$E$13,5,0)*Fonct_Empl!H4342),2),\"\")","v":""}]
[null,null,null,null,null,null,null,null,{"$f":"IF(E4343<>\"\",ROUND((VLOOKUP(E4343,Param!$A$7:$E$13,4,0)*Fonct_Empl!F4343*((Fonct_Empl!G4343/12)))+(VLOOKUP(E4343,Param!$A$7:$E$13,5,0)*Fonct_Empl!H4343),2),\"\")","v":""}]
[null,null,null,null,null,null,null,null,{"$f":"IF(E4344<>\"\",ROUND((VLOOKUP(E4344,Param!$A$7:$E$13,4,0)*Fonct_Empl!F4344*((Fonct_Empl!G4344/12)))+(VLOOKUP(E4344,Param!$A$7:$E$13,5,0)*Fonct_Empl!H4344),2),\"\")","v":""}]
[null,null,null,null,null,null,null,null,{"$f":"IF(E4345<>\"\",ROUND((VLOOKUP(E4345,Param!$A$7:$E$13,4,0)*Fonct_Empl!F4345*((Fonct_Empl!G4345/12)))+(VLOOKUP(E4345,Param!$A$7:$E$13,5,0)*Fonct_Empl!H4345),2),\"\")","v":""}]
[null,null,null,null,null,null,null,null,{"$f":"IF(E4346<>\"\",ROUND((VLOOKUP(E4346,Param!$A$7:$E$13,4,0)*Fonct_Empl!F4346*((Fonct_Empl!G4346/12)))+(VLOOKUP(E4346,Param!$A$7:$E$13,5,0)*Fonct_Empl!H4346),2),\"\")","v":""}]
[null,null,null,null,null,null,null,null,{"$f":"IF(E4347<>\"\",ROUND((VLOOKUP(E4347,Param!$A$7:$E$13,4,0)*Fonct_Empl!F4347*((Fonct_Empl!G4347/12)))+(VLOOKUP(E4347,Param!$A$7:$E$13,5,0)*Fonct_Empl!H4347),2),\"\")","v":""}]
[null,null,null,null,null,null,null,null,{"$f":"IF(E4348<>\"\",ROUND((VLOOKUP(E4348,Param!$A$7:$E$13,4,0)*Fonct_Empl!F4348*((Fonct_Empl!G4348/12)))+(VLOOKUP(E4348,Param!$A$7:$E$13,5,0)*Fonct_Empl!H4348),2),\"\")","v":""}]
[null,null,null,null,null,null,null,null,{"$f":"IF(E4349<>\"\",ROUND((VLOOKUP(E4349,Param!$A$7:$E$13,4,0)*Fonct_Empl!F4349*((Fonct_Empl!G4349/12)))+(VLOOKUP(E4349,Param!$A$7:$E$13,5,0)*Fonct_Empl!H4349),2),\"\")","v":""}]
[null,null,null,null,null,null,null,null,{"$f":"IF(E4350<>\"\",ROUND((VLOOKUP(E4350,Param!$A$7:$E$13,4,0)*Fonct_Empl!F4350*((Fonct_Empl!G4350/12)))+(VLOOKUP(E4350,Param!$A$7:$E$13,5,0)*Fonct_Empl!H4350),2),\"\")","v":""}]
[null,null,null,null,null,null,null,null,{"$f":"IF(E4351<>\"\",ROUND((VLOOKUP(E4351,Param!$A$7:$E$13,4,0)*Fonct_Empl!F4351*((Fonct_Empl!G4351/12)))+(VLOOKUP(E4351,Param!$A$7:$E$13,5,0)*Fonct_Empl!H4351),2),\"\")","v":""}]
[null,null,null,null,null,null,null,null,{"$f":"IF(E4352<>\"\",ROUND((VLOOKUP(E4352,Param!$A$7:$E$13,4,0)*Fonct_Empl!F4352*((Fonct_Empl!G4352/12)))+(VLOOKUP(E4352,Param!$A$7:$E$13,5,0)*Fonct_Empl!H4352),2),\"\")","v":""}]
[null,null,null,null,null,null,null,null,{"$f":"IF(E4353<>\"\",ROUND((VLOOKUP(E4353,Param!$A$7:$E$13,4,0)*Fonct_Empl!F4353*((Fonct_Empl!G4353/12)))+(VLOOKUP(E4353,Param!$A$7:$E$13,5,0)*Fonct_Empl!H4353),2),\"\")","v":""}]
[null,null,null,null,null,null,null,null,{"$f":"IF(E4354<>\"\",ROUND((VLOOKUP(E4354,Param!$A$7:$E$13,4,0)*Fonct_Empl!F4354*((Fonct_Empl!G4354/12)))+(VLOOKUP(E4354,Param!$A$7:$E$13,5,0)*Fonct_Empl!H4354),2),\"\")","v":""}]
[null,null,null,null,null,null,null,null,{"$f":"IF(E4355<>\"\",ROUND((VLOOKUP(E4355,Param!$A$7:$E$13,4,0)*Fonct_Empl!F4355*((Fonct_Empl!G4355/12)))+(VLOOKUP(E4355,Param!$A$7:$E$13,5,0)*Fonct_Empl!H4355),2),\"\")","v":""}]
[null,null,null,null,null,null,null,null,{"$f":"IF(E4356<>\"\",ROUND((VLOOKUP(E4356,Param!$A$7:$E$13,4,0)*Fonct_Empl!F4356*((Fonct_Empl!G4356/12)))+(VLOOKUP(E4356,Param!$A$7:$E$13,5,0)*Fonct_Empl!H4356),2),\"\")","v":""}]
[null,null,null,null,null,null,null,null,{"$f":"IF(E4357<>\"\",ROUND((VLOOKUP(E4357,Param!$A$7:$E$13,4,0)*Fonct_Empl!F4357*((Fonct_Empl!G4357/12)))+(VLOOKUP(E4357,Param!$A$7:$E$13,5,0)*Fonct_Empl!H4357),2),\"\")","v":""}]
[null,null,null,null,null,null,null,null,{"$f":"IF(E4358<>\"\",ROUND((VLOOKUP(E4358,Param!$A$7:$E$13,4,0)*Fonct_Empl!F4358*((Fonct_Empl!G4358/12)))+(VLOOKUP(E4358,Param!$A$7:$E$13,5,0)*Fonct_Empl!H4358),2),\"\")","v":""}]
[null,null,null,null,null,null,null,null,{"$f":"IF(E4359<>\"\",ROUND((VLOOKUP(E4359,Param!$A$7:$E$13,4,0)*Fonct_Empl!F4359*((Fonct_Empl!G4359/12)))+(VLOOKUP(E4359,Param!$A$7:$E$13,5,0)*Fonct_Empl!H4359),2),\"\")","v":""}]
[null,null,null,null,null,null,null,null,{"$f":"IF(E4360<>\"\",ROUND((VLOOKUP(E4360,Param!$A$7:$E$13,4,0)*Fonct_Empl!F4360*((Fonct_Empl!G4360/12)))+(VLOOKUP(E4360,Param!$A$7:$E$13,5,0)*Fonct_Empl!H4360),2),\"\")","v":""}]
[null,null,null,null,null,null,null,null,{"$f":"IF(E4361<>\"\",ROUND((VLOOKUP(E4361,Param!$A$7:$E$13,4,0)*Fonct_Empl!F4361*((Fonct_Empl!G4361/12)))+(VLOOKUP(E4361,Param!$A$7:$E$13,5,0)*Fonct_Empl!H4361),2),\"\")","v":""}]
[null,null,null,null,null,null,null,null,{"$f":"IF(E4362<>\"\",ROUND((VLOOKUP(E4362,Param!$A$7:$E$13,4,0)*Fonct_Empl!F4362*((Fonct_Empl!G4362/12)))+(VLOOKUP(E4362,Param!$A$7:$E$13,5,0)*Fonct_Empl!H4362),2),\"\")","v":""}]
[null,null,null,null,null,null,null,null,{"$f":"IF(E4363<>\"\",ROUND((VLOOKUP(E4363,Param!$A$7:$E$13,4,0)*Fonct_Empl!F4363*((Fonct_Empl!G4363/12)))+(VLOOKUP(E4363,Param!$A$7:$E$13,5,0)*Fonct_Empl!H4363),2),\"\")","v":""}]
[null,null,null,null,null,null,null,null,{"$f":"IF(E4364<>\"\",ROUND((VLOOKUP(E4364,Param!$A$7:$E$13,4,0)*Fonct_Empl!F4364*((Fonct_Empl!G4364/12)))+(VLOOKUP(E4364,Param!$A$7:$E$13,5,0)*Fonct_Empl!H4364),2),\"\")","v":""}]
[null,null,null,null,null,null,null,null,{"$f":"IF(E4365<>\"\",ROUND((VLOOKUP(E4365,Param!$A$7:$E$13,4,0)*Fonct_Empl!F4365*((Fonct_Empl!G4365/12)))+(VLOOKUP(E4365,Param!$A$7:$E$13,5,0)*Fonct_Empl!H4365),2),\"\")","v":""}]
[null,null,null,null,null,null,null,null,{"$f":"IF(E4366<>\"\",ROUND((VLOOKUP(E4366,Param!$A$7:$E$13,4,0)*Fonct_Empl!F4366*((Fonct_Empl!G4366/12)))+(VLOOKUP(E4366,Param!$A$7:$E$13,5,0)*Fonct_Empl!H4366),2),\"\")","v":""}]
[null,null,null,null,null,null,null,null,{"$f":"IF(E4367<>\"\",ROUND((VLOOKUP(E4367,Param!$A$7:$E$13,4,0)*Fonct_Empl!F4367*((Fonct_Empl!G4367/12)))+(VLOOKUP(E4367,Param!$A$7:$E$13,5,0)*Fonct_Empl!H4367),2),\"\")","v":""}]
[null,null,null,null,null,null,null,null,{"$f":"IF(E4368<>\"\",ROUND((VLOOKUP(E4368,Param!$A$7:$E$13,4,0)*Fonct_Empl!F4368*((Fonct_Empl!G4368/12)))+(VLOOKUP(E4368,Param!$A$7:$E$13,5,0)*Fonct_Empl!H4368),2),\"\")","v":""}]
[null,null,null,null,null,null,null,null,{"$f":"IF(E4369<>\"\",ROUND((VLOOKUP(E4369,Param!$A$7:$E$13,4,0)*Fonct_Empl!F4369*((Fonct_Empl!G4369/12)))+(VLOOKUP(E4369,Param!$A$7:$E$13,5,0)*Fonct_Empl!H4369),2),\"\")","v":""}]
[null,null,null,null,null,null,null,null,{"$f":"IF(E4370<>\"\",ROUND((VLOOKUP(E4370,Param!$A$7:$E$13,4,0)*Fonct_Empl!F4370*((Fonct_Empl!G4370/12)))+(VLOOKUP(E4370,Param!$A$7:$E$13,5,0)*Fonct_Empl!H4370),2),\"\")","v":""}]
[null,null,null,null,null,null,null,null,{"$f":"IF(E4371<>\"\",ROUND((VLOOKUP(E4371,Param!$A$7:$E$13,4,0)*Fonct_Empl!F4371*((Fonct_Empl!G4371/12)))+(VLOOKUP(E4371,Param!$A$7:$E$13,5,0)*Fonct_Empl!H4371),2),\"\")","v":""}]
[null,null,null,null,null,null,null,null,{"$f":"IF(E4372<>\"\",ROUND((VLOOKUP(E4372,Param!$A$7:$E$13,4,0)*Fonct_Empl!F4372*((Fonct_Empl!G4372/12)))+(VLOOKUP(E4372,Param!$A$7:$E$13,5,0)*Fonct_Empl!H4372),2),\"\")","v":""}]
[null,null,null,null,null,null,null,null,{"$f":"IF(E4373<>\"\",ROUND((VLOOKUP(E4373,Param!$A$7:$E$13,4,0)*Fonct_Empl!F4373*((Fonct_Empl!G4373/12)))+(VLOOKUP(E4373,Param!$A$7:$E$13,5,0)*Fonct_Empl!H4373),2),\"\")","v":""}]
[null,null,null,null,null,null,null,null,{"$f":"IF(E4374<>\"\",ROUND((VLOOKUP(E4374,Param!$A$7:$E$13,4,0)*Fonct_Empl!F4374*((Fonct_Empl!G4374/12)))+(VLOOKUP(E4374,Param!$A$7:$E$13,5,0)*Fonct_Empl!H4374),2),\"\")","v":""}]
[null,null,null,null,null,null,null,null,{"$f":"IF(E4375<>\"\",ROUND((VLOOKUP(E4375,Param!$A$7:$E$13,4,0)*Fonct_Empl!F4375*((Fonct_Empl!G4375/12)))+(VLOOKUP(E4375,Param!$A$7:$E$13,5,0)*Fonct_Empl!H4375),2),\"\")","v":""}]
[null,null,null,null,null,null,null,null,{"$f":"IF(E4376<>\"\",ROUND((VLOOKUP(E4376,Param!$A$7:$E$13,4,0)*Fonct_Empl!F4376*((Fonct_Empl!G4376/12)))+(VLOOKUP(E4376,Param!$A$7:$E$13,5,0)*Fonct_Empl!H4376),2),\"\")","v":""}]
[null,null,null,null,null,null,null,null,{"$f":"IF(E4377<>\"\",ROUND((VLOOKUP(E4377,Param!$A$7:$E$13,4,0)*Fonct_Empl!F4377*((Fonct_Empl!G4377/12)))+(VLOOKUP(E4377,Param!$A$7:$E$13,5,0)*Fonct_Empl!H4377),2),\"\")","v":""}]
[null,null,null,null,null,null,null,null,{"$f":"IF(E4378<>\"\",ROUND((VLOOKUP(E4378,Param!$A$7:$E$13,4,0)*Fonct_Empl!F4378*((Fonct_Empl!G4378/12)))+(VLOOKUP(E4378,Param!$A$7:$E$13,5,0)*Fonct_Empl!H4378),2),\"\")","v":""}]
[null,null,null,null,null,null,null,null,{"$f":"IF(E4379<>\"\",ROUND((VLOOKUP(E4379,Param!$A$7:$E$13,4,0)*Fonct_Empl!F4379*((Fonct_Empl!G4379/12)))+(VLOOKUP(E4379,Param!$A$7:$E$13,5,0)*Fonct_Empl!H4379),2),\"\")","v":""}]
[null,null,null,null,null,null,null,null,{"$f":"IF(E4380<>\"\",ROUND((VLOOKUP(E4380,Param!$A$7:$E$13,4,0)*Fonct_Empl!F4380*((Fonct_Empl!G4380/12)))+(VLOOKUP(E4380,Param!$A$7:$E$13,5,0)*Fonct_Empl!H4380),2),\"\")","v":""}]
[null,null,null,null,null,null,null,null,{"$f":"IF(E4381<>\"\",ROUND((VLOOKUP(E4381,Param!$A$7:$E$13,4,0)*Fonct_Empl!F4381*((Fonct_Empl!G4381/12)))+(VLOOKUP(E4381,Param!$A$7:$E$13,5,0)*Fonct_Empl!H4381),2),\"\")","v":""}]
[null,null,null,null,null,null,null,null,{"$f":"IF(E4382<>\"\",ROUND((VLOOKUP(E4382,Param!$A$7:$E$13,4,0)*Fonct_Empl!F4382*((Fonct_Empl!G4382/12)))+(VLOOKUP(E4382,Param!$A$7:$E$13,5,0)*Fonct_Empl!H4382),2),\"\")","v":""}]
[null,null,null,null,null,null,null,null,{"$f":"IF(E4383<>\"\",ROUND((VLOOKUP(E4383,Param!$A$7:$E$13,4,0)*Fonct_Empl!F4383*((Fonct_Empl!G4383/12)))+(VLOOKUP(E4383,Param!$A$7:$E$13,5,0)*Fonct_Empl!H4383),2),\"\")","v":""}]
[null,null,null,null,null,null,null,null,{"$f":"IF(E4384<>\"\",ROUND((VLOOKUP(E4384,Param!$A$7:$E$13,4,0)*Fonct_Empl!F4384*((Fonct_Empl!G4384/12)))+(VLOOKUP(E4384,Param!$A$7:$E$13,5,0)*Fonct_Empl!H4384),2),\"\")","v":""}]
[null,null,null,null,null,null,null,null,{"$f":"IF(E4385<>\"\",ROUND((VLOOKUP(E4385,Param!$A$7:$E$13,4,0)*Fonct_Empl!F4385*((Fonct_Empl!G4385/12)))+(VLOOKUP(E4385,Param!$A$7:$E$13,5,0)*Fonct_Empl!H4385),2),\"\")","v":""}]
[null,null,null,null,null,null,null,null,{"$f":"IF(E4386<>\"\",ROUND((VLOOKUP(E4386,Param!$A$7:$E$13,4,0)*Fonct_Empl!F4386*((Fonct_Empl!G4386/12)))+(VLOOKUP(E4386,Param!$A$7:$E$13,5,0)*Fonct_Empl!H4386),2),\"\")","v":""}]
[null,null,null,null,null,null,null,null,{"$f":"IF(E4387<>\"\",ROUND((VLOOKUP(E4387,Param!$A$7:$E$13,4,0)*Fonct_Empl!F4387*((Fonct_Empl!G4387/12)))+(VLOOKUP(E4387,Param!$A$7:$E$13,5,0)*Fonct_Empl!H4387),2),\"\")","v":""}]
[null,null,null,null,null,null,null,null,{"$f":"IF(E4388<>\"\",ROUND((VLOOKUP(E4388,Param!$A$7:$E$13,4,0)*Fonct_Empl!F4388*((Fonct_Empl!G4388/12)))+(VLOOKUP(E4388,Param!$A$7:$E$13,5,0)*Fonct_Empl!H4388),2),\"\")","v":""}]
[null,null,null,null,null,null,null,null,{"$f":"IF(E4389<>\"\",ROUND((VLOOKUP(E4389,Param!$A$7:$E$13,4,0)*Fonct_Empl!F4389*((Fonct_Empl!G4389/12)))+(VLOOKUP(E4389,Param!$A$7:$E$13,5,0)*Fonct_Empl!H4389),2),\"\")","v":""}]
[null,null,null,null,null,null,null,null,{"$f":"IF(E4390<>\"\",ROUND((VLOOKUP(E4390,Param!$A$7:$E$13,4,0)*Fonct_Empl!F4390*((Fonct_Empl!G4390/12)))+(VLOOKUP(E4390,Param!$A$7:$E$13,5,0)*Fonct_Empl!H4390),2),\"\")","v":""}]
[null,null,null,null,null,null,null,null,{"$f":"IF(E4391<>\"\",ROUND((VLOOKUP(E4391,Param!$A$7:$E$13,4,0)*Fonct_Empl!F4391*((Fonct_Empl!G4391/12)))+(VLOOKUP(E4391,Param!$A$7:$E$13,5,0)*Fonct_Empl!H4391),2),\"\")","v":""}]
[null,null,null,null,null,null,null,null,{"$f":"IF(E4392<>\"\",ROUND((VLOOKUP(E4392,Param!$A$7:$E$13,4,0)*Fonct_Empl!F4392*((Fonct_Empl!G4392/12)))+(VLOOKUP(E4392,Param!$A$7:$E$13,5,0)*Fonct_Empl!H4392),2),\"\")","v":""}]
[null,null,null,null,null,null,null,null,{"$f":"IF(E4393<>\"\",ROUND((VLOOKUP(E4393,Param!$A$7:$E$13,4,0)*Fonct_Empl!F4393*((Fonct_Empl!G4393/12)))+(VLOOKUP(E4393,Param!$A$7:$E$13,5,0)*Fonct_Empl!H4393),2),\"\")","v":""}]
[null,null,null,null,null,null,null,null,{"$f":"IF(E4394<>\"\",ROUND((VLOOKUP(E4394,Param!$A$7:$E$13,4,0)*Fonct_Empl!F4394*((Fonct_Empl!G4394/12)))+(VLOOKUP(E4394,Param!$A$7:$E$13,5,0)*Fonct_Empl!H4394),2),\"\")","v":""}]
[null,null,null,null,null,null,null,null,{"$f":"IF(E4395<>\"\",ROUND((VLOOKUP(E4395,Param!$A$7:$E$13,4,0)*Fonct_Empl!F4395*((Fonct_Empl!G4395/12)))+(VLOOKUP(E4395,Param!$A$7:$E$13,5,0)*Fonct_Empl!H4395),2),\"\")","v":""}]
[null,null,null,null,null,null,null,null,{"$f":"IF(E4396<>\"\",ROUND((VLOOKUP(E4396,Param!$A$7:$E$13,4,0)*Fonct_Empl!F4396*((Fonct_Empl!G4396/12)))+(VLOOKUP(E4396,Param!$A$7:$E$13,5,0)*Fonct_Empl!H4396),2),\"\")","v":""}]
[null,null,null,null,null,null,null,null,{"$f":"IF(E4397<>\"\",ROUND((VLOOKUP(E4397,Param!$A$7:$E$13,4,0)*Fonct_Empl!F4397*((Fonct_Empl!G4397/12)))+(VLOOKUP(E4397,Param!$A$7:$E$13,5,0)*Fonct_Empl!H4397),2),\"\")","v":""}]
[null,null,null,null,null,null,null,null,{"$f":"IF(E4398<>\"\",ROUND((VLOOKUP(E4398,Param!$A$7:$E$13,4,0)*Fonct_Empl!F4398*((Fonct_Empl!G4398/12)))+(VLOOKUP(E4398,Param!$A$7:$E$13,5,0)*Fonct_Empl!H4398),2),\"\")","v":""}]
[null,null,null,null,null,null,null,null,{"$f":"IF(E4399<>\"\",ROUND((VLOOKUP(E4399,Param!$A$7:$E$13,4,0)*Fonct_Empl!F4399*((Fonct_Empl!G4399/12)))+(VLOOKUP(E4399,Param!$A$7:$E$13,5,0)*Fonct_Empl!H4399),2),\"\")","v":""}]
[null,null,null,null,null,null,null,null,{"$f":"IF(E4400<>\"\",ROUND((VLOOKUP(E4400,Param!$A$7:$E$13,4,0)*Fonct_Empl!F4400*((Fonct_Empl!G4400/12)))+(VLOOKUP(E4400,Param!$A$7:$E$13,5,0)*Fonct_Empl!H4400),2),\"\")","v":""}]
[null,null,null,null,null,null,null,null,{"$f":"IF(E4401<>\"\",ROUND((VLOOKUP(E4401,Param!$A$7:$E$13,4,0)*Fonct_Empl!F4401*((Fonct_Empl!G4401/12)))+(VLOOKUP(E4401,Param!$A$7:$E$13,5,0)*Fonct_Empl!H4401),2),\"\")","v":""}]
[null,null,null,null,null,null,null,null,{"$f":"IF(E4402<>\"\",ROUND((VLOOKUP(E4402,Param!$A$7:$E$13,4,0)*Fonct_Empl!F4402*((Fonct_Empl!G4402/12)))+(VLOOKUP(E4402,Param!$A$7:$E$13,5,0)*Fonct_Empl!H4402),2),\"\")","v":""}]
[null,null,null,null,null,null,null,null,{"$f":"IF(E4403<>\"\",ROUND((VLOOKUP(E4403,Param!$A$7:$E$13,4,0)*Fonct_Empl!F4403*((Fonct_Empl!G4403/12)))+(VLOOKUP(E4403,Param!$A$7:$E$13,5,0)*Fonct_Empl!H4403),2),\"\")","v":""}]
[null,null,null,null,null,null,null,null,{"$f":"IF(E4404<>\"\",ROUND((VLOOKUP(E4404,Param!$A$7:$E$13,4,0)*Fonct_Empl!F4404*((Fonct_Empl!G4404/12)))+(VLOOKUP(E4404,Param!$A$7:$E$13,5,0)*Fonct_Empl!H4404),2),\"\")","v":""}]
[null,null,null,null,null,null,null,null,{"$f":"IF(E4405<>\"\",ROUND((VLOOKUP(E4405,Param!$A$7:$E$13,4,0)*Fonct_Empl!F4405*((Fonct_Empl!G4405/12)))+(VLOOKUP(E4405,Param!$A$7:$E$13,5,0)*Fonct_Empl!H4405),2),\"\")","v":""}]
[null,null,null,null,null,null,null,null,{"$f":"IF(E4406<>\"\",ROUND((VLOOKUP(E4406,Param!$A$7:$E$13,4,0)*Fonct_Empl!F4406*((Fonct_Empl!G4406/12)))+(VLOOKUP(E4406,Param!$A$7:$E$13,5,0)*Fonct_Empl!H4406),2),\"\")","v":""}]
[null,null,null,null,null,null,null,null,{"$f":"IF(E4407<>\"\",ROUND((VLOOKUP(E4407,Param!$A$7:$E$13,4,0)*Fonct_Empl!F4407*((Fonct_Empl!G4407/12)))+(VLOOKUP(E4407,Param!$A$7:$E$13,5,0)*Fonct_Empl!H4407),2),\"\")","v":""}]
[null,null,null,null,null,null,null,null,{"$f":"IF(E4408<>\"\",ROUND((VLOOKUP(E4408,Param!$A$7:$E$13,4,0)*Fonct_Empl!F4408*((Fonct_Empl!G4408/12)))+(VLOOKUP(E4408,Param!$A$7:$E$13,5,0)*Fonct_Empl!H4408),2),\"\")","v":""}]
[null,null,null,null,null,null,null,null,{"$f":"IF(E4409<>\"\",ROUND((VLOOKUP(E4409,Param!$A$7:$E$13,4,0)*Fonct_Empl!F4409*((Fonct_Empl!G4409/12)))+(VLOOKUP(E4409,Param!$A$7:$E$13,5,0)*Fonct_Empl!H4409),2),\"\")","v":""}]
[null,null,null,null,null,null,null,null,{"$f":"IF(E4410<>\"\",ROUND((VLOOKUP(E4410,Param!$A$7:$E$13,4,0)*Fonct_Empl!F4410*((Fonct_Empl!G4410/12)))+(VLOOKUP(E4410,Param!$A$7:$E$13,5,0)*Fonct_Empl!H4410),2),\"\")","v":""}]
[null,null,null,null,null,null,null,null,{"$f":"IF(E4411<>\"\",ROUND((VLOOKUP(E4411,Param!$A$7:$E$13,4,0)*Fonct_Empl!F4411*((Fonct_Empl!G4411/12)))+(VLOOKUP(E4411,Param!$A$7:$E$13,5,0)*Fonct_Empl!H4411),2),\"\")","v":""}]
[null,null,null,null,null,null,null,null,{"$f":"IF(E4412<>\"\",ROUND((VLOOKUP(E4412,Param!$A$7:$E$13,4,0)*Fonct_Empl!F4412*((Fonct_Empl!G4412/12)))+(VLOOKUP(E4412,Param!$A$7:$E$13,5,0)*Fonct_Empl!H4412),2),\"\")","v":""}]
[null,null,null,null,null,null,null,null,{"$f":"IF(E4413<>\"\",ROUND((VLOOKUP(E4413,Param!$A$7:$E$13,4,0)*Fonct_Empl!F4413*((Fonct_Empl!G4413/12)))+(VLOOKUP(E4413,Param!$A$7:$E$13,5,0)*Fonct_Empl!H4413),2),\"\")","v":""}]
[null,null,null,null,null,null,null,null,{"$f":"IF(E4414<>\"\",ROUND((VLOOKUP(E4414,Param!$A$7:$E$13,4,0)*Fonct_Empl!F4414*((Fonct_Empl!G4414/12)))+(VLOOKUP(E4414,Param!$A$7:$E$13,5,0)*Fonct_Empl!H4414),2),\"\")","v":""}]
[null,null,null,null,null,null,null,null,{"$f":"IF(E4415<>\"\",ROUND((VLOOKUP(E4415,Param!$A$7:$E$13,4,0)*Fonct_Empl!F4415*((Fonct_Empl!G4415/12)))+(VLOOKUP(E4415,Param!$A$7:$E$13,5,0)*Fonct_Empl!H4415),2),\"\")","v":""}]
[null,null,null,null,null,null,null,null,{"$f":"IF(E4416<>\"\",ROUND((VLOOKUP(E4416,Param!$A$7:$E$13,4,0)*Fonct_Empl!F4416*((Fonct_Empl!G4416/12)))+(VLOOKUP(E4416,Param!$A$7:$E$13,5,0)*Fonct_Empl!H4416),2),\"\")","v":""}]
[null,null,null,null,null,null,null,null,{"$f":"IF(E4417<>\"\",ROUND((VLOOKUP(E4417,Param!$A$7:$E$13,4,0)*Fonct_Empl!F4417*((Fonct_Empl!G4417/12)))+(VLOOKUP(E4417,Param!$A$7:$E$13,5,0)*Fonct_Empl!H4417),2),\"\")","v":""}]
[null,null,null,null,null,null,null,null,{"$f":"IF(E4418<>\"\",ROUND((VLOOKUP(E4418,Param!$A$7:$E$13,4,0)*Fonct_Empl!F4418*((Fonct_Empl!G4418/12)))+(VLOOKUP(E4418,Param!$A$7:$E$13,5,0)*Fonct_Empl!H4418),2),\"\")","v":""}]
[null,null,null,null,null,null,null,null,{"$f":"IF(E4419<>\"\",ROUND((VLOOKUP(E4419,Param!$A$7:$E$13,4,0)*Fonct_Empl!F4419*((Fonct_Empl!G4419/12)))+(VLOOKUP(E4419,Param!$A$7:$E$13,5,0)*Fonct_Empl!H4419),2),\"\")","v":""}]
[null,null,null,null,null,null,null,null,{"$f":"IF(E4420<>\"\",ROUND((VLOOKUP(E4420,Param!$A$7:$E$13,4,0)*Fonct_Empl!F4420*((Fonct_Empl!G4420/12)))+(VLOOKUP(E4420,Param!$A$7:$E$13,5,0)*Fonct_Empl!H4420),2),\"\")","v":""}]
[null,null,null,null,null,null,null,null,{"$f":"IF(E4421<>\"\",ROUND((VLOOKUP(E4421,Param!$A$7:$E$13,4,0)*Fonct_Empl!F4421*((Fonct_Empl!G4421/12)))+(VLOOKUP(E4421,Param!$A$7:$E$13,5,0)*Fonct_Empl!H4421),2),\"\")","v":""}]
[null,null,null,null,null,null,null,null,{"$f":"IF(E4422<>\"\",ROUND((VLOOKUP(E4422,Param!$A$7:$E$13,4,0)*Fonct_Empl!F4422*((Fonct_Empl!G4422/12)))+(VLOOKUP(E4422,Param!$A$7:$E$13,5,0)*Fonct_Empl!H4422),2),\"\")","v":""}]
[null,null,null,null,null,null,null,null,{"$f":"IF(E4423<>\"\",ROUND((VLOOKUP(E4423,Param!$A$7:$E$13,4,0)*Fonct_Empl!F4423*((Fonct_Empl!G4423/12)))+(VLOOKUP(E4423,Param!$A$7:$E$13,5,0)*Fonct_Empl!H4423),2),\"\")","v":""}]
[null,null,null,null,null,null,null,null,{"$f":"IF(E4424<>\"\",ROUND((VLOOKUP(E4424,Param!$A$7:$E$13,4,0)*Fonct_Empl!F4424*((Fonct_Empl!G4424/12)))+(VLOOKUP(E4424,Param!$A$7:$E$13,5,0)*Fonct_Empl!H4424),2),\"\")","v":""}]
[null,null,null,null,null,null,null,null,{"$f":"IF(E4425<>\"\",ROUND((VLOOKUP(E4425,Param!$A$7:$E$13,4,0)*Fonct_Empl!F4425*((Fonct_Empl!G4425/12)))+(VLOOKUP(E4425,Param!$A$7:$E$13,5,0)*Fonct_Empl!H4425),2),\"\")","v":""}]
[null,null,null,null,null,null,null,null,{"$f":"IF(E4426<>\"\",ROUND((VLOOKUP(E4426,Param!$A$7:$E$13,4,0)*Fonct_Empl!F4426*((Fonct_Empl!G4426/12)))+(VLOOKUP(E4426,Param!$A$7:$E$13,5,0)*Fonct_Empl!H4426),2),\"\")","v":""}]
[null,null,null,null,null,null,null,null,{"$f":"IF(E4427<>\"\",ROUND((VLOOKUP(E4427,Param!$A$7:$E$13,4,0)*Fonct_Empl!F4427*((Fonct_Empl!G4427/12)))+(VLOOKUP(E4427,Param!$A$7:$E$13,5,0)*Fonct_Empl!H4427),2),\"\")","v":""}]
[null,null,null,null,null,null,null,null,{"$f":"IF(E4428<>\"\",ROUND((VLOOKUP(E4428,Param!$A$7:$E$13,4,0)*Fonct_Empl!F4428*((Fonct_Empl!G4428/12)))+(VLOOKUP(E4428,Param!$A$7:$E$13,5,0)*Fonct_Empl!H4428),2),\"\")","v":""}]
[null,null,null,null,null,null,null,null,{"$f":"IF(E4429<>\"\",ROUND((VLOOKUP(E4429,Param!$A$7:$E$13,4,0)*Fonct_Empl!F4429*((Fonct_Empl!G4429/12)))+(VLOOKUP(E4429,Param!$A$7:$E$13,5,0)*Fonct_Empl!H4429),2),\"\")","v":""}]
[null,null,null,null,null,null,null,null,{"$f":"IF(E4430<>\"\",ROUND((VLOOKUP(E4430,Param!$A$7:$E$13,4,0)*Fonct_Empl!F4430*((Fonct_Empl!G4430/12)))+(VLOOKUP(E4430,Param!$A$7:$E$13,5,0)*Fonct_Empl!H4430),2),\"\")","v":""}]
[null,null,null,null,null,null,null,null,{"$f":"IF(E4431<>\"\",ROUND((VLOOKUP(E4431,Param!$A$7:$E$13,4,0)*Fonct_Empl!F4431*((Fonct_Empl!G4431/12)))+(VLOOKUP(E4431,Param!$A$7:$E$13,5,0)*Fonct_Empl!H4431),2),\"\")","v":""}]
[null,null,null,null,null,null,null,null,{"$f":"IF(E4432<>\"\",ROUND((VLOOKUP(E4432,Param!$A$7:$E$13,4,0)*Fonct_Empl!F4432*((Fonct_Empl!G4432/12)))+(VLOOKUP(E4432,Param!$A$7:$E$13,5,0)*Fonct_Empl!H4432),2),\"\")","v":""}]
[null,null,null,null,null,null,null,null,{"$f":"IF(E4433<>\"\",ROUND((VLOOKUP(E4433,Param!$A$7:$E$13,4,0)*Fonct_Empl!F4433*((Fonct_Empl!G4433/12)))+(VLOOKUP(E4433,Param!$A$7:$E$13,5,0)*Fonct_Empl!H4433),2),\"\")","v":""}]
[null,null,null,null,null,null,null,null,{"$f":"IF(E4434<>\"\",ROUND((VLOOKUP(E4434,Param!$A$7:$E$13,4,0)*Fonct_Empl!F4434*((Fonct_Empl!G4434/12)))+(VLOOKUP(E4434,Param!$A$7:$E$13,5,0)*Fonct_Empl!H4434),2),\"\")","v":""}]
[null,null,null,null,null,null,null,null,{"$f":"IF(E4435<>\"\",ROUND((VLOOKUP(E4435,Param!$A$7:$E$13,4,0)*Fonct_Empl!F4435*((Fonct_Empl!G4435/12)))+(VLOOKUP(E4435,Param!$A$7:$E$13,5,0)*Fonct_Empl!H4435),2),\"\")","v":""}]
[null,null,null,null,null,null,null,null,{"$f":"IF(E4436<>\"\",ROUND((VLOOKUP(E4436,Param!$A$7:$E$13,4,0)*Fonct_Empl!F4436*((Fonct_Empl!G4436/12)))+(VLOOKUP(E4436,Param!$A$7:$E$13,5,0)*Fonct_Empl!H4436),2),\"\")","v":""}]
[null,null,null,null,null,null,null,null,{"$f":"IF(E4437<>\"\",ROUND((VLOOKUP(E4437,Param!$A$7:$E$13,4,0)*Fonct_Empl!F4437*((Fonct_Empl!G4437/12)))+(VLOOKUP(E4437,Param!$A$7:$E$13,5,0)*Fonct_Empl!H4437),2),\"\")","v":""}]
[null,null,null,null,null,null,null,null,{"$f":"IF(E4438<>\"\",ROUND((VLOOKUP(E4438,Param!$A$7:$E$13,4,0)*Fonct_Empl!F4438*((Fonct_Empl!G4438/12)))+(VLOOKUP(E4438,Param!$A$7:$E$13,5,0)*Fonct_Empl!H4438),2),\"\")","v":""}]
[null,null,null,null,null,null,null,null,{"$f":"IF(E4439<>\"\",ROUND((VLOOKUP(E4439,Param!$A$7:$E$13,4,0)*Fonct_Empl!F4439*((Fonct_Empl!G4439/12)))+(VLOOKUP(E4439,Param!$A$7:$E$13,5,0)*Fonct_Empl!H4439),2),\"\")","v":""}]
[null,null,null,null,null,null,null,null,{"$f":"IF(E4440<>\"\",ROUND((VLOOKUP(E4440,Param!$A$7:$E$13,4,0)*Fonct_Empl!F4440*((Fonct_Empl!G4440/12)))+(VLOOKUP(E4440,Param!$A$7:$E$13,5,0)*Fonct_Empl!H4440),2),\"\")","v":""}]
[null,null,null,null,null,null,null,null,{"$f":"IF(E4441<>\"\",ROUND((VLOOKUP(E4441,Param!$A$7:$E$13,4,0)*Fonct_Empl!F4441*((Fonct_Empl!G4441/12)))+(VLOOKUP(E4441,Param!$A$7:$E$13,5,0)*Fonct_Empl!H4441),2),\"\")","v":""}]
[null,null,null,null,null,null,null,null,{"$f":"IF(E4442<>\"\",ROUND((VLOOKUP(E4442,Param!$A$7:$E$13,4,0)*Fonct_Empl!F4442*((Fonct_Empl!G4442/12)))+(VLOOKUP(E4442,Param!$A$7:$E$13,5,0)*Fonct_Empl!H4442),2),\"\")","v":""}]
[null,null,null,null,null,null,null,null,{"$f":"IF(E4443<>\"\",ROUND((VLOOKUP(E4443,Param!$A$7:$E$13,4,0)*Fonct_Empl!F4443*((Fonct_Empl!G4443/12)))+(VLOOKUP(E4443,Param!$A$7:$E$13,5,0)*Fonct_Empl!H4443),2),\"\")","v":""}]
[null,null,null,null,null,null,null,null,{"$f":"IF(E4444<>\"\",ROUND((VLOOKUP(E4444,Param!$A$7:$E$13,4,0)*Fonct_Empl!F4444*((Fonct_Empl!G4444/12)))+(VLOOKUP(E4444,Param!$A$7:$E$13,5,0)*Fonct_Empl!H4444),2),\"\")","v":""}]
[null,null,null,null,null,null,null,null,{"$f":"IF(E4445<>\"\",ROUND((VLOOKUP(E4445,Param!$A$7:$E$13,4,0)*Fonct_Empl!F4445*((Fonct_Empl!G4445/12)))+(VLOOKUP(E4445,Param!$A$7:$E$13,5,0)*Fonct_Empl!H4445),2),\"\")","v":""}]
[null,null,null,null,null,null,null,null,{"$f":"IF(E4446<>\"\",ROUND((VLOOKUP(E4446,Param!$A$7:$E$13,4,0)*Fonct_Empl!F4446*((Fonct_Empl!G4446/12)))+(VLOOKUP(E4446,Param!$A$7:$E$13,5,0)*Fonct_Empl!H4446),2),\"\")","v":""}]
[null,null,null,null,null,null,null,null,{"$f":"IF(E4447<>\"\",ROUND((VLOOKUP(E4447,Param!$A$7:$E$13,4,0)*Fonct_Empl!F4447*((Fonct_Empl!G4447/12)))+(VLOOKUP(E4447,Param!$A$7:$E$13,5,0)*Fonct_Empl!H4447),2),\"\")","v":""}]
[null,null,null,null,null,null,null,null,{"$f":"IF(E4448<>\"\",ROUND((VLOOKUP(E4448,Param!$A$7:$E$13,4,0)*Fonct_Empl!F4448*((Fonct_Empl!G4448/12)))+(VLOOKUP(E4448,Param!$A$7:$E$13,5,0)*Fonct_Empl!H4448),2),\"\")","v":""}]
[null,null,null,null,null,null,null,null,{"$f":"IF(E4449<>\"\",ROUND((VLOOKUP(E4449,Param!$A$7:$E$13,4,0)*Fonct_Empl!F4449*((Fonct_Empl!G4449/12)))+(VLOOKUP(E4449,Param!$A$7:$E$13,5,0)*Fonct_Empl!H4449),2),\"\")","v":""}]
[null,null,null,null,null,null,null,null,{"$f":"IF(E4450<>\"\",ROUND((VLOOKUP(E4450,Param!$A$7:$E$13,4,0)*Fonct_Empl!F4450*((Fonct_Empl!G4450/12)))+(VLOOKUP(E4450,Param!$A$7:$E$13,5,0)*Fonct_Empl!H4450),2),\"\")","v":""}]
[null,null,null,null,null,null,null,null,{"$f":"IF(E4451<>\"\",ROUND((VLOOKUP(E4451,Param!$A$7:$E$13,4,0)*Fonct_Empl!F4451*((Fonct_Empl!G4451/12)))+(VLOOKUP(E4451,Param!$A$7:$E$13,5,0)*Fonct_Empl!H4451),2),\"\")","v":""}]
[null,null,null,null,null,null,null,null,{"$f":"IF(E4452<>\"\",ROUND((VLOOKUP(E4452,Param!$A$7:$E$13,4,0)*Fonct_Empl!F4452*((Fonct_Empl!G4452/12)))+(VLOOKUP(E4452,Param!$A$7:$E$13,5,0)*Fonct_Empl!H4452),2),\"\")","v":""}]
[null,null,null,null,null,null,null,null,{"$f":"IF(E4453<>\"\",ROUND((VLOOKUP(E4453,Param!$A$7:$E$13,4,0)*Fonct_Empl!F4453*((Fonct_Empl!G4453/12)))+(VLOOKUP(E4453,Param!$A$7:$E$13,5,0)*Fonct_Empl!H4453),2),\"\")","v":""}]
[null,null,null,null,null,null,null,null,{"$f":"IF(E4454<>\"\",ROUND((VLOOKUP(E4454,Param!$A$7:$E$13,4,0)*Fonct_Empl!F4454*((Fonct_Empl!G4454/12)))+(VLOOKUP(E4454,Param!$A$7:$E$13,5,0)*Fonct_Empl!H4454),2),\"\")","v":""}]
[null,null,null,null,null,null,null,null,{"$f":"IF(E4455<>\"\",ROUND((VLOOKUP(E4455,Param!$A$7:$E$13,4,0)*Fonct_Empl!F4455*((Fonct_Empl!G4455/12)))+(VLOOKUP(E4455,Param!$A$7:$E$13,5,0)*Fonct_Empl!H4455),2),\"\")","v":""}]
[null,null,null,null,null,null,null,null,{"$f":"IF(E4456<>\"\",ROUND((VLOOKUP(E4456,Param!$A$7:$E$13,4,0)*Fonct_Empl!F4456*((Fonct_Empl!G4456/12)))+(VLOOKUP(E4456,Param!$A$7:$E$13,5,0)*Fonct_Empl!H4456),2),\"\")","v":""}]
[null,null,null,null,null,null,null,null,{"$f":"IF(E4457<>\"\",ROUND((VLOOKUP(E4457,Param!$A$7:$E$13,4,0)*Fonct_Empl!F4457*((Fonct_Empl!G4457/12)))+(VLOOKUP(E4457,Param!$A$7:$E$13,5,0)*Fonct_Empl!H4457),2),\"\")","v":""}]
[null,null,null,null,null,null,null,null,{"$f":"IF(E4458<>\"\",ROUND((VLOOKUP(E4458,Param!$A$7:$E$13,4,0)*Fonct_Empl!F4458*((Fonct_Empl!G4458/12)))+(VLOOKUP(E4458,Param!$A$7:$E$13,5,0)*Fonct_Empl!H4458),2),\"\")","v":""}]
[null,null,null,null,null,null,null,null,{"$f":"IF(E4459<>\"\",ROUND((VLOOKUP(E4459,Param!$A$7:$E$13,4,0)*Fonct_Empl!F4459*((Fonct_Empl!G4459/12)))+(VLOOKUP(E4459,Param!$A$7:$E$13,5,0)*Fonct_Empl!H4459),2),\"\")","v":""}]
[null,null,null,null,null,null,null,null,{"$f":"IF(E4460<>\"\",ROUND((VLOOKUP(E4460,Param!$A$7:$E$13,4,0)*Fonct_Empl!F4460*((Fonct_Empl!G4460/12)))+(VLOOKUP(E4460,Param!$A$7:$E$13,5,0)*Fonct_Empl!H4460),2),\"\")","v":""}]
[null,null,null,null,null,null,null,null,{"$f":"IF(E4461<>\"\",ROUND((VLOOKUP(E4461,Param!$A$7:$E$13,4,0)*Fonct_Empl!F4461*((Fonct_Empl!G4461/12)))+(VLOOKUP(E4461,Param!$A$7:$E$13,5,0)*Fonct_Empl!H4461),2),\"\")","v":""}]
[null,null,null,null,null,null,null,null,{"$f":"IF(E4462<>\"\",ROUND((VLOOKUP(E4462,Param!$A$7:$E$13,4,0)*Fonct_Empl!F4462*((Fonct_Empl!G4462/12)))+(VLOOKUP(E4462,Param!$A$7:$E$13,5,0)*Fonct_Empl!H4462),2),\"\")","v":""}]
[null,null,null,null,null,null,null,null,{"$f":"IF(E4463<>\"\",ROUND((VLOOKUP(E4463,Param!$A$7:$E$13,4,0)*Fonct_Empl!F4463*((Fonct_Empl!G4463/12)))+(VLOOKUP(E4463,Param!$A$7:$E$13,5,0)*Fonct_Empl!H4463),2),\"\")","v":""}]
[null,null,null,null,null,null,null,null,{"$f":"IF(E4464<>\"\",ROUND((VLOOKUP(E4464,Param!$A$7:$E$13,4,0)*Fonct_Empl!F4464*((Fonct_Empl!G4464/12)))+(VLOOKUP(E4464,Param!$A$7:$E$13,5,0)*Fonct_Empl!H4464),2),\"\")","v":""}]
[null,null,null,null,null,null,null,null,{"$f":"IF(E4465<>\"\",ROUND((VLOOKUP(E4465,Param!$A$7:$E$13,4,0)*Fonct_Empl!F4465*((Fonct_Empl!G4465/12)))+(VLOOKUP(E4465,Param!$A$7:$E$13,5,0)*Fonct_Empl!H4465),2),\"\")","v":""}]
[null,null,null,null,null,null,null,null,{"$f":"IF(E4466<>\"\",ROUND((VLOOKUP(E4466,Param!$A$7:$E$13,4,0)*Fonct_Empl!F4466*((Fonct_Empl!G4466/12)))+(VLOOKUP(E4466,Param!$A$7:$E$13,5,0)*Fonct_Empl!H4466),2),\"\")","v":""}]
[null,null,null,null,null,null,null,null,{"$f":"IF(E4467<>\"\",ROUND((VLOOKUP(E4467,Param!$A$7:$E$13,4,0)*Fonct_Empl!F4467*((Fonct_Empl!G4467/12)))+(VLOOKUP(E4467,Param!$A$7:$E$13,5,0)*Fonct_Empl!H4467),2),\"\")","v":""}]
[null,null,null,null,null,null,null,null,{"$f":"IF(E4468<>\"\",ROUND((VLOOKUP(E4468,Param!$A$7:$E$13,4,0)*Fonct_Empl!F4468*((Fonct_Empl!G4468/12)))+(VLOOKUP(E4468,Param!$A$7:$E$13,5,0)*Fonct_Empl!H4468),2),\"\")","v":""}]
[null,null,null,null,null,null,null,null,{"$f":"IF(E4469<>\"\",ROUND((VLOOKUP(E4469,Param!$A$7:$E$13,4,0)*Fonct_Empl!F4469*((Fonct_Empl!G4469/12)))+(VLOOKUP(E4469,Param!$A$7:$E$13,5,0)*Fonct_Empl!H4469),2),\"\")","v":""}]
[null,null,null,null,null,null,null,null,{"$f":"IF(E4470<>\"\",ROUND((VLOOKUP(E4470,Param!$A$7:$E$13,4,0)*Fonct_Empl!F4470*((Fonct_Empl!G4470/12)))+(VLOOKUP(E4470,Param!$A$7:$E$13,5,0)*Fonct_Empl!H4470),2),\"\")","v":""}]
[null,null,null,null,null,null,null,null,{"$f":"IF(E4471<>\"\",ROUND((VLOOKUP(E4471,Param!$A$7:$E$13,4,0)*Fonct_Empl!F4471*((Fonct_Empl!G4471/12)))+(VLOOKUP(E4471,Param!$A$7:$E$13,5,0)*Fonct_Empl!H4471),2),\"\")","v":""}]
[null,null,null,null,null,null,null,null,{"$f":"IF(E4472<>\"\",ROUND((VLOOKUP(E4472,Param!$A$7:$E$13,4,0)*Fonct_Empl!F4472*((Fonct_Empl!G4472/12)))+(VLOOKUP(E4472,Param!$A$7:$E$13,5,0)*Fonct_Empl!H4472),2),\"\")","v":""}]
[null,null,null,null,null,null,null,null,{"$f":"IF(E4473<>\"\",ROUND((VLOOKUP(E4473,Param!$A$7:$E$13,4,0)*Fonct_Empl!F4473*((Fonct_Empl!G4473/12)))+(VLOOKUP(E4473,Param!$A$7:$E$13,5,0)*Fonct_Empl!H4473),2),\"\")","v":""}]
[null,null,null,null,null,null,null,null,{"$f":"IF(E4474<>\"\",ROUND((VLOOKUP(E4474,Param!$A$7:$E$13,4,0)*Fonct_Empl!F4474*((Fonct_Empl!G4474/12)))+(VLOOKUP(E4474,Param!$A$7:$E$13,5,0)*Fonct_Empl!H4474),2),\"\")","v":""}]
[null,null,null,null,null,null,null,null,{"$f":"IF(E4475<>\"\",ROUND((VLOOKUP(E4475,Param!$A$7:$E$13,4,0)*Fonct_Empl!F4475*((Fonct_Empl!G4475/12)))+(VLOOKUP(E4475,Param!$A$7:$E$13,5,0)*Fonct_Empl!H4475),2),\"\")","v":""}]
[null,null,null,null,null,null,null,null,{"$f":"IF(E4476<>\"\",ROUND((VLOOKUP(E4476,Param!$A$7:$E$13,4,0)*Fonct_Empl!F4476*((Fonct_Empl!G4476/12)))+(VLOOKUP(E4476,Param!$A$7:$E$13,5,0)*Fonct_Empl!H4476),2),\"\")","v":""}]
[null,null,null,null,null,null,null,null,{"$f":"IF(E4477<>\"\",ROUND((VLOOKUP(E4477,Param!$A$7:$E$13,4,0)*Fonct_Empl!F4477*((Fonct_Empl!G4477/12)))+(VLOOKUP(E4477,Param!$A$7:$E$13,5,0)*Fonct_Empl!H4477),2),\"\")","v":""}]
[null,null,null,null,null,null,null,null,{"$f":"IF(E4478<>\"\",ROUND((VLOOKUP(E4478,Param!$A$7:$E$13,4,0)*Fonct_Empl!F4478*((Fonct_Empl!G4478/12)))+(VLOOKUP(E4478,Param!$A$7:$E$13,5,0)*Fonct_Empl!H4478),2),\"\")","v":""}]
[null,null,null,null,null,null,null,null,{"$f":"IF(E4479<>\"\",ROUND((VLOOKUP(E4479,Param!$A$7:$E$13,4,0)*Fonct_Empl!F4479*((Fonct_Empl!G4479/12)))+(VLOOKUP(E4479,Param!$A$7:$E$13,5,0)*Fonct_Empl!H4479),2),\"\")","v":""}]
[null,null,null,null,null,null,null,null,{"$f":"IF(E4480<>\"\",ROUND((VLOOKUP(E4480,Param!$A$7:$E$13,4,0)*Fonct_Empl!F4480*((Fonct_Empl!G4480/12)))+(VLOOKUP(E4480,Param!$A$7:$E$13,5,0)*Fonct_Empl!H4480),2),\"\")","v":""}]
[null,null,null,null,null,null,null,null,{"$f":"IF(E4481<>\"\",ROUND((VLOOKUP(E4481,Param!$A$7:$E$13,4,0)*Fonct_Empl!F4481*((Fonct_Empl!G4481/12)))+(VLOOKUP(E4481,Param!$A$7:$E$13,5,0)*Fonct_Empl!H4481),2),\"\")","v":""}]
[null,null,null,null,null,null,null,null,{"$f":"IF(E4482<>\"\",ROUND((VLOOKUP(E4482,Param!$A$7:$E$13,4,0)*Fonct_Empl!F4482*((Fonct_Empl!G4482/12)))+(VLOOKUP(E4482,Param!$A$7:$E$13,5,0)*Fonct_Empl!H4482),2),\"\")","v":""}]
[null,null,null,null,null,null,null,null,{"$f":"IF(E4483<>\"\",ROUND((VLOOKUP(E4483,Param!$A$7:$E$13,4,0)*Fonct_Empl!F4483*((Fonct_Empl!G4483/12)))+(VLOOKUP(E4483,Param!$A$7:$E$13,5,0)*Fonct_Empl!H4483),2),\"\")","v":""}]
[null,null,null,null,null,null,null,null,{"$f":"IF(E4484<>\"\",ROUND((VLOOKUP(E4484,Param!$A$7:$E$13,4,0)*Fonct_Empl!F4484*((Fonct_Empl!G4484/12)))+(VLOOKUP(E4484,Param!$A$7:$E$13,5,0)*Fonct_Empl!H4484),2),\"\")","v":""}]
[null,null,null,null,null,null,null,null,{"$f":"IF(E4485<>\"\",ROUND((VLOOKUP(E4485,Param!$A$7:$E$13,4,0)*Fonct_Empl!F4485*((Fonct_Empl!G4485/12)))+(VLOOKUP(E4485,Param!$A$7:$E$13,5,0)*Fonct_Empl!H4485),2),\"\")","v":""}]
[null,null,null,null,null,null,null,null,{"$f":"IF(E4486<>\"\",ROUND((VLOOKUP(E4486,Param!$A$7:$E$13,4,0)*Fonct_Empl!F4486*((Fonct_Empl!G4486/12)))+(VLOOKUP(E4486,Param!$A$7:$E$13,5,0)*Fonct_Empl!H4486),2),\"\")","v":""}]
[null,null,null,null,null,null,null,null,{"$f":"IF(E4487<>\"\",ROUND((VLOOKUP(E4487,Param!$A$7:$E$13,4,0)*Fonct_Empl!F4487*((Fonct_Empl!G4487/12)))+(VLOOKUP(E4487,Param!$A$7:$E$13,5,0)*Fonct_Empl!H4487),2),\"\")","v":""}]
[null,null,null,null,null,null,null,null,{"$f":"IF(E4488<>\"\",ROUND((VLOOKUP(E4488,Param!$A$7:$E$13,4,0)*Fonct_Empl!F4488*((Fonct_Empl!G4488/12)))+(VLOOKUP(E4488,Param!$A$7:$E$13,5,0)*Fonct_Empl!H4488),2),\"\")","v":""}]
[null,null,null,null,null,null,null,null,{"$f":"IF(E4489<>\"\",ROUND((VLOOKUP(E4489,Param!$A$7:$E$13,4,0)*Fonct_Empl!F4489*((Fonct_Empl!G4489/12)))+(VLOOKUP(E4489,Param!$A$7:$E$13,5,0)*Fonct_Empl!H4489),2),\"\")","v":""}]
[null,null,null,null,null,null,null,null,{"$f":"IF(E4490<>\"\",ROUND((VLOOKUP(E4490,Param!$A$7:$E$13,4,0)*Fonct_Empl!F4490*((Fonct_Empl!G4490/12)))+(VLOOKUP(E4490,Param!$A$7:$E$13,5,0)*Fonct_Empl!H4490),2),\"\")","v":""}]
[null,null,null,null,null,null,null,null,{"$f":"IF(E4491<>\"\",ROUND((VLOOKUP(E4491,Param!$A$7:$E$13,4,0)*Fonct_Empl!F4491*((Fonct_Empl!G4491/12)))+(VLOOKUP(E4491,Param!$A$7:$E$13,5,0)*Fonct_Empl!H4491),2),\"\")","v":""}]
[null,null,null,null,null,null,null,null,{"$f":"IF(E4492<>\"\",ROUND((VLOOKUP(E4492,Param!$A$7:$E$13,4,0)*Fonct_Empl!F4492*((Fonct_Empl!G4492/12)))+(VLOOKUP(E4492,Param!$A$7:$E$13,5,0)*Fonct_Empl!H4492),2),\"\")","v":""}]
[null,null,null,null,null,null,null,null,{"$f":"IF(E4493<>\"\",ROUND((VLOOKUP(E4493,Param!$A$7:$E$13,4,0)*Fonct_Empl!F4493*((Fonct_Empl!G4493/12)))+(VLOOKUP(E4493,Param!$A$7:$E$13,5,0)*Fonct_Empl!H4493),2),\"\")","v":""}]
[null,null,null,null,null,null,null,null,{"$f":"IF(E4494<>\"\",ROUND((VLOOKUP(E4494,Param!$A$7:$E$13,4,0)*Fonct_Empl!F4494*((Fonct_Empl!G4494/12)))+(VLOOKUP(E4494,Param!$A$7:$E$13,5,0)*Fonct_Empl!H4494),2),\"\")","v":""}]
[null,null,null,null,null,null,null,null,{"$f":"IF(E4495<>\"\",ROUND((VLOOKUP(E4495,Param!$A$7:$E$13,4,0)*Fonct_Empl!F4495*((Fonct_Empl!G4495/12)))+(VLOOKUP(E4495,Param!$A$7:$E$13,5,0)*Fonct_Empl!H4495),2),\"\")","v":""}]
[null,null,null,null,null,null,null,null,{"$f":"IF(E4496<>\"\",ROUND((VLOOKUP(E4496,Param!$A$7:$E$13,4,0)*Fonct_Empl!F4496*((Fonct_Empl!G4496/12)))+(VLOOKUP(E4496,Param!$A$7:$E$13,5,0)*Fonct_Empl!H4496),2),\"\")","v":""}]
[null,null,null,null,null,null,null,null,{"$f":"IF(E4497<>\"\",ROUND((VLOOKUP(E4497,Param!$A$7:$E$13,4,0)*Fonct_Empl!F4497*((Fonct_Empl!G4497/12)))+(VLOOKUP(E4497,Param!$A$7:$E$13,5,0)*Fonct_Empl!H4497),2),\"\")","v":""}]
[null,null,null,null,null,null,null,null,{"$f":"IF(E4498<>\"\",ROUND((VLOOKUP(E4498,Param!$A$7:$E$13,4,0)*Fonct_Empl!F4498*((Fonct_Empl!G4498/12)))+(VLOOKUP(E4498,Param!$A$7:$E$13,5,0)*Fonct_Empl!H4498),2),\"\")","v":""}]
[null,null,null,null,null,null,null,null,{"$f":"IF(E4499<>\"\",ROUND((VLOOKUP(E4499,Param!$A$7:$E$13,4,0)*Fonct_Empl!F4499*((Fonct_Empl!G4499/12)))+(VLOOKUP(E4499,Param!$A$7:$E$13,5,0)*Fonct_Empl!H4499),2),\"\")","v":""}]
[null,null,null,null,null,null,null,null,{"$f":"IF(E4500<>\"\",ROUND((VLOOKUP(E4500,Param!$A$7:$E$13,4,0)*Fonct_Empl!F4500*((Fonct_Empl!G4500/12)))+(VLOOKUP(E4500,Param!$A$7:$E$13,5,0)*Fonct_Empl!H4500),2),\"\")","v":""}]
[null,null,null,null,null,null,null,null,{"$f":"IF(E4501<>\"\",ROUND((VLOOKUP(E4501,Param!$A$7:$E$13,4,0)*Fonct_Empl!F4501*((Fonct_Empl!G4501/12)))+(VLOOKUP(E4501,Param!$A$7:$E$13,5,0)*Fonct_Empl!H4501),2),\"\")","v":""}]
[null,null,null,null,null,null,null,null,{"$f":"IF(E4502<>\"\",ROUND((VLOOKUP(E4502,Param!$A$7:$E$13,4,0)*Fonct_Empl!F4502*((Fonct_Empl!G4502/12)))+(VLOOKUP(E4502,Param!$A$7:$E$13,5,0)*Fonct_Empl!H4502),2),\"\")","v":""}]
[null,null,null,null,null,null,null,null,{"$f":"IF(E4503<>\"\",ROUND((VLOOKUP(E4503,Param!$A$7:$E$13,4,0)*Fonct_Empl!F4503*((Fonct_Empl!G4503/12)))+(VLOOKUP(E4503,Param!$A$7:$E$13,5,0)*Fonct_Empl!H4503),2),\"\")","v":""}]
[null,null,null,null,null,null,null,null,{"$f":"IF(E4504<>\"\",ROUND((VLOOKUP(E4504,Param!$A$7:$E$13,4,0)*Fonct_Empl!F4504*((Fonct_Empl!G4504/12)))+(VLOOKUP(E4504,Param!$A$7:$E$13,5,0)*Fonct_Empl!H4504),2),\"\")","v":""}]
[null,null,null,null,null,null,null,null,{"$f":"IF(E4505<>\"\",ROUND((VLOOKUP(E4505,Param!$A$7:$E$13,4,0)*Fonct_Empl!F4505*((Fonct_Empl!G4505/12)))+(VLOOKUP(E4505,Param!$A$7:$E$13,5,0)*Fonct_Empl!H4505),2),\"\")","v":""}]
[null,null,null,null,null,null,null,null,{"$f":"IF(E4506<>\"\",ROUND((VLOOKUP(E4506,Param!$A$7:$E$13,4,0)*Fonct_Empl!F4506*((Fonct_Empl!G4506/12)))+(VLOOKUP(E4506,Param!$A$7:$E$13,5,0)*Fonct_Empl!H4506),2),\"\")","v":""}]
[null,null,null,null,null,null,null,null,{"$f":"IF(E4507<>\"\",ROUND((VLOOKUP(E4507,Param!$A$7:$E$13,4,0)*Fonct_Empl!F4507*((Fonct_Empl!G4507/12)))+(VLOOKUP(E4507,Param!$A$7:$E$13,5,0)*Fonct_Empl!H4507),2),\"\")","v":""}]
[null,null,null,null,null,null,null,null,{"$f":"IF(E4508<>\"\",ROUND((VLOOKUP(E4508,Param!$A$7:$E$13,4,0)*Fonct_Empl!F4508*((Fonct_Empl!G4508/12)))+(VLOOKUP(E4508,Param!$A$7:$E$13,5,0)*Fonct_Empl!H4508),2),\"\")","v":""}]
[null,null,null,null,null,null,null,null,{"$f":"IF(E4509<>\"\",ROUND((VLOOKUP(E4509,Param!$A$7:$E$13,4,0)*Fonct_Empl!F4509*((Fonct_Empl!G4509/12)))+(VLOOKUP(E4509,Param!$A$7:$E$13,5,0)*Fonct_Empl!H4509),2),\"\")","v":""}]
[null,null,null,null,null,null,null,null,{"$f":"IF(E4510<>\"\",ROUND((VLOOKUP(E4510,Param!$A$7:$E$13,4,0)*Fonct_Empl!F4510*((Fonct_Empl!G4510/12)))+(VLOOKUP(E4510,Param!$A$7:$E$13,5,0)*Fonct_Empl!H4510),2),\"\")","v":""}]
[null,null,null,null,null,null,null,null,{"$f":"IF(E4511<>\"\",ROUND((VLOOKUP(E4511,Param!$A$7:$E$13,4,0)*Fonct_Empl!F4511*((Fonct_Empl!G4511/12)))+(VLOOKUP(E4511,Param!$A$7:$E$13,5,0)*Fonct_Empl!H4511),2),\"\")","v":""}]
[null,null,null,null,null,null,null,null,{"$f":"IF(E4512<>\"\",ROUND((VLOOKUP(E4512,Param!$A$7:$E$13,4,0)*Fonct_Empl!F4512*((Fonct_Empl!G4512/12)))+(VLOOKUP(E4512,Param!$A$7:$E$13,5,0)*Fonct_Empl!H4512),2),\"\")","v":""}]
[null,null,null,null,null,null,null,null,{"$f":"IF(E4513<>\"\",ROUND((VLOOKUP(E4513,Param!$A$7:$E$13,4,0)*Fonct_Empl!F4513*((Fonct_Empl!G4513/12)))+(VLOOKUP(E4513,Param!$A$7:$E$13,5,0)*Fonct_Empl!H4513),2),\"\")","v":""}]
[null,null,null,null,null,null,null,null,{"$f":"IF(E4514<>\"\",ROUND((VLOOKUP(E4514,Param!$A$7:$E$13,4,0)*Fonct_Empl!F4514*((Fonct_Empl!G4514/12)))+(VLOOKUP(E4514,Param!$A$7:$E$13,5,0)*Fonct_Empl!H4514),2),\"\")","v":""}]
[null,null,null,null,null,null,null,null,{"$f":"IF(E4515<>\"\",ROUND((VLOOKUP(E4515,Param!$A$7:$E$13,4,0)*Fonct_Empl!F4515*((Fonct_Empl!G4515/12)))+(VLOOKUP(E4515,Param!$A$7:$E$13,5,0)*Fonct_Empl!H4515),2),\"\")","v":""}]
[null,null,null,null,null,null,null,null,{"$f":"IF(E4516<>\"\",ROUND((VLOOKUP(E4516,Param!$A$7:$E$13,4,0)*Fonct_Empl!F4516*((Fonct_Empl!G4516/12)))+(VLOOKUP(E4516,Param!$A$7:$E$13,5,0)*Fonct_Empl!H4516),2),\"\")","v":""}]
[null,null,null,null,null,null,null,null,{"$f":"IF(E4517<>\"\",ROUND((VLOOKUP(E4517,Param!$A$7:$E$13,4,0)*Fonct_Empl!F4517*((Fonct_Empl!G4517/12)))+(VLOOKUP(E4517,Param!$A$7:$E$13,5,0)*Fonct_Empl!H4517),2),\"\")","v":""}]
[null,null,null,null,null,null,null,null,{"$f":"IF(E4518<>\"\",ROUND((VLOOKUP(E4518,Param!$A$7:$E$13,4,0)*Fonct_Empl!F4518*((Fonct_Empl!G4518/12)))+(VLOOKUP(E4518,Param!$A$7:$E$13,5,0)*Fonct_Empl!H4518),2),\"\")","v":""}]
[null,null,null,null,null,null,null,null,{"$f":"IF(E4519<>\"\",ROUND((VLOOKUP(E4519,Param!$A$7:$E$13,4,0)*Fonct_Empl!F4519*((Fonct_Empl!G4519/12)))+(VLOOKUP(E4519,Param!$A$7:$E$13,5,0)*Fonct_Empl!H4519),2),\"\")","v":""}]
[null,null,null,null,null,null,null,null,{"$f":"IF(E4520<>\"\",ROUND((VLOOKUP(E4520,Param!$A$7:$E$13,4,0)*Fonct_Empl!F4520*((Fonct_Empl!G4520/12)))+(VLOOKUP(E4520,Param!$A$7:$E$13,5,0)*Fonct_Empl!H4520),2),\"\")","v":""}]
[null,null,null,null,null,null,null,null,{"$f":"IF(E4521<>\"\",ROUND((VLOOKUP(E4521,Param!$A$7:$E$13,4,0)*Fonct_Empl!F4521*((Fonct_Empl!G4521/12)))+(VLOOKUP(E4521,Param!$A$7:$E$13,5,0)*Fonct_Empl!H4521),2),\"\")","v":""}]
[null,null,null,null,null,null,null,null,{"$f":"IF(E4522<>\"\",ROUND((VLOOKUP(E4522,Param!$A$7:$E$13,4,0)*Fonct_Empl!F4522*((Fonct_Empl!G4522/12)))+(VLOOKUP(E4522,Param!$A$7:$E$13,5,0)*Fonct_Empl!H4522),2),\"\")","v":""}]
[null,null,null,null,null,null,null,null,{"$f":"IF(E4523<>\"\",ROUND((VLOOKUP(E4523,Param!$A$7:$E$13,4,0)*Fonct_Empl!F4523*((Fonct_Empl!G4523/12)))+(VLOOKUP(E4523,Param!$A$7:$E$13,5,0)*Fonct_Empl!H4523),2),\"\")","v":""}]
[null,null,null,null,null,null,null,null,{"$f":"IF(E4524<>\"\",ROUND((VLOOKUP(E4524,Param!$A$7:$E$13,4,0)*Fonct_Empl!F4524*((Fonct_Empl!G4524/12)))+(VLOOKUP(E4524,Param!$A$7:$E$13,5,0)*Fonct_Empl!H4524),2),\"\")","v":""}]
[null,null,null,null,null,null,null,null,{"$f":"IF(E4525<>\"\",ROUND((VLOOKUP(E4525,Param!$A$7:$E$13,4,0)*Fonct_Empl!F4525*((Fonct_Empl!G4525/12)))+(VLOOKUP(E4525,Param!$A$7:$E$13,5,0)*Fonct_Empl!H4525),2),\"\")","v":""}]
[null,null,null,null,null,null,null,null,{"$f":"IF(E4526<>\"\",ROUND((VLOOKUP(E4526,Param!$A$7:$E$13,4,0)*Fonct_Empl!F4526*((Fonct_Empl!G4526/12)))+(VLOOKUP(E4526,Param!$A$7:$E$13,5,0)*Fonct_Empl!H4526),2),\"\")","v":""}]
[null,null,null,null,null,null,null,null,{"$f":"IF(E4527<>\"\",ROUND((VLOOKUP(E4527,Param!$A$7:$E$13,4,0)*Fonct_Empl!F4527*((Fonct_Empl!G4527/12)))+(VLOOKUP(E4527,Param!$A$7:$E$13,5,0)*Fonct_Empl!H4527),2),\"\")","v":""}]
[null,null,null,null,null,null,null,null,{"$f":"IF(E4528<>\"\",ROUND((VLOOKUP(E4528,Param!$A$7:$E$13,4,0)*Fonct_Empl!F4528*((Fonct_Empl!G4528/12)))+(VLOOKUP(E4528,Param!$A$7:$E$13,5,0)*Fonct_Empl!H4528),2),\"\")","v":""}]
[null,null,null,null,null,null,null,null,{"$f":"IF(E4529<>\"\",ROUND((VLOOKUP(E4529,Param!$A$7:$E$13,4,0)*Fonct_Empl!F4529*((Fonct_Empl!G4529/12)))+(VLOOKUP(E4529,Param!$A$7:$E$13,5,0)*Fonct_Empl!H4529),2),\"\")","v":""}]
[null,null,null,null,null,null,null,null,{"$f":"IF(E4530<>\"\",ROUND((VLOOKUP(E4530,Param!$A$7:$E$13,4,0)*Fonct_Empl!F4530*((Fonct_Empl!G4530/12)))+(VLOOKUP(E4530,Param!$A$7:$E$13,5,0)*Fonct_Empl!H4530),2),\"\")","v":""}]
[null,null,null,null,null,null,null,null,{"$f":"IF(E4531<>\"\",ROUND((VLOOKUP(E4531,Param!$A$7:$E$13,4,0)*Fonct_Empl!F4531*((Fonct_Empl!G4531/12)))+(VLOOKUP(E4531,Param!$A$7:$E$13,5,0)*Fonct_Empl!H4531),2),\"\")","v":""}]
[null,null,null,null,null,null,null,null,{"$f":"IF(E4532<>\"\",ROUND((VLOOKUP(E4532,Param!$A$7:$E$13,4,0)*Fonct_Empl!F4532*((Fonct_Empl!G4532/12)))+(VLOOKUP(E4532,Param!$A$7:$E$13,5,0)*Fonct_Empl!H4532),2),\"\")","v":""}]
[null,null,null,null,null,null,null,null,{"$f":"IF(E4533<>\"\",ROUND((VLOOKUP(E4533,Param!$A$7:$E$13,4,0)*Fonct_Empl!F4533*((Fonct_Empl!G4533/12)))+(VLOOKUP(E4533,Param!$A$7:$E$13,5,0)*Fonct_Empl!H4533),2),\"\")","v":""}]
[null,null,null,null,null,null,null,null,{"$f":"IF(E4534<>\"\",ROUND((VLOOKUP(E4534,Param!$A$7:$E$13,4,0)*Fonct_Empl!F4534*((Fonct_Empl!G4534/12)))+(VLOOKUP(E4534,Param!$A$7:$E$13,5,0)*Fonct_Empl!H4534),2),\"\")","v":""}]
[null,null,null,null,null,null,null,null,{"$f":"IF(E4535<>\"\",ROUND((VLOOKUP(E4535,Param!$A$7:$E$13,4,0)*Fonct_Empl!F4535*((Fonct_Empl!G4535/12)))+(VLOOKUP(E4535,Param!$A$7:$E$13,5,0)*Fonct_Empl!H4535),2),\"\")","v":""}]
[null,null,null,null,null,null,null,null,{"$f":"IF(E4536<>\"\",ROUND((VLOOKUP(E4536,Param!$A$7:$E$13,4,0)*Fonct_Empl!F4536*((Fonct_Empl!G4536/12)))+(VLOOKUP(E4536,Param!$A$7:$E$13,5,0)*Fonct_Empl!H4536),2),\"\")","v":""}]
[null,null,null,null,null,null,null,null,{"$f":"IF(E4537<>\"\",ROUND((VLOOKUP(E4537,Param!$A$7:$E$13,4,0)*Fonct_Empl!F4537*((Fonct_Empl!G4537/12)))+(VLOOKUP(E4537,Param!$A$7:$E$13,5,0)*Fonct_Empl!H4537),2),\"\")","v":""}]
[null,null,null,null,null,null,null,null,{"$f":"IF(E4538<>\"\",ROUND((VLOOKUP(E4538,Param!$A$7:$E$13,4,0)*Fonct_Empl!F4538*((Fonct_Empl!G4538/12)))+(VLOOKUP(E4538,Param!$A$7:$E$13,5,0)*Fonct_Empl!H4538),2),\"\")","v":""}]
[null,null,null,null,null,null,null,null,{"$f":"IF(E4539<>\"\",ROUND((VLOOKUP(E4539,Param!$A$7:$E$13,4,0)*Fonct_Empl!F4539*((Fonct_Empl!G4539/12)))+(VLOOKUP(E4539,Param!$A$7:$E$13,5,0)*Fonct_Empl!H4539),2),\"\")","v":""}]
[null,null,null,null,null,null,null,null,{"$f":"IF(E4540<>\"\",ROUND((VLOOKUP(E4540,Param!$A$7:$E$13,4,0)*Fonct_Empl!F4540*((Fonct_Empl!G4540/12)))+(VLOOKUP(E4540,Param!$A$7:$E$13,5,0)*Fonct_Empl!H4540),2),\"\")","v":""}]
[null,null,null,null,null,null,null,null,{"$f":"IF(E4541<>\"\",ROUND((VLOOKUP(E4541,Param!$A$7:$E$13,4,0)*Fonct_Empl!F4541*((Fonct_Empl!G4541/12)))+(VLOOKUP(E4541,Param!$A$7:$E$13,5,0)*Fonct_Empl!H4541),2),\"\")","v":""}]
[null,null,null,null,null,null,null,null,{"$f":"IF(E4542<>\"\",ROUND((VLOOKUP(E4542,Param!$A$7:$E$13,4,0)*Fonct_Empl!F4542*((Fonct_Empl!G4542/12)))+(VLOOKUP(E4542,Param!$A$7:$E$13,5,0)*Fonct_Empl!H4542),2),\"\")","v":""}]
[null,null,null,null,null,null,null,null,{"$f":"IF(E4543<>\"\",ROUND((VLOOKUP(E4543,Param!$A$7:$E$13,4,0)*Fonct_Empl!F4543*((Fonct_Empl!G4543/12)))+(VLOOKUP(E4543,Param!$A$7:$E$13,5,0)*Fonct_Empl!H4543),2),\"\")","v":""}]
[null,null,null,null,null,null,null,null,{"$f":"IF(E4544<>\"\",ROUND((VLOOKUP(E4544,Param!$A$7:$E$13,4,0)*Fonct_Empl!F4544*((Fonct_Empl!G4544/12)))+(VLOOKUP(E4544,Param!$A$7:$E$13,5,0)*Fonct_Empl!H4544),2),\"\")","v":""}]
[null,null,null,null,null,null,null,null,{"$f":"IF(E4545<>\"\",ROUND((VLOOKUP(E4545,Param!$A$7:$E$13,4,0)*Fonct_Empl!F4545*((Fonct_Empl!G4545/12)))+(VLOOKUP(E4545,Param!$A$7:$E$13,5,0)*Fonct_Empl!H4545),2),\"\")","v":""}]
[null,null,null,null,null,null,null,null,{"$f":"IF(E4546<>\"\",ROUND((VLOOKUP(E4546,Param!$A$7:$E$13,4,0)*Fonct_Empl!F4546*((Fonct_Empl!G4546/12)))+(VLOOKUP(E4546,Param!$A$7:$E$13,5,0)*Fonct_Empl!H4546),2),\"\")","v":""}]
[null,null,null,null,null,null,null,null,{"$f":"IF(E4547<>\"\",ROUND((VLOOKUP(E4547,Param!$A$7:$E$13,4,0)*Fonct_Empl!F4547*((Fonct_Empl!G4547/12)))+(VLOOKUP(E4547,Param!$A$7:$E$13,5,0)*Fonct_Empl!H4547),2),\"\")","v":""}]
[null,null,null,null,null,null,null,null,{"$f":"IF(E4548<>\"\",ROUND((VLOOKUP(E4548,Param!$A$7:$E$13,4,0)*Fonct_Empl!F4548*((Fonct_Empl!G4548/12)))+(VLOOKUP(E4548,Param!$A$7:$E$13,5,0)*Fonct_Empl!H4548),2),\"\")","v":""}]
[null,null,null,null,null,null,null,null,{"$f":"IF(E4549<>\"\",ROUND((VLOOKUP(E4549,Param!$A$7:$E$13,4,0)*Fonct_Empl!F4549*((Fonct_Empl!G4549/12)))+(VLOOKUP(E4549,Param!$A$7:$E$13,5,0)*Fonct_Empl!H4549),2),\"\")","v":""}]
[null,null,null,null,null,null,null,null,{"$f":"IF(E4550<>\"\",ROUND((VLOOKUP(E4550,Param!$A$7:$E$13,4,0)*Fonct_Empl!F4550*((Fonct_Empl!G4550/12)))+(VLOOKUP(E4550,Param!$A$7:$E$13,5,0)*Fonct_Empl!H4550),2),\"\")","v":""}]
[null,null,null,null,null,null,null,null,{"$f":"IF(E4551<>\"\",ROUND((VLOOKUP(E4551,Param!$A$7:$E$13,4,0)*Fonct_Empl!F4551*((Fonct_Empl!G4551/12)))+(VLOOKUP(E4551,Param!$A$7:$E$13,5,0)*Fonct_Empl!H4551),2),\"\")","v":""}]
[null,null,null,null,null,null,null,null,{"$f":"IF(E4552<>\"\",ROUND((VLOOKUP(E4552,Param!$A$7:$E$13,4,0)*Fonct_Empl!F4552*((Fonct_Empl!G4552/12)))+(VLOOKUP(E4552,Param!$A$7:$E$13,5,0)*Fonct_Empl!H4552),2),\"\")","v":""}]
[null,null,null,null,null,null,null,null,{"$f":"IF(E4553<>\"\",ROUND((VLOOKUP(E4553,Param!$A$7:$E$13,4,0)*Fonct_Empl!F4553*((Fonct_Empl!G4553/12)))+(VLOOKUP(E4553,Param!$A$7:$E$13,5,0)*Fonct_Empl!H4553),2),\"\")","v":""}]
[null,null,null,null,null,null,null,null,{"$f":"IF(E4554<>\"\",ROUND((VLOOKUP(E4554,Param!$A$7:$E$13,4,0)*Fonct_Empl!F4554*((Fonct_Empl!G4554/12)))+(VLOOKUP(E4554,Param!$A$7:$E$13,5,0)*Fonct_Empl!H4554),2),\"\")","v":""}]
[null,null,null,null,null,null,null,null,{"$f":"IF(E4555<>\"\",ROUND((VLOOKUP(E4555,Param!$A$7:$E$13,4,0)*Fonct_Empl!F4555*((Fonct_Empl!G4555/12)))+(VLOOKUP(E4555,Param!$A$7:$E$13,5,0)*Fonct_Empl!H4555),2),\"\")","v":""}]
[null,null,null,null,null,null,null,null,{"$f":"IF(E4556<>\"\",ROUND((VLOOKUP(E4556,Param!$A$7:$E$13,4,0)*Fonct_Empl!F4556*((Fonct_Empl!G4556/12)))+(VLOOKUP(E4556,Param!$A$7:$E$13,5,0)*Fonct_Empl!H4556),2),\"\")","v":""}]
[null,null,null,null,null,null,null,null,{"$f":"IF(E4557<>\"\",ROUND((VLOOKUP(E4557,Param!$A$7:$E$13,4,0)*Fonct_Empl!F4557*((Fonct_Empl!G4557/12)))+(VLOOKUP(E4557,Param!$A$7:$E$13,5,0)*Fonct_Empl!H4557),2),\"\")","v":""}]
[null,null,null,null,null,null,null,null,{"$f":"IF(E4558<>\"\",ROUND((VLOOKUP(E4558,Param!$A$7:$E$13,4,0)*Fonct_Empl!F4558*((Fonct_Empl!G4558/12)))+(VLOOKUP(E4558,Param!$A$7:$E$13,5,0)*Fonct_Empl!H4558),2),\"\")","v":""}]
[null,null,null,null,null,null,null,null,{"$f":"IF(E4559<>\"\",ROUND((VLOOKUP(E4559,Param!$A$7:$E$13,4,0)*Fonct_Empl!F4559*((Fonct_Empl!G4559/12)))+(VLOOKUP(E4559,Param!$A$7:$E$13,5,0)*Fonct_Empl!H4559),2),\"\")","v":""}]
[null,null,null,null,null,null,null,null,{"$f":"IF(E4560<>\"\",ROUND((VLOOKUP(E4560,Param!$A$7:$E$13,4,0)*Fonct_Empl!F4560*((Fonct_Empl!G4560/12)))+(VLOOKUP(E4560,Param!$A$7:$E$13,5,0)*Fonct_Empl!H4560),2),\"\")","v":""}]
[null,null,null,null,null,null,null,null,{"$f":"IF(E4561<>\"\",ROUND((VLOOKUP(E4561,Param!$A$7:$E$13,4,0)*Fonct_Empl!F4561*((Fonct_Empl!G4561/12)))+(VLOOKUP(E4561,Param!$A$7:$E$13,5,0)*Fonct_Empl!H4561),2),\"\")","v":""}]
[null,null,null,null,null,null,null,null,{"$f":"IF(E4562<>\"\",ROUND((VLOOKUP(E4562,Param!$A$7:$E$13,4,0)*Fonct_Empl!F4562*((Fonct_Empl!G4562/12)))+(VLOOKUP(E4562,Param!$A$7:$E$13,5,0)*Fonct_Empl!H4562),2),\"\")","v":""}]
[null,null,null,null,null,null,null,null,{"$f":"IF(E4563<>\"\",ROUND((VLOOKUP(E4563,Param!$A$7:$E$13,4,0)*Fonct_Empl!F4563*((Fonct_Empl!G4563/12)))+(VLOOKUP(E4563,Param!$A$7:$E$13,5,0)*Fonct_Empl!H4563),2),\"\")","v":""}]
[null,null,null,null,null,null,null,null,{"$f":"IF(E4564<>\"\",ROUND((VLOOKUP(E4564,Param!$A$7:$E$13,4,0)*Fonct_Empl!F4564*((Fonct_Empl!G4564/12)))+(VLOOKUP(E4564,Param!$A$7:$E$13,5,0)*Fonct_Empl!H4564),2),\"\")","v":""}]
[null,null,null,null,null,null,null,null,{"$f":"IF(E4565<>\"\",ROUND((VLOOKUP(E4565,Param!$A$7:$E$13,4,0)*Fonct_Empl!F4565*((Fonct_Empl!G4565/12)))+(VLOOKUP(E4565,Param!$A$7:$E$13,5,0)*Fonct_Empl!H4565),2),\"\")","v":""}]
[null,null,null,null,null,null,null,null,{"$f":"IF(E4566<>\"\",ROUND((VLOOKUP(E4566,Param!$A$7:$E$13,4,0)*Fonct_Empl!F4566*((Fonct_Empl!G4566/12)))+(VLOOKUP(E4566,Param!$A$7:$E$13,5,0)*Fonct_Empl!H4566),2),\"\")","v":""}]
[null,null,null,null,null,null,null,null,{"$f":"IF(E4567<>\"\",ROUND((VLOOKUP(E4567,Param!$A$7:$E$13,4,0)*Fonct_Empl!F4567*((Fonct_Empl!G4567/12)))+(VLOOKUP(E4567,Param!$A$7:$E$13,5,0)*Fonct_Empl!H4567),2),\"\")","v":""}]
[null,null,null,null,null,null,null,null,{"$f":"IF(E4568<>\"\",ROUND((VLOOKUP(E4568,Param!$A$7:$E$13,4,0)*Fonct_Empl!F4568*((Fonct_Empl!G4568/12)))+(VLOOKUP(E4568,Param!$A$7:$E$13,5,0)*Fonct_Empl!H4568),2),\"\")","v":""}]
[null,null,null,null,null,null,null,null,{"$f":"IF(E4569<>\"\",ROUND((VLOOKUP(E4569,Param!$A$7:$E$13,4,0)*Fonct_Empl!F4569*((Fonct_Empl!G4569/12)))+(VLOOKUP(E4569,Param!$A$7:$E$13,5,0)*Fonct_Empl!H4569),2),\"\")","v":""}]
[null,null,null,null,null,null,null,null,{"$f":"IF(E4570<>\"\",ROUND((VLOOKUP(E4570,Param!$A$7:$E$13,4,0)*Fonct_Empl!F4570*((Fonct_Empl!G4570/12)))+(VLOOKUP(E4570,Param!$A$7:$E$13,5,0)*Fonct_Empl!H4570),2),\"\")","v":""}]
[null,null,null,null,null,null,null,null,{"$f":"IF(E4571<>\"\",ROUND((VLOOKUP(E4571,Param!$A$7:$E$13,4,0)*Fonct_Empl!F4571*((Fonct_Empl!G4571/12)))+(VLOOKUP(E4571,Param!$A$7:$E$13,5,0)*Fonct_Empl!H4571),2),\"\")","v":""}]
[null,null,null,null,null,null,null,null,{"$f":"IF(E4572<>\"\",ROUND((VLOOKUP(E4572,Param!$A$7:$E$13,4,0)*Fonct_Empl!F4572*((Fonct_Empl!G4572/12)))+(VLOOKUP(E4572,Param!$A$7:$E$13,5,0)*Fonct_Empl!H4572),2),\"\")","v":""}]
[null,null,null,null,null,null,null,null,{"$f":"IF(E4573<>\"\",ROUND((VLOOKUP(E4573,Param!$A$7:$E$13,4,0)*Fonct_Empl!F4573*((Fonct_Empl!G4573/12)))+(VLOOKUP(E4573,Param!$A$7:$E$13,5,0)*Fonct_Empl!H4573),2),\"\")","v":""}]
[null,null,null,null,null,null,null,null,{"$f":"IF(E4574<>\"\",ROUND((VLOOKUP(E4574,Param!$A$7:$E$13,4,0)*Fonct_Empl!F4574*((Fonct_Empl!G4574/12)))+(VLOOKUP(E4574,Param!$A$7:$E$13,5,0)*Fonct_Empl!H4574),2),\"\")","v":""}]
[null,null,null,null,null,null,null,null,{"$f":"IF(E4575<>\"\",ROUND((VLOOKUP(E4575,Param!$A$7:$E$13,4,0)*Fonct_Empl!F4575*((Fonct_Empl!G4575/12)))+(VLOOKUP(E4575,Param!$A$7:$E$13,5,0)*Fonct_Empl!H4575),2),\"\")","v":""}]
[null,null,null,null,null,null,null,null,{"$f":"IF(E4576<>\"\",ROUND((VLOOKUP(E4576,Param!$A$7:$E$13,4,0)*Fonct_Empl!F4576*((Fonct_Empl!G4576/12)))+(VLOOKUP(E4576,Param!$A$7:$E$13,5,0)*Fonct_Empl!H4576),2),\"\")","v":""}]
[null,null,null,null,null,null,null,null,{"$f":"IF(E4577<>\"\",ROUND((VLOOKUP(E4577,Param!$A$7:$E$13,4,0)*Fonct_Empl!F4577*((Fonct_Empl!G4577/12)))+(VLOOKUP(E4577,Param!$A$7:$E$13,5,0)*Fonct_Empl!H4577),2),\"\")","v":""}]
[null,null,null,null,null,null,null,null,{"$f":"IF(E4578<>\"\",ROUND((VLOOKUP(E4578,Param!$A$7:$E$13,4,0)*Fonct_Empl!F4578*((Fonct_Empl!G4578/12)))+(VLOOKUP(E4578,Param!$A$7:$E$13,5,0)*Fonct_Empl!H4578),2),\"\")","v":""}]
[null,null,null,null,null,null,null,null,{"$f":"IF(E4579<>\"\",ROUND((VLOOKUP(E4579,Param!$A$7:$E$13,4,0)*Fonct_Empl!F4579*((Fonct_Empl!G4579/12)))+(VLOOKUP(E4579,Param!$A$7:$E$13,5,0)*Fonct_Empl!H4579),2),\"\")","v":""}]
[null,null,null,null,null,null,null,null,{"$f":"IF(E4580<>\"\",ROUND((VLOOKUP(E4580,Param!$A$7:$E$13,4,0)*Fonct_Empl!F4580*((Fonct_Empl!G4580/12)))+(VLOOKUP(E4580,Param!$A$7:$E$13,5,0)*Fonct_Empl!H4580),2),\"\")","v":""}]
[null,null,null,null,null,null,null,null,{"$f":"IF(E4581<>\"\",ROUND((VLOOKUP(E4581,Param!$A$7:$E$13,4,0)*Fonct_Empl!F4581*((Fonct_Empl!G4581/12)))+(VLOOKUP(E4581,Param!$A$7:$E$13,5,0)*Fonct_Empl!H4581),2),\"\")","v":""}]
[null,null,null,null,null,null,null,null,{"$f":"IF(E4582<>\"\",ROUND((VLOOKUP(E4582,Param!$A$7:$E$13,4,0)*Fonct_Empl!F4582*((Fonct_Empl!G4582/12)))+(VLOOKUP(E4582,Param!$A$7:$E$13,5,0)*Fonct_Empl!H4582),2),\"\")","v":""}]
[null,null,null,null,null,null,null,null,{"$f":"IF(E4583<>\"\",ROUND((VLOOKUP(E4583,Param!$A$7:$E$13,4,0)*Fonct_Empl!F4583*((Fonct_Empl!G4583/12)))+(VLOOKUP(E4583,Param!$A$7:$E$13,5,0)*Fonct_Empl!H4583),2),\"\")","v":""}]
[null,null,null,null,null,null,null,null,{"$f":"IF(E4584<>\"\",ROUND((VLOOKUP(E4584,Param!$A$7:$E$13,4,0)*Fonct_Empl!F4584*((Fonct_Empl!G4584/12)))+(VLOOKUP(E4584,Param!$A$7:$E$13,5,0)*Fonct_Empl!H4584),2),\"\")","v":""}]
[null,null,null,null,null,null,null,null,{"$f":"IF(E4585<>\"\",ROUND((VLOOKUP(E4585,Param!$A$7:$E$13,4,0)*Fonct_Empl!F4585*((Fonct_Empl!G4585/12)))+(VLOOKUP(E4585,Param!$A$7:$E$13,5,0)*Fonct_Empl!H4585),2),\"\")","v":""}]
[null,null,null,null,null,null,null,null,{"$f":"IF(E4586<>\"\",ROUND((VLOOKUP(E4586,Param!$A$7:$E$13,4,0)*Fonct_Empl!F4586*((Fonct_Empl!G4586/12)))+(VLOOKUP(E4586,Param!$A$7:$E$13,5,0)*Fonct_Empl!H4586),2),\"\")","v":""}]
[null,null,null,null,null,null,null,null,{"$f":"IF(E4587<>\"\",ROUND((VLOOKUP(E4587,Param!$A$7:$E$13,4,0)*Fonct_Empl!F4587*((Fonct_Empl!G4587/12)))+(VLOOKUP(E4587,Param!$A$7:$E$13,5,0)*Fonct_Empl!H4587),2),\"\")","v":""}]
[null,null,null,null,null,null,null,null,{"$f":"IF(E4588<>\"\",ROUND((VLOOKUP(E4588,Param!$A$7:$E$13,4,0)*Fonct_Empl!F4588*((Fonct_Empl!G4588/12)))+(VLOOKUP(E4588,Param!$A$7:$E$13,5,0)*Fonct_Empl!H4588),2),\"\")","v":""}]
[null,null,null,null,null,null,null,null,{"$f":"IF(E4589<>\"\",ROUND((VLOOKUP(E4589,Param!$A$7:$E$13,4,0)*Fonct_Empl!F4589*((Fonct_Empl!G4589/12)))+(VLOOKUP(E4589,Param!$A$7:$E$13,5,0)*Fonct_Empl!H4589),2),\"\")","v":""}]
[null,null,null,null,null,null,null,null,{"$f":"IF(E4590<>\"\",ROUND((VLOOKUP(E4590,Param!$A$7:$E$13,4,0)*Fonct_Empl!F4590*((Fonct_Empl!G4590/12)))+(VLOOKUP(E4590,Param!$A$7:$E$13,5,0)*Fonct_Empl!H4590),2),\"\")","v":""}]
[null,null,null,null,null,null,null,null,{"$f":"IF(E4591<>\"\",ROUND((VLOOKUP(E4591,Param!$A$7:$E$13,4,0)*Fonct_Empl!F4591*((Fonct_Empl!G4591/12)))+(VLOOKUP(E4591,Param!$A$7:$E$13,5,0)*Fonct_Empl!H4591),2),\"\")","v":""}]
[null,null,null,null,null,null,null,null,{"$f":"IF(E4592<>\"\",ROUND((VLOOKUP(E4592,Param!$A$7:$E$13,4,0)*Fonct_Empl!F4592*((Fonct_Empl!G4592/12)))+(VLOOKUP(E4592,Param!$A$7:$E$13,5,0)*Fonct_Empl!H4592),2),\"\")","v":""}]
[null,null,null,null,null,null,null,null,{"$f":"IF(E4593<>\"\",ROUND((VLOOKUP(E4593,Param!$A$7:$E$13,4,0)*Fonct_Empl!F4593*((Fonct_Empl!G4593/12)))+(VLOOKUP(E4593,Param!$A$7:$E$13,5,0)*Fonct_Empl!H4593),2),\"\")","v":""}]
[null,null,null,null,null,null,null,null,{"$f":"IF(E4594<>\"\",ROUND((VLOOKUP(E4594,Param!$A$7:$E$13,4,0)*Fonct_Empl!F4594*((Fonct_Empl!G4594/12)))+(VLOOKUP(E4594,Param!$A$7:$E$13,5,0)*Fonct_Empl!H4594),2),\"\")","v":""}]
[null,null,null,null,null,null,null,null,{"$f":"IF(E4595<>\"\",ROUND((VLOOKUP(E4595,Param!$A$7:$E$13,4,0)*Fonct_Empl!F4595*((Fonct_Empl!G4595/12)))+(VLOOKUP(E4595,Param!$A$7:$E$13,5,0)*Fonct_Empl!H4595),2),\"\")","v":""}]
[null,null,null,null,null,null,null,null,{"$f":"IF(E4596<>\"\",ROUND((VLOOKUP(E4596,Param!$A$7:$E$13,4,0)*Fonct_Empl!F4596*((Fonct_Empl!G4596/12)))+(VLOOKUP(E4596,Param!$A$7:$E$13,5,0)*Fonct_Empl!H4596),2),\"\")","v":""}]
[null,null,null,null,null,null,null,null,{"$f":"IF(E4597<>\"\",ROUND((VLOOKUP(E4597,Param!$A$7:$E$13,4,0)*Fonct_Empl!F4597*((Fonct_Empl!G4597/12)))+(VLOOKUP(E4597,Param!$A$7:$E$13,5,0)*Fonct_Empl!H4597),2),\"\")","v":""}]
[null,null,null,null,null,null,null,null,{"$f":"IF(E4598<>\"\",ROUND((VLOOKUP(E4598,Param!$A$7:$E$13,4,0)*Fonct_Empl!F4598*((Fonct_Empl!G4598/12)))+(VLOOKUP(E4598,Param!$A$7:$E$13,5,0)*Fonct_Empl!H4598),2),\"\")","v":""}]
[null,null,null,null,null,null,null,null,{"$f":"IF(E4599<>\"\",ROUND((VLOOKUP(E4599,Param!$A$7:$E$13,4,0)*Fonct_Empl!F4599*((Fonct_Empl!G4599/12)))+(VLOOKUP(E4599,Param!$A$7:$E$13,5,0)*Fonct_Empl!H4599),2),\"\")","v":""}]
[null,null,null,null,null,null,null,null,{"$f":"IF(E4600<>\"\",ROUND((VLOOKUP(E4600,Param!$A$7:$E$13,4,0)*Fonct_Empl!F4600*((Fonct_Empl!G4600/12)))+(VLOOKUP(E4600,Param!$A$7:$E$13,5,0)*Fonct_Empl!H4600),2),\"\")","v":""}]
[null,null,null,null,null,null,null,null,{"$f":"IF(E4601<>\"\",ROUND((VLOOKUP(E4601,Param!$A$7:$E$13,4,0)*Fonct_Empl!F4601*((Fonct_Empl!G4601/12)))+(VLOOKUP(E4601,Param!$A$7:$E$13,5,0)*Fonct_Empl!H4601),2),\"\")","v":""}]
[null,null,null,null,null,null,null,null,{"$f":"IF(E4602<>\"\",ROUND((VLOOKUP(E4602,Param!$A$7:$E$13,4,0)*Fonct_Empl!F4602*((Fonct_Empl!G4602/12)))+(VLOOKUP(E4602,Param!$A$7:$E$13,5,0)*Fonct_Empl!H4602),2),\"\")","v":""}]
[null,null,null,null,null,null,null,null,{"$f":"IF(E4603<>\"\",ROUND((VLOOKUP(E4603,Param!$A$7:$E$13,4,0)*Fonct_Empl!F4603*((Fonct_Empl!G4603/12)))+(VLOOKUP(E4603,Param!$A$7:$E$13,5,0)*Fonct_Empl!H4603),2),\"\")","v":""}]
[null,null,null,null,null,null,null,null,{"$f":"IF(E4604<>\"\",ROUND((VLOOKUP(E4604,Param!$A$7:$E$13,4,0)*Fonct_Empl!F4604*((Fonct_Empl!G4604/12)))+(VLOOKUP(E4604,Param!$A$7:$E$13,5,0)*Fonct_Empl!H4604),2),\"\")","v":""}]
[null,null,null,null,null,null,null,null,{"$f":"IF(E4605<>\"\",ROUND((VLOOKUP(E4605,Param!$A$7:$E$13,4,0)*Fonct_Empl!F4605*((Fonct_Empl!G4605/12)))+(VLOOKUP(E4605,Param!$A$7:$E$13,5,0)*Fonct_Empl!H4605),2),\"\")","v":""}]
[null,null,null,null,null,null,null,null,{"$f":"IF(E4606<>\"\",ROUND((VLOOKUP(E4606,Param!$A$7:$E$13,4,0)*Fonct_Empl!F4606*((Fonct_Empl!G4606/12)))+(VLOOKUP(E4606,Param!$A$7:$E$13,5,0)*Fonct_Empl!H4606),2),\"\")","v":""}]
[null,null,null,null,null,null,null,null,{"$f":"IF(E4607<>\"\",ROUND((VLOOKUP(E4607,Param!$A$7:$E$13,4,0)*Fonct_Empl!F4607*((Fonct_Empl!G4607/12)))+(VLOOKUP(E4607,Param!$A$7:$E$13,5,0)*Fonct_Empl!H4607),2),\"\")","v":""}]
[null,null,null,null,null,null,null,null,{"$f":"IF(E4608<>\"\",ROUND((VLOOKUP(E4608,Param!$A$7:$E$13,4,0)*Fonct_Empl!F4608*((Fonct_Empl!G4608/12)))+(VLOOKUP(E4608,Param!$A$7:$E$13,5,0)*Fonct_Empl!H4608),2),\"\")","v":""}]
[null,null,null,null,null,null,null,null,{"$f":"IF(E4609<>\"\",ROUND((VLOOKUP(E4609,Param!$A$7:$E$13,4,0)*Fonct_Empl!F4609*((Fonct_Empl!G4609/12)))+(VLOOKUP(E4609,Param!$A$7:$E$13,5,0)*Fonct_Empl!H4609),2),\"\")","v":""}]
[null,null,null,null,null,null,null,null,{"$f":"IF(E4610<>\"\",ROUND((VLOOKUP(E4610,Param!$A$7:$E$13,4,0)*Fonct_Empl!F4610*((Fonct_Empl!G4610/12)))+(VLOOKUP(E4610,Param!$A$7:$E$13,5,0)*Fonct_Empl!H4610),2),\"\")","v":""}]
[null,null,null,null,null,null,null,null,{"$f":"IF(E4611<>\"\",ROUND((VLOOKUP(E4611,Param!$A$7:$E$13,4,0)*Fonct_Empl!F4611*((Fonct_Empl!G4611/12)))+(VLOOKUP(E4611,Param!$A$7:$E$13,5,0)*Fonct_Empl!H4611),2),\"\")","v":""}]
[null,null,null,null,null,null,null,null,{"$f":"IF(E4612<>\"\",ROUND((VLOOKUP(E4612,Param!$A$7:$E$13,4,0)*Fonct_Empl!F4612*((Fonct_Empl!G4612/12)))+(VLOOKUP(E4612,Param!$A$7:$E$13,5,0)*Fonct_Empl!H4612),2),\"\")","v":""}]
[null,null,null,null,null,null,null,null,{"$f":"IF(E4613<>\"\",ROUND((VLOOKUP(E4613,Param!$A$7:$E$13,4,0)*Fonct_Empl!F4613*((Fonct_Empl!G4613/12)))+(VLOOKUP(E4613,Param!$A$7:$E$13,5,0)*Fonct_Empl!H4613),2),\"\")","v":""}]
[null,null,null,null,null,null,null,null,{"$f":"IF(E4614<>\"\",ROUND((VLOOKUP(E4614,Param!$A$7:$E$13,4,0)*Fonct_Empl!F4614*((Fonct_Empl!G4614/12)))+(VLOOKUP(E4614,Param!$A$7:$E$13,5,0)*Fonct_Empl!H4614),2),\"\")","v":""}]
[null,null,null,null,null,null,null,null,{"$f":"IF(E4615<>\"\",ROUND((VLOOKUP(E4615,Param!$A$7:$E$13,4,0)*Fonct_Empl!F4615*((Fonct_Empl!G4615/12)))+(VLOOKUP(E4615,Param!$A$7:$E$13,5,0)*Fonct_Empl!H4615),2),\"\")","v":""}]
[null,null,null,null,null,null,null,null,{"$f":"IF(E4616<>\"\",ROUND((VLOOKUP(E4616,Param!$A$7:$E$13,4,0)*Fonct_Empl!F4616*((Fonct_Empl!G4616/12)))+(VLOOKUP(E4616,Param!$A$7:$E$13,5,0)*Fonct_Empl!H4616),2),\"\")","v":""}]
[null,null,null,null,null,null,null,null,{"$f":"IF(E4617<>\"\",ROUND((VLOOKUP(E4617,Param!$A$7:$E$13,4,0)*Fonct_Empl!F4617*((Fonct_Empl!G4617/12)))+(VLOOKUP(E4617,Param!$A$7:$E$13,5,0)*Fonct_Empl!H4617),2),\"\")","v":""}]
[null,null,null,null,null,null,null,null,{"$f":"IF(E4618<>\"\",ROUND((VLOOKUP(E4618,Param!$A$7:$E$13,4,0)*Fonct_Empl!F4618*((Fonct_Empl!G4618/12)))+(VLOOKUP(E4618,Param!$A$7:$E$13,5,0)*Fonct_Empl!H4618),2),\"\")","v":""}]
[null,null,null,null,null,null,null,null,{"$f":"IF(E4619<>\"\",ROUND((VLOOKUP(E4619,Param!$A$7:$E$13,4,0)*Fonct_Empl!F4619*((Fonct_Empl!G4619/12)))+(VLOOKUP(E4619,Param!$A$7:$E$13,5,0)*Fonct_Empl!H4619),2),\"\")","v":""}]
[null,null,null,null,null,null,null,null,{"$f":"IF(E4620<>\"\",ROUND((VLOOKUP(E4620,Param!$A$7:$E$13,4,0)*Fonct_Empl!F4620*((Fonct_Empl!G4620/12)))+(VLOOKUP(E4620,Param!$A$7:$E$13,5,0)*Fonct_Empl!H4620),2),\"\")","v":""}]
[null,null,null,null,null,null,null,null,{"$f":"IF(E4621<>\"\",ROUND((VLOOKUP(E4621,Param!$A$7:$E$13,4,0)*Fonct_Empl!F4621*((Fonct_Empl!G4621/12)))+(VLOOKUP(E4621,Param!$A$7:$E$13,5,0)*Fonct_Empl!H4621),2),\"\")","v":""}]
[null,null,null,null,null,null,null,null,{"$f":"IF(E4622<>\"\",ROUND((VLOOKUP(E4622,Param!$A$7:$E$13,4,0)*Fonct_Empl!F4622*((Fonct_Empl!G4622/12)))+(VLOOKUP(E4622,Param!$A$7:$E$13,5,0)*Fonct_Empl!H4622),2),\"\")","v":""}]
[null,null,null,null,null,null,null,null,{"$f":"IF(E4623<>\"\",ROUND((VLOOKUP(E4623,Param!$A$7:$E$13,4,0)*Fonct_Empl!F4623*((Fonct_Empl!G4623/12)))+(VLOOKUP(E4623,Param!$A$7:$E$13,5,0)*Fonct_Empl!H4623),2),\"\")","v":""}]
[null,null,null,null,null,null,null,null,{"$f":"IF(E4624<>\"\",ROUND((VLOOKUP(E4624,Param!$A$7:$E$13,4,0)*Fonct_Empl!F4624*((Fonct_Empl!G4624/12)))+(VLOOKUP(E4624,Param!$A$7:$E$13,5,0)*Fonct_Empl!H4624),2),\"\")","v":""}]
[null,null,null,null,null,null,null,null,{"$f":"IF(E4625<>\"\",ROUND((VLOOKUP(E4625,Param!$A$7:$E$13,4,0)*Fonct_Empl!F4625*((Fonct_Empl!G4625/12)))+(VLOOKUP(E4625,Param!$A$7:$E$13,5,0)*Fonct_Empl!H4625),2),\"\")","v":""}]
[null,null,null,null,null,null,null,null,{"$f":"IF(E4626<>\"\",ROUND((VLOOKUP(E4626,Param!$A$7:$E$13,4,0)*Fonct_Empl!F4626*((Fonct_Empl!G4626/12)))+(VLOOKUP(E4626,Param!$A$7:$E$13,5,0)*Fonct_Empl!H4626),2),\"\")","v":""}]
[null,null,null,null,null,null,null,null,{"$f":"IF(E4627<>\"\",ROUND((VLOOKUP(E4627,Param!$A$7:$E$13,4,0)*Fonct_Empl!F4627*((Fonct_Empl!G4627/12)))+(VLOOKUP(E4627,Param!$A$7:$E$13,5,0)*Fonct_Empl!H4627),2),\"\")","v":""}]
[null,null,null,null,null,null,null,null,{"$f":"IF(E4628<>\"\",ROUND((VLOOKUP(E4628,Param!$A$7:$E$13,4,0)*Fonct_Empl!F4628*((Fonct_Empl!G4628/12)))+(VLOOKUP(E4628,Param!$A$7:$E$13,5,0)*Fonct_Empl!H4628),2),\"\")","v":""}]
[null,null,null,null,null,null,null,null,{"$f":"IF(E4629<>\"\",ROUND((VLOOKUP(E4629,Param!$A$7:$E$13,4,0)*Fonct_Empl!F4629*((Fonct_Empl!G4629/12)))+(VLOOKUP(E4629,Param!$A$7:$E$13,5,0)*Fonct_Empl!H4629),2),\"\")","v":""}]
[null,null,null,null,null,null,null,null,{"$f":"IF(E4630<>\"\",ROUND((VLOOKUP(E4630,Param!$A$7:$E$13,4,0)*Fonct_Empl!F4630*((Fonct_Empl!G4630/12)))+(VLOOKUP(E4630,Param!$A$7:$E$13,5,0)*Fonct_Empl!H4630),2),\"\")","v":""}]
[null,null,null,null,null,null,null,null,{"$f":"IF(E4631<>\"\",ROUND((VLOOKUP(E4631,Param!$A$7:$E$13,4,0)*Fonct_Empl!F4631*((Fonct_Empl!G4631/12)))+(VLOOKUP(E4631,Param!$A$7:$E$13,5,0)*Fonct_Empl!H4631),2),\"\")","v":""}]
[null,null,null,null,null,null,null,null,{"$f":"IF(E4632<>\"\",ROUND((VLOOKUP(E4632,Param!$A$7:$E$13,4,0)*Fonct_Empl!F4632*((Fonct_Empl!G4632/12)))+(VLOOKUP(E4632,Param!$A$7:$E$13,5,0)*Fonct_Empl!H4632),2),\"\")","v":""}]
[null,null,null,null,null,null,null,null,{"$f":"IF(E4633<>\"\",ROUND((VLOOKUP(E4633,Param!$A$7:$E$13,4,0)*Fonct_Empl!F4633*((Fonct_Empl!G4633/12)))+(VLOOKUP(E4633,Param!$A$7:$E$13,5,0)*Fonct_Empl!H4633),2),\"\")","v":""}]
[null,null,null,null,null,null,null,null,{"$f":"IF(E4634<>\"\",ROUND((VLOOKUP(E4634,Param!$A$7:$E$13,4,0)*Fonct_Empl!F4634*((Fonct_Empl!G4634/12)))+(VLOOKUP(E4634,Param!$A$7:$E$13,5,0)*Fonct_Empl!H4634),2),\"\")","v":""}]
[null,null,null,null,null,null,null,null,{"$f":"IF(E4635<>\"\",ROUND((VLOOKUP(E4635,Param!$A$7:$E$13,4,0)*Fonct_Empl!F4635*((Fonct_Empl!G4635/12)))+(VLOOKUP(E4635,Param!$A$7:$E$13,5,0)*Fonct_Empl!H4635),2),\"\")","v":""}]
[null,null,null,null,null,null,null,null,{"$f":"IF(E4636<>\"\",ROUND((VLOOKUP(E4636,Param!$A$7:$E$13,4,0)*Fonct_Empl!F4636*((Fonct_Empl!G4636/12)))+(VLOOKUP(E4636,Param!$A$7:$E$13,5,0)*Fonct_Empl!H4636),2),\"\")","v":""}]
[null,null,null,null,null,null,null,null,{"$f":"IF(E4637<>\"\",ROUND((VLOOKUP(E4637,Param!$A$7:$E$13,4,0)*Fonct_Empl!F4637*((Fonct_Empl!G4637/12)))+(VLOOKUP(E4637,Param!$A$7:$E$13,5,0)*Fonct_Empl!H4637),2),\"\")","v":""}]
[null,null,null,null,null,null,null,null,{"$f":"IF(E4638<>\"\",ROUND((VLOOKUP(E4638,Param!$A$7:$E$13,4,0)*Fonct_Empl!F4638*((Fonct_Empl!G4638/12)))+(VLOOKUP(E4638,Param!$A$7:$E$13,5,0)*Fonct_Empl!H4638),2),\"\")","v":""}]
[null,null,null,null,null,null,null,null,{"$f":"IF(E4639<>\"\",ROUND((VLOOKUP(E4639,Param!$A$7:$E$13,4,0)*Fonct_Empl!F4639*((Fonct_Empl!G4639/12)))+(VLOOKUP(E4639,Param!$A$7:$E$13,5,0)*Fonct_Empl!H4639),2),\"\")","v":""}]
[null,null,null,null,null,null,null,null,{"$f":"IF(E4640<>\"\",ROUND((VLOOKUP(E4640,Param!$A$7:$E$13,4,0)*Fonct_Empl!F4640*((Fonct_Empl!G4640/12)))+(VLOOKUP(E4640,Param!$A$7:$E$13,5,0)*Fonct_Empl!H4640),2),\"\")","v":""}]
[null,null,null,null,null,null,null,null,{"$f":"IF(E4641<>\"\",ROUND((VLOOKUP(E4641,Param!$A$7:$E$13,4,0)*Fonct_Empl!F4641*((Fonct_Empl!G4641/12)))+(VLOOKUP(E4641,Param!$A$7:$E$13,5,0)*Fonct_Empl!H4641),2),\"\")","v":""}]
[null,null,null,null,null,null,null,null,{"$f":"IF(E4642<>\"\",ROUND((VLOOKUP(E4642,Param!$A$7:$E$13,4,0)*Fonct_Empl!F4642*((Fonct_Empl!G4642/12)))+(VLOOKUP(E4642,Param!$A$7:$E$13,5,0)*Fonct_Empl!H4642),2),\"\")","v":""}]
[null,null,null,null,null,null,null,null,{"$f":"IF(E4643<>\"\",ROUND((VLOOKUP(E4643,Param!$A$7:$E$13,4,0)*Fonct_Empl!F4643*((Fonct_Empl!G4643/12)))+(VLOOKUP(E4643,Param!$A$7:$E$13,5,0)*Fonct_Empl!H4643),2),\"\")","v":""}]
[null,null,null,null,null,null,null,null,{"$f":"IF(E4644<>\"\",ROUND((VLOOKUP(E4644,Param!$A$7:$E$13,4,0)*Fonct_Empl!F4644*((Fonct_Empl!G4644/12)))+(VLOOKUP(E4644,Param!$A$7:$E$13,5,0)*Fonct_Empl!H4644),2),\"\")","v":""}]
[null,null,null,null,null,null,null,null,{"$f":"IF(E4645<>\"\",ROUND((VLOOKUP(E4645,Param!$A$7:$E$13,4,0)*Fonct_Empl!F4645*((Fonct_Empl!G4645/12)))+(VLOOKUP(E4645,Param!$A$7:$E$13,5,0)*Fonct_Empl!H4645),2),\"\")","v":""}]
[null,null,null,null,null,null,null,null,{"$f":"IF(E4646<>\"\",ROUND((VLOOKUP(E4646,Param!$A$7:$E$13,4,0)*Fonct_Empl!F4646*((Fonct_Empl!G4646/12)))+(VLOOKUP(E4646,Param!$A$7:$E$13,5,0)*Fonct_Empl!H4646),2),\"\")","v":""}]
[null,null,null,null,null,null,null,null,{"$f":"IF(E4647<>\"\",ROUND((VLOOKUP(E4647,Param!$A$7:$E$13,4,0)*Fonct_Empl!F4647*((Fonct_Empl!G4647/12)))+(VLOOKUP(E4647,Param!$A$7:$E$13,5,0)*Fonct_Empl!H4647),2),\"\")","v":""}]
[null,null,null,null,null,null,null,null,{"$f":"IF(E4648<>\"\",ROUND((VLOOKUP(E4648,Param!$A$7:$E$13,4,0)*Fonct_Empl!F4648*((Fonct_Empl!G4648/12)))+(VLOOKUP(E4648,Param!$A$7:$E$13,5,0)*Fonct_Empl!H4648),2),\"\")","v":""}]
[null,null,null,null,null,null,null,null,{"$f":"IF(E4649<>\"\",ROUND((VLOOKUP(E4649,Param!$A$7:$E$13,4,0)*Fonct_Empl!F4649*((Fonct_Empl!G4649/12)))+(VLOOKUP(E4649,Param!$A$7:$E$13,5,0)*Fonct_Empl!H4649),2),\"\")","v":""}]
[null,null,null,null,null,null,null,null,{"$f":"IF(E4650<>\"\",ROUND((VLOOKUP(E4650,Param!$A$7:$E$13,4,0)*Fonct_Empl!F4650*((Fonct_Empl!G4650/12)))+(VLOOKUP(E4650,Param!$A$7:$E$13,5,0)*Fonct_Empl!H4650),2),\"\")","v":""}]
[null,null,null,null,null,null,null,null,{"$f":"IF(E4651<>\"\",ROUND((VLOOKUP(E4651,Param!$A$7:$E$13,4,0)*Fonct_Empl!F4651*((Fonct_Empl!G4651/12)))+(VLOOKUP(E4651,Param!$A$7:$E$13,5,0)*Fonct_Empl!H4651),2),\"\")","v":""}]
[null,null,null,null,null,null,null,null,{"$f":"IF(E4652<>\"\",ROUND((VLOOKUP(E4652,Param!$A$7:$E$13,4,0)*Fonct_Empl!F4652*((Fonct_Empl!G4652/12)))+(VLOOKUP(E4652,Param!$A$7:$E$13,5,0)*Fonct_Empl!H4652),2),\"\")","v":""}]
[null,null,null,null,null,null,null,null,{"$f":"IF(E4653<>\"\",ROUND((VLOOKUP(E4653,Param!$A$7:$E$13,4,0)*Fonct_Empl!F4653*((Fonct_Empl!G4653/12)))+(VLOOKUP(E4653,Param!$A$7:$E$13,5,0)*Fonct_Empl!H4653),2),\"\")","v":""}]
[null,null,null,null,null,null,null,null,{"$f":"IF(E4654<>\"\",ROUND((VLOOKUP(E4654,Param!$A$7:$E$13,4,0)*Fonct_Empl!F4654*((Fonct_Empl!G4654/12)))+(VLOOKUP(E4654,Param!$A$7:$E$13,5,0)*Fonct_Empl!H4654),2),\"\")","v":""}]
[null,null,null,null,null,null,null,null,{"$f":"IF(E4655<>\"\",ROUND((VLOOKUP(E4655,Param!$A$7:$E$13,4,0)*Fonct_Empl!F4655*((Fonct_Empl!G4655/12)))+(VLOOKUP(E4655,Param!$A$7:$E$13,5,0)*Fonct_Empl!H4655),2),\"\")","v":""}]
[null,null,null,null,null,null,null,null,{"$f":"IF(E4656<>\"\",ROUND((VLOOKUP(E4656,Param!$A$7:$E$13,4,0)*Fonct_Empl!F4656*((Fonct_Empl!G4656/12)))+(VLOOKUP(E4656,Param!$A$7:$E$13,5,0)*Fonct_Empl!H4656),2),\"\")","v":""}]
[null,null,null,null,null,null,null,null,{"$f":"IF(E4657<>\"\",ROUND((VLOOKUP(E4657,Param!$A$7:$E$13,4,0)*Fonct_Empl!F4657*((Fonct_Empl!G4657/12)))+(VLOOKUP(E4657,Param!$A$7:$E$13,5,0)*Fonct_Empl!H4657),2),\"\")","v":""}]
[null,null,null,null,null,null,null,null,{"$f":"IF(E4658<>\"\",ROUND((VLOOKUP(E4658,Param!$A$7:$E$13,4,0)*Fonct_Empl!F4658*((Fonct_Empl!G4658/12)))+(VLOOKUP(E4658,Param!$A$7:$E$13,5,0)*Fonct_Empl!H4658),2),\"\")","v":""}]
[null,null,null,null,null,null,null,null,{"$f":"IF(E4659<>\"\",ROUND((VLOOKUP(E4659,Param!$A$7:$E$13,4,0)*Fonct_Empl!F4659*((Fonct_Empl!G4659/12)))+(VLOOKUP(E4659,Param!$A$7:$E$13,5,0)*Fonct_Empl!H4659),2),\"\")","v":""}]
[null,null,null,null,null,null,null,null,{"$f":"IF(E4660<>\"\",ROUND((VLOOKUP(E4660,Param!$A$7:$E$13,4,0)*Fonct_Empl!F4660*((Fonct_Empl!G4660/12)))+(VLOOKUP(E4660,Param!$A$7:$E$13,5,0)*Fonct_Empl!H4660),2),\"\")","v":""}]
[null,null,null,null,null,null,null,null,{"$f":"IF(E4661<>\"\",ROUND((VLOOKUP(E4661,Param!$A$7:$E$13,4,0)*Fonct_Empl!F4661*((Fonct_Empl!G4661/12)))+(VLOOKUP(E4661,Param!$A$7:$E$13,5,0)*Fonct_Empl!H4661),2),\"\")","v":""}]
[null,null,null,null,null,null,null,null,{"$f":"IF(E4662<>\"\",ROUND((VLOOKUP(E4662,Param!$A$7:$E$13,4,0)*Fonct_Empl!F4662*((Fonct_Empl!G4662/12)))+(VLOOKUP(E4662,Param!$A$7:$E$13,5,0)*Fonct_Empl!H4662),2),\"\")","v":""}]
[null,null,null,null,null,null,null,null,{"$f":"IF(E4663<>\"\",ROUND((VLOOKUP(E4663,Param!$A$7:$E$13,4,0)*Fonct_Empl!F4663*((Fonct_Empl!G4663/12)))+(VLOOKUP(E4663,Param!$A$7:$E$13,5,0)*Fonct_Empl!H4663),2),\"\")","v":""}]
[null,null,null,null,null,null,null,null,{"$f":"IF(E4664<>\"\",ROUND((VLOOKUP(E4664,Param!$A$7:$E$13,4,0)*Fonct_Empl!F4664*((Fonct_Empl!G4664/12)))+(VLOOKUP(E4664,Param!$A$7:$E$13,5,0)*Fonct_Empl!H4664),2),\"\")","v":""}]
[null,null,null,null,null,null,null,null,{"$f":"IF(E4665<>\"\",ROUND((VLOOKUP(E4665,Param!$A$7:$E$13,4,0)*Fonct_Empl!F4665*((Fonct_Empl!G4665/12)))+(VLOOKUP(E4665,Param!$A$7:$E$13,5,0)*Fonct_Empl!H4665),2),\"\")","v":""}]
[null,null,null,null,null,null,null,null,{"$f":"IF(E4666<>\"\",ROUND((VLOOKUP(E4666,Param!$A$7:$E$13,4,0)*Fonct_Empl!F4666*((Fonct_Empl!G4666/12)))+(VLOOKUP(E4666,Param!$A$7:$E$13,5,0)*Fonct_Empl!H4666),2),\"\")","v":""}]
[null,null,null,null,null,null,null,null,{"$f":"IF(E4667<>\"\",ROUND((VLOOKUP(E4667,Param!$A$7:$E$13,4,0)*Fonct_Empl!F4667*((Fonct_Empl!G4667/12)))+(VLOOKUP(E4667,Param!$A$7:$E$13,5,0)*Fonct_Empl!H4667),2),\"\")","v":""}]
[null,null,null,null,null,null,null,null,{"$f":"IF(E4668<>\"\",ROUND((VLOOKUP(E4668,Param!$A$7:$E$13,4,0)*Fonct_Empl!F4668*((Fonct_Empl!G4668/12)))+(VLOOKUP(E4668,Param!$A$7:$E$13,5,0)*Fonct_Empl!H4668),2),\"\")","v":""}]
[null,null,null,null,null,null,null,null,{"$f":"IF(E4669<>\"\",ROUND((VLOOKUP(E4669,Param!$A$7:$E$13,4,0)*Fonct_Empl!F4669*((Fonct_Empl!G4669/12)))+(VLOOKUP(E4669,Param!$A$7:$E$13,5,0)*Fonct_Empl!H4669),2),\"\")","v":""}]
[null,null,null,null,null,null,null,null,{"$f":"IF(E4670<>\"\",ROUND((VLOOKUP(E4670,Param!$A$7:$E$13,4,0)*Fonct_Empl!F4670*((Fonct_Empl!G4670/12)))+(VLOOKUP(E4670,Param!$A$7:$E$13,5,0)*Fonct_Empl!H4670),2),\"\")","v":""}]
[null,null,null,null,null,null,null,null,{"$f":"IF(E4671<>\"\",ROUND((VLOOKUP(E4671,Param!$A$7:$E$13,4,0)*Fonct_Empl!F4671*((Fonct_Empl!G4671/12)))+(VLOOKUP(E4671,Param!$A$7:$E$13,5,0)*Fonct_Empl!H4671),2),\"\")","v":""}]
[null,null,null,null,null,null,null,null,{"$f":"IF(E4672<>\"\",ROUND((VLOOKUP(E4672,Param!$A$7:$E$13,4,0)*Fonct_Empl!F4672*((Fonct_Empl!G4672/12)))+(VLOOKUP(E4672,Param!$A$7:$E$13,5,0)*Fonct_Empl!H4672),2),\"\")","v":""}]
[null,null,null,null,null,null,null,null,{"$f":"IF(E4673<>\"\",ROUND((VLOOKUP(E4673,Param!$A$7:$E$13,4,0)*Fonct_Empl!F4673*((Fonct_Empl!G4673/12)))+(VLOOKUP(E4673,Param!$A$7:$E$13,5,0)*Fonct_Empl!H4673),2),\"\")","v":""}]
[null,null,null,null,null,null,null,null,{"$f":"IF(E4674<>\"\",ROUND((VLOOKUP(E4674,Param!$A$7:$E$13,4,0)*Fonct_Empl!F4674*((Fonct_Empl!G4674/12)))+(VLOOKUP(E4674,Param!$A$7:$E$13,5,0)*Fonct_Empl!H4674),2),\"\")","v":""}]
[null,null,null,null,null,null,null,null,{"$f":"IF(E4675<>\"\",ROUND((VLOOKUP(E4675,Param!$A$7:$E$13,4,0)*Fonct_Empl!F4675*((Fonct_Empl!G4675/12)))+(VLOOKUP(E4675,Param!$A$7:$E$13,5,0)*Fonct_Empl!H4675),2),\"\")","v":""}]
[null,null,null,null,null,null,null,null,{"$f":"IF(E4676<>\"\",ROUND((VLOOKUP(E4676,Param!$A$7:$E$13,4,0)*Fonct_Empl!F4676*((Fonct_Empl!G4676/12)))+(VLOOKUP(E4676,Param!$A$7:$E$13,5,0)*Fonct_Empl!H4676),2),\"\")","v":""}]
[null,null,null,null,null,null,null,null,{"$f":"IF(E4677<>\"\",ROUND((VLOOKUP(E4677,Param!$A$7:$E$13,4,0)*Fonct_Empl!F4677*((Fonct_Empl!G4677/12)))+(VLOOKUP(E4677,Param!$A$7:$E$13,5,0)*Fonct_Empl!H4677),2),\"\")","v":""}]
[null,null,null,null,null,null,null,null,{"$f":"IF(E4678<>\"\",ROUND((VLOOKUP(E4678,Param!$A$7:$E$13,4,0)*Fonct_Empl!F4678*((Fonct_Empl!G4678/12)))+(VLOOKUP(E4678,Param!$A$7:$E$13,5,0)*Fonct_Empl!H4678),2),\"\")","v":""}]
[null,null,null,null,null,null,null,null,{"$f":"IF(E4679<>\"\",ROUND((VLOOKUP(E4679,Param!$A$7:$E$13,4,0)*Fonct_Empl!F4679*((Fonct_Empl!G4679/12)))+(VLOOKUP(E4679,Param!$A$7:$E$13,5,0)*Fonct_Empl!H4679),2),\"\")","v":""}]
[null,null,null,null,null,null,null,null,{"$f":"IF(E4680<>\"\",ROUND((VLOOKUP(E4680,Param!$A$7:$E$13,4,0)*Fonct_Empl!F4680*((Fonct_Empl!G4680/12)))+(VLOOKUP(E4680,Param!$A$7:$E$13,5,0)*Fonct_Empl!H4680),2),\"\")","v":""}]
[null,null,null,null,null,null,null,null,{"$f":"IF(E4681<>\"\",ROUND((VLOOKUP(E4681,Param!$A$7:$E$13,4,0)*Fonct_Empl!F4681*((Fonct_Empl!G4681/12)))+(VLOOKUP(E4681,Param!$A$7:$E$13,5,0)*Fonct_Empl!H4681),2),\"\")","v":""}]
[null,null,null,null,null,null,null,null,{"$f":"IF(E4682<>\"\",ROUND((VLOOKUP(E4682,Param!$A$7:$E$13,4,0)*Fonct_Empl!F4682*((Fonct_Empl!G4682/12)))+(VLOOKUP(E4682,Param!$A$7:$E$13,5,0)*Fonct_Empl!H4682),2),\"\")","v":""}]
[null,null,null,null,null,null,null,null,{"$f":"IF(E4683<>\"\",ROUND((VLOOKUP(E4683,Param!$A$7:$E$13,4,0)*Fonct_Empl!F4683*((Fonct_Empl!G4683/12)))+(VLOOKUP(E4683,Param!$A$7:$E$13,5,0)*Fonct_Empl!H4683),2),\"\")","v":""}]
[null,null,null,null,null,null,null,null,{"$f":"IF(E4684<>\"\",ROUND((VLOOKUP(E4684,Param!$A$7:$E$13,4,0)*Fonct_Empl!F4684*((Fonct_Empl!G4684/12)))+(VLOOKUP(E4684,Param!$A$7:$E$13,5,0)*Fonct_Empl!H4684),2),\"\")","v":""}]
[null,null,null,null,null,null,null,null,{"$f":"IF(E4685<>\"\",ROUND((VLOOKUP(E4685,Param!$A$7:$E$13,4,0)*Fonct_Empl!F4685*((Fonct_Empl!G4685/12)))+(VLOOKUP(E4685,Param!$A$7:$E$13,5,0)*Fonct_Empl!H4685),2),\"\")","v":""}]
[null,null,null,null,null,null,null,null,{"$f":"IF(E4686<>\"\",ROUND((VLOOKUP(E4686,Param!$A$7:$E$13,4,0)*Fonct_Empl!F4686*((Fonct_Empl!G4686/12)))+(VLOOKUP(E4686,Param!$A$7:$E$13,5,0)*Fonct_Empl!H4686),2),\"\")","v":""}]
[null,null,null,null,null,null,null,null,{"$f":"IF(E4687<>\"\",ROUND((VLOOKUP(E4687,Param!$A$7:$E$13,4,0)*Fonct_Empl!F4687*((Fonct_Empl!G4687/12)))+(VLOOKUP(E4687,Param!$A$7:$E$13,5,0)*Fonct_Empl!H4687),2),\"\")","v":""}]
[null,null,null,null,null,null,null,null,{"$f":"IF(E4688<>\"\",ROUND((VLOOKUP(E4688,Param!$A$7:$E$13,4,0)*Fonct_Empl!F4688*((Fonct_Empl!G4688/12)))+(VLOOKUP(E4688,Param!$A$7:$E$13,5,0)*Fonct_Empl!H4688),2),\"\")","v":""}]
[null,null,null,null,null,null,null,null,{"$f":"IF(E4689<>\"\",ROUND((VLOOKUP(E4689,Param!$A$7:$E$13,4,0)*Fonct_Empl!F4689*((Fonct_Empl!G4689/12)))+(VLOOKUP(E4689,Param!$A$7:$E$13,5,0)*Fonct_Empl!H4689),2),\"\")","v":""}]
[null,null,null,null,null,null,null,null,{"$f":"IF(E4690<>\"\",ROUND((VLOOKUP(E4690,Param!$A$7:$E$13,4,0)*Fonct_Empl!F4690*((Fonct_Empl!G4690/12)))+(VLOOKUP(E4690,Param!$A$7:$E$13,5,0)*Fonct_Empl!H4690),2),\"\")","v":""}]
[null,null,null,null,null,null,null,null,{"$f":"IF(E4691<>\"\",ROUND((VLOOKUP(E4691,Param!$A$7:$E$13,4,0)*Fonct_Empl!F4691*((Fonct_Empl!G4691/12)))+(VLOOKUP(E4691,Param!$A$7:$E$13,5,0)*Fonct_Empl!H4691),2),\"\")","v":""}]
[null,null,null,null,null,null,null,null,{"$f":"IF(E4692<>\"\",ROUND((VLOOKUP(E4692,Param!$A$7:$E$13,4,0)*Fonct_Empl!F4692*((Fonct_Empl!G4692/12)))+(VLOOKUP(E4692,Param!$A$7:$E$13,5,0)*Fonct_Empl!H4692),2),\"\")","v":""}]
[null,null,null,null,null,null,null,null,{"$f":"IF(E4693<>\"\",ROUND((VLOOKUP(E4693,Param!$A$7:$E$13,4,0)*Fonct_Empl!F4693*((Fonct_Empl!G4693/12)))+(VLOOKUP(E4693,Param!$A$7:$E$13,5,0)*Fonct_Empl!H4693),2),\"\")","v":""}]
[null,null,null,null,null,null,null,null,{"$f":"IF(E4694<>\"\",ROUND((VLOOKUP(E4694,Param!$A$7:$E$13,4,0)*Fonct_Empl!F4694*((Fonct_Empl!G4694/12)))+(VLOOKUP(E4694,Param!$A$7:$E$13,5,0)*Fonct_Empl!H4694),2),\"\")","v":""}]
[null,null,null,null,null,null,null,null,{"$f":"IF(E4695<>\"\",ROUND((VLOOKUP(E4695,Param!$A$7:$E$13,4,0)*Fonct_Empl!F4695*((Fonct_Empl!G4695/12)))+(VLOOKUP(E4695,Param!$A$7:$E$13,5,0)*Fonct_Empl!H4695),2),\"\")","v":""}]
[null,null,null,null,null,null,null,null,{"$f":"IF(E4696<>\"\",ROUND((VLOOKUP(E4696,Param!$A$7:$E$13,4,0)*Fonct_Empl!F4696*((Fonct_Empl!G4696/12)))+(VLOOKUP(E4696,Param!$A$7:$E$13,5,0)*Fonct_Empl!H4696),2),\"\")","v":""}]
[null,null,null,null,null,null,null,null,{"$f":"IF(E4697<>\"\",ROUND((VLOOKUP(E4697,Param!$A$7:$E$13,4,0)*Fonct_Empl!F4697*((Fonct_Empl!G4697/12)))+(VLOOKUP(E4697,Param!$A$7:$E$13,5,0)*Fonct_Empl!H4697),2),\"\")","v":""}]
[null,null,null,null,null,null,null,null,{"$f":"IF(E4698<>\"\",ROUND((VLOOKUP(E4698,Param!$A$7:$E$13,4,0)*Fonct_Empl!F4698*((Fonct_Empl!G4698/12)))+(VLOOKUP(E4698,Param!$A$7:$E$13,5,0)*Fonct_Empl!H4698),2),\"\")","v":""}]
[null,null,null,null,null,null,null,null,{"$f":"IF(E4699<>\"\",ROUND((VLOOKUP(E4699,Param!$A$7:$E$13,4,0)*Fonct_Empl!F4699*((Fonct_Empl!G4699/12)))+(VLOOKUP(E4699,Param!$A$7:$E$13,5,0)*Fonct_Empl!H4699),2),\"\")","v":""}]
[null,null,null,null,null,null,null,null,{"$f":"IF(E4700<>\"\",ROUND((VLOOKUP(E4700,Param!$A$7:$E$13,4,0)*Fonct_Empl!F4700*((Fonct_Empl!G4700/12)))+(VLOOKUP(E4700,Param!$A$7:$E$13,5,0)*Fonct_Empl!H4700),2),\"\")","v":""}]
[null,null,null,null,null,null,null,null,{"$f":"IF(E4701<>\"\",ROUND((VLOOKUP(E4701,Param!$A$7:$E$13,4,0)*Fonct_Empl!F4701*((Fonct_Empl!G4701/12)))+(VLOOKUP(E4701,Param!$A$7:$E$13,5,0)*Fonct_Empl!H4701),2),\"\")","v":""}]
[null,null,null,null,null,null,null,null,{"$f":"IF(E4702<>\"\",ROUND((VLOOKUP(E4702,Param!$A$7:$E$13,4,0)*Fonct_Empl!F4702*((Fonct_Empl!G4702/12)))+(VLOOKUP(E4702,Param!$A$7:$E$13,5,0)*Fonct_Empl!H4702),2),\"\")","v":""}]
[null,null,null,null,null,null,null,null,{"$f":"IF(E4703<>\"\",ROUND((VLOOKUP(E4703,Param!$A$7:$E$13,4,0)*Fonct_Empl!F4703*((Fonct_Empl!G4703/12)))+(VLOOKUP(E4703,Param!$A$7:$E$13,5,0)*Fonct_Empl!H4703),2),\"\")","v":""}]
[null,null,null,null,null,null,null,null,{"$f":"IF(E4704<>\"\",ROUND((VLOOKUP(E4704,Param!$A$7:$E$13,4,0)*Fonct_Empl!F4704*((Fonct_Empl!G4704/12)))+(VLOOKUP(E4704,Param!$A$7:$E$13,5,0)*Fonct_Empl!H4704),2),\"\")","v":""}]
[null,null,null,null,null,null,null,null,{"$f":"IF(E4705<>\"\",ROUND((VLOOKUP(E4705,Param!$A$7:$E$13,4,0)*Fonct_Empl!F4705*((Fonct_Empl!G4705/12)))+(VLOOKUP(E4705,Param!$A$7:$E$13,5,0)*Fonct_Empl!H4705),2),\"\")","v":""}]
[null,null,null,null,null,null,null,null,{"$f":"IF(E4706<>\"\",ROUND((VLOOKUP(E4706,Param!$A$7:$E$13,4,0)*Fonct_Empl!F4706*((Fonct_Empl!G4706/12)))+(VLOOKUP(E4706,Param!$A$7:$E$13,5,0)*Fonct_Empl!H4706),2),\"\")","v":""}]
[null,null,null,null,null,null,null,null,{"$f":"IF(E4707<>\"\",ROUND((VLOOKUP(E4707,Param!$A$7:$E$13,4,0)*Fonct_Empl!F4707*((Fonct_Empl!G4707/12)))+(VLOOKUP(E4707,Param!$A$7:$E$13,5,0)*Fonct_Empl!H4707),2),\"\")","v":""}]
[null,null,null,null,null,null,null,null,{"$f":"IF(E4708<>\"\",ROUND((VLOOKUP(E4708,Param!$A$7:$E$13,4,0)*Fonct_Empl!F4708*((Fonct_Empl!G4708/12)))+(VLOOKUP(E4708,Param!$A$7:$E$13,5,0)*Fonct_Empl!H4708),2),\"\")","v":""}]
[null,null,null,null,null,null,null,null,{"$f":"IF(E4709<>\"\",ROUND((VLOOKUP(E4709,Param!$A$7:$E$13,4,0)*Fonct_Empl!F4709*((Fonct_Empl!G4709/12)))+(VLOOKUP(E4709,Param!$A$7:$E$13,5,0)*Fonct_Empl!H4709),2),\"\")","v":""}]
[null,null,null,null,null,null,null,null,{"$f":"IF(E4710<>\"\",ROUND((VLOOKUP(E4710,Param!$A$7:$E$13,4,0)*Fonct_Empl!F4710*((Fonct_Empl!G4710/12)))+(VLOOKUP(E4710,Param!$A$7:$E$13,5,0)*Fonct_Empl!H4710),2),\"\")","v":""}]
[null,null,null,null,null,null,null,null,{"$f":"IF(E4711<>\"\",ROUND((VLOOKUP(E4711,Param!$A$7:$E$13,4,0)*Fonct_Empl!F4711*((Fonct_Empl!G4711/12)))+(VLOOKUP(E4711,Param!$A$7:$E$13,5,0)*Fonct_Empl!H4711),2),\"\")","v":""}]
[null,null,null,null,null,null,null,null,{"$f":"IF(E4712<>\"\",ROUND((VLOOKUP(E4712,Param!$A$7:$E$13,4,0)*Fonct_Empl!F4712*((Fonct_Empl!G4712/12)))+(VLOOKUP(E4712,Param!$A$7:$E$13,5,0)*Fonct_Empl!H4712),2),\"\")","v":""}]
[null,null,null,null,null,null,null,null,{"$f":"IF(E4713<>\"\",ROUND((VLOOKUP(E4713,Param!$A$7:$E$13,4,0)*Fonct_Empl!F4713*((Fonct_Empl!G4713/12)))+(VLOOKUP(E4713,Param!$A$7:$E$13,5,0)*Fonct_Empl!H4713),2),\"\")","v":""}]
[null,null,null,null,null,null,null,null,{"$f":"IF(E4714<>\"\",ROUND((VLOOKUP(E4714,Param!$A$7:$E$13,4,0)*Fonct_Empl!F4714*((Fonct_Empl!G4714/12)))+(VLOOKUP(E4714,Param!$A$7:$E$13,5,0)*Fonct_Empl!H4714),2),\"\")","v":""}]
[null,null,null,null,null,null,null,null,{"$f":"IF(E4715<>\"\",ROUND((VLOOKUP(E4715,Param!$A$7:$E$13,4,0)*Fonct_Empl!F4715*((Fonct_Empl!G4715/12)))+(VLOOKUP(E4715,Param!$A$7:$E$13,5,0)*Fonct_Empl!H4715),2),\"\")","v":""}]
[null,null,null,null,null,null,null,null,{"$f":"IF(E4716<>\"\",ROUND((VLOOKUP(E4716,Param!$A$7:$E$13,4,0)*Fonct_Empl!F4716*((Fonct_Empl!G4716/12)))+(VLOOKUP(E4716,Param!$A$7:$E$13,5,0)*Fonct_Empl!H4716),2),\"\")","v":""}]
[null,null,null,null,null,null,null,null,{"$f":"IF(E4717<>\"\",ROUND((VLOOKUP(E4717,Param!$A$7:$E$13,4,0)*Fonct_Empl!F4717*((Fonct_Empl!G4717/12)))+(VLOOKUP(E4717,Param!$A$7:$E$13,5,0)*Fonct_Empl!H4717),2),\"\")","v":""}]
[null,null,null,null,null,null,null,null,{"$f":"IF(E4718<>\"\",ROUND((VLOOKUP(E4718,Param!$A$7:$E$13,4,0)*Fonct_Empl!F4718*((Fonct_Empl!G4718/12)))+(VLOOKUP(E4718,Param!$A$7:$E$13,5,0)*Fonct_Empl!H4718),2),\"\")","v":""}]
[null,null,null,null,null,null,null,null,{"$f":"IF(E4719<>\"\",ROUND((VLOOKUP(E4719,Param!$A$7:$E$13,4,0)*Fonct_Empl!F4719*((Fonct_Empl!G4719/12)))+(VLOOKUP(E4719,Param!$A$7:$E$13,5,0)*Fonct_Empl!H4719),2),\"\")","v":""}]
[null,null,null,null,null,null,null,null,{"$f":"IF(E4720<>\"\",ROUND((VLOOKUP(E4720,Param!$A$7:$E$13,4,0)*Fonct_Empl!F4720*((Fonct_Empl!G4720/12)))+(VLOOKUP(E4720,Param!$A$7:$E$13,5,0)*Fonct_Empl!H4720),2),\"\")","v":""}]
[null,null,null,null,null,null,null,null,{"$f":"IF(E4721<>\"\",ROUND((VLOOKUP(E4721,Param!$A$7:$E$13,4,0)*Fonct_Empl!F4721*((Fonct_Empl!G4721/12)))+(VLOOKUP(E4721,Param!$A$7:$E$13,5,0)*Fonct_Empl!H4721),2),\"\")","v":""}]
[null,null,null,null,null,null,null,null,{"$f":"IF(E4722<>\"\",ROUND((VLOOKUP(E4722,Param!$A$7:$E$13,4,0)*Fonct_Empl!F4722*((Fonct_Empl!G4722/12)))+(VLOOKUP(E4722,Param!$A$7:$E$13,5,0)*Fonct_Empl!H4722),2),\"\")","v":""}]
[null,null,null,null,null,null,null,null,{"$f":"IF(E4723<>\"\",ROUND((VLOOKUP(E4723,Param!$A$7:$E$13,4,0)*Fonct_Empl!F4723*((Fonct_Empl!G4723/12)))+(VLOOKUP(E4723,Param!$A$7:$E$13,5,0)*Fonct_Empl!H4723),2),\"\")","v":""}]
[null,null,null,null,null,null,null,null,{"$f":"IF(E4724<>\"\",ROUND((VLOOKUP(E4724,Param!$A$7:$E$13,4,0)*Fonct_Empl!F4724*((Fonct_Empl!G4724/12)))+(VLOOKUP(E4724,Param!$A$7:$E$13,5,0)*Fonct_Empl!H4724),2),\"\")","v":""}]
[null,null,null,null,null,null,null,null,{"$f":"IF(E4725<>\"\",ROUND((VLOOKUP(E4725,Param!$A$7:$E$13,4,0)*Fonct_Empl!F4725*((Fonct_Empl!G4725/12)))+(VLOOKUP(E4725,Param!$A$7:$E$13,5,0)*Fonct_Empl!H4725),2),\"\")","v":""}]
[null,null,null,null,null,null,null,null,{"$f":"IF(E4726<>\"\",ROUND((VLOOKUP(E4726,Param!$A$7:$E$13,4,0)*Fonct_Empl!F4726*((Fonct_Empl!G4726/12)))+(VLOOKUP(E4726,Param!$A$7:$E$13,5,0)*Fonct_Empl!H4726),2),\"\")","v":""}]
[null,null,null,null,null,null,null,null,{"$f":"IF(E4727<>\"\",ROUND((VLOOKUP(E4727,Param!$A$7:$E$13,4,0)*Fonct_Empl!F4727*((Fonct_Empl!G4727/12)))+(VLOOKUP(E4727,Param!$A$7:$E$13,5,0)*Fonct_Empl!H4727),2),\"\")","v":""}]
[null,null,null,null,null,null,null,null,{"$f":"IF(E4728<>\"\",ROUND((VLOOKUP(E4728,Param!$A$7:$E$13,4,0)*Fonct_Empl!F4728*((Fonct_Empl!G4728/12)))+(VLOOKUP(E4728,Param!$A$7:$E$13,5,0)*Fonct_Empl!H4728),2),\"\")","v":""}]
[null,null,null,null,null,null,null,null,{"$f":"IF(E4729<>\"\",ROUND((VLOOKUP(E4729,Param!$A$7:$E$13,4,0)*Fonct_Empl!F4729*((Fonct_Empl!G4729/12)))+(VLOOKUP(E4729,Param!$A$7:$E$13,5,0)*Fonct_Empl!H4729),2),\"\")","v":""}]
[null,null,null,null,null,null,null,null,{"$f":"IF(E4730<>\"\",ROUND((VLOOKUP(E4730,Param!$A$7:$E$13,4,0)*Fonct_Empl!F4730*((Fonct_Empl!G4730/12)))+(VLOOKUP(E4730,Param!$A$7:$E$13,5,0)*Fonct_Empl!H4730),2),\"\")","v":""}]
[null,null,null,null,null,null,null,null,{"$f":"IF(E4731<>\"\",ROUND((VLOOKUP(E4731,Param!$A$7:$E$13,4,0)*Fonct_Empl!F4731*((Fonct_Empl!G4731/12)))+(VLOOKUP(E4731,Param!$A$7:$E$13,5,0)*Fonct_Empl!H4731),2),\"\")","v":""}]
[null,null,null,null,null,null,null,null,{"$f":"IF(E4732<>\"\",ROUND((VLOOKUP(E4732,Param!$A$7:$E$13,4,0)*Fonct_Empl!F4732*((Fonct_Empl!G4732/12)))+(VLOOKUP(E4732,Param!$A$7:$E$13,5,0)*Fonct_Empl!H4732),2),\"\")","v":""}]
[null,null,null,null,null,null,null,null,{"$f":"IF(E4733<>\"\",ROUND((VLOOKUP(E4733,Param!$A$7:$E$13,4,0)*Fonct_Empl!F4733*((Fonct_Empl!G4733/12)))+(VLOOKUP(E4733,Param!$A$7:$E$13,5,0)*Fonct_Empl!H4733),2),\"\")","v":""}]
[null,null,null,null,null,null,null,null,{"$f":"IF(E4734<>\"\",ROUND((VLOOKUP(E4734,Param!$A$7:$E$13,4,0)*Fonct_Empl!F4734*((Fonct_Empl!G4734/12)))+(VLOOKUP(E4734,Param!$A$7:$E$13,5,0)*Fonct_Empl!H4734),2),\"\")","v":""}]
[null,null,null,null,null,null,null,null,{"$f":"IF(E4735<>\"\",ROUND((VLOOKUP(E4735,Param!$A$7:$E$13,4,0)*Fonct_Empl!F4735*((Fonct_Empl!G4735/12)))+(VLOOKUP(E4735,Param!$A$7:$E$13,5,0)*Fonct_Empl!H4735),2),\"\")","v":""}]
[null,null,null,null,null,null,null,null,{"$f":"IF(E4736<>\"\",ROUND((VLOOKUP(E4736,Param!$A$7:$E$13,4,0)*Fonct_Empl!F4736*((Fonct_Empl!G4736/12)))+(VLOOKUP(E4736,Param!$A$7:$E$13,5,0)*Fonct_Empl!H4736),2),\"\")","v":""}]
[null,null,null,null,null,null,null,null,{"$f":"IF(E4737<>\"\",ROUND((VLOOKUP(E4737,Param!$A$7:$E$13,4,0)*Fonct_Empl!F4737*((Fonct_Empl!G4737/12)))+(VLOOKUP(E4737,Param!$A$7:$E$13,5,0)*Fonct_Empl!H4737),2),\"\")","v":""}]
[null,null,null,null,null,null,null,null,{"$f":"IF(E4738<>\"\",ROUND((VLOOKUP(E4738,Param!$A$7:$E$13,4,0)*Fonct_Empl!F4738*((Fonct_Empl!G4738/12)))+(VLOOKUP(E4738,Param!$A$7:$E$13,5,0)*Fonct_Empl!H4738),2),\"\")","v":""}]
[null,null,null,null,null,null,null,null,{"$f":"IF(E4739<>\"\",ROUND((VLOOKUP(E4739,Param!$A$7:$E$13,4,0)*Fonct_Empl!F4739*((Fonct_Empl!G4739/12)))+(VLOOKUP(E4739,Param!$A$7:$E$13,5,0)*Fonct_Empl!H4739),2),\"\")","v":""}]
[null,null,null,null,null,null,null,null,{"$f":"IF(E4740<>\"\",ROUND((VLOOKUP(E4740,Param!$A$7:$E$13,4,0)*Fonct_Empl!F4740*((Fonct_Empl!G4740/12)))+(VLOOKUP(E4740,Param!$A$7:$E$13,5,0)*Fonct_Empl!H4740),2),\"\")","v":""}]
[null,null,null,null,null,null,null,null,{"$f":"IF(E4741<>\"\",ROUND((VLOOKUP(E4741,Param!$A$7:$E$13,4,0)*Fonct_Empl!F4741*((Fonct_Empl!G4741/12)))+(VLOOKUP(E4741,Param!$A$7:$E$13,5,0)*Fonct_Empl!H4741),2),\"\")","v":""}]
[null,null,null,null,null,null,null,null,{"$f":"IF(E4742<>\"\",ROUND((VLOOKUP(E4742,Param!$A$7:$E$13,4,0)*Fonct_Empl!F4742*((Fonct_Empl!G4742/12)))+(VLOOKUP(E4742,Param!$A$7:$E$13,5,0)*Fonct_Empl!H4742),2),\"\")","v":""}]
[null,null,null,null,null,null,null,null,{"$f":"IF(E4743<>\"\",ROUND((VLOOKUP(E4743,Param!$A$7:$E$13,4,0)*Fonct_Empl!F4743*((Fonct_Empl!G4743/12)))+(VLOOKUP(E4743,Param!$A$7:$E$13,5,0)*Fonct_Empl!H4743),2),\"\")","v":""}]
[null,null,null,null,null,null,null,null,{"$f":"IF(E4744<>\"\",ROUND((VLOOKUP(E4744,Param!$A$7:$E$13,4,0)*Fonct_Empl!F4744*((Fonct_Empl!G4744/12)))+(VLOOKUP(E4744,Param!$A$7:$E$13,5,0)*Fonct_Empl!H4744),2),\"\")","v":""}]
[null,null,null,null,null,null,null,null,{"$f":"IF(E4745<>\"\",ROUND((VLOOKUP(E4745,Param!$A$7:$E$13,4,0)*Fonct_Empl!F4745*((Fonct_Empl!G4745/12)))+(VLOOKUP(E4745,Param!$A$7:$E$13,5,0)*Fonct_Empl!H4745),2),\"\")","v":""}]
[null,null,null,null,null,null,null,null,{"$f":"IF(E4746<>\"\",ROUND((VLOOKUP(E4746,Param!$A$7:$E$13,4,0)*Fonct_Empl!F4746*((Fonct_Empl!G4746/12)))+(VLOOKUP(E4746,Param!$A$7:$E$13,5,0)*Fonct_Empl!H4746),2),\"\")","v":""}]
[null,null,null,null,null,null,null,null,{"$f":"IF(E4747<>\"\",ROUND((VLOOKUP(E4747,Param!$A$7:$E$13,4,0)*Fonct_Empl!F4747*((Fonct_Empl!G4747/12)))+(VLOOKUP(E4747,Param!$A$7:$E$13,5,0)*Fonct_Empl!H4747),2),\"\")","v":""}]
[null,null,null,null,null,null,null,null,{"$f":"IF(E4748<>\"\",ROUND((VLOOKUP(E4748,Param!$A$7:$E$13,4,0)*Fonct_Empl!F4748*((Fonct_Empl!G4748/12)))+(VLOOKUP(E4748,Param!$A$7:$E$13,5,0)*Fonct_Empl!H4748),2),\"\")","v":""}]
[null,null,null,null,null,null,null,null,{"$f":"IF(E4749<>\"\",ROUND((VLOOKUP(E4749,Param!$A$7:$E$13,4,0)*Fonct_Empl!F4749*((Fonct_Empl!G4749/12)))+(VLOOKUP(E4749,Param!$A$7:$E$13,5,0)*Fonct_Empl!H4749),2),\"\")","v":""}]
[null,null,null,null,null,null,null,null,{"$f":"IF(E4750<>\"\",ROUND((VLOOKUP(E4750,Param!$A$7:$E$13,4,0)*Fonct_Empl!F4750*((Fonct_Empl!G4750/12)))+(VLOOKUP(E4750,Param!$A$7:$E$13,5,0)*Fonct_Empl!H4750),2),\"\")","v":""}]
[null,null,null,null,null,null,null,null,{"$f":"IF(E4751<>\"\",ROUND((VLOOKUP(E4751,Param!$A$7:$E$13,4,0)*Fonct_Empl!F4751*((Fonct_Empl!G4751/12)))+(VLOOKUP(E4751,Param!$A$7:$E$13,5,0)*Fonct_Empl!H4751),2),\"\")","v":""}]
[null,null,null,null,null,null,null,null,{"$f":"IF(E4752<>\"\",ROUND((VLOOKUP(E4752,Param!$A$7:$E$13,4,0)*Fonct_Empl!F4752*((Fonct_Empl!G4752/12)))+(VLOOKUP(E4752,Param!$A$7:$E$13,5,0)*Fonct_Empl!H4752),2),\"\")","v":""}]
[null,null,null,null,null,null,null,null,{"$f":"IF(E4753<>\"\",ROUND((VLOOKUP(E4753,Param!$A$7:$E$13,4,0)*Fonct_Empl!F4753*((Fonct_Empl!G4753/12)))+(VLOOKUP(E4753,Param!$A$7:$E$13,5,0)*Fonct_Empl!H4753),2),\"\")","v":""}]
[null,null,null,null,null,null,null,null,{"$f":"IF(E4754<>\"\",ROUND((VLOOKUP(E4754,Param!$A$7:$E$13,4,0)*Fonct_Empl!F4754*((Fonct_Empl!G4754/12)))+(VLOOKUP(E4754,Param!$A$7:$E$13,5,0)*Fonct_Empl!H4754),2),\"\")","v":""}]
[null,null,null,null,null,null,null,null,{"$f":"IF(E4755<>\"\",ROUND((VLOOKUP(E4755,Param!$A$7:$E$13,4,0)*Fonct_Empl!F4755*((Fonct_Empl!G4755/12)))+(VLOOKUP(E4755,Param!$A$7:$E$13,5,0)*Fonct_Empl!H4755),2),\"\")","v":""}]
[null,null,null,null,null,null,null,null,{"$f":"IF(E4756<>\"\",ROUND((VLOOKUP(E4756,Param!$A$7:$E$13,4,0)*Fonct_Empl!F4756*((Fonct_Empl!G4756/12)))+(VLOOKUP(E4756,Param!$A$7:$E$13,5,0)*Fonct_Empl!H4756),2),\"\")","v":""}]
[null,null,null,null,null,null,null,null,{"$f":"IF(E4757<>\"\",ROUND((VLOOKUP(E4757,Param!$A$7:$E$13,4,0)*Fonct_Empl!F4757*((Fonct_Empl!G4757/12)))+(VLOOKUP(E4757,Param!$A$7:$E$13,5,0)*Fonct_Empl!H4757),2),\"\")","v":""}]
[null,null,null,null,null,null,null,null,{"$f":"IF(E4758<>\"\",ROUND((VLOOKUP(E4758,Param!$A$7:$E$13,4,0)*Fonct_Empl!F4758*((Fonct_Empl!G4758/12)))+(VLOOKUP(E4758,Param!$A$7:$E$13,5,0)*Fonct_Empl!H4758),2),\"\")","v":""}]
[null,null,null,null,null,null,null,null,{"$f":"IF(E4759<>\"\",ROUND((VLOOKUP(E4759,Param!$A$7:$E$13,4,0)*Fonct_Empl!F4759*((Fonct_Empl!G4759/12)))+(VLOOKUP(E4759,Param!$A$7:$E$13,5,0)*Fonct_Empl!H4759),2),\"\")","v":""}]
[null,null,null,null,null,null,null,null,{"$f":"IF(E4760<>\"\",ROUND((VLOOKUP(E4760,Param!$A$7:$E$13,4,0)*Fonct_Empl!F4760*((Fonct_Empl!G4760/12)))+(VLOOKUP(E4760,Param!$A$7:$E$13,5,0)*Fonct_Empl!H4760),2),\"\")","v":""}]
[null,null,null,null,null,null,null,null,{"$f":"IF(E4761<>\"\",ROUND((VLOOKUP(E4761,Param!$A$7:$E$13,4,0)*Fonct_Empl!F4761*((Fonct_Empl!G4761/12)))+(VLOOKUP(E4761,Param!$A$7:$E$13,5,0)*Fonct_Empl!H4761),2),\"\")","v":""}]
[null,null,null,null,null,null,null,null,{"$f":"IF(E4762<>\"\",ROUND((VLOOKUP(E4762,Param!$A$7:$E$13,4,0)*Fonct_Empl!F4762*((Fonct_Empl!G4762/12)))+(VLOOKUP(E4762,Param!$A$7:$E$13,5,0)*Fonct_Empl!H4762),2),\"\")","v":""}]
[null,null,null,null,null,null,null,null,{"$f":"IF(E4763<>\"\",ROUND((VLOOKUP(E4763,Param!$A$7:$E$13,4,0)*Fonct_Empl!F4763*((Fonct_Empl!G4763/12)))+(VLOOKUP(E4763,Param!$A$7:$E$13,5,0)*Fonct_Empl!H4763),2),\"\")","v":""}]
[null,null,null,null,null,null,null,null,{"$f":"IF(E4764<>\"\",ROUND((VLOOKUP(E4764,Param!$A$7:$E$13,4,0)*Fonct_Empl!F4764*((Fonct_Empl!G4764/12)))+(VLOOKUP(E4764,Param!$A$7:$E$13,5,0)*Fonct_Empl!H4764),2),\"\")","v":""}]
[null,null,null,null,null,null,null,null,{"$f":"IF(E4765<>\"\",ROUND((VLOOKUP(E4765,Param!$A$7:$E$13,4,0)*Fonct_Empl!F4765*((Fonct_Empl!G4765/12)))+(VLOOKUP(E4765,Param!$A$7:$E$13,5,0)*Fonct_Empl!H4765),2),\"\")","v":""}]
[null,null,null,null,null,null,null,null,{"$f":"IF(E4766<>\"\",ROUND((VLOOKUP(E4766,Param!$A$7:$E$13,4,0)*Fonct_Empl!F4766*((Fonct_Empl!G4766/12)))+(VLOOKUP(E4766,Param!$A$7:$E$13,5,0)*Fonct_Empl!H4766),2),\"\")","v":""}]
[null,null,null,null,null,null,null,null,{"$f":"IF(E4767<>\"\",ROUND((VLOOKUP(E4767,Param!$A$7:$E$13,4,0)*Fonct_Empl!F4767*((Fonct_Empl!G4767/12)))+(VLOOKUP(E4767,Param!$A$7:$E$13,5,0)*Fonct_Empl!H4767),2),\"\")","v":""}]
[null,null,null,null,null,null,null,null,{"$f":"IF(E4768<>\"\",ROUND((VLOOKUP(E4768,Param!$A$7:$E$13,4,0)*Fonct_Empl!F4768*((Fonct_Empl!G4768/12)))+(VLOOKUP(E4768,Param!$A$7:$E$13,5,0)*Fonct_Empl!H4768),2),\"\")","v":""}]
[null,null,null,null,null,null,null,null,{"$f":"IF(E4769<>\"\",ROUND((VLOOKUP(E4769,Param!$A$7:$E$13,4,0)*Fonct_Empl!F4769*((Fonct_Empl!G4769/12)))+(VLOOKUP(E4769,Param!$A$7:$E$13,5,0)*Fonct_Empl!H4769),2),\"\")","v":""}]
[null,null,null,null,null,null,null,null,{"$f":"IF(E4770<>\"\",ROUND((VLOOKUP(E4770,Param!$A$7:$E$13,4,0)*Fonct_Empl!F4770*((Fonct_Empl!G4770/12)))+(VLOOKUP(E4770,Param!$A$7:$E$13,5,0)*Fonct_Empl!H4770),2),\"\")","v":""}]
[null,null,null,null,null,null,null,null,{"$f":"IF(E4771<>\"\",ROUND((VLOOKUP(E4771,Param!$A$7:$E$13,4,0)*Fonct_Empl!F4771*((Fonct_Empl!G4771/12)))+(VLOOKUP(E4771,Param!$A$7:$E$13,5,0)*Fonct_Empl!H4771),2),\"\")","v":""}]
[null,null,null,null,null,null,null,null,{"$f":"IF(E4772<>\"\",ROUND((VLOOKUP(E4772,Param!$A$7:$E$13,4,0)*Fonct_Empl!F4772*((Fonct_Empl!G4772/12)))+(VLOOKUP(E4772,Param!$A$7:$E$13,5,0)*Fonct_Empl!H4772),2),\"\")","v":""}]
[null,null,null,null,null,null,null,null,{"$f":"IF(E4773<>\"\",ROUND((VLOOKUP(E4773,Param!$A$7:$E$13,4,0)*Fonct_Empl!F4773*((Fonct_Empl!G4773/12)))+(VLOOKUP(E4773,Param!$A$7:$E$13,5,0)*Fonct_Empl!H4773),2),\"\")","v":""}]
[null,null,null,null,null,null,null,null,{"$f":"IF(E4774<>\"\",ROUND((VLOOKUP(E4774,Param!$A$7:$E$13,4,0)*Fonct_Empl!F4774*((Fonct_Empl!G4774/12)))+(VLOOKUP(E4774,Param!$A$7:$E$13,5,0)*Fonct_Empl!H4774),2),\"\")","v":""}]
[null,null,null,null,null,null,null,null,{"$f":"IF(E4775<>\"\",ROUND((VLOOKUP(E4775,Param!$A$7:$E$13,4,0)*Fonct_Empl!F4775*((Fonct_Empl!G4775/12)))+(VLOOKUP(E4775,Param!$A$7:$E$13,5,0)*Fonct_Empl!H4775),2),\"\")","v":""}]
[null,null,null,null,null,null,null,null,{"$f":"IF(E4776<>\"\",ROUND((VLOOKUP(E4776,Param!$A$7:$E$13,4,0)*Fonct_Empl!F4776*((Fonct_Empl!G4776/12)))+(VLOOKUP(E4776,Param!$A$7:$E$13,5,0)*Fonct_Empl!H4776),2),\"\")","v":""}]
[null,null,null,null,null,null,null,null,{"$f":"IF(E4777<>\"\",ROUND((VLOOKUP(E4777,Param!$A$7:$E$13,4,0)*Fonct_Empl!F4777*((Fonct_Empl!G4777/12)))+(VLOOKUP(E4777,Param!$A$7:$E$13,5,0)*Fonct_Empl!H4777),2),\"\")","v":""}]
[null,null,null,null,null,null,null,null,{"$f":"IF(E4778<>\"\",ROUND((VLOOKUP(E4778,Param!$A$7:$E$13,4,0)*Fonct_Empl!F4778*((Fonct_Empl!G4778/12)))+(VLOOKUP(E4778,Param!$A$7:$E$13,5,0)*Fonct_Empl!H4778),2),\"\")","v":""}]
[null,null,null,null,null,null,null,null,{"$f":"IF(E4779<>\"\",ROUND((VLOOKUP(E4779,Param!$A$7:$E$13,4,0)*Fonct_Empl!F4779*((Fonct_Empl!G4779/12)))+(VLOOKUP(E4779,Param!$A$7:$E$13,5,0)*Fonct_Empl!H4779),2),\"\")","v":""}]
[null,null,null,null,null,null,null,null,{"$f":"IF(E4780<>\"\",ROUND((VLOOKUP(E4780,Param!$A$7:$E$13,4,0)*Fonct_Empl!F4780*((Fonct_Empl!G4780/12)))+(VLOOKUP(E4780,Param!$A$7:$E$13,5,0)*Fonct_Empl!H4780),2),\"\")","v":""}]
[null,null,null,null,null,null,null,null,{"$f":"IF(E4781<>\"\",ROUND((VLOOKUP(E4781,Param!$A$7:$E$13,4,0)*Fonct_Empl!F4781*((Fonct_Empl!G4781/12)))+(VLOOKUP(E4781,Param!$A$7:$E$13,5,0)*Fonct_Empl!H4781),2),\"\")","v":""}]
[null,null,null,null,null,null,null,null,{"$f":"IF(E4782<>\"\",ROUND((VLOOKUP(E4782,Param!$A$7:$E$13,4,0)*Fonct_Empl!F4782*((Fonct_Empl!G4782/12)))+(VLOOKUP(E4782,Param!$A$7:$E$13,5,0)*Fonct_Empl!H4782),2),\"\")","v":""}]
[null,null,null,null,null,null,null,null,{"$f":"IF(E4783<>\"\",ROUND((VLOOKUP(E4783,Param!$A$7:$E$13,4,0)*Fonct_Empl!F4783*((Fonct_Empl!G4783/12)))+(VLOOKUP(E4783,Param!$A$7:$E$13,5,0)*Fonct_Empl!H4783),2),\"\")","v":""}]
[null,null,null,null,null,null,null,null,{"$f":"IF(E4784<>\"\",ROUND((VLOOKUP(E4784,Param!$A$7:$E$13,4,0)*Fonct_Empl!F4784*((Fonct_Empl!G4784/12)))+(VLOOKUP(E4784,Param!$A$7:$E$13,5,0)*Fonct_Empl!H4784),2),\"\")","v":""}]
[null,null,null,null,null,null,null,null,{"$f":"IF(E4785<>\"\",ROUND((VLOOKUP(E4785,Param!$A$7:$E$13,4,0)*Fonct_Empl!F4785*((Fonct_Empl!G4785/12)))+(VLOOKUP(E4785,Param!$A$7:$E$13,5,0)*Fonct_Empl!H4785),2),\"\")","v":""}]
[null,null,null,null,null,null,null,null,{"$f":"IF(E4786<>\"\",ROUND((VLOOKUP(E4786,Param!$A$7:$E$13,4,0)*Fonct_Empl!F4786*((Fonct_Empl!G4786/12)))+(VLOOKUP(E4786,Param!$A$7:$E$13,5,0)*Fonct_Empl!H4786),2),\"\")","v":""}]
[null,null,null,null,null,null,null,null,{"$f":"IF(E4787<>\"\",ROUND((VLOOKUP(E4787,Param!$A$7:$E$13,4,0)*Fonct_Empl!F4787*((Fonct_Empl!G4787/12)))+(VLOOKUP(E4787,Param!$A$7:$E$13,5,0)*Fonct_Empl!H4787),2),\"\")","v":""}]
[null,null,null,null,null,null,null,null,{"$f":"IF(E4788<>\"\",ROUND((VLOOKUP(E4788,Param!$A$7:$E$13,4,0)*Fonct_Empl!F4788*((Fonct_Empl!G4788/12)))+(VLOOKUP(E4788,Param!$A$7:$E$13,5,0)*Fonct_Empl!H4788),2),\"\")","v":""}]
[null,null,null,null,null,null,null,null,{"$f":"IF(E4789<>\"\",ROUND((VLOOKUP(E4789,Param!$A$7:$E$13,4,0)*Fonct_Empl!F4789*((Fonct_Empl!G4789/12)))+(VLOOKUP(E4789,Param!$A$7:$E$13,5,0)*Fonct_Empl!H4789),2),\"\")","v":""}]
[null,null,null,null,null,null,null,null,{"$f":"IF(E4790<>\"\",ROUND((VLOOKUP(E4790,Param!$A$7:$E$13,4,0)*Fonct_Empl!F4790*((Fonct_Empl!G4790/12)))+(VLOOKUP(E4790,Param!$A$7:$E$13,5,0)*Fonct_Empl!H4790),2),\"\")","v":""}]
[null,null,null,null,null,null,null,null,{"$f":"IF(E4791<>\"\",ROUND((VLOOKUP(E4791,Param!$A$7:$E$13,4,0)*Fonct_Empl!F4791*((Fonct_Empl!G4791/12)))+(VLOOKUP(E4791,Param!$A$7:$E$13,5,0)*Fonct_Empl!H4791),2),\"\")","v":""}]
[null,null,null,null,null,null,null,null,{"$f":"IF(E4792<>\"\",ROUND((VLOOKUP(E4792,Param!$A$7:$E$13,4,0)*Fonct_Empl!F4792*((Fonct_Empl!G4792/12)))+(VLOOKUP(E4792,Param!$A$7:$E$13,5,0)*Fonct_Empl!H4792),2),\"\")","v":""}]
[null,null,null,null,null,null,null,null,{"$f":"IF(E4793<>\"\",ROUND((VLOOKUP(E4793,Param!$A$7:$E$13,4,0)*Fonct_Empl!F4793*((Fonct_Empl!G4793/12)))+(VLOOKUP(E4793,Param!$A$7:$E$13,5,0)*Fonct_Empl!H4793),2),\"\")","v":""}]
[null,null,null,null,null,null,null,null,{"$f":"IF(E4794<>\"\",ROUND((VLOOKUP(E4794,Param!$A$7:$E$13,4,0)*Fonct_Empl!F4794*((Fonct_Empl!G4794/12)))+(VLOOKUP(E4794,Param!$A$7:$E$13,5,0)*Fonct_Empl!H4794),2),\"\")","v":""}]
[null,null,null,null,null,null,null,null,{"$f":"IF(E4795<>\"\",ROUND((VLOOKUP(E4795,Param!$A$7:$E$13,4,0)*Fonct_Empl!F4795*((Fonct_Empl!G4795/12)))+(VLOOKUP(E4795,Param!$A$7:$E$13,5,0)*Fonct_Empl!H4795),2),\"\")","v":""}]
[null,null,null,null,null,null,null,null,{"$f":"IF(E4796<>\"\",ROUND((VLOOKUP(E4796,Param!$A$7:$E$13,4,0)*Fonct_Empl!F4796*((Fonct_Empl!G4796/12)))+(VLOOKUP(E4796,Param!$A$7:$E$13,5,0)*Fonct_Empl!H4796),2),\"\")","v":""}]
[null,null,null,null,null,null,null,null,{"$f":"IF(E4797<>\"\",ROUND((VLOOKUP(E4797,Param!$A$7:$E$13,4,0)*Fonct_Empl!F4797*((Fonct_Empl!G4797/12)))+(VLOOKUP(E4797,Param!$A$7:$E$13,5,0)*Fonct_Empl!H4797),2),\"\")","v":""}]
[null,null,null,null,null,null,null,null,{"$f":"IF(E4798<>\"\",ROUND((VLOOKUP(E4798,Param!$A$7:$E$13,4,0)*Fonct_Empl!F4798*((Fonct_Empl!G4798/12)))+(VLOOKUP(E4798,Param!$A$7:$E$13,5,0)*Fonct_Empl!H4798),2),\"\")","v":""}]
[null,null,null,null,null,null,null,null,{"$f":"IF(E4799<>\"\",ROUND((VLOOKUP(E4799,Param!$A$7:$E$13,4,0)*Fonct_Empl!F4799*((Fonct_Empl!G4799/12)))+(VLOOKUP(E4799,Param!$A$7:$E$13,5,0)*Fonct_Empl!H4799),2),\"\")","v":""}]
[null,null,null,null,null,null,null,null,{"$f":"IF(E4800<>\"\",ROUND((VLOOKUP(E4800,Param!$A$7:$E$13,4,0)*Fonct_Empl!F4800*((Fonct_Empl!G4800/12)))+(VLOOKUP(E4800,Param!$A$7:$E$13,5,0)*Fonct_Empl!H4800),2),\"\")","v":""}]
[null,null,null,null,null,null,null,null,{"$f":"IF(E4801<>\"\",ROUND((VLOOKUP(E4801,Param!$A$7:$E$13,4,0)*Fonct_Empl!F4801*((Fonct_Empl!G4801/12)))+(VLOOKUP(E4801,Param!$A$7:$E$13,5,0)*Fonct_Empl!H4801),2),\"\")","v":""}]
[null,null,null,null,null,null,null,null,{"$f":"IF(E4802<>\"\",ROUND((VLOOKUP(E4802,Param!$A$7:$E$13,4,0)*Fonct_Empl!F4802*((Fonct_Empl!G4802/12)))+(VLOOKUP(E4802,Param!$A$7:$E$13,5,0)*Fonct_Empl!H4802),2),\"\")","v":""}]
[null,null,null,null,null,null,null,null,{"$f":"IF(E4803<>\"\",ROUND((VLOOKUP(E4803,Param!$A$7:$E$13,4,0)*Fonct_Empl!F4803*((Fonct_Empl!G4803/12)))+(VLOOKUP(E4803,Param!$A$7:$E$13,5,0)*Fonct_Empl!H4803),2),\"\")","v":""}]
[null,null,null,null,null,null,null,null,{"$f":"IF(E4804<>\"\",ROUND((VLOOKUP(E4804,Param!$A$7:$E$13,4,0)*Fonct_Empl!F4804*((Fonct_Empl!G4804/12)))+(VLOOKUP(E4804,Param!$A$7:$E$13,5,0)*Fonct_Empl!H4804),2),\"\")","v":""}]
[null,null,null,null,null,null,null,null,{"$f":"IF(E4805<>\"\",ROUND((VLOOKUP(E4805,Param!$A$7:$E$13,4,0)*Fonct_Empl!F4805*((Fonct_Empl!G4805/12)))+(VLOOKUP(E4805,Param!$A$7:$E$13,5,0)*Fonct_Empl!H4805),2),\"\")","v":""}]
[null,null,null,null,null,null,null,null,{"$f":"IF(E4806<>\"\",ROUND((VLOOKUP(E4806,Param!$A$7:$E$13,4,0)*Fonct_Empl!F4806*((Fonct_Empl!G4806/12)))+(VLOOKUP(E4806,Param!$A$7:$E$13,5,0)*Fonct_Empl!H4806),2),\"\")","v":""}]
[null,null,null,null,null,null,null,null,{"$f":"IF(E4807<>\"\",ROUND((VLOOKUP(E4807,Param!$A$7:$E$13,4,0)*Fonct_Empl!F4807*((Fonct_Empl!G4807/12)))+(VLOOKUP(E4807,Param!$A$7:$E$13,5,0)*Fonct_Empl!H4807),2),\"\")","v":""}]
[null,null,null,null,null,null,null,null,{"$f":"IF(E4808<>\"\",ROUND((VLOOKUP(E4808,Param!$A$7:$E$13,4,0)*Fonct_Empl!F4808*((Fonct_Empl!G4808/12)))+(VLOOKUP(E4808,Param!$A$7:$E$13,5,0)*Fonct_Empl!H4808),2),\"\")","v":""}]
[null,null,null,null,null,null,null,null,{"$f":"IF(E4809<>\"\",ROUND((VLOOKUP(E4809,Param!$A$7:$E$13,4,0)*Fonct_Empl!F4809*((Fonct_Empl!G4809/12)))+(VLOOKUP(E4809,Param!$A$7:$E$13,5,0)*Fonct_Empl!H4809),2),\"\")","v":""}]
[null,null,null,null,null,null,null,null,{"$f":"IF(E4810<>\"\",ROUND((VLOOKUP(E4810,Param!$A$7:$E$13,4,0)*Fonct_Empl!F4810*((Fonct_Empl!G4810/12)))+(VLOOKUP(E4810,Param!$A$7:$E$13,5,0)*Fonct_Empl!H4810),2),\"\")","v":""}]
[null,null,null,null,null,null,null,null,{"$f":"IF(E4811<>\"\",ROUND((VLOOKUP(E4811,Param!$A$7:$E$13,4,0)*Fonct_Empl!F4811*((Fonct_Empl!G4811/12)))+(VLOOKUP(E4811,Param!$A$7:$E$13,5,0)*Fonct_Empl!H4811),2),\"\")","v":""}]
[null,null,null,null,null,null,null,null,{"$f":"IF(E4812<>\"\",ROUND((VLOOKUP(E4812,Param!$A$7:$E$13,4,0)*Fonct_Empl!F4812*((Fonct_Empl!G4812/12)))+(VLOOKUP(E4812,Param!$A$7:$E$13,5,0)*Fonct_Empl!H4812),2),\"\")","v":""}]
[null,null,null,null,null,null,null,null,{"$f":"IF(E4813<>\"\",ROUND((VLOOKUP(E4813,Param!$A$7:$E$13,4,0)*Fonct_Empl!F4813*((Fonct_Empl!G4813/12)))+(VLOOKUP(E4813,Param!$A$7:$E$13,5,0)*Fonct_Empl!H4813),2),\"\")","v":""}]
[null,null,null,null,null,null,null,null,{"$f":"IF(E4814<>\"\",ROUND((VLOOKUP(E4814,Param!$A$7:$E$13,4,0)*Fonct_Empl!F4814*((Fonct_Empl!G4814/12)))+(VLOOKUP(E4814,Param!$A$7:$E$13,5,0)*Fonct_Empl!H4814),2),\"\")","v":""}]
[null,null,null,null,null,null,null,null,{"$f":"IF(E4815<>\"\",ROUND((VLOOKUP(E4815,Param!$A$7:$E$13,4,0)*Fonct_Empl!F4815*((Fonct_Empl!G4815/12)))+(VLOOKUP(E4815,Param!$A$7:$E$13,5,0)*Fonct_Empl!H4815),2),\"\")","v":""}]
[null,null,null,null,null,null,null,null,{"$f":"IF(E4816<>\"\",ROUND((VLOOKUP(E4816,Param!$A$7:$E$13,4,0)*Fonct_Empl!F4816*((Fonct_Empl!G4816/12)))+(VLOOKUP(E4816,Param!$A$7:$E$13,5,0)*Fonct_Empl!H4816),2),\"\")","v":""}]
[null,null,null,null,null,null,null,null,{"$f":"IF(E4817<>\"\",ROUND((VLOOKUP(E4817,Param!$A$7:$E$13,4,0)*Fonct_Empl!F4817*((Fonct_Empl!G4817/12)))+(VLOOKUP(E4817,Param!$A$7:$E$13,5,0)*Fonct_Empl!H4817),2),\"\")","v":""}]
[null,null,null,null,null,null,null,null,{"$f":"IF(E4818<>\"\",ROUND((VLOOKUP(E4818,Param!$A$7:$E$13,4,0)*Fonct_Empl!F4818*((Fonct_Empl!G4818/12)))+(VLOOKUP(E4818,Param!$A$7:$E$13,5,0)*Fonct_Empl!H4818),2),\"\")","v":""}]
[null,null,null,null,null,null,null,null,{"$f":"IF(E4819<>\"\",ROUND((VLOOKUP(E4819,Param!$A$7:$E$13,4,0)*Fonct_Empl!F4819*((Fonct_Empl!G4819/12)))+(VLOOKUP(E4819,Param!$A$7:$E$13,5,0)*Fonct_Empl!H4819),2),\"\")","v":""}]
[null,null,null,null,null,null,null,null,{"$f":"IF(E4820<>\"\",ROUND((VLOOKUP(E4820,Param!$A$7:$E$13,4,0)*Fonct_Empl!F4820*((Fonct_Empl!G4820/12)))+(VLOOKUP(E4820,Param!$A$7:$E$13,5,0)*Fonct_Empl!H4820),2),\"\")","v":""}]
[null,null,null,null,null,null,null,null,{"$f":"IF(E4821<>\"\",ROUND((VLOOKUP(E4821,Param!$A$7:$E$13,4,0)*Fonct_Empl!F4821*((Fonct_Empl!G4821/12)))+(VLOOKUP(E4821,Param!$A$7:$E$13,5,0)*Fonct_Empl!H4821),2),\"\")","v":""}]
[null,null,null,null,null,null,null,null,{"$f":"IF(E4822<>\"\",ROUND((VLOOKUP(E4822,Param!$A$7:$E$13,4,0)*Fonct_Empl!F4822*((Fonct_Empl!G4822/12)))+(VLOOKUP(E4822,Param!$A$7:$E$13,5,0)*Fonct_Empl!H4822),2),\"\")","v":""}]
[null,null,null,null,null,null,null,null,{"$f":"IF(E4823<>\"\",ROUND((VLOOKUP(E4823,Param!$A$7:$E$13,4,0)*Fonct_Empl!F4823*((Fonct_Empl!G4823/12)))+(VLOOKUP(E4823,Param!$A$7:$E$13,5,0)*Fonct_Empl!H4823),2),\"\")","v":""}]
[null,null,null,null,null,null,null,null,{"$f":"IF(E4824<>\"\",ROUND((VLOOKUP(E4824,Param!$A$7:$E$13,4,0)*Fonct_Empl!F4824*((Fonct_Empl!G4824/12)))+(VLOOKUP(E4824,Param!$A$7:$E$13,5,0)*Fonct_Empl!H4824),2),\"\")","v":""}]
[null,null,null,null,null,null,null,null,{"$f":"IF(E4825<>\"\",ROUND((VLOOKUP(E4825,Param!$A$7:$E$13,4,0)*Fonct_Empl!F4825*((Fonct_Empl!G4825/12)))+(VLOOKUP(E4825,Param!$A$7:$E$13,5,0)*Fonct_Empl!H4825),2),\"\")","v":""}]
[null,null,null,null,null,null,null,null,{"$f":"IF(E4826<>\"\",ROUND((VLOOKUP(E4826,Param!$A$7:$E$13,4,0)*Fonct_Empl!F4826*((Fonct_Empl!G4826/12)))+(VLOOKUP(E4826,Param!$A$7:$E$13,5,0)*Fonct_Empl!H4826),2),\"\")","v":""}]
[null,null,null,null,null,null,null,null,{"$f":"IF(E4827<>\"\",ROUND((VLOOKUP(E4827,Param!$A$7:$E$13,4,0)*Fonct_Empl!F4827*((Fonct_Empl!G4827/12)))+(VLOOKUP(E4827,Param!$A$7:$E$13,5,0)*Fonct_Empl!H4827),2),\"\")","v":""}]
[null,null,null,null,null,null,null,null,{"$f":"IF(E4828<>\"\",ROUND((VLOOKUP(E4828,Param!$A$7:$E$13,4,0)*Fonct_Empl!F4828*((Fonct_Empl!G4828/12)))+(VLOOKUP(E4828,Param!$A$7:$E$13,5,0)*Fonct_Empl!H4828),2),\"\")","v":""}]
[null,null,null,null,null,null,null,null,{"$f":"IF(E4829<>\"\",ROUND((VLOOKUP(E4829,Param!$A$7:$E$13,4,0)*Fonct_Empl!F4829*((Fonct_Empl!G4829/12)))+(VLOOKUP(E4829,Param!$A$7:$E$13,5,0)*Fonct_Empl!H4829),2),\"\")","v":""}]
[null,null,null,null,null,null,null,null,{"$f":"IF(E4830<>\"\",ROUND((VLOOKUP(E4830,Param!$A$7:$E$13,4,0)*Fonct_Empl!F4830*((Fonct_Empl!G4830/12)))+(VLOOKUP(E4830,Param!$A$7:$E$13,5,0)*Fonct_Empl!H4830),2),\"\")","v":""}]
[null,null,null,null,null,null,null,null,{"$f":"IF(E4831<>\"\",ROUND((VLOOKUP(E4831,Param!$A$7:$E$13,4,0)*Fonct_Empl!F4831*((Fonct_Empl!G4831/12)))+(VLOOKUP(E4831,Param!$A$7:$E$13,5,0)*Fonct_Empl!H4831),2),\"\")","v":""}]
[null,null,null,null,null,null,null,null,{"$f":"IF(E4832<>\"\",ROUND((VLOOKUP(E4832,Param!$A$7:$E$13,4,0)*Fonct_Empl!F4832*((Fonct_Empl!G4832/12)))+(VLOOKUP(E4832,Param!$A$7:$E$13,5,0)*Fonct_Empl!H4832),2),\"\")","v":""}]
[null,null,null,null,null,null,null,null,{"$f":"IF(E4833<>\"\",ROUND((VLOOKUP(E4833,Param!$A$7:$E$13,4,0)*Fonct_Empl!F4833*((Fonct_Empl!G4833/12)))+(VLOOKUP(E4833,Param!$A$7:$E$13,5,0)*Fonct_Empl!H4833),2),\"\")","v":""}]
[null,null,null,null,null,null,null,null,{"$f":"IF(E4834<>\"\",ROUND((VLOOKUP(E4834,Param!$A$7:$E$13,4,0)*Fonct_Empl!F4834*((Fonct_Empl!G4834/12)))+(VLOOKUP(E4834,Param!$A$7:$E$13,5,0)*Fonct_Empl!H4834),2),\"\")","v":""}]
[null,null,null,null,null,null,null,null,{"$f":"IF(E4835<>\"\",ROUND((VLOOKUP(E4835,Param!$A$7:$E$13,4,0)*Fonct_Empl!F4835*((Fonct_Empl!G4835/12)))+(VLOOKUP(E4835,Param!$A$7:$E$13,5,0)*Fonct_Empl!H4835),2),\"\")","v":""}]
[null,null,null,null,null,null,null,null,{"$f":"IF(E4836<>\"\",ROUND((VLOOKUP(E4836,Param!$A$7:$E$13,4,0)*Fonct_Empl!F4836*((Fonct_Empl!G4836/12)))+(VLOOKUP(E4836,Param!$A$7:$E$13,5,0)*Fonct_Empl!H4836),2),\"\")","v":""}]
[null,null,null,null,null,null,null,null,{"$f":"IF(E4837<>\"\",ROUND((VLOOKUP(E4837,Param!$A$7:$E$13,4,0)*Fonct_Empl!F4837*((Fonct_Empl!G4837/12)))+(VLOOKUP(E4837,Param!$A$7:$E$13,5,0)*Fonct_Empl!H4837),2),\"\")","v":""}]
[null,null,null,null,null,null,null,null,{"$f":"IF(E4838<>\"\",ROUND((VLOOKUP(E4838,Param!$A$7:$E$13,4,0)*Fonct_Empl!F4838*((Fonct_Empl!G4838/12)))+(VLOOKUP(E4838,Param!$A$7:$E$13,5,0)*Fonct_Empl!H4838),2),\"\")","v":""}]
[null,null,null,null,null,null,null,null,{"$f":"IF(E4839<>\"\",ROUND((VLOOKUP(E4839,Param!$A$7:$E$13,4,0)*Fonct_Empl!F4839*((Fonct_Empl!G4839/12)))+(VLOOKUP(E4839,Param!$A$7:$E$13,5,0)*Fonct_Empl!H4839),2),\"\")","v":""}]
[null,null,null,null,null,null,null,null,{"$f":"IF(E4840<>\"\",ROUND((VLOOKUP(E4840,Param!$A$7:$E$13,4,0)*Fonct_Empl!F4840*((Fonct_Empl!G4840/12)))+(VLOOKUP(E4840,Param!$A$7:$E$13,5,0)*Fonct_Empl!H4840),2),\"\")","v":""}]
[null,null,null,null,null,null,null,null,{"$f":"IF(E4841<>\"\",ROUND((VLOOKUP(E4841,Param!$A$7:$E$13,4,0)*Fonct_Empl!F4841*((Fonct_Empl!G4841/12)))+(VLOOKUP(E4841,Param!$A$7:$E$13,5,0)*Fonct_Empl!H4841),2),\"\")","v":""}]
[null,null,null,null,null,null,null,null,{"$f":"IF(E4842<>\"\",ROUND((VLOOKUP(E4842,Param!$A$7:$E$13,4,0)*Fonct_Empl!F4842*((Fonct_Empl!G4842/12)))+(VLOOKUP(E4842,Param!$A$7:$E$13,5,0)*Fonct_Empl!H4842),2),\"\")","v":""}]
[null,null,null,null,null,null,null,null,{"$f":"IF(E4843<>\"\",ROUND((VLOOKUP(E4843,Param!$A$7:$E$13,4,0)*Fonct_Empl!F4843*((Fonct_Empl!G4843/12)))+(VLOOKUP(E4843,Param!$A$7:$E$13,5,0)*Fonct_Empl!H4843),2),\"\")","v":""}]
[null,null,null,null,null,null,null,null,{"$f":"IF(E4844<>\"\",ROUND((VLOOKUP(E4844,Param!$A$7:$E$13,4,0)*Fonct_Empl!F4844*((Fonct_Empl!G4844/12)))+(VLOOKUP(E4844,Param!$A$7:$E$13,5,0)*Fonct_Empl!H4844),2),\"\")","v":""}]
[null,null,null,null,null,null,null,null,{"$f":"IF(E4845<>\"\",ROUND((VLOOKUP(E4845,Param!$A$7:$E$13,4,0)*Fonct_Empl!F4845*((Fonct_Empl!G4845/12)))+(VLOOKUP(E4845,Param!$A$7:$E$13,5,0)*Fonct_Empl!H4845),2),\"\")","v":""}]
[null,null,null,null,null,null,null,null,{"$f":"IF(E4846<>\"\",ROUND((VLOOKUP(E4846,Param!$A$7:$E$13,4,0)*Fonct_Empl!F4846*((Fonct_Empl!G4846/12)))+(VLOOKUP(E4846,Param!$A$7:$E$13,5,0)*Fonct_Empl!H4846),2),\"\")","v":""}]
[null,null,null,null,null,null,null,null,{"$f":"IF(E4847<>\"\",ROUND((VLOOKUP(E4847,Param!$A$7:$E$13,4,0)*Fonct_Empl!F4847*((Fonct_Empl!G4847/12)))+(VLOOKUP(E4847,Param!$A$7:$E$13,5,0)*Fonct_Empl!H4847),2),\"\")","v":""}]
[null,null,null,null,null,null,null,null,{"$f":"IF(E4848<>\"\",ROUND((VLOOKUP(E4848,Param!$A$7:$E$13,4,0)*Fonct_Empl!F4848*((Fonct_Empl!G4848/12)))+(VLOOKUP(E4848,Param!$A$7:$E$13,5,0)*Fonct_Empl!H4848),2),\"\")","v":""}]
[null,null,null,null,null,null,null,null,{"$f":"IF(E4849<>\"\",ROUND((VLOOKUP(E4849,Param!$A$7:$E$13,4,0)*Fonct_Empl!F4849*((Fonct_Empl!G4849/12)))+(VLOOKUP(E4849,Param!$A$7:$E$13,5,0)*Fonct_Empl!H4849),2),\"\")","v":""}]
[null,null,null,null,null,null,null,null,{"$f":"IF(E4850<>\"\",ROUND((VLOOKUP(E4850,Param!$A$7:$E$13,4,0)*Fonct_Empl!F4850*((Fonct_Empl!G4850/12)))+(VLOOKUP(E4850,Param!$A$7:$E$13,5,0)*Fonct_Empl!H4850),2),\"\")","v":""}]
[null,null,null,null,null,null,null,null,{"$f":"IF(E4851<>\"\",ROUND((VLOOKUP(E4851,Param!$A$7:$E$13,4,0)*Fonct_Empl!F4851*((Fonct_Empl!G4851/12)))+(VLOOKUP(E4851,Param!$A$7:$E$13,5,0)*Fonct_Empl!H4851),2),\"\")","v":""}]
[null,null,null,null,null,null,null,null,{"$f":"IF(E4852<>\"\",ROUND((VLOOKUP(E4852,Param!$A$7:$E$13,4,0)*Fonct_Empl!F4852*((Fonct_Empl!G4852/12)))+(VLOOKUP(E4852,Param!$A$7:$E$13,5,0)*Fonct_Empl!H4852),2),\"\")","v":""}]
[null,null,null,null,null,null,null,null,{"$f":"IF(E4853<>\"\",ROUND((VLOOKUP(E4853,Param!$A$7:$E$13,4,0)*Fonct_Empl!F4853*((Fonct_Empl!G4853/12)))+(VLOOKUP(E4853,Param!$A$7:$E$13,5,0)*Fonct_Empl!H4853),2),\"\")","v":""}]
[null,null,null,null,null,null,null,null,{"$f":"IF(E4854<>\"\",ROUND((VLOOKUP(E4854,Param!$A$7:$E$13,4,0)*Fonct_Empl!F4854*((Fonct_Empl!G4854/12)))+(VLOOKUP(E4854,Param!$A$7:$E$13,5,0)*Fonct_Empl!H4854),2),\"\")","v":""}]
[null,null,null,null,null,null,null,null,{"$f":"IF(E4855<>\"\",ROUND((VLOOKUP(E4855,Param!$A$7:$E$13,4,0)*Fonct_Empl!F4855*((Fonct_Empl!G4855/12)))+(VLOOKUP(E4855,Param!$A$7:$E$13,5,0)*Fonct_Empl!H4855),2),\"\")","v":""}]
[null,null,null,null,null,null,null,null,{"$f":"IF(E4856<>\"\",ROUND((VLOOKUP(E4856,Param!$A$7:$E$13,4,0)*Fonct_Empl!F4856*((Fonct_Empl!G4856/12)))+(VLOOKUP(E4856,Param!$A$7:$E$13,5,0)*Fonct_Empl!H4856),2),\"\")","v":""}]
[null,null,null,null,null,null,null,null,{"$f":"IF(E4857<>\"\",ROUND((VLOOKUP(E4857,Param!$A$7:$E$13,4,0)*Fonct_Empl!F4857*((Fonct_Empl!G4857/12)))+(VLOOKUP(E4857,Param!$A$7:$E$13,5,0)*Fonct_Empl!H4857),2),\"\")","v":""}]
[null,null,null,null,null,null,null,null,{"$f":"IF(E4858<>\"\",ROUND((VLOOKUP(E4858,Param!$A$7:$E$13,4,0)*Fonct_Empl!F4858*((Fonct_Empl!G4858/12)))+(VLOOKUP(E4858,Param!$A$7:$E$13,5,0)*Fonct_Empl!H4858),2),\"\")","v":""}]
[null,null,null,null,null,null,null,null,{"$f":"IF(E4859<>\"\",ROUND((VLOOKUP(E4859,Param!$A$7:$E$13,4,0)*Fonct_Empl!F4859*((Fonct_Empl!G4859/12)))+(VLOOKUP(E4859,Param!$A$7:$E$13,5,0)*Fonct_Empl!H4859),2),\"\")","v":""}]
[null,null,null,null,null,null,null,null,{"$f":"IF(E4860<>\"\",ROUND((VLOOKUP(E4860,Param!$A$7:$E$13,4,0)*Fonct_Empl!F4860*((Fonct_Empl!G4860/12)))+(VLOOKUP(E4860,Param!$A$7:$E$13,5,0)*Fonct_Empl!H4860),2),\"\")","v":""}]
[null,null,null,null,null,null,null,null,{"$f":"IF(E4861<>\"\",ROUND((VLOOKUP(E4861,Param!$A$7:$E$13,4,0)*Fonct_Empl!F4861*((Fonct_Empl!G4861/12)))+(VLOOKUP(E4861,Param!$A$7:$E$13,5,0)*Fonct_Empl!H4861),2),\"\")","v":""}]
[null,null,null,null,null,null,null,null,{"$f":"IF(E4862<>\"\",ROUND((VLOOKUP(E4862,Param!$A$7:$E$13,4,0)*Fonct_Empl!F4862*((Fonct_Empl!G4862/12)))+(VLOOKUP(E4862,Param!$A$7:$E$13,5,0)*Fonct_Empl!H4862),2),\"\")","v":""}]
[null,null,null,null,null,null,null,null,{"$f":"IF(E4863<>\"\",ROUND((VLOOKUP(E4863,Param!$A$7:$E$13,4,0)*Fonct_Empl!F4863*((Fonct_Empl!G4863/12)))+(VLOOKUP(E4863,Param!$A$7:$E$13,5,0)*Fonct_Empl!H4863),2),\"\")","v":""}]
[null,null,null,null,null,null,null,null,{"$f":"IF(E4864<>\"\",ROUND((VLOOKUP(E4864,Param!$A$7:$E$13,4,0)*Fonct_Empl!F4864*((Fonct_Empl!G4864/12)))+(VLOOKUP(E4864,Param!$A$7:$E$13,5,0)*Fonct_Empl!H4864),2),\"\")","v":""}]
[null,null,null,null,null,null,null,null,{"$f":"IF(E4865<>\"\",ROUND((VLOOKUP(E4865,Param!$A$7:$E$13,4,0)*Fonct_Empl!F4865*((Fonct_Empl!G4865/12)))+(VLOOKUP(E4865,Param!$A$7:$E$13,5,0)*Fonct_Empl!H4865),2),\"\")","v":""}]
[null,null,null,null,null,null,null,null,{"$f":"IF(E4866<>\"\",ROUND((VLOOKUP(E4866,Param!$A$7:$E$13,4,0)*Fonct_Empl!F4866*((Fonct_Empl!G4866/12)))+(VLOOKUP(E4866,Param!$A$7:$E$13,5,0)*Fonct_Empl!H4866),2),\"\")","v":""}]
[null,null,null,null,null,null,null,null,{"$f":"IF(E4867<>\"\",ROUND((VLOOKUP(E4867,Param!$A$7:$E$13,4,0)*Fonct_Empl!F4867*((Fonct_Empl!G4867/12)))+(VLOOKUP(E4867,Param!$A$7:$E$13,5,0)*Fonct_Empl!H4867),2),\"\")","v":""}]
[null,null,null,null,null,null,null,null,{"$f":"IF(E4868<>\"\",ROUND((VLOOKUP(E4868,Param!$A$7:$E$13,4,0)*Fonct_Empl!F4868*((Fonct_Empl!G4868/12)))+(VLOOKUP(E4868,Param!$A$7:$E$13,5,0)*Fonct_Empl!H4868),2),\"\")","v":""}]
[null,null,null,null,null,null,null,null,{"$f":"IF(E4869<>\"\",ROUND((VLOOKUP(E4869,Param!$A$7:$E$13,4,0)*Fonct_Empl!F4869*((Fonct_Empl!G4869/12)))+(VLOOKUP(E4869,Param!$A$7:$E$13,5,0)*Fonct_Empl!H4869),2),\"\")","v":""}]
[null,null,null,null,null,null,null,null,{"$f":"IF(E4870<>\"\",ROUND((VLOOKUP(E4870,Param!$A$7:$E$13,4,0)*Fonct_Empl!F4870*((Fonct_Empl!G4870/12)))+(VLOOKUP(E4870,Param!$A$7:$E$13,5,0)*Fonct_Empl!H4870),2),\"\")","v":""}]
[null,null,null,null,null,null,null,null,{"$f":"IF(E4871<>\"\",ROUND((VLOOKUP(E4871,Param!$A$7:$E$13,4,0)*Fonct_Empl!F4871*((Fonct_Empl!G4871/12)))+(VLOOKUP(E4871,Param!$A$7:$E$13,5,0)*Fonct_Empl!H4871),2),\"\")","v":""}]
[null,null,null,null,null,null,null,null,{"$f":"IF(E4872<>\"\",ROUND((VLOOKUP(E4872,Param!$A$7:$E$13,4,0)*Fonct_Empl!F4872*((Fonct_Empl!G4872/12)))+(VLOOKUP(E4872,Param!$A$7:$E$13,5,0)*Fonct_Empl!H4872),2),\"\")","v":""}]
[null,null,null,null,null,null,null,null,{"$f":"IF(E4873<>\"\",ROUND((VLOOKUP(E4873,Param!$A$7:$E$13,4,0)*Fonct_Empl!F4873*((Fonct_Empl!G4873/12)))+(VLOOKUP(E4873,Param!$A$7:$E$13,5,0)*Fonct_Empl!H4873),2),\"\")","v":""}]
[null,null,null,null,null,null,null,null,{"$f":"IF(E4874<>\"\",ROUND((VLOOKUP(E4874,Param!$A$7:$E$13,4,0)*Fonct_Empl!F4874*((Fonct_Empl!G4874/12)))+(VLOOKUP(E4874,Param!$A$7:$E$13,5,0)*Fonct_Empl!H4874),2),\"\")","v":""}]
[null,null,null,null,null,null,null,null,{"$f":"IF(E4875<>\"\",ROUND((VLOOKUP(E4875,Param!$A$7:$E$13,4,0)*Fonct_Empl!F4875*((Fonct_Empl!G4875/12)))+(VLOOKUP(E4875,Param!$A$7:$E$13,5,0)*Fonct_Empl!H4875),2),\"\")","v":""}]
[null,null,null,null,null,null,null,null,{"$f":"IF(E4876<>\"\",ROUND((VLOOKUP(E4876,Param!$A$7:$E$13,4,0)*Fonct_Empl!F4876*((Fonct_Empl!G4876/12)))+(VLOOKUP(E4876,Param!$A$7:$E$13,5,0)*Fonct_Empl!H4876),2),\"\")","v":""}]
[null,null,null,null,null,null,null,null,{"$f":"IF(E4877<>\"\",ROUND((VLOOKUP(E4877,Param!$A$7:$E$13,4,0)*Fonct_Empl!F4877*((Fonct_Empl!G4877/12)))+(VLOOKUP(E4877,Param!$A$7:$E$13,5,0)*Fonct_Empl!H4877),2),\"\")","v":""}]
[null,null,null,null,null,null,null,null,{"$f":"IF(E4878<>\"\",ROUND((VLOOKUP(E4878,Param!$A$7:$E$13,4,0)*Fonct_Empl!F4878*((Fonct_Empl!G4878/12)))+(VLOOKUP(E4878,Param!$A$7:$E$13,5,0)*Fonct_Empl!H4878),2),\"\")","v":""}]
[null,null,null,null,null,null,null,null,{"$f":"IF(E4879<>\"\",ROUND((VLOOKUP(E4879,Param!$A$7:$E$13,4,0)*Fonct_Empl!F4879*((Fonct_Empl!G4879/12)))+(VLOOKUP(E4879,Param!$A$7:$E$13,5,0)*Fonct_Empl!H4879),2),\"\")","v":""}]
[null,null,null,null,null,null,null,null,{"$f":"IF(E4880<>\"\",ROUND((VLOOKUP(E4880,Param!$A$7:$E$13,4,0)*Fonct_Empl!F4880*((Fonct_Empl!G4880/12)))+(VLOOKUP(E4880,Param!$A$7:$E$13,5,0)*Fonct_Empl!H4880),2),\"\")","v":""}]
[null,null,null,null,null,null,null,null,{"$f":"IF(E4881<>\"\",ROUND((VLOOKUP(E4881,Param!$A$7:$E$13,4,0)*Fonct_Empl!F4881*((Fonct_Empl!G4881/12)))+(VLOOKUP(E4881,Param!$A$7:$E$13,5,0)*Fonct_Empl!H4881),2),\"\")","v":""}]
[null,null,null,null,null,null,null,null,{"$f":"IF(E4882<>\"\",ROUND((VLOOKUP(E4882,Param!$A$7:$E$13,4,0)*Fonct_Empl!F4882*((Fonct_Empl!G4882/12)))+(VLOOKUP(E4882,Param!$A$7:$E$13,5,0)*Fonct_Empl!H4882),2),\"\")","v":""}]
[null,null,null,null,null,null,null,null,{"$f":"IF(E4883<>\"\",ROUND((VLOOKUP(E4883,Param!$A$7:$E$13,4,0)*Fonct_Empl!F4883*((Fonct_Empl!G4883/12)))+(VLOOKUP(E4883,Param!$A$7:$E$13,5,0)*Fonct_Empl!H4883),2),\"\")","v":""}]
[null,null,null,null,null,null,null,null,{"$f":"IF(E4884<>\"\",ROUND((VLOOKUP(E4884,Param!$A$7:$E$13,4,0)*Fonct_Empl!F4884*((Fonct_Empl!G4884/12)))+(VLOOKUP(E4884,Param!$A$7:$E$13,5,0)*Fonct_Empl!H4884),2),\"\")","v":""}]
[null,null,null,null,null,null,null,null,{"$f":"IF(E4885<>\"\",ROUND((VLOOKUP(E4885,Param!$A$7:$E$13,4,0)*Fonct_Empl!F4885*((Fonct_Empl!G4885/12)))+(VLOOKUP(E4885,Param!$A$7:$E$13,5,0)*Fonct_Empl!H4885),2),\"\")","v":""}]
[null,null,null,null,null,null,null,null,{"$f":"IF(E4886<>\"\",ROUND((VLOOKUP(E4886,Param!$A$7:$E$13,4,0)*Fonct_Empl!F4886*((Fonct_Empl!G4886/12)))+(VLOOKUP(E4886,Param!$A$7:$E$13,5,0)*Fonct_Empl!H4886),2),\"\")","v":""}]
[null,null,null,null,null,null,null,null,{"$f":"IF(E4887<>\"\",ROUND((VLOOKUP(E4887,Param!$A$7:$E$13,4,0)*Fonct_Empl!F4887*((Fonct_Empl!G4887/12)))+(VLOOKUP(E4887,Param!$A$7:$E$13,5,0)*Fonct_Empl!H4887),2),\"\")","v":""}]
[null,null,null,null,null,null,null,null,{"$f":"IF(E4888<>\"\",ROUND((VLOOKUP(E4888,Param!$A$7:$E$13,4,0)*Fonct_Empl!F4888*((Fonct_Empl!G4888/12)))+(VLOOKUP(E4888,Param!$A$7:$E$13,5,0)*Fonct_Empl!H4888),2),\"\")","v":""}]
[null,null,null,null,null,null,null,null,{"$f":"IF(E4889<>\"\",ROUND((VLOOKUP(E4889,Param!$A$7:$E$13,4,0)*Fonct_Empl!F4889*((Fonct_Empl!G4889/12)))+(VLOOKUP(E4889,Param!$A$7:$E$13,5,0)*Fonct_Empl!H4889),2),\"\")","v":""}]
[null,null,null,null,null,null,null,null,{"$f":"IF(E4890<>\"\",ROUND((VLOOKUP(E4890,Param!$A$7:$E$13,4,0)*Fonct_Empl!F4890*((Fonct_Empl!G4890/12)))+(VLOOKUP(E4890,Param!$A$7:$E$13,5,0)*Fonct_Empl!H4890),2),\"\")","v":""}]
[null,null,null,null,null,null,null,null,{"$f":"IF(E4891<>\"\",ROUND((VLOOKUP(E4891,Param!$A$7:$E$13,4,0)*Fonct_Empl!F4891*((Fonct_Empl!G4891/12)))+(VLOOKUP(E4891,Param!$A$7:$E$13,5,0)*Fonct_Empl!H4891),2),\"\")","v":""}]
[null,null,null,null,null,null,null,null,{"$f":"IF(E4892<>\"\",ROUND((VLOOKUP(E4892,Param!$A$7:$E$13,4,0)*Fonct_Empl!F4892*((Fonct_Empl!G4892/12)))+(VLOOKUP(E4892,Param!$A$7:$E$13,5,0)*Fonct_Empl!H4892),2),\"\")","v":""}]
[null,null,null,null,null,null,null,null,{"$f":"IF(E4893<>\"\",ROUND((VLOOKUP(E4893,Param!$A$7:$E$13,4,0)*Fonct_Empl!F4893*((Fonct_Empl!G4893/12)))+(VLOOKUP(E4893,Param!$A$7:$E$13,5,0)*Fonct_Empl!H4893),2),\"\")","v":""}]
[null,null,null,null,null,null,null,null,{"$f":"IF(E4894<>\"\",ROUND((VLOOKUP(E4894,Param!$A$7:$E$13,4,0)*Fonct_Empl!F4894*((Fonct_Empl!G4894/12)))+(VLOOKUP(E4894,Param!$A$7:$E$13,5,0)*Fonct_Empl!H4894),2),\"\")","v":""}]
[null,null,null,null,null,null,null,null,{"$f":"IF(E4895<>\"\",ROUND((VLOOKUP(E4895,Param!$A$7:$E$13,4,0)*Fonct_Empl!F4895*((Fonct_Empl!G4895/12)))+(VLOOKUP(E4895,Param!$A$7:$E$13,5,0)*Fonct_Empl!H4895),2),\"\")","v":""}]
[null,null,null,null,null,null,null,null,{"$f":"IF(E4896<>\"\",ROUND((VLOOKUP(E4896,Param!$A$7:$E$13,4,0)*Fonct_Empl!F4896*((Fonct_Empl!G4896/12)))+(VLOOKUP(E4896,Param!$A$7:$E$13,5,0)*Fonct_Empl!H4896),2),\"\")","v":""}]
[null,null,null,null,null,null,null,null,{"$f":"IF(E4897<>\"\",ROUND((VLOOKUP(E4897,Param!$A$7:$E$13,4,0)*Fonct_Empl!F4897*((Fonct_Empl!G4897/12)))+(VLOOKUP(E4897,Param!$A$7:$E$13,5,0)*Fonct_Empl!H4897),2),\"\")","v":""}]
[null,null,null,null,null,null,null,null,{"$f":"IF(E4898<>\"\",ROUND((VLOOKUP(E4898,Param!$A$7:$E$13,4,0)*Fonct_Empl!F4898*((Fonct_Empl!G4898/12)))+(VLOOKUP(E4898,Param!$A$7:$E$13,5,0)*Fonct_Empl!H4898),2),\"\")","v":""}]
[null,null,null,null,null,null,null,null,{"$f":"IF(E4899<>\"\",ROUND((VLOOKUP(E4899,Param!$A$7:$E$13,4,0)*Fonct_Empl!F4899*((Fonct_Empl!G4899/12)))+(VLOOKUP(E4899,Param!$A$7:$E$13,5,0)*Fonct_Empl!H4899),2),\"\")","v":""}]
[null,null,null,null,null,null,null,null,{"$f":"IF(E4900<>\"\",ROUND((VLOOKUP(E4900,Param!$A$7:$E$13,4,0)*Fonct_Empl!F4900*((Fonct_Empl!G4900/12)))+(VLOOKUP(E4900,Param!$A$7:$E$13,5,0)*Fonct_Empl!H4900),2),\"\")","v":""}]
[null,null,null,null,null,null,null,null,{"$f":"IF(E4901<>\"\",ROUND((VLOOKUP(E4901,Param!$A$7:$E$13,4,0)*Fonct_Empl!F4901*((Fonct_Empl!G4901/12)))+(VLOOKUP(E4901,Param!$A$7:$E$13,5,0)*Fonct_Empl!H4901),2),\"\")","v":""}]
[null,null,null,null,null,null,null,null,{"$f":"IF(E4902<>\"\",ROUND((VLOOKUP(E4902,Param!$A$7:$E$13,4,0)*Fonct_Empl!F4902*((Fonct_Empl!G4902/12)))+(VLOOKUP(E4902,Param!$A$7:$E$13,5,0)*Fonct_Empl!H4902),2),\"\")","v":""}]
[null,null,null,null,null,null,null,null,{"$f":"IF(E4903<>\"\",ROUND((VLOOKUP(E4903,Param!$A$7:$E$13,4,0)*Fonct_Empl!F4903*((Fonct_Empl!G4903/12)))+(VLOOKUP(E4903,Param!$A$7:$E$13,5,0)*Fonct_Empl!H4903),2),\"\")","v":""}]
[null,null,null,null,null,null,null,null,{"$f":"IF(E4904<>\"\",ROUND((VLOOKUP(E4904,Param!$A$7:$E$13,4,0)*Fonct_Empl!F4904*((Fonct_Empl!G4904/12)))+(VLOOKUP(E4904,Param!$A$7:$E$13,5,0)*Fonct_Empl!H4904),2),\"\")","v":""}]
[null,null,null,null,null,null,null,null,{"$f":"IF(E4905<>\"\",ROUND((VLOOKUP(E4905,Param!$A$7:$E$13,4,0)*Fonct_Empl!F4905*((Fonct_Empl!G4905/12)))+(VLOOKUP(E4905,Param!$A$7:$E$13,5,0)*Fonct_Empl!H4905),2),\"\")","v":""}]
[null,null,null,null,null,null,null,null,{"$f":"IF(E4906<>\"\",ROUND((VLOOKUP(E4906,Param!$A$7:$E$13,4,0)*Fonct_Empl!F4906*((Fonct_Empl!G4906/12)))+(VLOOKUP(E4906,Param!$A$7:$E$13,5,0)*Fonct_Empl!H4906),2),\"\")","v":""}]
[null,null,null,null,null,null,null,null,{"$f":"IF(E4907<>\"\",ROUND((VLOOKUP(E4907,Param!$A$7:$E$13,4,0)*Fonct_Empl!F4907*((Fonct_Empl!G4907/12)))+(VLOOKUP(E4907,Param!$A$7:$E$13,5,0)*Fonct_Empl!H4907),2),\"\")","v":""}]
[null,null,null,null,null,null,null,null,{"$f":"IF(E4908<>\"\",ROUND((VLOOKUP(E4908,Param!$A$7:$E$13,4,0)*Fonct_Empl!F4908*((Fonct_Empl!G4908/12)))+(VLOOKUP(E4908,Param!$A$7:$E$13,5,0)*Fonct_Empl!H4908),2),\"\")","v":""}]
[null,null,null,null,null,null,null,null,{"$f":"IF(E4909<>\"\",ROUND((VLOOKUP(E4909,Param!$A$7:$E$13,4,0)*Fonct_Empl!F4909*((Fonct_Empl!G4909/12)))+(VLOOKUP(E4909,Param!$A$7:$E$13,5,0)*Fonct_Empl!H4909),2),\"\")","v":""}]
[null,null,null,null,null,null,null,null,{"$f":"IF(E4910<>\"\",ROUND((VLOOKUP(E4910,Param!$A$7:$E$13,4,0)*Fonct_Empl!F4910*((Fonct_Empl!G4910/12)))+(VLOOKUP(E4910,Param!$A$7:$E$13,5,0)*Fonct_Empl!H4910),2),\"\")","v":""}]
[null,null,null,null,null,null,null,null,{"$f":"IF(E4911<>\"\",ROUND((VLOOKUP(E4911,Param!$A$7:$E$13,4,0)*Fonct_Empl!F4911*((Fonct_Empl!G4911/12)))+(VLOOKUP(E4911,Param!$A$7:$E$13,5,0)*Fonct_Empl!H4911),2),\"\")","v":""}]
[null,null,null,null,null,null,null,null,{"$f":"IF(E4912<>\"\",ROUND((VLOOKUP(E4912,Param!$A$7:$E$13,4,0)*Fonct_Empl!F4912*((Fonct_Empl!G4912/12)))+(VLOOKUP(E4912,Param!$A$7:$E$13,5,0)*Fonct_Empl!H4912),2),\"\")","v":""}]
[null,null,null,null,null,null,null,null,{"$f":"IF(E4913<>\"\",ROUND((VLOOKUP(E4913,Param!$A$7:$E$13,4,0)*Fonct_Empl!F4913*((Fonct_Empl!G4913/12)))+(VLOOKUP(E4913,Param!$A$7:$E$13,5,0)*Fonct_Empl!H4913),2),\"\")","v":""}]
[null,null,null,null,null,null,null,null,{"$f":"IF(E4914<>\"\",ROUND((VLOOKUP(E4914,Param!$A$7:$E$13,4,0)*Fonct_Empl!F4914*((Fonct_Empl!G4914/12)))+(VLOOKUP(E4914,Param!$A$7:$E$13,5,0)*Fonct_Empl!H4914),2),\"\")","v":""}]
[null,null,null,null,null,null,null,null,{"$f":"IF(E4915<>\"\",ROUND((VLOOKUP(E4915,Param!$A$7:$E$13,4,0)*Fonct_Empl!F4915*((Fonct_Empl!G4915/12)))+(VLOOKUP(E4915,Param!$A$7:$E$13,5,0)*Fonct_Empl!H4915),2),\"\")","v":""}]
[null,null,null,null,null,null,null,null,{"$f":"IF(E4916<>\"\",ROUND((VLOOKUP(E4916,Param!$A$7:$E$13,4,0)*Fonct_Empl!F4916*((Fonct_Empl!G4916/12)))+(VLOOKUP(E4916,Param!$A$7:$E$13,5,0)*Fonct_Empl!H4916),2),\"\")","v":""}]
[null,null,null,null,null,null,null,null,{"$f":"IF(E4917<>\"\",ROUND((VLOOKUP(E4917,Param!$A$7:$E$13,4,0)*Fonct_Empl!F4917*((Fonct_Empl!G4917/12)))+(VLOOKUP(E4917,Param!$A$7:$E$13,5,0)*Fonct_Empl!H4917),2),\"\")","v":""}]
[null,null,null,null,null,null,null,null,{"$f":"IF(E4918<>\"\",ROUND((VLOOKUP(E4918,Param!$A$7:$E$13,4,0)*Fonct_Empl!F4918*((Fonct_Empl!G4918/12)))+(VLOOKUP(E4918,Param!$A$7:$E$13,5,0)*Fonct_Empl!H4918),2),\"\")","v":""}]
[null,null,null,null,null,null,null,null,{"$f":"IF(E4919<>\"\",ROUND((VLOOKUP(E4919,Param!$A$7:$E$13,4,0)*Fonct_Empl!F4919*((Fonct_Empl!G4919/12)))+(VLOOKUP(E4919,Param!$A$7:$E$13,5,0)*Fonct_Empl!H4919),2),\"\")","v":""}]
[null,null,null,null,null,null,null,null,{"$f":"IF(E4920<>\"\",ROUND((VLOOKUP(E4920,Param!$A$7:$E$13,4,0)*Fonct_Empl!F4920*((Fonct_Empl!G4920/12)))+(VLOOKUP(E4920,Param!$A$7:$E$13,5,0)*Fonct_Empl!H4920),2),\"\")","v":""}]
[null,null,null,null,null,null,null,null,{"$f":"IF(E4921<>\"\",ROUND((VLOOKUP(E4921,Param!$A$7:$E$13,4,0)*Fonct_Empl!F4921*((Fonct_Empl!G4921/12)))+(VLOOKUP(E4921,Param!$A$7:$E$13,5,0)*Fonct_Empl!H4921),2),\"\")","v":""}]
[null,null,null,null,null,null,null,null,{"$f":"IF(E4922<>\"\",ROUND((VLOOKUP(E4922,Param!$A$7:$E$13,4,0)*Fonct_Empl!F4922*((Fonct_Empl!G4922/12)))+(VLOOKUP(E4922,Param!$A$7:$E$13,5,0)*Fonct_Empl!H4922),2),\"\")","v":""}]
[null,null,null,null,null,null,null,null,{"$f":"IF(E4923<>\"\",ROUND((VLOOKUP(E4923,Param!$A$7:$E$13,4,0)*Fonct_Empl!F4923*((Fonct_Empl!G4923/12)))+(VLOOKUP(E4923,Param!$A$7:$E$13,5,0)*Fonct_Empl!H4923),2),\"\")","v":""}]
[null,null,null,null,null,null,null,null,{"$f":"IF(E4924<>\"\",ROUND((VLOOKUP(E4924,Param!$A$7:$E$13,4,0)*Fonct_Empl!F4924*((Fonct_Empl!G4924/12)))+(VLOOKUP(E4924,Param!$A$7:$E$13,5,0)*Fonct_Empl!H4924),2),\"\")","v":""}]
[null,null,null,null,null,null,null,null,{"$f":"IF(E4925<>\"\",ROUND((VLOOKUP(E4925,Param!$A$7:$E$13,4,0)*Fonct_Empl!F4925*((Fonct_Empl!G4925/12)))+(VLOOKUP(E4925,Param!$A$7:$E$13,5,0)*Fonct_Empl!H4925),2),\"\")","v":""}]
[null,null,null,null,null,null,null,null,{"$f":"IF(E4926<>\"\",ROUND((VLOOKUP(E4926,Param!$A$7:$E$13,4,0)*Fonct_Empl!F4926*((Fonct_Empl!G4926/12)))+(VLOOKUP(E4926,Param!$A$7:$E$13,5,0)*Fonct_Empl!H4926),2),\"\")","v":""}]
[null,null,null,null,null,null,null,null,{"$f":"IF(E4927<>\"\",ROUND((VLOOKUP(E4927,Param!$A$7:$E$13,4,0)*Fonct_Empl!F4927*((Fonct_Empl!G4927/12)))+(VLOOKUP(E4927,Param!$A$7:$E$13,5,0)*Fonct_Empl!H4927),2),\"\")","v":""}]
[null,null,null,null,null,null,null,null,{"$f":"IF(E4928<>\"\",ROUND((VLOOKUP(E4928,Param!$A$7:$E$13,4,0)*Fonct_Empl!F4928*((Fonct_Empl!G4928/12)))+(VLOOKUP(E4928,Param!$A$7:$E$13,5,0)*Fonct_Empl!H4928),2),\"\")","v":""}]
[null,null,null,null,null,null,null,null,{"$f":"IF(E4929<>\"\",ROUND((VLOOKUP(E4929,Param!$A$7:$E$13,4,0)*Fonct_Empl!F4929*((Fonct_Empl!G4929/12)))+(VLOOKUP(E4929,Param!$A$7:$E$13,5,0)*Fonct_Empl!H4929),2),\"\")","v":""}]
[null,null,null,null,null,null,null,null,{"$f":"IF(E4930<>\"\",ROUND((VLOOKUP(E4930,Param!$A$7:$E$13,4,0)*Fonct_Empl!F4930*((Fonct_Empl!G4930/12)))+(VLOOKUP(E4930,Param!$A$7:$E$13,5,0)*Fonct_Empl!H4930),2),\"\")","v":""}]
[null,null,null,null,null,null,null,null,{"$f":"IF(E4931<>\"\",ROUND((VLOOKUP(E4931,Param!$A$7:$E$13,4,0)*Fonct_Empl!F4931*((Fonct_Empl!G4931/12)))+(VLOOKUP(E4931,Param!$A$7:$E$13,5,0)*Fonct_Empl!H4931),2),\"\")","v":""}]
[null,null,null,null,null,null,null,null,{"$f":"IF(E4932<>\"\",ROUND((VLOOKUP(E4932,Param!$A$7:$E$13,4,0)*Fonct_Empl!F4932*((Fonct_Empl!G4932/12)))+(VLOOKUP(E4932,Param!$A$7:$E$13,5,0)*Fonct_Empl!H4932),2),\"\")","v":""}]
[null,null,null,null,null,null,null,null,{"$f":"IF(E4933<>\"\",ROUND((VLOOKUP(E4933,Param!$A$7:$E$13,4,0)*Fonct_Empl!F4933*((Fonct_Empl!G4933/12)))+(VLOOKUP(E4933,Param!$A$7:$E$13,5,0)*Fonct_Empl!H4933),2),\"\")","v":""}]
[null,null,null,null,null,null,null,null,{"$f":"IF(E4934<>\"\",ROUND((VLOOKUP(E4934,Param!$A$7:$E$13,4,0)*Fonct_Empl!F4934*((Fonct_Empl!G4934/12)))+(VLOOKUP(E4934,Param!$A$7:$E$13,5,0)*Fonct_Empl!H4934),2),\"\")","v":""}]
[null,null,null,null,null,null,null,null,{"$f":"IF(E4935<>\"\",ROUND((VLOOKUP(E4935,Param!$A$7:$E$13,4,0)*Fonct_Empl!F4935*((Fonct_Empl!G4935/12)))+(VLOOKUP(E4935,Param!$A$7:$E$13,5,0)*Fonct_Empl!H4935),2),\"\")","v":""}]
[null,null,null,null,null,null,null,null,{"$f":"IF(E4936<>\"\",ROUND((VLOOKUP(E4936,Param!$A$7:$E$13,4,0)*Fonct_Empl!F4936*((Fonct_Empl!G4936/12)))+(VLOOKUP(E4936,Param!$A$7:$E$13,5,0)*Fonct_Empl!H4936),2),\"\")","v":""}]
[null,null,null,null,null,null,null,null,{"$f":"IF(E4937<>\"\",ROUND((VLOOKUP(E4937,Param!$A$7:$E$13,4,0)*Fonct_Empl!F4937*((Fonct_Empl!G4937/12)))+(VLOOKUP(E4937,Param!$A$7:$E$13,5,0)*Fonct_Empl!H4937),2),\"\")","v":""}]
[null,null,null,null,null,null,null,null,{"$f":"IF(E4938<>\"\",ROUND((VLOOKUP(E4938,Param!$A$7:$E$13,4,0)*Fonct_Empl!F4938*((Fonct_Empl!G4938/12)))+(VLOOKUP(E4938,Param!$A$7:$E$13,5,0)*Fonct_Empl!H4938),2),\"\")","v":""}]
[null,null,null,null,null,null,null,null,{"$f":"IF(E4939<>\"\",ROUND((VLOOKUP(E4939,Param!$A$7:$E$13,4,0)*Fonct_Empl!F4939*((Fonct_Empl!G4939/12)))+(VLOOKUP(E4939,Param!$A$7:$E$13,5,0)*Fonct_Empl!H4939),2),\"\")","v":""}]
[null,null,null,null,null,null,null,null,{"$f":"IF(E4940<>\"\",ROUND((VLOOKUP(E4940,Param!$A$7:$E$13,4,0)*Fonct_Empl!F4940*((Fonct_Empl!G4940/12)))+(VLOOKUP(E4940,Param!$A$7:$E$13,5,0)*Fonct_Empl!H4940),2),\"\")","v":""}]
[null,null,null,null,null,null,null,null,{"$f":"IF(E4941<>\"\",ROUND((VLOOKUP(E4941,Param!$A$7:$E$13,4,0)*Fonct_Empl!F4941*((Fonct_Empl!G4941/12)))+(VLOOKUP(E4941,Param!$A$7:$E$13,5,0)*Fonct_Empl!H4941),2),\"\")","v":""}]
[null,null,null,null,null,null,null,null,{"$f":"IF(E4942<>\"\",ROUND((VLOOKUP(E4942,Param!$A$7:$E$13,4,0)*Fonct_Empl!F4942*((Fonct_Empl!G4942/12)))+(VLOOKUP(E4942,Param!$A$7:$E$13,5,0)*Fonct_Empl!H4942),2),\"\")","v":""}]
[null,null,null,null,null,null,null,null,{"$f":"IF(E4943<>\"\",ROUND((VLOOKUP(E4943,Param!$A$7:$E$13,4,0)*Fonct_Empl!F4943*((Fonct_Empl!G4943/12)))+(VLOOKUP(E4943,Param!$A$7:$E$13,5,0)*Fonct_Empl!H4943),2),\"\")","v":""}]
[null,null,null,null,null,null,null,null,{"$f":"IF(E4944<>\"\",ROUND((VLOOKUP(E4944,Param!$A$7:$E$13,4,0)*Fonct_Empl!F4944*((Fonct_Empl!G4944/12)))+(VLOOKUP(E4944,Param!$A$7:$E$13,5,0)*Fonct_Empl!H4944),2),\"\")","v":""}]
[null,null,null,null,null,null,null,null,{"$f":"IF(E4945<>\"\",ROUND((VLOOKUP(E4945,Param!$A$7:$E$13,4,0)*Fonct_Empl!F4945*((Fonct_Empl!G4945/12)))+(VLOOKUP(E4945,Param!$A$7:$E$13,5,0)*Fonct_Empl!H4945),2),\"\")","v":""}]
[null,null,null,null,null,null,null,null,{"$f":"IF(E4946<>\"\",ROUND((VLOOKUP(E4946,Param!$A$7:$E$13,4,0)*Fonct_Empl!F4946*((Fonct_Empl!G4946/12)))+(VLOOKUP(E4946,Param!$A$7:$E$13,5,0)*Fonct_Empl!H4946),2),\"\")","v":""}]
[null,null,null,null,null,null,null,null,{"$f":"IF(E4947<>\"\",ROUND((VLOOKUP(E4947,Param!$A$7:$E$13,4,0)*Fonct_Empl!F4947*((Fonct_Empl!G4947/12)))+(VLOOKUP(E4947,Param!$A$7:$E$13,5,0)*Fonct_Empl!H4947),2),\"\")","v":""}]
[null,null,null,null,null,null,null,null,{"$f":"IF(E4948<>\"\",ROUND((VLOOKUP(E4948,Param!$A$7:$E$13,4,0)*Fonct_Empl!F4948*((Fonct_Empl!G4948/12)))+(VLOOKUP(E4948,Param!$A$7:$E$13,5,0)*Fonct_Empl!H4948),2),\"\")","v":""}]
[null,null,null,null,null,null,null,null,{"$f":"IF(E4949<>\"\",ROUND((VLOOKUP(E4949,Param!$A$7:$E$13,4,0)*Fonct_Empl!F4949*((Fonct_Empl!G4949/12)))+(VLOOKUP(E4949,Param!$A$7:$E$13,5,0)*Fonct_Empl!H4949),2),\"\")","v":""}]
[null,null,null,null,null,null,null,null,{"$f":"IF(E4950<>\"\",ROUND((VLOOKUP(E4950,Param!$A$7:$E$13,4,0)*Fonct_Empl!F4950*((Fonct_Empl!G4950/12)))+(VLOOKUP(E4950,Param!$A$7:$E$13,5,0)*Fonct_Empl!H4950),2),\"\")","v":""}]
[null,null,null,null,null,null,null,null,{"$f":"IF(E4951<>\"\",ROUND((VLOOKUP(E4951,Param!$A$7:$E$13,4,0)*Fonct_Empl!F4951*((Fonct_Empl!G4951/12)))+(VLOOKUP(E4951,Param!$A$7:$E$13,5,0)*Fonct_Empl!H4951),2),\"\")","v":""}]
[null,null,null,null,null,null,null,null,{"$f":"IF(E4952<>\"\",ROUND((VLOOKUP(E4952,Param!$A$7:$E$13,4,0)*Fonct_Empl!F4952*((Fonct_Empl!G4952/12)))+(VLOOKUP(E4952,Param!$A$7:$E$13,5,0)*Fonct_Empl!H4952),2),\"\")","v":""}]
[null,null,null,null,null,null,null,null,{"$f":"IF(E4953<>\"\",ROUND((VLOOKUP(E4953,Param!$A$7:$E$13,4,0)*Fonct_Empl!F4953*((Fonct_Empl!G4953/12)))+(VLOOKUP(E4953,Param!$A$7:$E$13,5,0)*Fonct_Empl!H4953),2),\"\")","v":""}]
[null,null,null,null,null,null,null,null,{"$f":"IF(E4954<>\"\",ROUND((VLOOKUP(E4954,Param!$A$7:$E$13,4,0)*Fonct_Empl!F4954*((Fonct_Empl!G4954/12)))+(VLOOKUP(E4954,Param!$A$7:$E$13,5,0)*Fonct_Empl!H4954),2),\"\")","v":""}]
[null,null,null,null,null,null,null,null,{"$f":"IF(E4955<>\"\",ROUND((VLOOKUP(E4955,Param!$A$7:$E$13,4,0)*Fonct_Empl!F4955*((Fonct_Empl!G4955/12)))+(VLOOKUP(E4955,Param!$A$7:$E$13,5,0)*Fonct_Empl!H4955),2),\"\")","v":""}]
[null,null,null,null,null,null,null,null,{"$f":"IF(E4956<>\"\",ROUND((VLOOKUP(E4956,Param!$A$7:$E$13,4,0)*Fonct_Empl!F4956*((Fonct_Empl!G4956/12)))+(VLOOKUP(E4956,Param!$A$7:$E$13,5,0)*Fonct_Empl!H4956),2),\"\")","v":""}]
[null,null,null,null,null,null,null,null,{"$f":"IF(E4957<>\"\",ROUND((VLOOKUP(E4957,Param!$A$7:$E$13,4,0)*Fonct_Empl!F4957*((Fonct_Empl!G4957/12)))+(VLOOKUP(E4957,Param!$A$7:$E$13,5,0)*Fonct_Empl!H4957),2),\"\")","v":""}]
[null,null,null,null,null,null,null,null,{"$f":"IF(E4958<>\"\",ROUND((VLOOKUP(E4958,Param!$A$7:$E$13,4,0)*Fonct_Empl!F4958*((Fonct_Empl!G4958/12)))+(VLOOKUP(E4958,Param!$A$7:$E$13,5,0)*Fonct_Empl!H4958),2),\"\")","v":""}]
[null,null,null,null,null,null,null,null,{"$f":"IF(E4959<>\"\",ROUND((VLOOKUP(E4959,Param!$A$7:$E$13,4,0)*Fonct_Empl!F4959*((Fonct_Empl!G4959/12)))+(VLOOKUP(E4959,Param!$A$7:$E$13,5,0)*Fonct_Empl!H4959),2),\"\")","v":""}]
[null,null,null,null,null,null,null,null,{"$f":"IF(E4960<>\"\",ROUND((VLOOKUP(E4960,Param!$A$7:$E$13,4,0)*Fonct_Empl!F4960*((Fonct_Empl!G4960/12)))+(VLOOKUP(E4960,Param!$A$7:$E$13,5,0)*Fonct_Empl!H4960),2),\"\")","v":""}]
[null,null,null,null,null,null,null,null,{"$f":"IF(E4961<>\"\",ROUND((VLOOKUP(E4961,Param!$A$7:$E$13,4,0)*Fonct_Empl!F4961*((Fonct_Empl!G4961/12)))+(VLOOKUP(E4961,Param!$A$7:$E$13,5,0)*Fonct_Empl!H4961),2),\"\")","v":""}]
[null,null,null,null,null,null,null,null,{"$f":"IF(E4962<>\"\",ROUND((VLOOKUP(E4962,Param!$A$7:$E$13,4,0)*Fonct_Empl!F4962*((Fonct_Empl!G4962/12)))+(VLOOKUP(E4962,Param!$A$7:$E$13,5,0)*Fonct_Empl!H4962),2),\"\")","v":""}]
[null,null,null,null,null,null,null,null,{"$f":"IF(E4963<>\"\",ROUND((VLOOKUP(E4963,Param!$A$7:$E$13,4,0)*Fonct_Empl!F4963*((Fonct_Empl!G4963/12)))+(VLOOKUP(E4963,Param!$A$7:$E$13,5,0)*Fonct_Empl!H4963),2),\"\")","v":""}]
[null,null,null,null,null,null,null,null,{"$f":"IF(E4964<>\"\",ROUND((VLOOKUP(E4964,Param!$A$7:$E$13,4,0)*Fonct_Empl!F4964*((Fonct_Empl!G4964/12)))+(VLOOKUP(E4964,Param!$A$7:$E$13,5,0)*Fonct_Empl!H4964),2),\"\")","v":""}]
[null,null,null,null,null,null,null,null,{"$f":"IF(E4965<>\"\",ROUND((VLOOKUP(E4965,Param!$A$7:$E$13,4,0)*Fonct_Empl!F4965*((Fonct_Empl!G4965/12)))+(VLOOKUP(E4965,Param!$A$7:$E$13,5,0)*Fonct_Empl!H4965),2),\"\")","v":""}]
[null,null,null,null,null,null,null,null,{"$f":"IF(E4966<>\"\",ROUND((VLOOKUP(E4966,Param!$A$7:$E$13,4,0)*Fonct_Empl!F4966*((Fonct_Empl!G4966/12)))+(VLOOKUP(E4966,Param!$A$7:$E$13,5,0)*Fonct_Empl!H4966),2),\"\")","v":""}]
[null,null,null,null,null,null,null,null,{"$f":"IF(E4967<>\"\",ROUND((VLOOKUP(E4967,Param!$A$7:$E$13,4,0)*Fonct_Empl!F4967*((Fonct_Empl!G4967/12)))+(VLOOKUP(E4967,Param!$A$7:$E$13,5,0)*Fonct_Empl!H4967),2),\"\")","v":""}]
[null,null,null,null,null,null,null,null,{"$f":"IF(E4968<>\"\",ROUND((VLOOKUP(E4968,Param!$A$7:$E$13,4,0)*Fonct_Empl!F4968*((Fonct_Empl!G4968/12)))+(VLOOKUP(E4968,Param!$A$7:$E$13,5,0)*Fonct_Empl!H4968),2),\"\")","v":""}]
[null,null,null,null,null,null,null,null,{"$f":"IF(E4969<>\"\",ROUND((VLOOKUP(E4969,Param!$A$7:$E$13,4,0)*Fonct_Empl!F4969*((Fonct_Empl!G4969/12)))+(VLOOKUP(E4969,Param!$A$7:$E$13,5,0)*Fonct_Empl!H4969),2),\"\")","v":""}]
[null,null,null,null,null,null,null,null,{"$f":"IF(E4970<>\"\",ROUND((VLOOKUP(E4970,Param!$A$7:$E$13,4,0)*Fonct_Empl!F4970*((Fonct_Empl!G4970/12)))+(VLOOKUP(E4970,Param!$A$7:$E$13,5,0)*Fonct_Empl!H4970),2),\"\")","v":""}]
[null,null,null,null,null,null,null,null,{"$f":"IF(E4971<>\"\",ROUND((VLOOKUP(E4971,Param!$A$7:$E$13,4,0)*Fonct_Empl!F4971*((Fonct_Empl!G4971/12)))+(VLOOKUP(E4971,Param!$A$7:$E$13,5,0)*Fonct_Empl!H4971),2),\"\")","v":""}]
[null,null,null,null,null,null,null,null,{"$f":"IF(E4972<>\"\",ROUND((VLOOKUP(E4972,Param!$A$7:$E$13,4,0)*Fonct_Empl!F4972*((Fonct_Empl!G4972/12)))+(VLOOKUP(E4972,Param!$A$7:$E$13,5,0)*Fonct_Empl!H4972),2),\"\")","v":""}]
[null,null,null,null,null,null,null,null,{"$f":"IF(E4973<>\"\",ROUND((VLOOKUP(E4973,Param!$A$7:$E$13,4,0)*Fonct_Empl!F4973*((Fonct_Empl!G4973/12)))+(VLOOKUP(E4973,Param!$A$7:$E$13,5,0)*Fonct_Empl!H4973),2),\"\")","v":""}]
[null,null,null,null,null,null,null,null,{"$f":"IF(E4974<>\"\",ROUND((VLOOKUP(E4974,Param!$A$7:$E$13,4,0)*Fonct_Empl!F4974*((Fonct_Empl!G4974/12)))+(VLOOKUP(E4974,Param!$A$7:$E$13,5,0)*Fonct_Empl!H4974),2),\"\")","v":""}]
[null,null,null,null,null,null,null,null,{"$f":"IF(E4975<>\"\",ROUND((VLOOKUP(E4975,Param!$A$7:$E$13,4,0)*Fonct_Empl!F4975*((Fonct_Empl!G4975/12)))+(VLOOKUP(E4975,Param!$A$7:$E$13,5,0)*Fonct_Empl!H4975),2),\"\")","v":""}]
[null,null,null,null,null,null,null,null,{"$f":"IF(E4976<>\"\",ROUND((VLOOKUP(E4976,Param!$A$7:$E$13,4,0)*Fonct_Empl!F4976*((Fonct_Empl!G4976/12)))+(VLOOKUP(E4976,Param!$A$7:$E$13,5,0)*Fonct_Empl!H4976),2),\"\")","v":""}]
[null,null,null,null,null,null,null,null,{"$f":"IF(E4977<>\"\",ROUND((VLOOKUP(E4977,Param!$A$7:$E$13,4,0)*Fonct_Empl!F4977*((Fonct_Empl!G4977/12)))+(VLOOKUP(E4977,Param!$A$7:$E$13,5,0)*Fonct_Empl!H4977),2),\"\")","v":""}]
[null,null,null,null,null,null,null,null,{"$f":"IF(E4978<>\"\",ROUND((VLOOKUP(E4978,Param!$A$7:$E$13,4,0)*Fonct_Empl!F4978*((Fonct_Empl!G4978/12)))+(VLOOKUP(E4978,Param!$A$7:$E$13,5,0)*Fonct_Empl!H4978),2),\"\")","v":""}]
[null,null,null,null,null,null,null,null,{"$f":"IF(E4979<>\"\",ROUND((VLOOKUP(E4979,Param!$A$7:$E$13,4,0)*Fonct_Empl!F4979*((Fonct_Empl!G4979/12)))+(VLOOKUP(E4979,Param!$A$7:$E$13,5,0)*Fonct_Empl!H4979),2),\"\")","v":""}]
[null,null,null,null,null,null,null,null,{"$f":"IF(E4980<>\"\",ROUND((VLOOKUP(E4980,Param!$A$7:$E$13,4,0)*Fonct_Empl!F4980*((Fonct_Empl!G4980/12)))+(VLOOKUP(E4980,Param!$A$7:$E$13,5,0)*Fonct_Empl!H4980),2),\"\")","v":""}]
[null,null,null,null,null,null,null,null,{"$f":"IF(E4981<>\"\",ROUND((VLOOKUP(E4981,Param!$A$7:$E$13,4,0)*Fonct_Empl!F4981*((Fonct_Empl!G4981/12)))+(VLOOKUP(E4981,Param!$A$7:$E$13,5,0)*Fonct_Empl!H4981),2),\"\")","v":""}]
[null,null,null,null,null,null,null,null,{"$f":"IF(E4982<>\"\",ROUND((VLOOKUP(E4982,Param!$A$7:$E$13,4,0)*Fonct_Empl!F4982*((Fonct_Empl!G4982/12)))+(VLOOKUP(E4982,Param!$A$7:$E$13,5,0)*Fonct_Empl!H4982),2),\"\")","v":""}]
[null,null,null,null,null,null,null,null,{"$f":"IF(E4983<>\"\",ROUND((VLOOKUP(E4983,Param!$A$7:$E$13,4,0)*Fonct_Empl!F4983*((Fonct_Empl!G4983/12)))+(VLOOKUP(E4983,Param!$A$7:$E$13,5,0)*Fonct_Empl!H4983),2),\"\")","v":""}]
[null,null,null,null,null,null,null,null,{"$f":"IF(E4984<>\"\",ROUND((VLOOKUP(E4984,Param!$A$7:$E$13,4,0)*Fonct_Empl!F4984*((Fonct_Empl!G4984/12)))+(VLOOKUP(E4984,Param!$A$7:$E$13,5,0)*Fonct_Empl!H4984),2),\"\")","v":""}]
[null,null,null,null,null,null,null,null,{"$f":"IF(E4985<>\"\",ROUND((VLOOKUP(E4985,Param!$A$7:$E$13,4,0)*Fonct_Empl!F4985*((Fonct_Empl!G4985/12)))+(VLOOKUP(E4985,Param!$A$7:$E$13,5,0)*Fonct_Empl!H4985),2),\"\")","v":""}]
[null,null,null,null,null,null,null,null,{"$f":"IF(E4986<>\"\",ROUND((VLOOKUP(E4986,Param!$A$7:$E$13,4,0)*Fonct_Empl!F4986*((Fonct_Empl!G4986/12)))+(VLOOKUP(E4986,Param!$A$7:$E$13,5,0)*Fonct_Empl!H4986),2),\"\")","v":""}]
[null,null,null,null,null,null,null,null,{"$f":"IF(E4987<>\"\",ROUND((VLOOKUP(E4987,Param!$A$7:$E$13,4,0)*Fonct_Empl!F4987*((Fonct_Empl!G4987/12)))+(VLOOKUP(E4987,Param!$A$7:$E$13,5,0)*Fonct_Empl!H4987),2),\"\")","v":""}]
[null,null,null,null,null,null,null,null,{"$f":"IF(E4988<>\"\",ROUND((VLOOKUP(E4988,Param!$A$7:$E$13,4,0)*Fonct_Empl!F4988*((Fonct_Empl!G4988/12)))+(VLOOKUP(E4988,Param!$A$7:$E$13,5,0)*Fonct_Empl!H4988),2),\"\")","v":""}]
[null,null,null,null,null,null,null,null,{"$f":"IF(E4989<>\"\",ROUND((VLOOKUP(E4989,Param!$A$7:$E$13,4,0)*Fonct_Empl!F4989*((Fonct_Empl!G4989/12)))+(VLOOKUP(E4989,Param!$A$7:$E$13,5,0)*Fonct_Empl!H4989),2),\"\")","v":""}]
[null,null,null,null,null,null,null,null,{"$f":"IF(E4990<>\"\",ROUND((VLOOKUP(E4990,Param!$A$7:$E$13,4,0)*Fonct_Empl!F4990*((Fonct_Empl!G4990/12)))+(VLOOKUP(E4990,Param!$A$7:$E$13,5,0)*Fonct_Empl!H4990),2),\"\")","v":""}]
[null,null,null,null,null,null,null,null,{"$f":"IF(E4991<>\"\",ROUND((VLOOKUP(E4991,Param!$A$7:$E$13,4,0)*Fonct_Empl!F4991*((Fonct_Empl!G4991/12)))+(VLOOKUP(E4991,Param!$A$7:$E$13,5,0)*Fonct_Empl!H4991),2),\"\")","v":""}]
[null,null,null,null,null,null,null,null,{"$f":"IF(E4992<>\"\",ROUND((VLOOKUP(E4992,Param!$A$7:$E$13,4,0)*Fonct_Empl!F4992*((Fonct_Empl!G4992/12)))+(VLOOKUP(E4992,Param!$A$7:$E$13,5,0)*Fonct_Empl!H4992),2),\"\")","v":""}]
[null,null,null,null,null,null,null,null,{"$f":"IF(E4993<>\"\",ROUND((VLOOKUP(E4993,Param!$A$7:$E$13,4,0)*Fonct_Empl!F4993*((Fonct_Empl!G4993/12)))+(VLOOKUP(E4993,Param!$A$7:$E$13,5,0)*Fonct_Empl!H4993),2),\"\")","v":""}]
[null,null,null,null,null,null,null,null,{"$f":"IF(E4994<>\"\",ROUND((VLOOKUP(E4994,Param!$A$7:$E$13,4,0)*Fonct_Empl!F4994*((Fonct_Empl!G4994/12)))+(VLOOKUP(E4994,Param!$A$7:$E$13,5,0)*Fonct_Empl!H4994),2),\"\")","v":""}]
[null,null,null,null,null,null,null,null,{"$f":"IF(E4995<>\"\",ROUND((VLOOKUP(E4995,Param!$A$7:$E$13,4,0)*Fonct_Empl!F4995*((Fonct_Empl!G4995/12)))+(VLOOKUP(E4995,Param!$A$7:$E$13,5,0)*Fonct_Empl!H4995),2),\"\")","v":""}]
[null,null,null,null,null,null,null,null,{"$f":"IF(E4996<>\"\",ROUND((VLOOKUP(E4996,Param!$A$7:$E$13,4,0)*Fonct_Empl!F4996*((Fonct_Empl!G4996/12)))+(VLOOKUP(E4996,Param!$A$7:$E$13,5,0)*Fonct_Empl!H4996),2),\"\")","v":""}]
[null,null,null,null,null,null,null,null,{"$f":"IF(E4997<>\"\",ROUND((VLOOKUP(E4997,Param!$A$7:$E$13,4,0)*Fonct_Empl!F4997*((Fonct_Empl!G4997/12)))+(VLOOKUP(E4997,Param!$A$7:$E$13,5,0)*Fonct_Empl!H4997),2),\"\")","v":""}]
[null,null,null,null,null,null,null,null,{"$f":"IF(E4998<>\"\",ROUND((VLOOKUP(E4998,Param!$A$7:$E$13,4,0)*Fonct_Empl!F4998*((Fonct_Empl!G4998/12)))+(VLOOKUP(E4998,Param!$A$7:$E$13,5,0)*Fonct_Empl!H4998),2),\"\")","v":""}]
[null,null,null,null,null,null,null,null,{"$f":"IF(E4999<>\"\",ROUND((VLOOKUP(E4999,Param!$A$7:$E$13,4,0)*Fonct_Empl!F4999*((Fonct_Empl!G4999/12)))+(VLOOKUP(E4999,Param!$A$7:$E$13,5,0)*Fonct_Empl!H4999),2),\"\")","v":""}]
[null,null,null,null,null,null,null,null,{"$f":"IF(E5000<>\"\",ROUND((VLOOKUP(E5000,Param!$A$7:$E$13,4,0)*Fonct_Empl!F5000*((Fonct_Empl!G5000/12)))+(VLOOKUP(E5000,Param!$A$7:$E$13,5,0)*Fonct_Empl!H5000),2),\"\")","v":""}]

{"sheet":"Param","index":1,"n_rows":28,"n_cols":12,"rows_kept":28,"cut":false,"hidden":true,"merged":[]}
["Indice 2005 (= 100)",109.65,null,null,null,null,null,null,null,null,null,"Ministère"]
["Indice 2015 (= 100)",105.94,null,null,null,null,null,null,null,null,null,"Département ministériel des sports"]
["Indice actuel",102.88,null,null,null,null,null,null,null,null,null,"Ministère de la Culture"]
[null,null,null,null,null,null,null,null,null,null,null,"Ministère de la Famille et de l'Intégration"]
[null,null,null,null,null,null,null,null,null,null,null,"Ministère de la Fonction publique et de la Réforme administrative"]
["Catégorie","Indemnité annuelle","1ère mise","Indemnité annuelle (indexée)","1ère mise (indexée)",null,null,null,null,null,null,"Ministère de la Justice"]
["A",212.75,141.83000000000001,{"$f":"ROUND(B7*$B$1/100*$B$2/100*$B$3/100,2)","v":254.25},{"$f":"ROUND(C7*$B$1/100*$B$2/100*$B$3/100,2)","v":169.5},null,null,null,null,null,null,"Ministère de la Santé"]
["B",312.02999999999997,141.83000000000001,{"$f":"ROUND(B8*$B$1/100*$B$2/100*$B$3/100,2)","v":372.9},{"$f":"ROUND(C8*$B$1/100*$B$2/100*$B$3/100,2)","v":169.5},null,null,null,null,null,null,"Ministère de la Sécurité sociale"]
["C",368.76,425.5,440.7,508.51,null,null,null,null,null,null,"Ministère de l'Agriculture, de la Viticulture et du Développement rural"]
["D",425.5,425.5,508.51,508.51,null,null,null,null,null,null,"Ministère de l'Economie et du Commerce extérieur"]
["E",567.33000000000004,567.33000000000004,678.01,678.01,null,null,null,null,null,null,"Ministère de l'Education nationale et de la Formation professionnelle"]
["F",709.16,null,847.51,0,null,null,null,null,null,null,"Ministère de l'Egalité des Chances"]
["G",850.99,567.33000000000004,1017.01,678.01,null,null,null,null,null,null,"Ministère de l'Enseignement supérieur et de la Recherche"]
[null,null,null,null,null,null,null,null,null,null,null,"Ministère de l'Intérieur et à la Grande Région"]
[null,null,null,null,null,null,null,null,null,null,null,"Ministère des Affaires étrangères"]
[null,null,null,null,null,null,null,null,null,null,null,"Ministère des Classes moyennes et du Tourisme"]
[null,null,null,null,null,null,null,null,null,null,null,"Ministère des Finances"]
[null,null,null,null,null,null,null,null,null,null,null,"Ministère du Développement durable et des Infrastructures"]
["Statuts",null,null,null,null,null,null,null,null,null,null,"Ministère du Logement"]
["Fonctionnaires",null,null,null,null,null,null,null,null,null,null,"Ministère du Travail et de l'Emploi"]
["Employés",null,null,null,null,null,null,null,null,null,null,"Présidence du Gouvernement, Ministère d'État"]
["Salariés"]
[]
[]
[]
[]
[]
[null,"Vu et certifié exact, le",null,null,null,"Cachet et Signature"]

{"sheet":"Impression","index":2,"n_rows":12,"n_cols":10,"rows_kept":12,"cut":false,"hidden":true,"merged":[]}
["Ministère:",{"$f":"IF(Fonct_Empl!B1<>\"\",Fonct_Empl!B1,\"\")","v":""}]
["Administration:",{"$f":"IF(Fonct_Empl!B2<>\"\",Fonct_Empl!B2,\"\")","v":""},null,null,null,null,null,null,null,"MontantTotal:"]
["Année budgétaire:",{"$f":"IF(Fonct_Empl!B3<>\"\",Fonct_Empl!B3,\"\")","v":2019},null,null,null,null,null,null,null,{"$f":"Fonct_Empl!J3","v":0}]
["Article budgétaire:",{"$f":"IF(Fonct_Empl!B4<>\"\",Fonct_Empl!B4,\"\")","v":""},null,"Statut:",{"$f":"Fonct_Empl!E4","v":"Fonctionnaires"}]
[]
["Matricule","Nom","Prénom","Carrière","Catégorie","Tâche","Nbr mois","1ère mise","Total","Remarque"]
[]
["    "]
[]
[]
[]
[null,"Vu et certifié exact, le",null,null,null,"Cachet et Signature"]